XML-LibXSLT v1.99 Perl 5 v5.35.2 darwin-2level
- Status
- Pass
- From
- Karen Etheridge
- Dist
-
XML-LibXSLT v1.99
- Platform
- Perl 5 v5.35.2 darwin-2level
- Date
- 2021-07-24 23:43:26
- ID
- f0e75e3e-ecd8-11eb-b254-8ae80e8ff99c
This distribution has been tested as part of the CPAN Testers
project, supporting the Perl programming language. See
http://wiki.cpantesters.org/ for more information or email
questions to cpan-testers-discuss@perl.org
--
Dear SHLOMIF,
This is a computer-generated report for XML-LibXSLT-1.99
on perl 5.35.2, created by App::cpanminus::reporter 0.17 (1.7044).
Thank you for uploading your work to CPAN. Congratulations!
All tests were successful.
Sections of this report:
* Tester comments
* Program output
* Prerequisites
* Environment and other context
------------------------------
TESTER COMMENTS
------------------------------
Additional comments from tester:
none provided
------------------------------
PROGRAM OUTPUT
------------------------------
Output from '':
Building and testing XML-LibXSLT-1.99
Running Mkbootstrap for LibXSLT ()
chmod 644 "LibXSLT.bs"
"/Volumes/amaretto/Users/ether/perl5/perlbrew/perls/35.2/bin/perl5.35.2" -MExtUtils::Command::MM -e 'cp_nonempty' -- LibXSLT.bs blib/arch/auto/XML/LibXSLT/LibXSLT.bs 644
"/Volumes/amaretto/Users/ether/perl5/perlbrew/perls/35.2/bin/perl5.35.2" "/Volumes/amaretto/Users/ether/perl5/perlbrew/perls/35.2/lib/5.35.2/ExtUtils/xsubpp" -typemap '/Volumes/amaretto/Users/ether/perl5/perlbrew/perls/35.2/lib/5.35.2/ExtUtils/typemap' -typemap '/Volumes/amaretto/Users/ether/.cpanm/work/1627167053.27882/XML-LibXSLT-1.99/typemap' LibXSLT.xs > LibXSLT.xsc
mv LibXSLT.xsc LibXSLT.c
cc -c -I/opt/local/include -I/opt/local/include/libxml2 -I/opt/local/include -I/opt/local/include/libxml2 -fno-common -DPERL_DARWIN -mmacosx-version-min=10.15 -fno-strict-aliasing -pipe -fstack-protector-strong -I/opt/local/include -DPERL_USE_SAFE_PUTENV -Wno-error=implicit-function-declaration -O3 -DVERSION=\"1.99\" -DXS_VERSION=\"1.99\" "-I/Volumes/amaretto/Users/ether/perl5/perlbrew/perls/35.2/lib/5.35.2/darwin-2level/CORE" -DHAVE_BLANK -DHAVE_BLANK -DHAVE_EXSLT LibXSLT.c
cc -c -I/opt/local/include -I/opt/local/include/libxml2 -I/opt/local/include -I/opt/local/include/libxml2 -fno-common -DPERL_DARWIN -mmacosx-version-min=10.15 -fno-strict-aliasing -pipe -fstack-protector-strong -I/opt/local/include -DPERL_USE_SAFE_PUTENV -Wno-error=implicit-function-declaration -O3 -DVERSION=\"1.99\" -DXS_VERSION=\"1.99\" "-I/Volumes/amaretto/Users/ether/perl5/perlbrew/perls/35.2/lib/5.35.2/darwin-2level/CORE" -DHAVE_BLANK -DHAVE_BLANK -DHAVE_EXSLT perl-libxml-mm.c
rm -f blib/arch/auto/XML/LibXSLT/LibXSLT.bundle
LD_RUN_PATH="/opt/local/lib" cc -mmacosx-version-min=10.15 -bundle -undefined dynamic_lookup -L/opt/local/lib -fstack-protector-strong LibXSLT.o perl-libxml-mm.o -o blib/arch/auto/XML/LibXSLT/LibXSLT.bundle \
-L/opt/local/lib -lxslt -lxml2 -licui18n -licuuc -licudata -lpthread -lz -llzma -liconv -lm -lxml2 -L/opt/local/lib -lexslt -licui18n -licuuc -licudata -lpthread -llzma -liconv -lxml2 \
chmod 755 blib/arch/auto/XML/LibXSLT/LibXSLT.bundle
"/Volumes/amaretto/Users/ether/perl5/perlbrew/perls/35.2/bin/perl5.35.2" -MExtUtils::Command::MM -e 'cp_nonempty' -- LibXSLT.bs blib/arch/auto/XML/LibXSLT/LibXSLT.bs 644
PERL_DL_NONLAZY=1 "/Volumes/amaretto/Users/ether/perl5/perlbrew/perls/35.2/bin/perl5.35.2" "-MExtUtils::Command::MM" "-MTest::Harness" "-e" "undef *Test::Harness::Switches; test_harness(0, 'blib/lib', 'blib/arch')" t/*.t
t/01basic.t ............... ok
t/02dromeds.t ............. ok
I/O warning : failed to load external entity "not-found.xml"
t/03input.t ............... ok
t/04params.t .............. ok
t/05quick.t ............... ok
t/06entities.t ............ ok
t/06output.t .............. ok
t/07blankdoc.t ............ ok
t/08literal.t ............. ok
t/09exslt.t ............... ok
t/11utf8.t ................ ok
t/10functions.t ........... ok
t/12import.t .............. ok
t/13error.t ............... ok
t/15misc.t ................ ok
t/14security.t ............ ok
t/cpan-changes.t .......... ok
t/pod.t ................... ok
t/rt71345_a.t ............. ok
t/style-trailing-space.t .. skipped: Test::TrailingSpace required for trailing space test.
t/rt71345_b.t ............. ok
t/xml-grammar-failures.t .. ok
All tests successful.
Files=22, Tests=249, 1 wallclock secs ( 0.10 usr 0.04 sys + 2.73 cusr 0.85 csys = 3.72 CPU)
Result: PASS
------------------------------
PREREQUISITES
------------------------------
Prerequisite modules loaded:
No requirements found
------------------------------
ENVIRONMENT AND OTHER CONTEXT
------------------------------
Environment variables:
HARNESS_OPTIONS = j6:c
LANG = en_CA.UTF-8
NO_NETWORK_TESTING = 1
PATH = /Volumes/amaretto/Users/ether/.perlbrew/libs/35.2@std/bin:/Volumes/amaretto/Users/ether/perl5/perlbrew/bin:/Volumes/amaretto/Users/ether/perl5/perlbrew/perls/35.2/bin:/Volumes/amaretto/Users/ether/bin:/Volumes/amaretto/Users/ether/git/misc/install/jaeger/bin:/Volumes/amaretto/Users/ether/git/misc/install/generic/bin:/opt/local/bin:/opt/local/sbin:/Volumes/amaretto/Users/ether/git/git-hub/lib:/usr/local/bin:/usr/bin:/bin:/usr/sbin:/sbin:/Library/Apple/usr/bin:/opt/local/share/git-core/contrib/workdir
PERL5LIB = /Volumes/amaretto/Users/ether/.perlbrew/libs/35.2@std/lib/perl5
PERLBREW_HOME = /Volumes/amaretto/Users/ether/.perlbrew
PERLBREW_LIB = std
PERLBREW_MANPATH = /Volumes/amaretto/Users/ether/.perlbrew/libs/35.2@std/man:/Volumes/amaretto/Users/ether/perl5/perlbrew/perls/35.2/man
PERLBREW_PATH = /Volumes/amaretto/Users/ether/.perlbrew/libs/35.2@std/bin:/Volumes/amaretto/Users/ether/perl5/perlbrew/bin:/Volumes/amaretto/Users/ether/perl5/perlbrew/perls/35.2/bin
PERLBREW_PERL = 35.2
PERLBREW_ROOT = /Volumes/amaretto/Users/ether/perl5/perlbrew
PERLBREW_SHELLRC_VERSION = 0.92
PERLBREW_VERSION = 0.92
PERLDOC = -oman
PERLDOC_PAGER = less -sicMr
PERL_AUTOINSTALL_PREFER_CPAN = 1
PERL_INSTALL_QUIET = 1
PERL_LOCAL_LIB_ROOT = /Volumes/amaretto/Users/ether/.perlbrew/libs/35.2@std
PERL_MB_OPT = --install_base /Volumes/amaretto/Users/ether/.perlbrew/libs/35.2@std
PERL_MM_OPT = INSTALL_BASE=/Volumes/amaretto/Users/ether/.perlbrew/libs/35.2@std
PERL_TEST_HARNESS_ASAP = 1
PERL_USE_UNSAFE_INC = 0
SHELL = /bin/bash
TERM = xterm-color
Perl special variables (and OS-specific diagnostics, for MSWin32):
EGID = 20 20 12 61 79 80 81 98 701 33 100 204 250 395 398 399 400
EUID = 502
EXECUTABLE_NAME = /Volumes/amaretto/Users/ether/perl5/perlbrew/perls/35.2/bin/perl5.35.2
GID = 20 20 12 61 79 80 81 98 701 33 100 204 250 395 398 399 400
UID = 502
Perl module toolchain versions installed:
Module Have
------------------- --------
CPAN 2.28
CPAN::Meta 2.150010
Cwd 3.82
ExtUtils::CBuilder 0.280236
ExtUtils::Command 7.63_04
ExtUtils::Install 2.20
ExtUtils::MakeMaker 7.63_04
ExtUtils::Manifest 1.73
ExtUtils::ParseXS 3.43
File::Spec 3.81
JSON 4.03
JSON::PP 4.06
Module::Build 0.4231
Module::Signature n/a
Parse::CPAN::Meta 2.150010
Test::Harness 3.43
Test::More 1.302185
YAML 1.30
YAML::Syck 1.34
version 0.9929
--
Summary of my perl5 (revision 5 version 35 subversion 2) configuration:
Platform:
osname=darwin
osvers=19.6.0
archname=darwin-2level
uname='darwin jaeger 19.6.0 darwin kernel version 19.6.0: thu may 6 00:48:39 pdt 2021; root:xnu-6153.141.33~1release_x86_64 x86_64 '
config_args='-de -Dprefix=/Volumes/amaretto/Users/ether/perl5/perlbrew/perls/35.2 -Dman1dir=none -Dman3dir=none -Dusedevel -Aeval:scriptdir=/Volumes/amaretto/Users/ether/perl5/perlbrew/perls/35.2/bin'
hint=recommended
useposix=true
d_sigaction=define
useithreads=undef
usemultiplicity=undef
use64bitint=define
use64bitall=define
uselongdouble=undef
usemymalloc=n
default_inc_excludes_dot=define
Compiler:
cc='cc'
ccflags ='-fno-common -DPERL_DARWIN -mmacosx-version-min=10.15 -fno-strict-aliasing -pipe -fstack-protector-strong -I/opt/local/include -DPERL_USE_SAFE_PUTENV'
optimize='-O3'
cppflags='-fno-common -DPERL_DARWIN -mmacosx-version-min=10.15 -fno-strict-aliasing -pipe -fstack-protector-strong -I/opt/local/include'
ccversion=''
gccversion='Apple LLVM 12.0.0 (clang-1200.0.32.29)'
gccosandvers=''
intsize=4
longsize=8
ptrsize=8
doublesize=8
byteorder=12345678
doublekind=3
d_longlong=define
longlongsize=8
d_longdbl=define
longdblsize=16
longdblkind=3
ivtype='long'
ivsize=8
nvtype='double'
nvsize=8
Off_t='off_t'
lseeksize=8
alignbytes=8
prototype=define
Linker and Libraries:
ld='cc'
ldflags =' -mmacosx-version-min=10.15 -fstack-protector-strong -L/opt/local/lib'
libpth=/Applications/Xcode.app/Contents/Developer/Toolchains/XcodeDefault.xctoolchain/usr/lib/clang/12.0.0/lib /Library/Developer/CommandLineTools/SDKs/MacOSX.sdk/usr/lib /Applications/Xcode.app/Contents/Developer/Toolchains/XcodeDefault.xctoolchain/usr/lib /opt/local/lib /usr/lib
libs=-lpthread -lgdbm -ldbm -ldl -lm -lutil -lc
perllibs=-lpthread -ldl -lm -lutil -lc
libc=
so=dylib
useshrplib=false
libperl=libperl.a
gnulibc_version=''
Dynamic Linking:
dlsrc=dl_dlopen.xs
dlext=bundle
d_dlsymun=undef
ccdlflags=' '
cccdlflags=' '
lddlflags=' -mmacosx-version-min=10.15 -bundle -undefined dynamic_lookup -L/opt/local/lib -fstack-protector-strong'
Characteristics of this binary (from libperl):
Compile-time options:
HAS_TIMES
PERLIO_LAYERS
PERL_COPY_ON_WRITE
PERL_DONT_CREATE_GVSV
PERL_MALLOC_WRAP
PERL_OP_PARENT
PERL_PRESERVE_IVUV
PERL_USE_DEVEL
PERL_USE_SAFE_PUTENV
USE_64_BIT_ALL
USE_64_BIT_INT
USE_LARGE_FILES
USE_LOCALE
USE_LOCALE_COLLATE
USE_LOCALE_CTYPE
USE_LOCALE_NUMERIC
USE_LOCALE_TIME
USE_PERLIO
USE_PERL_ATOF
Built under darwin
Compiled at Jul 24 2021 13:27:37
%ENV:
PERL5LIB="/Volumes/amaretto/Users/ether/.perlbrew/libs/35.2@std/lib/perl5"
PERLBREW_HOME="/Volumes/amaretto/Users/ether/.perlbrew"
PERLBREW_LIB="std"
PERLBREW_MANPATH="/Volumes/amaretto/Users/ether/.perlbrew/libs/35.2@std/man:/Volumes/amaretto/Users/ether/perl5/perlbrew/perls/35.2/man"
PERLBREW_PATH="/Volumes/amaretto/Users/ether/.perlbrew/libs/35.2@std/bin:/Volumes/amaretto/Users/ether/perl5/perlbrew/bin:/Volumes/amaretto/Users/ether/perl5/perlbrew/perls/35.2/bin"
PERLBREW_PERL="35.2"
PERLBREW_ROOT="/Volumes/amaretto/Users/ether/perl5/perlbrew"
PERLBREW_SHELLRC_VERSION="0.92"
PERLBREW_VERSION="0.92"
PERLDOC="-oman"
PERLDOC_PAGER="less -sicMr"
PERL_AUTOINSTALL_PREFER_CPAN="1"
PERL_INSTALL_QUIET="1"
PERL_LOCAL_LIB_ROOT="/Volumes/amaretto/Users/ether/.perlbrew/libs/35.2@std"
PERL_MB_OPT="--install_base /Volumes/amaretto/Users/ether/.perlbrew/libs/35.2@std"
PERL_MM_OPT="INSTALL_BASE=/Volumes/amaretto/Users/ether/.perlbrew/libs/35.2@std"
PERL_TEST_HARNESS_ASAP="1"
PERL_USE_UNSAFE_INC="0"
@INC:
/Volumes/amaretto/Users/ether/.perlbrew/libs/35.2@std/lib/perl5/darwin-2level
/Volumes/amaretto/Users/ether/.perlbrew/libs/35.2@std/lib/perl5
/Volumes/amaretto/Users/ether/perl5/perlbrew/perls/35.2/lib/site_perl/5.35.2/darwin-2level
/Volumes/amaretto/Users/ether/perl5/perlbrew/perls/35.2/lib/site_perl/5.35.2
/Volumes/amaretto/Users/ether/perl5/perlbrew/perls/35.2/lib/5.35.2/darwin-2level
/Volumes/amaretto/Users/ether/perl5/perlbrew/perls/35.2/lib/5.35.2