Back
From: metabase:user:e3434da8-b236-11df-85ca-0247c6d74bde
Subject: PASS HTML-DBTable-0.05 v5.8.9 GNU/Linux
Date: 2010-11-09T17:01:05Z
This distribution has been tested as part of the CPAN Testers
project, supporting the Perl programming language. See
http://wiki.cpantesters.org/ for more information or email
questions to cpan-testers-discuss@perl.org
--
Dear Bruni Emiliano,
This is a computer-generated report for HTML-DBTable-0.05
on perl 5.8.9, created by CPAN-Reporter-1.1803.
Thank you for uploading your work to CPAN. Congratulations!
All tests were successful.
Sections of this report:
* Tester comments
* Program output
* Prerequisites
* Environment and other context
------------------------------
TESTER COMMENTS
------------------------------
Additional comments from tester:
this report is from an automated smoke testing program
and was not reviewed by a human for accuracy
------------------------------
PROGRAM OUTPUT
------------------------------
Output from '/usr/bin/make test':
PERL_DL_NONLAZY=1 /home/cpt3/testing/perl-5.8.9/bin/perl "-MExtUtils::Command::MM" "-e" "test_harness(0, 'blib/lib', 'blib/arch')" t/*.t
t/01__DBSchema...........Old-style DBIx::DBSchema::Table creation without named parameters is deprecated! at t/01__DBSchema.t line 32
ok
t/02__DBSchemaPatched....1..M can only appear at the beginning or end of tests
# Tests were run but no plan was declared and done_testing() was not seen.
skipped
all skipped: You haven't patched DBIx::DBSchema. If you think to use Mysql datbase take a look to INSTALL file of this distribution and patch you DBIx::DBSchema modules
t/03__DBTable............1..M can only appear at the beginning or end of tests
# Tests were run but no plan was declared and done_testing() was not seen.
skipped
all skipped: You haven't configure a db connection during Makefile creation.
All tests successful, 2 tests skipped.
Files=3, Tests=11, 0 wallclock secs ( 0.18 cusr + 0.02 csys = 0.20 CPU)
------------------------------
PREREQUISITES
------------------------------
Prerequisite modules loaded:
requires:
Module Need Have
---------------- ---- -----
DBI 0 1.615
DBIx::DBSchema 0 0.39
HTML::Template 0 2.9
Params::Validate 0 0.95
------------------------------
ENVIRONMENT AND OTHER CONTEXT
------------------------------
Environment variables:
AUTOMATED_TESTING = 1
LANG = en_US.utf8
PATH = /usr/local/bin:/usr/bin:/bin:/usr/local/games:/usr/games
PERL5LIB = /home/cpt3/.cpan/build/HTML-Template-2.9-vTuLzV/blib/arch:/home/cpt3/.cpan/build/HTML-Template-2.9-vTuLzV/blib/lib:/home/cpt3/.cpan/build/DBIx-DBSchema-0.39-9bnzic/blib/arch:/home/cpt3/.cpan/build/DBIx-DBSchema-0.39-9bnzic/blib/lib:/home/cpt3/.cpan/build/FreezeThaw-0.5001-4Cjojx/blib/arch:/home/cpt3/.cpan/build/FreezeThaw-0.5001-4Cjojx/blib/lib:/home/cpt3/.cpan/build/DBI-1.615-3Qi41X/blib/arch:/home/cpt3/.cpan/build/DBI-1.615-3Qi41X/blib/lib:/home/cpt3/.cpan/build/Test-Simple-0.96-8OgZrG/blib/arch:/home/cpt3/.cpan/build/Test-Simple-0.96-8OgZrG/blib/lib:/home/cpt3/.cpan/build/Params-Validate-0.95-3pvSGo/blib/arch:/home/cpt3/.cpan/build/Params-Validate-0.95-3pvSGo/blib/lib:/home/cpt3/.cpan/build/Attribute-Handlers-0.88-cQrLfY/blib/arch:/home/cpt3/.cpan/build/Attribute-Handlers-0.88-cQrLfY/blib/lib
PERL5OPT =
PERL5_CPANPLUS_IS_RUNNING = 14426
PERL5_CPAN_IS_RUNNING = 14426
PERL5_CPAN_IS_RUNNING_IN_RECURSION = 10474,14426
PERL_CR_SMOKER_CURRENT = HTML-DBTable-0.05
PERL_EXTUTILS_AUTOINSTALL = --defaultdeps
PERL_MM_USE_DEFAULT = 1
SHELL = /bin/bash
TERM = screen
Perl special variables (and OS-specific diagnostics, for MSWin32):
$^X = /home/cpt3/testing/perl-5.8.9/bin/perl
$UID/$EUID = 1004 / 1004
$GID = 1004 20 24 25 27 29 30 44 46 100 103 111 113 114 1004
$EGID = 1004 20 24 25 27 29 30 44 46 100 103 111 113 114 1004
Perl module toolchain versions installed:
Module Have
------------------- -------
CPAN 1.9301
Cwd 3.29
ExtUtils::CBuilder 0.2703
ExtUtils::Command 1.15
ExtUtils::Install 1.50_01
ExtUtils::MakeMaker 6.48
ExtUtils::Manifest 1.55
ExtUtils::ParseXS 2.19
File::Spec 3.29
Module::Build 0.3607
Module::Signature n/a
Test::Harness 2.64
Test::More 0.96
YAML 0.72
YAML::Syck n/a
version n/a
--
Summary of my perl5 (revision 5 version 8 subversion 9) configuration:
Platform:
osname=linux, osvers=2.6.35-4.slh.9-aptosid-686, archname=i686-linux
uname='linux firenze 2.6.35-4.slh.9-aptosid-686 #1 smp preempt mon sep 13 16:40:35 utc 2010 i686 gnulinux '
config_args='-Dprefix=/home/cpt3/testing/perl-5.8.9'
hint=recommended, useposix=true, d_sigaction=define
usethreads=undef use5005threads=undef useithreads=undef usemultiplicity=undef
useperlio=define d_sfio=undef uselargefiles=define usesocks=undef
use64bitint=undef use64bitall=undef uselongdouble=undef
usemymalloc=n, bincompat5005=undef
Compiler:
cc='cc', ccflags ='-fno-strict-aliasing -pipe -I/usr/local/include -D_LARGEFILE_SOURCE -D_FILE_OFFSET_BITS=64',
optimize='-O2',
cppflags='-fno-strict-aliasing -pipe -I/usr/local/include'
ccversion='', gccversion='4.4.5', gccosandvers=''
intsize=4, longsize=4, ptrsize=4, doublesize=8, byteorder=1234
d_longlong=define, longlongsize=8, d_longdbl=define, longdblsize=12
ivtype='long', ivsize=4, nvtype='double', nvsize=8, Off_t='off_t', lseeksize=8
alignbytes=4, prototype=define
Linker and Libraries:
ld='cc', ldflags =' -L/usr/local/lib'
libpth=/usr/local/lib /lib /usr/lib
libs=-lnsl -lgdbm -ldb -ldl -lm -lcrypt -lutil -lc
perllibs=-lnsl -ldl -lm -lcrypt -lutil -lc
libc=/lib/libc-2.11.2.so, so=so, useshrplib=false, libperl=libperl.a
gnulibc_version='2.11.2'
Dynamic Linking:
dlsrc=dl_dlopen.xs, dlext=so, d_dlsymun=undef, ccdlflags='-Wl,-E'
cccdlflags='-fPIC', lddlflags='-shared -O2 -L/usr/local/lib'
Characteristics of this binary (from libperl):
Compile-time options: PERL_MALLOC_WRAP USE_FAST_STDIO USE_LARGE_FILES
USE_PERLIO
Built under linux
Compiled at Oct 11 2010 12:18:13
%ENV:
PERL5LIB="/home/cpt3/.cpan/build/HTML-Template-2.9-vTuLzV/blib/arch:/home/cpt3/.cpan/build/HTML-Template-2.9-vTuLzV/blib/lib:/home/cpt3/.cpan/build/DBIx-DBSchema-0.39-9bnzic/blib/arch:/home/cpt3/.cpan/build/DBIx-DBSchema-0.39-9bnzic/blib/lib:/home/cpt3/.cpan/build/FreezeThaw-0.5001-4Cjojx/blib/arch:/home/cpt3/.cpan/build/FreezeThaw-0.5001-4Cjojx/blib/lib:/home/cpt3/.cpan/build/DBI-1.615-3Qi41X/blib/arch:/home/cpt3/.cpan/build/DBI-1.615-3Qi41X/blib/lib:/home/cpt3/.cpan/build/Test-Simple-0.96-8OgZrG/blib/arch:/home/cpt3/.cpan/build/Test-Simple-0.96-8OgZrG/blib/lib:/home/cpt3/.cpan/build/Params-Validate-0.95-3pvSGo/blib/arch:/home/cpt3/.cpan/build/Params-Validate-0.95-3pvSGo/blib/lib:/home/cpt3/.cpan/build/Attribute-Handlers-0.88-cQrLfY/blib/arch:/home/cpt3/.cpan/build/Attribute-Handlers-0.88-cQrLfY/blib/lib"
PERL5OPT=""
PERL5_CPANPLUS_IS_RUNNING="14426"
PERL5_CPAN_IS_RUNNING="14426"
PERL5_CPAN_IS_RUNNING_IN_RECURSION="10474,14426"
PERL_CR_SMOKER_CURRENT="HTML-DBTable-0.05"
PERL_EXTUTILS_AUTOINSTALL="--defaultdeps"
PERL_MM_USE_DEFAULT="1"
@INC:
/home/cpt3/.cpan/build/HTML-Template-2.9-vTuLzV/blib/arch
/home/cpt3/.cpan/build/HTML-Template-2.9-vTuLzV/blib/lib
/home/cpt3/.cpan/build/DBIx-DBSchema-0.39-9bnzic/blib/arch
/home/cpt3/.cpan/build/DBIx-DBSchema-0.39-9bnzic/blib/lib
/home/cpt3/.cpan/build/FreezeThaw-0.5001-4Cjojx/blib/arch
/home/cpt3/.cpan/build/FreezeThaw-0.5001-4Cjojx/blib/lib
/home/cpt3/.cpan/build/DBI-1.615-3Qi41X/blib/arch
/home/cpt3/.cpan/build/DBI-1.615-3Qi41X/blib/lib
/home/cpt3/.cpan/build/Test-Simple-0.96-8OgZrG/blib/arch
/home/cpt3/.cpan/build/Test-Simple-0.96-8OgZrG/blib/lib
/home/cpt3/.cpan/build/Params-Validate-0.95-3pvSGo/blib/arch
/home/cpt3/.cpan/build/Params-Validate-0.95-3pvSGo/blib/lib
/home/cpt3/.cpan/build/Attribute-Handlers-0.88-cQrLfY/blib/arch
/home/cpt3/.cpan/build/Attribute-Handlers-0.88-cQrLfY/blib/lib
/home/cpt3/testing/perl-5.8.9/lib/5.8.9/i686-linux
/home/cpt3/testing/perl-5.8.9/lib/5.8.9
/home/cpt3/testing/perl-5.8.9/lib/site_perl/5.8.9/i686-linux
/home/cpt3/testing/perl-5.8.9/lib/site_perl/5.8.9
.