Getopt-Euclid v0.4.8 Perl 5 v5.12.5 x86_64-linux

Status
Pass
From
David Cantrell (DCANTRELL)
Dist
Getopt-Euclid v0.4.8
Platform
Perl 5 v5.12.5 x86_64-linux
Date
2024-10-23 22:55:46
ID
f0e2cf0c-9191-11ef-a92f-0186b4a6d4b4
This distribution has been tested as part of the CPAN Testers
project, supporting the Perl programming language.  See
http://wiki.cpantesters.org/ for more information or email
questions to cpan-testers-discuss@perl.org


--
Dear David Precious,

This is a computer-generated report for Getopt-Euclid-0.4.8
on perl 5.12.5, created by CPAN-Reporter-1.2019.

Thank you for uploading your work to CPAN.  Congratulations!
All tests were successful.

Sections of this report:

    * Tester comments
    * Program output
    * Prerequisites
    * Environment and other context

------------------------------
TESTER COMMENTS
------------------------------

Additional comments from tester:

this report is from an automated smoke testing program
and was not reviewed by a human for accuracy

------------------------------
PROGRAM OUTPUT
------------------------------

Output from '/usr/bin/make test':

PERL_DL_NONLAZY=1 "/home/david/cpantesting/perl-5.12.5/bin/perl" "-MExtUtils::Command::MM" "-MTest::Harness" "-e" "undef *Test::Harness::Switches; test_harness(0, 'blib/lib', 'blib/arch')" t/*.t
# Testing Getopt::Euclid 0.4.5
t/00.load.t ..................... ok
t/any_array.t ................... ok
t/bundle.t ...................... ok
t/compile.t ..................... ok
t/defer.t ....................... ok
t/defer_all.t ................... ok
t/empty_ARGV_array.t ............ ok
t/entity_angles.t ............... ok
t/eval.t ........................ ok
t/excludes.t .................... ok
t/fail_bad_constraint.t ......... ok
t/fail_bad_default.t ............ ok
t/fail_bad_default_ref.t ........ ok
t/fail_bad_excludes.t ........... ok
t/fail_bad_excludes_2.t ......... ok
t/fail_bad_name.t ............... ok
t/fail_bad_name_2.t ............. ok
t/fail_bad_opt_default.t ........ ok
t/fail_bad_opt_default_2.t ...... ok
t/fail_excludes_msg.t ........... ok
t/fail_minimal_clash.t .......... ok
t/fail_misplaced_type.t ......... ok
t/fail_missing_required.t ....... ok
t/fail_missing_var.t ............ ok
t/fail_missing_var_2.t .......... ok
t/fail_no_spec.t ................ ok
t/fail_quoted_args.t ............ ok
t/fail_type.t ................... ok
t/fail_type_msg.t ............... ok
t/fail_type_msg_2.t ............. ok
t/fail_unknown_arg.t ............ ok
t/fail_unknown_mode.t ........... ok
t/fail_unknown_spec.t ........... ok
t/fail_unknown_spec_2.t ......... ok
t/fail_unknown_type.t ........... ok
t/fail_user_constraint.t ........ ok
t/fail_user_constraint_comma.t .. ok
t/fail_user_constraint_type.t ... ok
t/false.t ....................... ok
t/hier.t ........................ ok
t/hier_2.t ...................... ok
t/hier_export.t ................. ok
t/hier_no_pod.t ................. ok
t/ignore_decorations.t .......... ok
t/insert_defaults.t ............. ok
t/minimal.t ..................... ok
t/minimal_2.t ................... ok
t/opt_default.t ................. ok
t/pod.t ......................... ok
t/pod_cmd_after_cut.t ........... ok
t/pod_coverage.t ................ ok
t/pod_file.t .................... ok
t/quoted_args.t ................. ok
t/quoted_args_2.t ............... ok
t/repeatable.t .................. ok
t/repeated.t .................... ok
t/repeated_2.t .................. ok
t/simple.t ...................... ok
t/simple_alternate.t ............ ok
t/simple_shuffle.t .............. ok
t/std_arguments.t ............... ok
t/substr.t ...................... ok
t/substr_2.t .................... ok
t/types.t ....................... ok
t/types_regex.t ................. ok
t/types_vars.t .................. ok
t/vars_export.t ................. ok
All tests successful.
Files=67, Tests=679, 103 wallclock secs ( 0.61 usr  0.43 sys + 16.18 cusr  2.83 csys = 20.05 CPU)
Result: PASS

------------------------------
PREREQUISITES
------------------------------

Prerequisite modules loaded:

requires:

    Module                Need     Have    
    --------------------- -------- --------
    Carp                  0        1.50    
    File::Basename        0        2.78    
    File::Spec::Functions 0        3.75    
    IO::Page              0        0.02    
    IO::Pager::Page       0        1.04    
    List::Util            0        1.63    
    perl                  5.006001 5.012005
    Pod::PlainText        0        2.07    
    Pod::Select           0        1.66    
    re                    0        0.11    
    strict                0        1.04    
    Symbol                0        1.07    
    Text::Balanced        0        2.06    
    version               0        0.9930  
    warnings              0        1.09    

build_requires:

    Module                Need     Have    
    --------------------- -------- --------
    Data::Dumper          0        2.183   
    ExtUtils::MakeMaker   0        7.70    
    lib                   0        0.62    
    Pod::Checker          0        1.45    
    Test::More            0        1.302198

configure_requires:

    Module                Need     Have    
    --------------------- -------- --------
    ExtUtils::MakeMaker   0        7.70    


------------------------------
ENVIRONMENT AND OTHER CONTEXT
------------------------------

Environment variables:

    AUTOMATED_TESTING = 1
    LANG = en_GB.UTF-8
    LANGUAGE = en_GB:en
    LC_TERMINAL = iTerm2
    LC_TERMINAL_VERSION = 3.5.5
    NONINTERACTIVE_TESTING = 1
    PATH = /home/david/.nvm/versions/node/v20.17.0/bin:/home/david/.cargo/bin:/home/david/perl5/perlbrew/bin:/home/david/perl5/perlbrew/perls/perl-5.30.2/bin:/home/david/bin:/usr/local/bin:/usr/bin:/bin:/usr/local/games:/usr/games
    PERL = 5.12.5
    PERL5LIB = 
    PERL5OPT = 
    PERL5_CPANPLUS_IS_RUNNING = 30271
    PERL5_CPAN_IS_RUNNING = 30271
    PERLBREW_HOME = /home/david/.perlbrew
    PERLBREW_MANPATH = /home/david/perl5/perlbrew/perls/perl-5.30.2/man
    PERLBREW_PATH = /home/david/perl5/perlbrew/bin:/home/david/perl5/perlbrew/perls/perl-5.30.2/bin
    PERLBREW_PERL = perl-5.30.2
    PERLBREW_ROOT = /home/david/perl5/perlbrew
    PERLBREW_SHELLRC_VERSION = 0.98
    PERLBREW_VERSION = 0.98
    PERLVER = 5.12.5
    PERL_INLINE_DIRECTORY = /home/david/.Inline-5.12.5
    PERL_MM_USE_DEFAULT = 1
    PERL_USE_UNSAFE_INC = 0
    SHELL = /bin/bash
    TERM = screen

Perl special variables (and OS-specific diagnostics, for MSWin32):

    $^X = /home/david/cpantesting/perl-5.12.5/bin/perl
    $UID/$EUID = 1000 / 1000
    $GID = 1000 24 25 27 29 30 44 46 109 1000
    $EGID = 1000 24 25 27 29 30 44 46 109 1000

Perl module toolchain versions installed:

    Module              Have    
    ------------------- --------
    CPAN                2.36    
    CPAN::Meta          2.150010
    Cwd                 3.75    
    ExtUtils::CBuilder  0.280236
    ExtUtils::Command   7.70    
    ExtUtils::Install   2.22    
    ExtUtils::MakeMaker 7.70    
    ExtUtils::Manifest  1.75    
    ExtUtils::ParseXS   3.51    
    File::Spec          3.75    
    JSON                4.10    
    JSON::PP            4.16    
    Module::Build       0.4234  
    Module::Signature   n/a     
    Parse::CPAN::Meta   2.150010
    Test2               1.302198
    Test::Harness       3.48    
    Test::More          1.302198
    YAML                1.30    
    YAML::Syck          n/a     
    version             0.9930  


--

Summary of my perl5 (revision 5 version 12 subversion 5) configuration:
   
  Platform:
    osname=linux, osvers=5.10.0-11-amd64, archname=x86_64-linux
    uname='linux cpantesting-linux 5.10.0-11-amd64 #1 smp debian 5.10.92-1 (2022-01-18) x86_64 gnulinux '
    config_args='-de -Dprefix=/home/david/cpantesting/perl-5.12.5'
    hint=recommended, useposix=true, d_sigaction=define
    useithreads=undef, usemultiplicity=undef
    useperlio=define, d_sfio=undef, uselargefiles=define, usesocks=undef
    use64bitint=define, use64bitall=define, uselongdouble=undef
    usemymalloc=n, bincompat5005=undef
  Compiler:
    cc='cc', ccflags ='-fwrapv -fno-strict-aliasing -pipe -fstack-protector -I/usr/local/include -D_LARGEFILE_SOURCE -D_FILE_OFFSET_BITS=64',
    optimize='-O2',
    cppflags='-fwrapv -fno-strict-aliasing -pipe -fstack-protector -I/usr/local/include'
    ccversion='', gccversion='10.2.1 20210110', gccosandvers=''
    intsize=4, longsize=8, ptrsize=8, doublesize=8, byteorder=12345678
    d_longlong=define, longlongsize=8, d_longdbl=define, longdblsize=16
    ivtype='long', ivsize=8, nvtype='double', nvsize=8, Off_t='off_t', lseeksize=8
    alignbytes=8, prototype=define
  Linker and Libraries:
    ld='cc', ldflags =' -fstack-protector -L/usr/local/lib'
    libpth=/usr/local/lib /lib/x86_64-linux-gnu /lib/../lib /usr/lib/x86_64-linux-gnu /usr/lib/../lib /lib /usr/lib /lib64 /usr/lib64
    libs=-lnsl -ldl -lm -lcrypt -lutil -lc
    perllibs=-lnsl -ldl -lm -lcrypt -lutil -lc
    libc=libc-2.31.so, so=so, useshrplib=false, libperl=libperl.a
    gnulibc_version='2.31'
  Dynamic Linking:
    dlsrc=dl_dlopen.xs, dlext=so, d_dlsymun=undef, ccdlflags='-Wl,-E'
    cccdlflags='-fPIC', lddlflags='-shared -O2 -L/usr/local/lib -fstack-protector'


Characteristics of this binary (from libperl): 
  Compile-time options: PERL_DONT_CREATE_GVSV PERL_MALLOC_WRAP USE_64_BIT_ALL
                        USE_64_BIT_INT USE_LARGE_FILES USE_PERLIO
                        USE_PERL_ATOF
  Locally applied patches:
	Devel::PatchPerl 2.08
  Built under linux
  Compiled at Jul  5 2023 22:36:28
  %ENV:
    PERL="5.12.5"
    PERL5LIB=""
    PERL5OPT=""
    PERL5_CPANPLUS_IS_RUNNING="30271"
    PERL5_CPAN_IS_RUNNING="30271"
    PERLBREW_HOME="/home/david/.perlbrew"
    PERLBREW_MANPATH="/home/david/perl5/perlbrew/perls/perl-5.30.2/man"
    PERLBREW_PATH="/home/david/perl5/perlbrew/bin:/home/david/perl5/perlbrew/perls/perl-5.30.2/bin"
    PERLBREW_PERL="perl-5.30.2"
    PERLBREW_ROOT="/home/david/perl5/perlbrew"
    PERLBREW_SHELLRC_VERSION="0.98"
    PERLBREW_VERSION="0.98"
    PERLVER="5.12.5"
    PERL_INLINE_DIRECTORY="/home/david/.Inline-5.12.5"
    PERL_MM_USE_DEFAULT="1"
    PERL_USE_UNSAFE_INC="0"
  @INC:
    /home/david/cpantesting/perl-5.12.5/lib/site_perl/5.12.5/x86_64-linux
    /home/david/cpantesting/perl-5.12.5/lib/site_perl/5.12.5
    /home/david/cpantesting/perl-5.12.5/lib/5.12.5/x86_64-linux
    /home/david/cpantesting/perl-5.12.5/lib/5.12.5
    .