ParseUtil-Domain v2.427 Perl 5 v5.27.10 x86_64-linux

Status
Pass
From
Slaven Rezić (SREZIC)
Dist
ParseUtil-Domain v2.427
Platform
Perl 5 v5.27.10 x86_64-linux
Date
2018-03-21 17:26:07
ID
f0e1d17c-2d2c-11e8-8407-f0adc1616d2a
This distribution has been tested as part of the CPAN Testers
project, supporting the Perl programming language.  See
http://wiki.cpantesters.org/ for more information or email
questions to cpan-testers-discuss@perl.org


--
Dear William Travis Holton,

This is a computer-generated report for ParseUtil-Domain-2.427
on perl 5.27.10, created by CPAN-Reporter-1.2018.

Thank you for uploading your work to CPAN.  Congratulations!
All tests were successful.

Sections of this report:

    * Tester comments
    * Program output
    * Prerequisites
    * Environment and other context

------------------------------
TESTER COMMENTS
------------------------------

Additional comments from tester:

none provided

------------------------------
PROGRAM OUTPUT
------------------------------

Output from 'make test':

PERL_DL_NONLAZY=1 "/opt/perl-5.27.10/bin/perl5.27.10" "-MExtUtils::Command::MM" "-MTest::Harness" "-e" "undef *Test::Harness::Switches; test_harness(0, 'blib/lib', 'blib/arch')" t/*.t
# 
# Versions for all modules listed in MYMETA.json (including optional ones):
# 
# === Configure Requires ===
# 
#     Module              Want Have
#     ------------------- ---- ----
#     ExtUtils::MakeMaker  any 7.34
# 
# === Build Requires ===
# 
#     Module              Want Have
#     ------------------- ---- ----
#     ExtUtils::MakeMaker  any 7.34
# 
# === Test Requires ===
# 
#     Module               Want     Have
#     -------------------- ---- --------
#     English               any     1.10
#     ExtUtils::MakeMaker   any     7.34
#     File::Spec            any     3.74
#     Mock::Quick           any    1.111
#     Moose                 any   2.2010
#     Test::Class           any     0.50
#     Test::Deep            any    1.127
#     Test::Exception       any     0.43
#     Test::More            any 1.302133
#     Test::Perl::Critic    any     1.03
#     Test::Routine         any    0.025
#     Test::Routine::Util   any    0.025
#     namespace::autoclean  any     0.28
#     parent                any    0.236
#     strict                any     1.11
#     utf8                  any     1.21
#     warnings              any     1.42
# 
# === Test Recommends ===
# 
#     Module         Want     Have
#     ---------- -------- --------
#     CPAN::Meta 2.120900 2.150010
# 
# === Runtime Requires ===
# 
#     Module             Want       Have
#     ------------------ ---- ----------
#     Carp                any       1.49
#     Exporter            any       5.72
#     Getopt::Long        any        2.5
#     List::MoreUtils     any      0.428
#     Modern::Perl        any 1.20170117
#     Net::IDN::Encode    any      2.400
#     Net::IDN::Nameprep  any      1.102
#     Net::IDN::Punycode  any      1.102
#     autobox             any       2.85
#     autobox::Core       any       1.33
#     charnames           any       1.45
# 
t/00-report-prereqs.t ......... ok
t/error_behaviour.t ........... ok
t/parse_ascii.t ............... ok
t/parse_ascii_test_routine.t .. ok
t/parse_idn.t ................. ok
t/perlcritic.t ................ skipped: Author test. Set $ENV{TEST_AUTHOR} to a true value to run.
t/public_suffix_test.t ........ ok
t/undefined_mapping.t ......... ok
All tests successful.
Files=8, Tests=112,  2 wallclock secs ( 0.02 usr  0.03 sys +  1.23 cusr  0.16 csys =  1.44 CPU)
Result: PASS

------------------------------
PREREQUISITES
------------------------------

Prerequisite modules loaded:

requires:

    Module               Need Have      
    -------------------- ---- ----------
    autobox              0    2.85      
    autobox::Core        0    1.33      
    Carp                 0    1.49      
    charnames            0    1.45      
    Exporter             0    5.72      
    Getopt::Long         0    2.5       
    List::MoreUtils      0    0.428     
    Modern::Perl         0    1.20170117
    Net::IDN::Encode     0    2.400     
    Net::IDN::Nameprep   0    1.102     
    Net::IDN::Punycode   0    1.102     

build_requires:

    Module               Need Have      
    -------------------- ---- ----------
    English              0    1.10      
    ExtUtils::MakeMaker  0    7.34      
    File::Spec           0    3.74      
    Mock::Quick          0    1.111     
    Moose                0    2.2010    
    namespace::autoclean 0    0.28      
    parent               0    0.236     
    strict               0    1.11      
    Test::Class          0    0.50      
    Test::Deep           0    1.127     
    Test::Exception      0    0.43      
    Test::More           0    1.302133  
    Test::Perl::Critic   0    1.03      
    Test::Routine        0    0.025     
    Test::Routine::Util  0    0.025     
    utf8                 0    1.21      
    warnings             0    1.42      

configure_requires:

    Module               Need Have      
    -------------------- ---- ----------
    ExtUtils::MakeMaker  0    7.34      


------------------------------
ENVIRONMENT AND OTHER CONTEXT
------------------------------

Environment variables:

    LANG = en_US.UTF-8
    LC_ALL = de_DE.UTF-8
    PATH = /usr/local/bin:/usr/bin:/bin:/usr/local/sbin:/usr/sbin:/sbin:/home/cpansand/bin/linux-gnu:/home/cpansand/bin/sh:/home/cpansand/bin:/usr/games:/home/cpansand/devel:/home/eserte/src/srezic-misc/scripts
    PERL5LIB = 
    PERL5OPT = 
    PERL5_CPANPLUS_IS_RUNNING = 14039
    PERL5_CPAN_IS_RUNNING = 14039
    PERL5_CPAN_IS_RUNNING_IN_RECURSION = 3323,14039
    PERLDOC = -MPod::Perldoc::ToTextOverstrike
    PERL_BATCH = yes
    PERL_CANARY_STABILITY_NOPROMPT = 1
    PERL_CPAN_REPORTER_CONFIG = /var/tmp/cpansmoker-1023/2018032112/cpanreporter_000_config.ini
    PERL_EXTUTILS_AUTOINSTALL = --defaultdeps
    PERL_PARALLEL_SMOKER = yes
    PERL_USE_UNSAFE_INC = 1
    SHELL = /bin/zsh
    TERM = screen
    TMPDIR = /var/tmp/cpansmoker-1023/2018032112

Perl special variables (and OS-specific diagnostics, for MSWin32):

    $^X = /opt/perl-5.27.10/bin/perl5.27.10
    $UID/$EUID = 1023 / 1023
    $GID = 1023 1023
    $EGID = 1023 1023

Perl module toolchain versions installed:

    Module              Have    
    ------------------- --------
    CPAN                2.20    
    CPAN::Meta          2.150010
    Cwd                 3.74    
    ExtUtils::CBuilder  0.280230
    ExtUtils::Command   7.34    
    ExtUtils::Install   2.14    
    ExtUtils::MakeMaker 7.34    
    ExtUtils::Manifest  1.70    
    ExtUtils::ParseXS   3.35    
    File::Spec          3.74    
    JSON                2.97001 
    JSON::PP            2.97001 
    Module::Build       0.4224  
    Module::Signature   0.81    
    Parse::CPAN::Meta   2.150010
    Test::Harness       3.42    
    Test::More          1.302133
    YAML                1.24    
    YAML::Syck          1.30    
    version             0.9918  


--

Summary of my perl5 (revision 5 version 27 subversion 10) configuration:
   
  Platform:
    osname=linux
    osvers=2.6.32-696.3.1.el6.x86_64
    archname=x86_64-linux
    uname='linux centos6 2.6.32-696.3.1.el6.x86_64 #1 smp tue may 30 19:52:55 utc 2017 x86_64 x86_64 x86_64 gnulinux '
    config_args='-ds -e -Dprefix=/opt/perl-5.27.10 -Dusedevel -Dusemallocwrap=no -Dcf_email=srezic@cpan.org'
    hint=recommended
    useposix=true
    d_sigaction=define
    useithreads=undef
    usemultiplicity=undef
    use64bitint=define
    use64bitall=define
    uselongdouble=undef
    usemymalloc=n
    default_inc_excludes_dot=define
    bincompat5005=undef
  Compiler:
    cc='cc'
    ccflags ='-fwrapv -fno-strict-aliasing -pipe -fstack-protector -I/usr/local/include -D_LARGEFILE_SOURCE -D_FILE_OFFSET_BITS=64 -D_FORTIFY_SOURCE=2'
    optimize='-O2'
    cppflags='-fwrapv -fno-strict-aliasing -pipe -fstack-protector -I/usr/local/include'
    ccversion=''
    gccversion='4.4.7 20120313 (Red Hat 4.4.7-18)'
    gccosandvers=''
    intsize=4
    longsize=8
    ptrsize=8
    doublesize=8
    byteorder=12345678
    doublekind=3
    d_longlong=define
    longlongsize=8
    d_longdbl=define
    longdblsize=16
    longdblkind=3
    ivtype='long'
    ivsize=8
    nvtype='double'
    nvsize=8
    Off_t='off_t'
    lseeksize=8
    alignbytes=8
    prototype=define
  Linker and Libraries:
    ld='cc'
    ldflags =' -fstack-protector -L/usr/local/lib'
    libpth=/usr/local/lib /usr/lib /lib/../lib64 /usr/lib/../lib64 /lib /lib64 /usr/lib64 /usr/local/lib64
    libs=-lpthread -lnsl -lgdbm -ldb -ldl -lm -lcrypt -lutil -lc
    perllibs=-lpthread -lnsl -ldl -lm -lcrypt -lutil -lc
    libc=libc-2.12.so
    so=so
    useshrplib=false
    libperl=libperl.a
    gnulibc_version='2.12'
  Dynamic Linking:
    dlsrc=dl_dlopen.xs
    dlext=so
    d_dlsymun=undef
    ccdlflags='-Wl,-E'
    cccdlflags='-fPIC'
    lddlflags='-shared -O2 -L/usr/local/lib -fstack-protector'


Characteristics of this binary (from libperl): 
  Compile-time options:
    HAS_TIMES
    PERLIO_LAYERS
    PERL_COPY_ON_WRITE
    PERL_DONT_CREATE_GVSV
    PERL_OP_PARENT
    PERL_PRESERVE_IVUV
    PERL_USE_DEVEL
    USE_64_BIT_ALL
    USE_64_BIT_INT
    USE_LARGE_FILES
    USE_LOCALE
    USE_LOCALE_COLLATE
    USE_LOCALE_CTYPE
    USE_LOCALE_NUMERIC
    USE_LOCALE_TIME
    USE_PERLIO
    USE_PERL_ATOF
  Built under linux
  Compiled at Mar 20 2018 21:34:06
  %ENV:
    PERL5LIB=""
    PERL5OPT=""
    PERL5_CPANPLUS_IS_RUNNING="14039"
    PERL5_CPAN_IS_RUNNING="14039"
    PERL5_CPAN_IS_RUNNING_IN_RECURSION="3323,14039"
    PERLDOC="-MPod::Perldoc::ToTextOverstrike"
    PERL_BATCH="yes"
    PERL_CANARY_STABILITY_NOPROMPT="1"
    PERL_CPAN_REPORTER_CONFIG="/var/tmp/cpansmoker-1023/2018032112/cpanreporter_000_config.ini"
    PERL_EXTUTILS_AUTOINSTALL="--defaultdeps"
    PERL_PARALLEL_SMOKER="yes"
    PERL_USE_UNSAFE_INC="1"
  @INC:
    /opt/perl-5.27.10/lib/site_perl/5.27.10/x86_64-linux
    /opt/perl-5.27.10/lib/site_perl/5.27.10
    /opt/perl-5.27.10/lib/5.27.10/x86_64-linux
    /opt/perl-5.27.10/lib/5.27.10
    .