XML-SAX v1.02 Perl 5 v5.16.3 x86_64-linux-thread-multi
- Status
- Pass
- From
- Andreas J. König (ANDK)
- Dist
-
XML-SAX v1.02
- Platform
- Perl 5 v5.16.3 x86_64-linux-thread-multi
- Date
- 2022-01-07 09:12:30
- ID
- f0bbe706-6f99-11ec-80dd-4ab31d72ee1c
This distribution has been tested as part of the CPAN Testers
project, supporting the Perl programming language. See
http://wiki.cpantesters.org/ for more information or email
questions to cpan-testers-discuss@perl.org
--
Dear Grant McLean,
This is a computer-generated report for XML-SAX-1.02
on perl 5.16.3, created by CPAN-Reporter-1.2018.
Thank you for uploading your work to CPAN. Congratulations!
All tests were successful.
Sections of this report:
* Tester comments
* Program output
* Prerequisites
* Environment and other context
------------------------------
TESTER COMMENTS
------------------------------
Additional comments from tester:
this report is from an automated smoke testing program
and was not reviewed by a human for accuracy
------------------------------
PROGRAM OUTPUT
------------------------------
Output from '/usr/bin/make test':
PERL_DL_NONLAZY=1 "/home/sand/src/perl/repoperls/installed-perls/host/k93bionic/v5.16.3/7ee9/bin/perl" "-MExtUtils::Command::MM" "-MTest::Harness" "-e" "undef *Test::Harness::Switches; test_harness(0, 'blib/lib', 'blib/arch')" t/*.t
t/00basic.t ....... ok
t/01known.t ....... ok
t/10xmldecl1.t .... ok
t/11xmldecl2.t .... ok
t/12miscstart.t ... ok
t/13int_ent.t ..... ok
t/14encoding.t .... ok
t/15element.t ..... ok
parsed 80085 bytes in 0 seconds
t/16large.t ....... ok
t/19pi.t .......... ok
t/20factory.t ..... ok
t/21saxini.t ...... ok
t/30parse_file.t .. ok
t/40cdata.t ....... ok
t/42entities.t .... ok
t/99cleanup.t ..... ok
All tests successful.
Files=16, Tests=113, 1 wallclock secs ( 0.03 usr 0.07 sys + 0.72 cusr 0.23 csys = 1.05 CPU)
Result: PASS
------------------------------
PREREQUISITES
------------------------------
Prerequisite modules loaded:
requires:
Module Need Have
--------------------- ---- ----
File::Temp 0 0.22
XML::NamespaceSupport 0.03 1.12
XML::SAX::Base 1.05 1.09
build_requires:
Module Need Have
--------------------- ---- ----
ExtUtils::MakeMaker 0 7.34
configure_requires:
Module Need Have
--------------------- ---- ----
ExtUtils::MakeMaker 0 7.34
------------------------------
ENVIRONMENT AND OTHER CONTEXT
------------------------------
Environment variables:
AUTOMATED_TESTING = 1
LANG = en_US.utf8
PATH = /home/sand/bin:/usr/local/bin:/usr/local/sbin:/usr/sbin:/usr/bin:/sbin:/bin:/usr/games:/usr/local/games:/snap/bin:/usr/local/perl/bin:/usr/X11/bin
PERL5LIB =
PERL5OPT =
PERL5_CPANPLUS_IS_RUNNING = 32103
PERL5_CPAN_IS_RUNNING = 32103
PERL_CANARY_STABILITY_NOPROMPT = 1
PERL_MM_USE_DEFAULT = 1
SHELL = /usr/bin/zsh
TERM = screen
Perl special variables (and OS-specific diagnostics, for MSWin32):
$^X = /home/sand/src/perl/repoperls/installed-perls/host/k93bionic/v5.16.3/7ee9/bin/perl
$UID/$EUID = 1005 / 1005
$GID = 1005 1005
$EGID = 1005 1005
Perl module toolchain versions installed:
Module Have
------------------- --------
CPAN 1.9800
CPAN::Meta 2.150010
Cwd 3.39_02
ExtUtils::CBuilder 0.280206
ExtUtils::Command 7.34
ExtUtils::Install 2.06
ExtUtils::MakeMaker 7.34
ExtUtils::Manifest 1.70
ExtUtils::ParseXS 3.16
File::Spec 3.39_02
JSON n/a
JSON::PP 4.00
Module::Build 0.4224
Module::Signature 0.87
Parse::CPAN::Meta 2.150010
Test::Harness 3.42
Test::More 1.302160
YAML 1.27
YAML::Syck 1.31
version 0.9924
--
Summary of my perl5 (revision 5 version 16 subversion 3) configuration:
Derived from: fd04d42d38f4751b981eb6e9213ee1ab8ef11ea6
Platform:
osname=linux, osvers=4.15.0-43-generic, archname=x86_64-linux-thread-multi
uname='linux k93bionic 4.15.0-43-generic #46-ubuntu smp thu dec 6 14:45:28 utc 2018 x86_64 x86_64 x86_64 gnulinux '
config_args='-Dprefix=/home/sand/src/perl/repoperls/installed-perls/host/k93bionic/v5.16.3/7ee9 -Dmyhostname=k93bionic -Dinstallusrbinperl=n -Uversiononly -Dusedevel -des -Ui_db -Dlibswanted=cl pthread socket inet nsl gdbm dbm malloc dl ld sun m crypt sec util c cposix posix ucb BSD gdbm_compat -Duseithreads -Uuselongdouble -DEBUGGING=-g'
hint=recommended, useposix=true, d_sigaction=define
useithreads=define, usemultiplicity=define
useperlio=define, d_sfio=undef, uselargefiles=define, usesocks=undef
use64bitint=define, use64bitall=define, uselongdouble=undef
usemymalloc=n, bincompat5005=undef
Compiler:
cc='cc', ccflags ='-D_REENTRANT -D_GNU_SOURCE -fno-strict-aliasing -pipe -fstack-protector -I/usr/local/include -D_LARGEFILE_SOURCE -D_FILE_OFFSET_BITS=64',
optimize='-O2 -g',
cppflags='-D_REENTRANT -D_GNU_SOURCE -fno-strict-aliasing -pipe -fstack-protector -I/usr/local/include'
ccversion='', gccversion='7.3.0', gccosandvers=''
intsize=4, longsize=8, ptrsize=8, doublesize=8, byteorder=12345678
d_longlong=define, longlongsize=8, d_longdbl=define, longdblsize=16
ivtype='long', ivsize=8, nvtype='double', nvsize=8, Off_t='off_t', lseeksize=8
alignbytes=8, prototype=define
Linker and Libraries:
ld='cc', ldflags =' -fstack-protector -L/usr/local/lib'
libpth=/usr/local/lib /lib/x86_64-linux-gnu /lib/../lib /usr/lib/x86_64-linux-gnu /usr/lib/../lib /lib /usr/lib
libs=-lpthread -lnsl -ldl -lm -lcrypt -lutil -lc
perllibs=-lpthread -lnsl -ldl -lm -lcrypt -lutil -lc
libc=libc-2.27.so, so=so, useshrplib=false, libperl=libperl.a
gnulibc_version='2.27'
Dynamic Linking:
dlsrc=dl_dlopen.xs, dlext=so, d_dlsymun=undef, ccdlflags='-Wl,-E'
cccdlflags='-fPIC', lddlflags='-shared -O2 -g -L/usr/local/lib -fstack-protector'
Characteristics of this binary (from libperl):
Compile-time options: HAS_TIMES MULTIPLICITY PERLIO_LAYERS
PERL_DONT_CREATE_GVSV PERL_IMPLICIT_CONTEXT
PERL_MALLOC_WRAP PERL_PRESERVE_IVUV PERL_USE_DEVEL
USE_64_BIT_ALL USE_64_BIT_INT USE_ITHREADS
USE_LARGE_FILES USE_LOCALE USE_LOCALE_COLLATE
USE_LOCALE_CTYPE USE_LOCALE_NUMERIC USE_PERLIO
USE_PERL_ATOF USE_REENTRANT_API
Locally applied patches:
uncommitted-changes
Built under linux
Compiled at Feb 2 2019 08:10:04
%ENV:
PERL5LIB=""
PERL5OPT=""
PERL5_CPANPLUS_IS_RUNNING="32103"
PERL5_CPAN_IS_RUNNING="32103"
PERL_CANARY_STABILITY_NOPROMPT="1"
PERL_MM_USE_DEFAULT="1"
@INC:
/home/sand/src/perl/repoperls/installed-perls/host/k93bionic/v5.16.3/7ee9/lib/site_perl/5.16.3/x86_64-linux-thread-multi
/home/sand/src/perl/repoperls/installed-perls/host/k93bionic/v5.16.3/7ee9/lib/site_perl/5.16.3
/home/sand/src/perl/repoperls/installed-perls/host/k93bionic/v5.16.3/7ee9/lib/5.16.3/x86_64-linux-thread-multi
/home/sand/src/perl/repoperls/installed-perls/host/k93bionic/v5.16.3/7ee9/lib/5.16.3
.