Report for Acme-TLDR-0.004

Back
From: metabase:user:322078bc-2aae-11df-837a-5e0a49663a4f
Subject: PASS Acme-TLDR-0.004 v5.8.9 NetBSD
Date: 2014-07-09T15:16:02Z

This distribution has been tested as part of the CPAN Testers
project, supporting the Perl programming language.  See
http://wiki.cpantesters.org/ for more information or email
questions to cpan-testers-discuss@perl.org


--

Dear SYP,

This is a computer-generated error report created automatically by
CPANPLUS, version 0.9152. Testers personal comments may appear
at the end of this report.


Thank you for uploading your work to CPAN.  Congratulations!
All tests were successful.

TEST RESULTS:

Below is the error stack from stage 'make test':

PERL_DL_NONLAZY=1 /home/cpan/pit/bare/perl-5.8.9/bin/perl "-MExtUtils::Command::MM" "-MTest::Harness" "-e" "undef *Test::Harness::Switches; test_harness(0, 'blib/lib', 'blib/arch')" t/*.t
t/00-compile.t ............... ok
# Acme::TLDR v0.004, Perl 5.008009, /home/cpan/pit/bare/perl-5.8.9/bin/perl
t/00-load.t .................. ok
ExtUtils::Installed cache: /home/cpan/fake/.Acme-TLDR-9309e5c32aaab9302c065d9bf42dcbb9.cache
no cache found; generating
AnyDBM_File                                                      => AnyDBM_F
Archive::Extract                                                 => A::E
Archive::Tar                                                     => A::Tar
Attribute::Handlers                                              => A::H
AutoLoader                                                       => AL
AutoSplit                                                        => AS
B::Asmdata                                                       => B::A
B::Assembler                                                     => *undef*
B::Bblock                                                        => B::B
B::Bytecode                                                      => *undef*
B::Concise                                                       => *undef*
B::Debug                                                         => B::D
B::Deparse                                                       => *undef*
B::Disassembler                                                  => *undef*
B::Lint                                                          => B::L
B::Lint::Debug                                                   => B::L::D
B::Showlex                                                       => B::S
B::Stackobj                                                      => *undef*
B::Stash                                                         => *undef*
B::Terse                                                         => B::T
B::Xref                                                          => B::X
ByteLoader                                                       => BL
CGI::Apache                                                      => CGI::A
CGI::Carp                                                        => CGI::C
CGI::Cookie                                                      => *undef*
CGI::Fast                                                        => CGI::F
CGI::Pretty                                                      => CGI::P
CGI::Push                                                        => *undef*
CGI::Switch                                                      => CGI::S
CGI::Util                                                        => CGI::U
CPAN::Debug                                                      => CPAN::D
CPAN::DeferedCode                                                => CPAN::DC
CPAN::Distroprefs                                                => *undef*
CPAN::FirstTime                                                  => CPAN::FT
CPAN::HandleConfig                                               => CPAN::HC
CPAN::Kwalify                                                    => CPAN::K
CPAN::Meta                                                       => CPAN::M
CPAN::Meta::Requirements                                         => CPAN::M::R
CPAN::Meta::YAML                                                 => CPAN::M::YAML
CPAN::Queue                                                      => CPAN::Q
CPAN::Tarzip                                                     => CPAN::T
CPAN::Version                                                    => CPAN::V
CPANPLUS::Dist::Build                                            => CPANPLUS::D::B
CPANPLUS::YACSmoke                                               => CPANPLUS::YACS
Carp::Heavy                                                      => C::H
Class::ISA                                                       => C::ISA
Class::Struct                                                    => C::S
Compress::Raw::Bzip2                                             => C::Raw::B2
Compress::Raw::Zlib                                              => C::Raw::Z
DBM_Filter                                                       => DBM_F
DBM_Filter::compress                                             => DBM_F::c
DBM_Filter::encode                                               => DBM_F::e
DBM_Filter::int32                                                => DBM_F::int32
DBM_Filter::null                                                 => DBM_F::n
DBM_Filter::utf8                                                 => DBM_F::utf8
DB_File                                                          => DB_F
Data::Dumper                                                     => D::D
Devel::DProf                                                     => D::DP
Devel::InnerPackage                                              => D::IP
Devel::PPPort                                                    => D::PPP
Devel::Peek                                                      => D::P
Devel::SelfStubber                                               => D::SS
Digest::MD5                                                      => D::MD5
Digest::SHA                                                      => D::SHA
Digest::base                                                     => D::b
Digest::file                                                     => D::f
DirHandle                                                        => DirH
DynaLoader                                                       => DL
Encode::Alias                                                    => E::A
Encode::Byte                                                     => E::B
Encode::CJKConstants                                             => E::CJKC
Encode::CN                                                       => E::CN
Encode::CN::HZ                                                   => E::CN::HZ
Encode::Config                                                   => E::C
Encode::EBCDIC                                                   => E::EBCDIC
Encode::Encoder                                                  => E::E
Encode::Encoding                                                 => *undef*
Encode::GSM0338                                                  => E::GSM0338
Encode::Guess                                                    => E::G
Encode::JP                                                       => E::JP
Encode::JP::H2Z                                                  => E::JP::H2Z
Encode::JP::JIS7                                                 => E::JP::JIS7
Encode::KR                                                       => E::KR
Encode::KR::2022_KR                                              => E::KR::2022_KR
Encode::MIME::Header                                             => E::MIME::H
Encode::MIME::Header::ISO_2022_JP                                => E::MIME::H::ISO_2022_JP
Encode::MIME::Name                                               => E::MIME::N
Encode::Symbol                                                   => E::S
Encode::TW                                                       => E::TW
Encode::Unicode                                                  => E::U
Encode::Unicode::UTF7                                            => E::U::UTF7
Exporter::Heavy                                                  => E::H
ExtUtils::CBuilder                                               => ExtU::CB
ExtUtils::Command                                                => ExtU::C
ExtUtils::Command::MM                                            => ExtU::C::MM
ExtUtils::Constant                                               => *undef*
ExtUtils::Constant::Base                                         => ExtU::C::B
ExtUtils::Constant::ProxySubs                                    => ExtU::C::PS
ExtUtils::Constant::Utils                                        => ExtU::C::U
ExtUtils::Constant::XS                                           => ExtU::C::XS
ExtUtils::Embed                                                  => ExtU::E
ExtUtils::Install                                                => ExtU::I
ExtUtils::Installed                                              => *undef*
ExtUtils::Liblist                                                => ExtU::L
ExtUtils::Liblist::Kid                                           => ExtU::L::Kid
ExtUtils::MM                                                     => ExtU::MM
ExtUtils::MM_AIX                                                 => ExtU::MM_AIX
ExtUtils::MM_Any                                                 => ExtU::MM_Any
ExtUtils::MM_BeOS                                                => ExtU::MM_BeOS
ExtUtils::MM_Cygwin                                              => ExtU::MM_C
ExtUtils::MM_DOS                                                 => ExtU::MM_DOS
ExtUtils::MM_Darwin                                              => ExtU::MM_D
ExtUtils::MM_MacOS                                               => ExtU::MM_MacOS
ExtUtils::MM_NW5                                                 => ExtU::MM_NW5
ExtUtils::MM_OS2                                                 => ExtU::MM_OS2
ExtUtils::MM_QNX                                                 => ExtU::MM_QNX
ExtUtils::MM_UWIN                                                => ExtU::MM_UWIN
ExtUtils::MM_Unix                                                => ExtU::MM_U
ExtUtils::MM_VMS                                                 => ExtU::MM_VMS
ExtUtils::MM_VOS                                                 => ExtU::MM_VOS
ExtUtils::MM_Win32                                               => ExtU::MM_Win32
ExtUtils::MM_Win95                                               => ExtU::MM_Win95
ExtUtils::MY                                                     => ExtU::MY
ExtUtils::MakeMaker                                              => *undef*
ExtUtils::MakeMaker::Config                                      => ExtU::MM::C
ExtUtils::MakeMaker::bytes                                       => ExtU::MM::b
ExtUtils::MakeMaker::vmsish                                      => ExtU::MM::v
ExtUtils::Manifest                                               => ExtU::M
ExtUtils::Miniperl                                               => *undef*
ExtUtils::Mkbootstrap                                            => *undef*
ExtUtils::Mksymlists                                             => *undef*
ExtUtils::Packlist                                               => ExtU::P
ExtUtils::ParseXS                                                => ExtU::PXS
ExtUtils::XSSymSet                                               => ExtU::XSSymSet
ExtUtils::testlib                                                => ExtU::t
File::Basename                                                   => F::B
File::CheckTree                                                  => F::CT
File::Compare                                                    => F::C
File::Copy                                                       => *undef*
File::DosGlob                                                    => F::DosG
File::Fetch                                                      => F::F
File::Find                                                       => *undef*
File::Glob                                                       => F::G
File::Path                                                       => F::P
File::Spec                                                       => F::S
File::Spec::Cygwin                                               => F::S::C
File::Spec::Epoc                                                 => F::S::E
File::Spec::Functions                                            => F::S::F
File::Spec::Mac                                                  => F::S::Mac
File::Spec::OS2                                                  => F::S::OS2
File::Spec::Unix                                                 => F::S::U
File::Spec::VMS                                                  => F::S::VMS
File::Spec::Win32                                                => F::S::Win32
File::Temp                                                       => F::T
File::stat                                                       => F::s
FileCache                                                        => FC
FileHandle                                                       => FH
Filter::Simple                                                   => *undef*
Filter::Util::Call                                               => F::U::C
FindBin                                                          => FBin
GDBM_File                                                        => GDBM_F
Getopt::Long                                                     => G::L
Getopt::Std                                                      => G::Std
Hash::Util                                                       => H::U
I18N::Collate                                                    => I18N::C
I18N::LangTags                                                   => I18N::LT
I18N::LangTags::Detect                                           => I18N::LT::D
I18N::LangTags::List                                             => I18N::LT::L
I18N::Langinfo                                                   => I18N::L
IO::Compress                                                     => IO::C
IO::File                                                         => IO::F
IO::Handle                                                       => IO::H
IO::Pipe                                                         => IO::P
IO::Poll                                                         => *undef*
IO::Seekable                                                     => IO::S
IO::Select                                                       => *undef*
IO::Socket                                                       => *undef*
IO::Socket::INET                                                 => IO::S::INET
IO::Socket::UNIX                                                 => IO::S::UNIX
IO::Zlib                                                         => IO::Z
IPC::Open2                                                       => IPC::O2
IPC::Open3                                                       => IPC::O3
IPC::Semaphore                                                   => IPC::S
IPC::SharedMem                                                   => IPC::SMem
List::Util                                                       => L::U
Locale::Constants                                                => L::C
Locale::Country                                                  => *undef*
Locale::Currency                                                 => *undef*
Locale::Language                                                 => L::L
Locale::Maketext                                                 => L::M
Locale::Maketext::Guts                                           => L::M::G
Locale::Maketext::GutsLoader                                     => L::M::GL
Locale::Maketext::Simple                                         => L::M::S
Locale::Script                                                   => L::S
Log::Message                                                     => Log::M
Log::Message::Simple                                             => Log::M::S
MIME::Base64                                                     => MIME::B64
MIME::QuotedPrint                                                => MIME::QP
Math::BigFloat                                                   => M::BigF
Math::BigFloat::Trace                                            => M::BigF::T
Math::BigInt                                                     => M::BigInt
Math::BigInt::Calc                                               => M::BigInt::C
Math::BigInt::CalcEmu                                            => M::BigInt::CEmu
Math::BigInt::Trace                                              => M::BigInt::T
Math::BigRat                                                     => M::BigRat
Math::Complex                                                    => M::C
Math::Trig                                                       => M::T
Memoize::AnyDBM_File                                             => M::AnyDBM_F
Memoize::Expire                                                  => M::E
Memoize::ExpireFile                                              => M::EF
Memoize::ExpireTest                                              => M::ET
Memoize::NDBM_File                                               => M::NDBM_F
Memoize::SDBM_File                                               => M::SDBM_F
Memoize::Storable                                                => M::S
Module::Build                                                    => M::B
Module::CoreList                                                 => M::CL
Module::Load                                                     => M::L
Module::Load::Conditional                                        => M::L::C
Module::Loaded                                                   => *undef*
Module::Metadata                                                 => M::M
Module::Pluggable                                                => M::P
Module::Pluggable::Object                                        => M::P::O
NDBM_File                                                        => NDBM_F
Net::Config                                                      => Net::C
Net::Domain                                                      => Net::D
Net::FTP::dataconn                                               => Net::FTP::d
Net::Netrc                                                       => Net::N
Net::Ping                                                        => Net::P
Net::Time                                                        => Net::T
Net::hostent                                                     => Net::h
Net::netent                                                      => Net::n
Net::protoent                                                    => Net::p
Net::servent                                                     => Net::s
ODBM_File                                                        => ODBM_F
OS2::ExtAttr                                                     => OS2::ExtA
OS2::Process                                                     => OS2::P
Object::Accessor                                                 => O::A
Package::Constants                                               => P::C
Params::Check                                                    => *undef*
Parse::CPAN::Meta                                                => P::CPAN::M
Perl::OSType                                                     => P::OST
PerlIO                                                           => PIO
PerlIO::encoding                                                 => PIO::e
PerlIO::scalar                                                   => PIO::s
PerlIO::via                                                      => PIO::via
PerlIO::via::QuotedPrint                                         => PIO::via::QP
Pod::Checker                                                     => Pod::C
Pod::Escapes                                                     => Pod::E
Pod::Find                                                        => Pod::F
Pod::Functions                                                   => *undef*
Pod::Html                                                        => Pod::H
Pod::InputObjects                                                => Pod::IO
Pod::ParseLink                                                   => Pod::PL
Pod::ParseUtils                                                  => Pod::PU
Pod::Parser                                                      => Pod::P
Pod::Perldoc                                                     => *undef*
Pod::Perldoc::BaseTo                                             => Pod::P::BTo
Pod::Perldoc::GetOptsOO                                          => Pod::P::GetOOO
Pod::Perldoc::ToChecker                                          => Pod::P::ToC
Pod::Perldoc::ToMan                                              => Pod::P::ToMan
Pod::Perldoc::ToNroff                                            => Pod::P::ToN
Pod::Perldoc::ToPod                                              => Pod::P::ToPod
Pod::Perldoc::ToRtf                                              => Pod::P::ToRtf
Pod::Perldoc::ToText                                             => Pod::P::ToT
Pod::Perldoc::ToTk                                               => Pod::P::ToTk
Pod::Perldoc::ToXml                                              => Pod::P::ToXml
Pod::PlainText                                                   => Pod::PT
Pod::Plainer                                                     => *undef*
Pod::Select                                                      => Pod::S
Pod::Simple                                                      => *undef*
Pod::Text                                                        => Pod::T
Pod::Text::Color                                                 => Pod::T::C
Pod::Text::Overstrike                                            => Pod::T::O
Pod::Text::Termcap                                               => Pod::T::T
Pod::Usage                                                       => Pod::U
SDBM_File                                                        => SDBM_F
Scalar::Util                                                     => S::U
Search::Dict                                                     => S::D
SelectSaver                                                      => SS
SelfLoader                                                       => SL
Sys::Hostname                                                    => Sys::H
Sys::Syslog                                                      => Sys::S
Sys::Syslog::win32::Win32                                        => Sys::S::win32::Win32
Term::ANSIColor                                                  => T::ANSIC
Term::Cap                                                        => T::Cap
Term::Complete                                                   => T::C
Term::ReadLine                                                   => T::RL
Term::UI                                                         => T::UI
Test::Builder                                                    => T::B
Test::Builder::Module                                            => T::B::M
Test::Builder::Tester                                            => T::B::T
Test::Builder::Tester::Color                                     => T::B::T::C
Test::Harness                                                    => T::H
Test::Harness::Assert                                            => T::H::A
Test::Harness::Iterator                                          => T::H::I
Test::Harness::Point                                             => T::H::P
Test::Harness::Results                                           => T::H::R
Test::Harness::Straps                                            => T::H::S
Test::Harness::Util                                              => T::H::U
Test::More                                                       => T::M
Test::Reporter                                                   => T::R
Test::Reporter::Transport::Socket                                => T::R::T::S
Test::Simple                                                     => T::S
Text::Abbrev                                                     => T::A
Text::Balanced                                                   => *undef*
Text::ParseWords                                                 => T::PW
Text::Soundex                                                    => *undef*
Text::Tabs                                                       => T::T
Text::Wrap                                                       => T::W
Thread::Queue                                                    => T::Q
Thread::Semaphore                                                => *undef*
Thread::Signal                                                   => *undef*
Thread::Specific                                                 => *undef*
Tie::Array                                                       => Tie::A
Tie::File                                                        => Tie::F
Tie::Handle                                                      => Tie::H
Tie::Hash                                                        => *undef*
Tie::Memoize                                                     => Tie::M
Tie::RefHash                                                     => Tie::RefH
Tie::Scalar                                                      => Tie::S
Tie::StdHandle                                                   => Tie::StdH
Tie::SubstrHash                                                  => Tie::SH
Time::HiRes                                                      => T::HiRes
Time::Local                                                      => T::L
Time::gmtime                                                     => T::g
Time::localtime                                                  => T::l
Time::tm                                                         => T::tm
Unicode::Collate                                                 => U::C
Unicode::Normalize                                               => U::N
Unicode::UCD                                                     => U::UCD
User::grent                                                      => U::g
User::pwent                                                      => U::p
VMS::DCLsym                                                      => VMS::DCL
VMS::Filespec                                                    => VMS::F
VMS::Stdio                                                       => VMS::S
Win32API::File                                                   => Win32API::F
Win32API::File::ExtUtils::Myconst2perl                           => Win32API::F::ExtU::M2
XS::APItest                                                      => XS::API
XS::Typemap                                                      => XS::T
XSLoader                                                         => XSL
threads::shared                                                  => t::s
warnings::register                                               => w::r
t/10-check.t ................. ok
t/author-critic.t ............ skipped: these tests are for testing by the author
t/author-test-eol.t .......... skipped: these tests are for testing by the author
t/release-cpan-changes.t ..... skipped: these tests are for release candidate testing
t/release-dist-manifest.t .... skipped: these tests are for release candidate testing
t/release-distmeta.t ......... skipped: these tests are for release candidate testing
t/release-kwalitee.t ......... skipped: these tests are for release candidate testing
t/release-minimum-version.t .. skipped: these tests are for release candidate testing
t/release-mojibake.t ......... skipped: these tests are for release candidate testing
t/release-no-tabs.t .......... skipped: these tests are for release candidate testing
t/release-pod-coverage.t ..... skipped: these tests are for release candidate testing
t/release-pod-linkcheck.t .... skipped: these tests are for release candidate testing
t/release-pod-syntax.t ....... skipped: these tests are for release candidate testing
t/release-portability.t ...... skipped: these tests are for release candidate testing
t/release-test-version.t ..... skipped: these tests are for release candidate testing
t/release-unused-vars.t ...... skipped: these tests are for release candidate testing
All tests successful.
Files=18, Tests=4,  2 wallclock secs ( 0.06 usr  0.02 sys +  0.89 cusr  0.25 csys =  1.22 CPU)
Result: PASS


PREREQUISITES:

Here is a list of prerequisites you specified and versions we
managed to load:

	  Module Name                        Have     Want
	  ExtUtils::MakeMaker                6.98        0
	  File::HomeDir                      1.00        0
	  List::MoreUtils                    0.33        0
	  Module::CoreList               5.021001        0

Perl module toolchain versions installed:
	Module Name                        Have
	CPANPLUS                         0.9152
	CPANPLUS::Dist::Build              0.78
	Cwd                                3.47
	ExtUtils::CBuilder             0.280216
	ExtUtils::Command                  1.16
	ExtUtils::Install                  1.68
	ExtUtils::MakeMaker                6.98
	ExtUtils::Manifest                 1.63
	ExtUtils::ParseXS                  3.24
	File::Spec                         3.47
	Module::Build                    0.4205
	Pod::Parser                        1.35
	Pod::Simple                        3.28
	Test::Harness                      3.32
	Test::More                     1.001003
	version                          0.9908

******************************** NOTE ********************************
The comments above are created mechanically, possibly without manual
checking by the sender.  As there are many people performing automatic
tests on each upload to CPAN, it is likely that you will receive
identical messages about the same problem.

If you believe that the message is mistaken, please reply to the first
one with correction and/or additional informations, and do not take
it personally.  We appreciate your patience. :)
**********************************************************************

Additional comments:


This report was machine-generated by CPANPLUS::Dist::YACSmoke 0.90.
Powered by minismokebox version 0.58

------------------------------
ENVIRONMENT AND OTHER CONTEXT
------------------------------

Environment variables:

    AUTOMATED_TESTING = 1
    NONINTERACTIVE_TESTING = 1
    PATH = /home/cpan/pit/bare/conf/perl-5.8.9/.cpanplus/5.8.9/build/File-Which-1.09/blib/script:/home/cpan/bin:/bin:/sbin:/usr/bin:/usr/sbin:/usr/X11R7/bin:/usr/X11R6/bin:/usr/pkg/bin:/usr/pkg/sbin:/usr/games:/usr/local/bin:/usr/local/sbin
    PERL5LIB = :/home/cpan/pit/bare/conf/perl-5.8.9/.cpanplus/5.8.9/build/IPC-Run3-0.048/blib/lib:/home/cpan/pit/bare/conf/perl-5.8.9/.cpanplus/5.8.9/build/IPC-Run3-0.048/blib/arch:/home/cpan/pit/bare/conf/perl-5.8.9/.cpanplus/5.8.9/build/Probe-Perl-0.03/blib/lib:/home/cpan/pit/bare/conf/perl-5.8.9/.cpanplus/5.8.9/build/Probe-Perl-0.03/blib/arch:/home/cpan/pit/bare/conf/perl-5.8.9/.cpanplus/5.8.9/build/Test-Script-1.07/blib/lib:/home/cpan/pit/bare/conf/perl-5.8.9/.cpanplus/5.8.9/build/Test-Script-1.07/blib/arch:/home/cpan/pit/bare/conf/perl-5.8.9/.cpanplus/5.8.9/build/File-Which-1.09/blib/lib:/home/cpan/pit/bare/conf/perl-5.8.9/.cpanplus/5.8.9/build/File-Which-1.09/blib/arch:/home/cpan/pit/bare/conf/perl-5.8.9/.cpanplus/5.8.9/build/File-HomeDir-1.00/blib/lib:/home/cpan/pit/bare/conf/perl-5.8.9/.cpanplus/5.8.9/build/File-HomeDir-1.00/blib/arch:/home/cpan/pit/bare/conf/perl-5.8.9/.cpanplus/5.8.9/build/List-MoreUtils-0.33/blib/lib:/home/cpan/pit/bare/conf/perl-5.8.9/.cpanplus/5.8.9/build/List-MoreUtils-0.33/blib/arch:/home/cpan/pit/bare/conf/perl-5.8.9/.cpanplus/5.8.9/build/Acme-TLDR-0.004/blib/lib:/home/cpan/pit/bare/conf/perl-5.8.9/.cpanplus/5.8.9/build/Acme-TLDR-0.004/blib/arch
    PERL5_CPANPLUS_IS_RUNNING = 24445
    PERL5_CPANPLUS_IS_VERSION = 0.9152
    PERL5_MINISMOKEBOX = 0.58
    PERL5_YACSMOKE_BASE = /home/cpan/pit/bare/conf/perl-5.8.9
    PERL_EXTUTILS_AUTOINSTALL = --defaultdeps
    PERL_MM_USE_DEFAULT = 1
    SHELL = /usr/pkg/bin/bash
    TERM = screen

Perl special variables (and OS-specific diagnostics, for MSWin32):

    Perl: $^X = /home/cpan/pit/bare/perl-5.8.9/bin/perl
    UID:  $<  = 1002
    EUID: $>  = 1002
    GID:  $(  = 100 100
    EGID: $)  = 100 100


-------------------------------


--

Summary of my perl5 (revision 5 version 8 subversion 9) configuration:
  Platform:
    osname=netbsd, osvers=6.1.4, archname=amd64-netbsd
    uname='netbsd naboo.bingosnet.co.uk 6.1.4 netbsd 6.1.4 (generic) amd64 '
    config_args='-des -Dprefix=/home/cpan/pit/bare/perl-5.8.9'
    hint=recommended, useposix=true, d_sigaction=define
    usethreads=undef use5005threads=undef useithreads=undef usemultiplicity=undef
    useperlio=define d_sfio=undef uselargefiles=define usesocks=undef
    use64bitint=define use64bitall=define uselongdouble=undef
    usemymalloc=n, bincompat5005=undef
  Compiler:
    cc='cc', ccflags ='-fno-strict-aliasing -pipe -I/usr/pkg/include',
    optimize='-O',
    cppflags='-fno-strict-aliasing -pipe -I/usr/pkg/include'
    ccversion='', gccversion='4.5.3', gccosandvers=''
    intsize=4, longsize=8, ptrsize=8, doublesize=8, byteorder=12345678
    d_longlong=define, longlongsize=8, d_longdbl=define, longdblsize=16
    ivtype='long', ivsize=8, nvtype='double', nvsize=8, Off_t='off_t', lseeksize=8
    alignbytes=8, prototype=define
  Linker and Libraries:
    ld='cc', ldflags =' -Wl,-rpath,/usr/pkg/lib -Wl,-rpath,/usr/local/lib -L/usr/pkg/lib'
    libpth=/usr/pkg/lib /lib /usr/lib
    libs=-lgdbm -lm -lcrypt -lutil -lc -lposix
    perllibs=-lm -lcrypt -lutil -lc -lposix
    libc=/lib/libc.so, so=so, useshrplib=false, libperl=libperl.a
    gnulibc_version=''
  Dynamic Linking:
    dlsrc=dl_dlopen.xs, dlext=so, d_dlsymun=undef, ccdlflags='-Wl,-E '
    cccdlflags='-DPIC -fPIC ', lddlflags='--whole-archive -shared  -L/usr/pkg/lib'


Characteristics of this binary (from libperl): 
  Compile-time options: PERL_MALLOC_WRAP USE_64_BIT_ALL USE_64_BIT_INT
                        USE_FAST_STDIO USE_LARGE_FILES USE_PERLIO
  Built under netbsd
  Compiled at May  9 2014 12:12:26
  %ENV:
    PERL5LIB=":/home/cpan/pit/bare/conf/perl-5.8.9/.cpanplus/5.8.9/build/IPC-Run3-0.048/blib/lib:/home/cpan/pit/bare/conf/perl-5.8.9/.cpanplus/5.8.9/build/IPC-Run3-0.048/blib/arch:/home/cpan/pit/bare/conf/perl-5.8.9/.cpanplus/5.8.9/build/Probe-Perl-0.03/blib/lib:/home/cpan/pit/bare/conf/perl-5.8.9/.cpanplus/5.8.9/build/Probe-Perl-0.03/blib/arch:/home/cpan/pit/bare/conf/perl-5.8.9/.cpanplus/5.8.9/build/Test-Script-1.07/blib/lib:/home/cpan/pit/bare/conf/perl-5.8.9/.cpanplus/5.8.9/build/Test-Script-1.07/blib/arch:/home/cpan/pit/bare/conf/perl-5.8.9/.cpanplus/5.8.9/build/File-Which-1.09/blib/lib:/home/cpan/pit/bare/conf/perl-5.8.9/.cpanplus/5.8.9/build/File-Which-1.09/blib/arch:/home/cpan/pit/bare/conf/perl-5.8.9/.cpanplus/5.8.9/build/File-HomeDir-1.00/blib/lib:/home/cpan/pit/bare/conf/perl-5.8.9/.cpanplus/5.8.9/build/File-HomeDir-1.00/blib/arch:/home/cpan/pit/bare/conf/perl-5.8.9/.cpanplus/5.8.9/build/List-MoreUtils-0.33/blib/lib:/home/cpan/pit/bare/conf/perl-5.8.9/.cpanplus/5.8.9/build/List-MoreUtils-0.33/blib/arch:/home/cpan/pit/bare/conf/perl-5.8.9/.cpanplus/5.8.9/build/Acme-TLDR-0.004/blib/lib:/home/cpan/pit/bare/conf/perl-5.8.9/.cpanplus/5.8.9/build/Acme-TLDR-0.004/blib/arch"
    PERL5_CPANPLUS_IS_RUNNING="24445"
    PERL5_CPANPLUS_IS_VERSION="0.9152"
    PERL5_MINISMOKEBOX="0.58"
    PERL5_YACSMOKE_BASE="/home/cpan/pit/bare/conf/perl-5.8.9"
    PERL_EXTUTILS_AUTOINSTALL="--defaultdeps"
    PERL_MM_USE_DEFAULT="1"
  @INC:
    /home/cpan/pit/bare/conf/perl-5.8.9/.cpanplus/5.8.9/build/IPC-Run3-0.048/blib/lib
    /home/cpan/pit/bare/conf/perl-5.8.9/.cpanplus/5.8.9/build/IPC-Run3-0.048/blib/arch
    /home/cpan/pit/bare/conf/perl-5.8.9/.cpanplus/5.8.9/build/Probe-Perl-0.03/blib/lib
    /home/cpan/pit/bare/conf/perl-5.8.9/.cpanplus/5.8.9/build/Probe-Perl-0.03/blib/arch
    /home/cpan/pit/bare/conf/perl-5.8.9/.cpanplus/5.8.9/build/Test-Script-1.07/blib/lib
    /home/cpan/pit/bare/conf/perl-5.8.9/.cpanplus/5.8.9/build/Test-Script-1.07/blib/arch
    /home/cpan/pit/bare/conf/perl-5.8.9/.cpanplus/5.8.9/build/File-Which-1.09/blib/lib
    /home/cpan/pit/bare/conf/perl-5.8.9/.cpanplus/5.8.9/build/File-Which-1.09/blib/arch
    /home/cpan/pit/bare/conf/perl-5.8.9/.cpanplus/5.8.9/build/File-HomeDir-1.00/blib/lib
    /home/cpan/pit/bare/conf/perl-5.8.9/.cpanplus/5.8.9/build/File-HomeDir-1.00/blib/arch
    /home/cpan/pit/bare/conf/perl-5.8.9/.cpanplus/5.8.9/build/List-MoreUtils-0.33/blib/lib
    /home/cpan/pit/bare/conf/perl-5.8.9/.cpanplus/5.8.9/build/List-MoreUtils-0.33/blib/arch
    /home/cpan/pit/bare/conf/perl-5.8.9/.cpanplus/5.8.9/build/Acme-TLDR-0.004/blib/lib
    /home/cpan/pit/bare/conf/perl-5.8.9/.cpanplus/5.8.9/build/Acme-TLDR-0.004/blib/arch
    /home/cpan/pit/bare/perl-5.8.9/lib/5.8.9/amd64-netbsd
    /home/cpan/pit/bare/perl-5.8.9/lib/5.8.9
    /home/cpan/pit/bare/perl-5.8.9/lib/site_perl/5.8.9/amd64-netbsd
    /home/cpan/pit/bare/perl-5.8.9/lib/site_perl/5.8.9
    .