Proc-ProcessTable v0.636 Perl 5 v5.30.2 amd64-freebsd-thread-multi

Status
Pass
From
Chris Williams (BINGOS)
Dist
Proc-ProcessTable v0.636
Platform
Perl 5 v5.30.2 amd64-freebsd-thread-multi
Date
2023-09-22 13:35:48
ID
f0645d6c-594c-11ee-98b0-b3c3213a625c
This distribution has been tested as part of the CPAN Testers
project, supporting the Perl programming language.  See
http://wiki.cpantesters.org/ for more information or email
questions to cpan-testers-discuss@perl.org


--

Dear Joachim Bargsten,

This is a computer-generated error report created automatically by
CPANPLUS, version 0.9914. Testers personal comments may appear
at the end of this report.


Thank you for uploading your work to CPAN.  Congratulations!
All tests were successful.

TEST RESULTS:

Below is the error stack from stage 'make test':

"/usr/home/cpan/pit/thr/perl-5.30.2/bin/perl" -MExtUtils::Command::MM -e 'cp_nonempty' -- ProcessTable.bs blib/arch/auto/Proc/ProcessTable/ProcessTable.bs 644
PERL_DL_NONLAZY=1 "/usr/home/cpan/pit/thr/perl-5.30.2/bin/perl" "-MExtUtils::Command::MM" "-MTest::Harness" "-e" "undef *Test::Harness::Switches; test_harness(0, 'blib/lib', 'blib/arch')" t/*.t
# Testing Proc::ProcessTable 0.636, Perl 5.030002, /usr/home/cpan/pit/thr/perl-5.30.2/bin/perl
t/00-load.t ............................. ok
t/01-instiantied_object_only_methods.t .. ok
t/bugfix-106571_odd_process_name.t ...... ok
t/bugfix-51470_cmndline_mod_error.t ..... ok
t/bugfix-61946_odd_process_name.t ....... ok
t/manifest.t ............................ skipped: Author tests not required for installation
t/openbsd-size-rss.t .................... skipped: OpenBSD-specific tests
t/pod-coverage.t ........................ skipped: Author tests not required for installation
t/pod.t ................................. skipped: Author tests not required for installation
--------------------------------
pid:  48038
ppid:  48022
uid:  1002
euid:  1002
gid:  1002
pgrp:  47019
sess:  47019
jid:  0
flags:  0x10004002
sflags:  0x0001
start:  1695389578.919391
time:  0.216194
utime:  0.139404
stime:  0.077446
ctime:  0.000000
cutime:  0.000000
cstime:  0.000000
pctcpu:  0.0
wchan:  
state:  run
ttydev:  /dev/pts/0
ttynum:  97
fname:  perl
cmndline:  /usr/home/cpan/pit/thr/perl-5.30.2/bin/perl t/process.t
priority:  177
nice:  0
vmsize:  26664960
size:  26664960
rssize:  3688
rss:  15106048
tsize:  352
dsize:  9
ssize:  160
majflt:  0
minflt:  2684
cmajflt:  0
cminflt:  0
numthr:  1
onpro:  0
groups:  "1002"
t/process.t ............................. ok
All tests successful.
Files=10, Tests=12,  8 wallclock secs ( 0.05 usr  0.06 sys +  1.45 cusr  0.66 csys =  2.22 CPU)
Result: PASS


PREREQUISITES:

Here is a list of prerequisites you specified and versions we
managed to load:

	  Module Name                        Have     Want
	  ExtUtils::MakeMaker                7.70        0
	  File::Find                         1.36        0
	  Storable                           3.25        0
	  Test::More                     1.302195        0

Perl module toolchain versions installed:
	Module Name                        Have
	CPANPLUS                         0.9914
	CPANPLUS::Dist::Build              0.90
	Cwd                                3.78
	ExtUtils::CBuilder             0.280236
	ExtUtils::Command                  7.70
	ExtUtils::Install                  2.22
	ExtUtils::MakeMaker                7.70
	ExtUtils::Manifest                 1.75
	ExtUtils::ParseXS                  3.44
	File::Spec                         3.78
	Module::Build                    0.4234
	Pod::Parser                        1.63
	Pod::Simple                        3.35
	Test2                          1.302195
	Test::Harness                      3.44
	Test::More                     1.302195
	version                          0.9929

******************************** NOTE ********************************
The comments above are created mechanically, possibly without manual
checking by the sender.  As there are many people performing automatic
tests on each upload to CPAN, it is likely that you will receive
identical messages about the same problem.

If you believe that the message is mistaken, please reply to the first
one with correction and/or additional informations, and do not take
it personally.  We appreciate your patience. :)
**********************************************************************

Additional comments:


This report was machine-generated by CPANPLUS::Dist::YACSmoke 1.08.
Powered by minismokebox version 0.68

CPANPLUS is prefering Build.PL

------------------------------
ENVIRONMENT AND OTHER CONTEXT
------------------------------

Environment variables:

    AUTOMATED_TESTING = 1
    NONINTERACTIVE_TESTING = 1
    PATH = /sbin:/bin:/usr/sbin:/usr/bin:/usr/local/sbin:/usr/local/bin:/home/cpan/bin
    PERL5LIB = /usr/home/cpan/pit/jail/sScKekhXUM/lib/perl5:/usr/home/cpan/pit/thr/conf/perl-5.30.2/.cpanplus/5.30.2/build/peicDevw3e/Proc-ProcessTable-0.636/blib/lib:/usr/home/cpan/pit/thr/conf/perl-5.30.2/.cpanplus/5.30.2/build/peicDevw3e/Proc-ProcessTable-0.636/blib/arch
    PERL5_CPANPLUS_IS_RUNNING = 47019
    PERL5_CPANPLUS_IS_VERSION = 0.9914
    PERL5_MINISMOKEBOX = 0.68
    PERL5_YACSMOKE_BASE = /usr/home/cpan/pit/thr/conf/perl-5.30.2
    PERL_EXTUTILS_AUTOINSTALL = --defaultdeps
    PERL_LOCAL_LIB_ROOT = /usr/home/cpan/pit/jail/sScKekhXUM
    PERL_MB_OPT = --install_base "/usr/home/cpan/pit/jail/sScKekhXUM"
    PERL_MM_OPT = INSTALL_BASE=/usr/home/cpan/pit/jail/sScKekhXUM
    PERL_MM_USE_DEFAULT = 1
    PERL_USE_UNSAFE_INC = 1
    SHELL = /usr/local/bin/bash
    TERM = screen

Perl special variables (and OS-specific diagnostics, for MSWin32):

    Perl: $^X = /usr/home/cpan/pit/thr/perl-5.30.2/bin/perl
    UID:  $<  = 1002
    EUID: $>  = 1002
    GID:  $(  = 1002 1002
    EGID: $)  = 1002 1002


-------------------------------


--

Summary of my perl5 (revision 5 version 30 subversion 2) configuration:
   
  Platform:
    osname=freebsd
    osvers=12.4-release-p1
    archname=amd64-freebsd-thread-multi
    uname='freebsd fforc 12.4-release-p1 freebsd 12.4-release-p1 generic amd64 '
    config_args='-des -Dprefix=/usr/home/cpan/pit/thr/perl-5.30.2 -Dusethreads'
    hint=recommended
    useposix=true
    d_sigaction=define
    useithreads=define
    usemultiplicity=define
    use64bitint=define
    use64bitall=define
    uselongdouble=undef
    usemymalloc=n
    default_inc_excludes_dot=define
    bincompat5005=undef
  Compiler:
    cc='cc'
    ccflags ='-DHAS_FPSETMASK -DHAS_FLOATINGPOINT_H -fno-strict-aliasing -pipe -fstack-protector-strong -I/usr/local/include'
    optimize='-O2'
    cppflags='-DHAS_FPSETMASK -DHAS_FLOATINGPOINT_H -fno-strict-aliasing -pipe -fstack-protector-strong -I/usr/local/include'
    ccversion=''
    gccversion='FreeBSD Clang 13.0.0 (git@github.com:llvm/llvm-project.git llvmorg-13.0.0-0-gd7b669b3a303)'
    gccosandvers=''
    intsize=4
    longsize=8
    ptrsize=8
    doublesize=8
    byteorder=12345678
    doublekind=3
    d_longlong=define
    longlongsize=8
    d_longdbl=define
    longdblsize=16
    longdblkind=3
    ivtype='long'
    ivsize=8
    nvtype='double'
    nvsize=8
    Off_t='off_t'
    lseeksize=8
    alignbytes=8
    prototype=define
  Linker and Libraries:
    ld='cc'
    ldflags ='-pthread -Wl,-E  -fstack-protector-strong -L/usr/local/lib'
    libpth=/usr/lib /usr/local/lib /usr/lib/clang/13.0.0/lib /usr/lib
    libs=-lpthread -lgdbm -ldl -lm -lcrypt -lutil
    perllibs=-lpthread -ldl -lm -lcrypt -lutil
    libc=
    so=so
    useshrplib=false
    libperl=libperl.a
    gnulibc_version=''
  Dynamic Linking:
    dlsrc=dl_dlopen.xs
    dlext=so
    d_dlsymun=undef
    ccdlflags=' '
    cccdlflags='-DPIC -fPIC'
    lddlflags='-shared  -L/usr/local/lib -fstack-protector-strong'


Characteristics of this binary (from libperl): 
  Compile-time options:
    HAS_TIMES
    MULTIPLICITY
    PERLIO_LAYERS
    PERL_COPY_ON_WRITE
    PERL_DONT_CREATE_GVSV
    PERL_IMPLICIT_CONTEXT
    PERL_MALLOC_WRAP
    PERL_OP_PARENT
    PERL_PRESERVE_IVUV
    USE_64_BIT_ALL
    USE_64_BIT_INT
    USE_ITHREADS
    USE_LARGE_FILES
    USE_LOCALE
    USE_LOCALE_COLLATE
    USE_LOCALE_CTYPE
    USE_LOCALE_NUMERIC
    USE_LOCALE_TIME
    USE_PERLIO
    USE_PERL_ATOF
    USE_REENTRANT_API
    USE_THREAD_SAFE_LOCALE
  Locally applied patches:
    Devel::PatchPerl 2.08
  Built under freebsd
  Compiled at Mar 31 2023 11:31:55
  %ENV:
    PERL5LIB="/usr/home/cpan/pit/jail/sScKekhXUM/lib/perl5:/usr/home/cpan/pit/thr/conf/perl-5.30.2/.cpanplus/5.30.2/build/peicDevw3e/Proc-ProcessTable-0.636/blib/lib:/usr/home/cpan/pit/thr/conf/perl-5.30.2/.cpanplus/5.30.2/build/peicDevw3e/Proc-ProcessTable-0.636/blib/arch"
    PERL5_CPANPLUS_IS_RUNNING="47019"
    PERL5_CPANPLUS_IS_VERSION="0.9914"
    PERL5_MINISMOKEBOX="0.68"
    PERL5_YACSMOKE_BASE="/usr/home/cpan/pit/thr/conf/perl-5.30.2"
    PERL_EXTUTILS_AUTOINSTALL="--defaultdeps"
    PERL_LOCAL_LIB_ROOT="/usr/home/cpan/pit/jail/sScKekhXUM"
    PERL_MB_OPT="--install_base "/usr/home/cpan/pit/jail/sScKekhXUM""
    PERL_MM_OPT="INSTALL_BASE=/usr/home/cpan/pit/jail/sScKekhXUM"
    PERL_MM_USE_DEFAULT="1"
    PERL_USE_UNSAFE_INC="1"
  @INC:
    /usr/home/cpan/pit/jail/sScKekhXUM/lib/perl5/5.30.2/amd64-freebsd-thread-multi
    /usr/home/cpan/pit/jail/sScKekhXUM/lib/perl5/5.30.2
    /usr/home/cpan/pit/jail/sScKekhXUM/lib/perl5/amd64-freebsd-thread-multi
    /usr/home/cpan/pit/jail/sScKekhXUM/lib/perl5
    /usr/home/cpan/pit/thr/conf/perl-5.30.2/.cpanplus/5.30.2/build/peicDevw3e/Proc-ProcessTable-0.636/blib/lib
    /usr/home/cpan/pit/thr/conf/perl-5.30.2/.cpanplus/5.30.2/build/peicDevw3e/Proc-ProcessTable-0.636/blib/arch
    /usr/home/cpan/pit/thr/perl-5.30.2/lib/site_perl/5.30.2/amd64-freebsd-thread-multi
    /usr/home/cpan/pit/thr/perl-5.30.2/lib/site_perl/5.30.2
    /usr/home/cpan/pit/thr/perl-5.30.2/lib/5.30.2/amd64-freebsd-thread-multi
    /usr/home/cpan/pit/thr/perl-5.30.2/lib/5.30.2
    .