Back
From: metabase:user:30f4dfbe-2aae-11df-837a-5e0a49663a4f
Subject: PASS Protocol-XMPP-0.006 v5.18.2 SunOS/Solaris
Date: 2014-08-11T18:04:29Z
This distribution has been tested as part of the CPAN Testers
project, supporting the Perl programming language. See
http://wiki.cpantesters.org/ for more information or email
questions to cpan-testers-discuss@perl.org
--
Dear Tom Molesworth,
This is a computer-generated report for Protocol-XMPP-0.006
on perl 5.18.2, created by CPAN-Reporter-1.2011.
Thank you for uploading your work to CPAN. Congratulations!
All tests were successful.
Sections of this report:
* Tester comments
* Program output
* Prerequisites
* Environment and other context
------------------------------
TESTER COMMENTS
------------------------------
Additional comments from tester:
this report is from an automated smoke testing program
and was not reviewed by a human for accuracy
------------------------------
PROGRAM OUTPUT
------------------------------
Output from '/usr/bin/make test':
PERL_DL_NONLAZY=1 /home/hornenj/perl5/perlbrew/perls/perl-5.18.2/bin/perl "-MExtUtils::Command::MM" "-MTest::Harness" "-e" "undef *Test::Harness::Switches; test_harness(0, 'blib/lib', 'blib/arch')" t/*.t
t/00-check-deps.t ............. ok
t/00-compile.t ................ ok
#
#
# Generated by Dist::Zilla::Plugin::ReportVersions::Tiny v1.10
# perl: 5.018002 (wanted 5.010001) on solaris from /home/hornenj/perl5/perlbrew/perls/perl-5.18.2/bin/perl
#
# Authen::SASL => 2.16 (want 2.000)
# ExtUtils::MakeMaker => 6.98 (want 6.48)
# File::Spec => 3.47 (want any version)
# Future => 0.29 (want 0.29)
# IO::Handle => 1.34 (want any version)
# IPC::Open3 => 1.13 (want any version)
# MIME::Base64 => 3.14 (want any version)
# Mixin::Event::Dispatch => 1.005 (want 1.000)
# Module::Load => 0.32 (want any version)
# POSIX => 1.32 (want any version)
# Test::CheckDeps => 0.010 (want 0.010)
# Test::Fatal => 0.013 (want 0.010)
# Test::More => 1.001003 (want 0.98)
# Time::HiRes => 1.9726 (want any version)
# XML::LibXML::SAX::ChunkParser => 0.00008 (want 0.00003)
# XML::SAX => 0.99 (want any version)
# curry => 1 (want any version)
# parent => 0.228 (want any version)
#
# Thanks for using my code. I hope it works for you.
# If not, please try and include this output in the bug report.
# That will help me reproduce the issue and solve your problem.
#
t/000-report-versions-tiny.t .. ok
All tests successful.
Files=3, Tests=54, 22 wallclock secs ( 0.21 usr 0.12 sys + 13.29 cusr 7.53 csys = 21.15 CPU)
Result: PASS
------------------------------
PREREQUISITES
------------------------------
Prerequisite modules loaded:
requires:
Module Need Have
----------------------------- ------- --------
Authen::SASL 2.000 2.16
curry 0 1.000000
Future 0.29 0.29
MIME::Base64 0 3.14
Mixin::Event::Dispatch 1.000 1.005
Module::Load 0 0.32
parent 0 0.228
POSIX 0 1.32
Time::HiRes 0 1.9726
XML::LibXML::SAX::ChunkParser 0.00003 0.00008
XML::SAX 0 0.99
build_requires:
Module Need Have
----------------------------- ------- --------
ExtUtils::MakeMaker 0 6.98
File::Spec 0 3.47
IO::Handle 0 1.34
IPC::Open3 0 1.13
Test::CheckDeps 0.010 0.010
Test::Fatal 0.010 0.013
Test::More 0.98 1.001003
configure_requires:
Module Need Have
----------------------------- ------- --------
ExtUtils::MakeMaker 6.48 6.98
------------------------------
ENVIRONMENT AND OTHER CONTEXT
------------------------------
Environment variables:
AUTOMATED_TESTING = 1
LANG = en_US.UTF-8
LC_ALL =
LC_COLLATE =
LC_CTYPE =
LC_MESSAGES =
LC_MONETARY =
LC_NUMERIC =
LC_TIME =
LD_LIBRARY_PATH = :/usr/local/lib
PATH = /home/hornenj/perl5/perlbrew/bin:/home/hornenj/perl5/perlbrew/perls/perl-5.18.2/bin:/home/hornenj/perl5/perlbrew/bin:/home/hornenj/perl5/perlbrew/perls/perl-5.18.2/bin:/home/hornenj/perl5/perlbrew/bin:/home/hornenj/bin:/opt/local/bin:/usr/dt/bin:/usr/openwin/bin:/usr/bin:/usr/gnu/bin:/usr/ncbi/bin:/usr/ncbi/OL/bin:/usr/ncbi/X11/bin:/netopt/studio12/SUNWspro/bin:/usr/sfw/bin:/usr/ucb
PERL5LIB = /home/hornenj/.cpan/build/Authen-SASL-2.16-Jzryes/blib/arch:/home/hornenj/.cpan/build/Authen-SASL-2.16-Jzryes/blib/lib:/home/hornenj/.cpan/build/Mixin-Event-Dispatch-1.005-O25dIX/blib/arch:/home/hornenj/.cpan/build/Mixin-Event-Dispatch-1.005-O25dIX/blib/lib:/home/hornenj/.cpan/build/List-UtilsBy-0.09-LgEVHG/blib/arch:/home/hornenj/.cpan/build/List-UtilsBy-0.09-LgEVHG/blib/lib:/home/hornenj/.cpan/build/curry-1.000000-vOuq7X/blib/arch:/home/hornenj/.cpan/build/curry-1.000000-vOuq7X/blib/lib:/home/hornenj/.cpan/build/XML-LibXML-SAX-ChunkParser-0.00008-aWQypm/blib/arch:/home/hornenj/.cpan/build/XML-LibXML-SAX-ChunkParser-0.00008-aWQypm/blib/lib:/home/hornenj/.cpan/build/Future-0.29-dMD3Gl/blib/arch:/home/hornenj/.cpan/build/Future-0.29-dMD3Gl/blib/lib:/home/hornenj/.cpan/build/Test-Refcount-0.08-pENyxx/blib/arch:/home/hornenj/.cpan/build/Test-Refcount-0.08-pENyxx/blib/lib:/home/hornenj/.cpan/build/Test-Identity-0.01-9lrTQ9/blib/arch:/home/hornenj/.cpan/build/Test-Identity-0.01-9lrTQ9/blib/lib
PERL5OPT =
PERL5_CPANPLUS_IS_RUNNING = 17423
PERL5_CPAN_IS_RUNNING = 17423
PERL5_MINISMOKEBOX = 0.58
PERLBREW_BASHRC_VERSION = 0.69
PERLBREW_HOME = /home/hornenj/.perlbrew
PERLBREW_MANPATH = /home/hornenj/perl5/perlbrew/perls/perl-5.18.2/man
PERLBREW_PATH = /home/hornenj/perl5/perlbrew/bin:/home/hornenj/perl5/perlbrew/perls/perl-5.18.2/bin
PERLBREW_PERL = perl-5.18.2
PERLBREW_ROOT = /home/hornenj/perl5/perlbrew
PERLBREW_VERSION = 0.69
PERL_EXTUTILS_AUTOINSTALL = --defaultdeps
PERL_MM_USE_DEFAULT = 1
SHELL = /bin/bash
TERM = xterm
Perl special variables (and OS-specific diagnostics, for MSWin32):
$^X = /home/hornenj/perl5/perlbrew/perls/perl-5.18.2/bin/perl
$UID/$EUID = 12481 / 12481
$GID = 14 14 5344 241 527
$EGID = 14 14 5344 241 527
Perl module toolchain versions installed:
Module Have
------------------- --------
CPAN 2.05
CPAN::Meta 2.141520
Cwd 3.47
ExtUtils::CBuilder 0.280216
ExtUtils::Command 1.18
ExtUtils::Install 1.68
ExtUtils::MakeMaker 6.98
ExtUtils::Manifest 1.63
ExtUtils::ParseXS 3.24
File::Spec 3.47
JSON 2.90
JSON::PP 2.27203
Module::Build 0.4205
Module::Signature n/a
Parse::CPAN::Meta 1.4414
Test::Harness 3.32
Test::More 1.001003
YAML 0.90
YAML::Syck 1.27
version 0.9908
--
Summary of my perl5 (revision 5 version 18 subversion 2) configuration:
Platform:
osname=solaris, osvers=2.11, archname=sun4-solaris-thread-multi
uname='sunos irb11ss 5.11 11.1 sun4v sparc sun4v '
config_args='-Duseithreads -Dusemultiplicity -Dinstallprefix=/home/hornenj/perl5/perlbrew/perls/perl-5.18.2 -Dprefix=/home/hornenj/perl5/perlbrew/perls/perl-5.18.2 -de -Accflags=-O -v -xstrconst -D__EXTENSIONS__ -I/usr/local/include -native'
hint=recommended, useposix=true, d_sigaction=define
useithreads=define, usemultiplicity=define
useperlio=define, d_sfio=undef, uselargefiles=define, usesocks=undef
use64bitint=undef, use64bitall=undef, uselongdouble=undef
usemymalloc=n, bincompat5005=undef
Compiler:
cc='cc', ccflags ='-D_REENTRANT -O -v -xstrconst -D__EXTENSIONS__ -I/usr/local/include -native -D_LARGEFILE_SOURCE -D_FILE_OFFSET_BITS=64 -DPERL_USE_SAFE_PUTENV',
optimize='-O',
cppflags='-D_REENTRANT -O -v -xstrconst -D__EXTENSIONS__ -I/usr/local/include -native'
ccversion='Sun C 5.9 SunOS_sparc Patch 124867-16 2010/08/11', gccversion='', gccosandvers=''
intsize=4, longsize=4, ptrsize=4, doublesize=8, byteorder=4321
d_longlong=define, longlongsize=8, d_longdbl=define, longdblsize=16
ivtype='long', ivsize=4, nvtype='double', nvsize=8, Off_t='off_t', lseeksize=8
alignbytes=8, prototype=define
Linker and Libraries:
ld='cc', ldflags =' -L/usr/lib -L/usr/ccs/lib -L/netopt/studio12/SUNWspro/prod/lib/sparc -L/netopt/studio12/SUNWspro/prod/lib -L/lib -L/usr/gnu/lib '
libpth=/usr/lib /usr/ccs/lib /netopt/studio12/SUNWspro/prod/lib/sparc /netopt/studio12/SUNWspro/prod/lib /lib /usr/gnu/lib
libs=-lsocket -lnsl -lgdbm -ldb -ldl -lm -lpthread -lc
perllibs=-lsocket -lnsl -ldl -lm -lpthread -lc
libc=/lib/libc.so, so=so, useshrplib=false, libperl=libperl.a
gnulibc_version=''
Dynamic Linking:
dlsrc=dl_dlopen.xs, dlext=so, d_dlsymun=undef, ccdlflags=' '
cccdlflags='-KPIC', lddlflags='-G -L/usr/lib -L/usr/ccs/lib -L/netopt/studio12/SUNWspro/prod/lib/sparc -L/netopt/studio12/SUNWspro/prod/lib -L/lib -L/usr/gnu/lib'
Characteristics of this binary (from libperl):
Compile-time options: HAS_TIMES MULTIPLICITY PERLIO_LAYERS
PERL_DONT_CREATE_GVSV
PERL_HASH_FUNC_ONE_AT_A_TIME_HARD
PERL_IMPLICIT_CONTEXT PERL_MALLOC_WRAP
PERL_PRESERVE_IVUV PERL_SAWAMPERSAND
PERL_USE_SAFE_PUTENV USE_ITHREADS USE_LARGE_FILES
USE_LOCALE USE_LOCALE_COLLATE USE_LOCALE_CTYPE
USE_LOCALE_NUMERIC USE_PERLIO USE_PERL_ATOF
USE_REENTRANT_API
Built under solaris
Compiled at Jan 23 2014 09:37:56
%ENV:
PERL5LIB="/home/hornenj/.cpan/build/Authen-SASL-2.16-Jzryes/blib/arch:/home/hornenj/.cpan/build/Authen-SASL-2.16-Jzryes/blib/lib:/home/hornenj/.cpan/build/Mixin-Event-Dispatch-1.005-O25dIX/blib/arch:/home/hornenj/.cpan/build/Mixin-Event-Dispatch-1.005-O25dIX/blib/lib:/home/hornenj/.cpan/build/List-UtilsBy-0.09-LgEVHG/blib/arch:/home/hornenj/.cpan/build/List-UtilsBy-0.09-LgEVHG/blib/lib:/home/hornenj/.cpan/build/curry-1.000000-vOuq7X/blib/arch:/home/hornenj/.cpan/build/curry-1.000000-vOuq7X/blib/lib:/home/hornenj/.cpan/build/XML-LibXML-SAX-ChunkParser-0.00008-aWQypm/blib/arch:/home/hornenj/.cpan/build/XML-LibXML-SAX-ChunkParser-0.00008-aWQypm/blib/lib:/home/hornenj/.cpan/build/Future-0.29-dMD3Gl/blib/arch:/home/hornenj/.cpan/build/Future-0.29-dMD3Gl/blib/lib:/home/hornenj/.cpan/build/Test-Refcount-0.08-pENyxx/blib/arch:/home/hornenj/.cpan/build/Test-Refcount-0.08-pENyxx/blib/lib:/home/hornenj/.cpan/build/Test-Identity-0.01-9lrTQ9/blib/arch:/home/hornenj/.cpan/build/Test-Identity-0.01-9lrTQ9/blib/lib"
PERL5OPT=""
PERL5_CPANPLUS_IS_RUNNING="17423"
PERL5_CPAN_IS_RUNNING="17423"
PERL5_MINISMOKEBOX="0.58"
PERLBREW_BASHRC_VERSION="0.69"
PERLBREW_HOME="/home/hornenj/.perlbrew"
PERLBREW_MANPATH="/home/hornenj/perl5/perlbrew/perls/perl-5.18.2/man"
PERLBREW_PATH="/home/hornenj/perl5/perlbrew/bin:/home/hornenj/perl5/perlbrew/perls/perl-5.18.2/bin"
PERLBREW_PERL="perl-5.18.2"
PERLBREW_ROOT="/home/hornenj/perl5/perlbrew"
PERLBREW_VERSION="0.69"
PERL_EXTUTILS_AUTOINSTALL="--defaultdeps"
PERL_MM_USE_DEFAULT="1"
@INC:
/home/hornenj/.cpan/build/Authen-SASL-2.16-Jzryes/blib/arch
/home/hornenj/.cpan/build/Authen-SASL-2.16-Jzryes/blib/lib
/home/hornenj/.cpan/build/Mixin-Event-Dispatch-1.005-O25dIX/blib/arch
/home/hornenj/.cpan/build/Mixin-Event-Dispatch-1.005-O25dIX/blib/lib
/home/hornenj/.cpan/build/List-UtilsBy-0.09-LgEVHG/blib/arch
/home/hornenj/.cpan/build/List-UtilsBy-0.09-LgEVHG/blib/lib
/home/hornenj/.cpan/build/curry-1.000000-vOuq7X/blib/arch
/home/hornenj/.cpan/build/curry-1.000000-vOuq7X/blib/lib
/home/hornenj/.cpan/build/XML-LibXML-SAX-ChunkParser-0.00008-aWQypm/blib/arch
/home/hornenj/.cpan/build/XML-LibXML-SAX-ChunkParser-0.00008-aWQypm/blib/lib
/home/hornenj/.cpan/build/Future-0.29-dMD3Gl/blib/arch
/home/hornenj/.cpan/build/Future-0.29-dMD3Gl/blib/lib
/home/hornenj/.cpan/build/Test-Refcount-0.08-pENyxx/blib/arch
/home/hornenj/.cpan/build/Test-Refcount-0.08-pENyxx/blib/lib
/home/hornenj/.cpan/build/Test-Identity-0.01-9lrTQ9/blib/arch
/home/hornenj/.cpan/build/Test-Identity-0.01-9lrTQ9/blib/lib
/home/hornenj/perl5/perlbrew/perls/perl-5.18.2/lib/site_perl/5.18.2/sun4-solaris-thread-multi
/home/hornenj/perl5/perlbrew/perls/perl-5.18.2/lib/site_perl/5.18.2
/home/hornenj/perl5/perlbrew/perls/perl-5.18.2/lib/5.18.2/sun4-solaris-thread-multi
/home/hornenj/perl5/perlbrew/perls/perl-5.18.2/lib/5.18.2
.