Store-Digest v0.06 Perl 5 v5.26.3 x86_64-linux

Status
Pass
From
Slaven Rezić (SREZIC)
Dist
Store-Digest v0.06
Platform
Perl 5 v5.26.3 x86_64-linux
Date
2018-12-03 17:43:25
ID
ef63d8a2-f722-11e8-9e88-83d9db200112
This distribution has been tested as part of the CPAN Testers
project, supporting the Perl programming language.  See
http://wiki.cpantesters.org/ for more information or email
questions to cpan-testers-discuss@perl.org


--
Dear Dorian Taylor,

This is a computer-generated report for Store-Digest-0.06
on perl 5.26.3, created by CPAN-Reporter-1.2018.

Thank you for uploading your work to CPAN.  Congratulations!
All tests were successful.

Sections of this report:

    * Tester comments
    * Program output
    * Prerequisites
    * Environment and other context

------------------------------
TESTER COMMENTS
------------------------------

Additional comments from tester:

none provided

------------------------------
PROGRAM OUTPUT
------------------------------

Output from '/usr/bin/make test':

PERL_DL_NONLAZY=1 "/opt/perl-5.26.3/bin/perl5.26.3" "-MExtUtils::Command::MM" "-MTest::Harness" "-e" "undef *Test::Harness::Switches; test_harness(0, 'inc', 'blib/lib', 'blib/arch')" t/*.t
# Testing Store::Digest 0.06, Perl 5.026003, /opt/perl-5.26.3/bin/perl5.26.3
t/00-load.t ....... ok
# ni:///sha-256;47DEQpj8HBSa-_TImW-5JCeuQeRkm5NMpJWZG3hSuFU
t/01-object.t ..... ok
# DB version: 5.3
# Store::Digest::Object
#   Digests:
#     ni:///md5;lSF_bYrxmP2cB_5cLdWciQ
#     ni:///sha-1;xK0bpGL2hQkPBtDxqXy-Yz4uDyg
#     ni:///sha-256;IcnxQtEMlihv1wFHTMjkMprLO-9-ZXZD2lcsQLmQ1xA
#     ni:///sha-384;t_Hk9o8uRxB2sRzAGjY5ycZon0FDXczwbHTO2x_NLZYxKXl5cq4nFRqV2OhiQqFl
#     ni:///sha-512;uWhaS1hSbh_-Id9T-a8_-7msx_-sFsKQgBH8yGXVtO8AAn8E7ljoHeeW7S2t54qJHY7iNrFpz8Wx8MvDXX7Ung
#   Size (Bytes): 1515
#   Added to Store: 2018-12-03T17:42:22
#   Last Modified: 2018-03-24T01:21:20
#   Properties Modified: 2018-12-03T17:42:22
#   Content Type: text/plain
#   Validation:
#     content-type    : unverified
#     charset         : unverified
#     content-encoding: unverified
#     syntax          : unverified
# Digest store stats:
#   Created on:      2018-12-03T17:42:22 
#   Last Modified:   2018-12-03T17:42:22 
#   Bytes stored:    1515                
#   Objects stored:  1                   
#   Objects deleted: 0                   
t/02-fs-driver.t .. ok
t/boilerplate.t ... ok
t/manifest.t ...... skipped: Author tests not required for installation
t/pod-coverage.t .. ok
t/pod.t ........... ok
All tests successful.

Test Summary Report
-------------------
t/boilerplate.t (Wstat: 0 Tests: 6 Failed: 0)
  TODO passed:   1-6
Files=7, Tests=35,  4 wallclock secs ( 0.07 usr  0.03 sys +  3.06 cusr  0.61 csys =  3.77 CPU)
Result: PASS

------------------------------
PREREQUISITES
------------------------------

Prerequisite modules loaded:

requires:

    Module                   Need   Have    
    ------------------------ ------ --------
    BerkeleyDB               0.55   0.55    
    Class::Load              0.23   0.25    
    DateTime                 0.70   1.50    
    DateTime::Format::HTTP   0.40   0.42    
    File::Copy               2.21   2.32    
    HTTP::Negotiate          6.00   6.01    
    Math::BigInt             1.997  1.999806
    MIME::Base32             1.02   1.303   
    Moose                    2.0604 2.2011  
    MooseX::Params::Validate 0.18   0.21    
    MooseX::Types            0.35   0.50    
    Path::Class              0.24   0.37    
    perl                     5.012  5.026003
    Plack                    1.0005 1.0047  
    Role::MimeInfo           0.01   0.02    
    String::RewritePrefix    0.007  0.007   
    Test::More               0      1.302140
    URI::ni                  0.03   0.05    
    XML::LibXML::LazyBuilder 0.05   0.08    

build_requires:

    Module                   Need   Have    
    ------------------------ ------ --------
    ExtUtils::MakeMaker      6.59   7.24    
    Module::Install          0      1.19    
    Test::More               0      1.302140

configure_requires:

    Module                   Need   Have    
    ------------------------ ------ --------
    ExtUtils::MakeMaker      6.59   7.24    
    Module::Install          0      1.19    


------------------------------
ENVIRONMENT AND OTHER CONTEXT
------------------------------

Environment variables:

    LANG = en_US.UTF-8
    LC_ALL = de_DE.UTF-8
    PATH = /usr/local/bin:/usr/bin:/bin:/usr/local/sbin:/usr/sbin:/sbin:/home/cpansand/bin/linux-gnu:/home/cpansand/bin/sh:/home/cpansand/bin:/usr/games:/home/cpansand/devel:/home/eserte/src/srezic-misc/scripts
    PERL5LIB = /home/cpansand/.cpan/build/2018120318/XML-LibXML-LazyBuilder-0.08-0/blib/arch:/home/cpansand/.cpan/build/2018120318/XML-LibXML-LazyBuilder-0.08-0/blib/lib:/home/cpansand/.cpan/build/2018120318/URI-ni-0.05-1/blib/arch:/home/cpansand/.cpan/build/2018120318/URI-ni-0.05-1/blib/lib:/home/cpansand/.cpan/build/2018120318/Role-MimeInfo-0.02-0/blib/arch:/home/cpansand/.cpan/build/2018120318/Role-MimeInfo-0.02-0/blib/lib:/home/cpansand/.cpan/build/2018120318/MooseX-Params-Validate-0.21-0/blib/arch:/home/cpansand/.cpan/build/2018120318/MooseX-Params-Validate-0.21-0/blib/lib:/home/cpansand/.cpan/build/2018120318/MIME-Base32-1.303-0/blib/arch:/home/cpansand/.cpan/build/2018120318/MIME-Base32-1.303-0/blib/lib:/home/cpansand/.cpan/build/2018120318/DateTime-Format-HTTP-0.42-0/blib/arch:/home/cpansand/.cpan/build/2018120318/DateTime-Format-HTTP-0.42-0/blib/lib:/home/cpansand/.cpan/build/2018120318/BerkeleyDB-0.55-0/blib/arch:/home/cpansand/.cpan/build/2018120318/BerkeleyDB-0.55-0/blib/lib:/home/cpansand/.cpan/build/2018120318/Yote-3.0-0/blib/arch:/home/cpansand/.cpan/build/2018120318/Yote-3.0-0/blib/lib:/home/cpansand/.cpan/build/2018120318/Data-RecordStore-4.06-0/blib/arch:/home/cpansand/.cpan/build/2018120318/Data-RecordStore-4.06-0/blib/lib
    PERL5OPT = 
    PERL5_CPANPLUS_IS_RUNNING = 27156
    PERL5_CPAN_IS_RUNNING = 27156
    PERL5_CPAN_IS_RUNNING_IN_RECURSION = 21908,27156
    PERLDOC = -MPod::Perldoc::ToTextOverstrike
    PERL_BATCH = yes
    PERL_CANARY_STABILITY_NOPROMPT = 1
    PERL_CPAN_REPORTER_CONFIG = /var/tmp/cpansmoker-1023/2018120307/cpanreporter_001_config.ini
    PERL_EXTUTILS_AUTOINSTALL = --defaultdeps
    PERL_PARALLEL_SMOKER = yes
    PERL_USE_UNSAFE_INC = 1
    SHELL = /usr/bin/zsh
    TERM = screen
    TMPDIR = /var/tmp/cpansmoker-1023/2018120307

Perl special variables (and OS-specific diagnostics, for MSWin32):

    $^X = /opt/perl-5.26.3/bin/perl5.26.3
    $UID/$EUID = 1023 / 1023
    $GID = 1023 1023
    $EGID = 1023 1023

Perl module toolchain versions installed:

    Module              Have    
    ------------------- --------
    CPAN                2.18    
    CPAN::Meta          2.150010
    Cwd                 3.67    
    ExtUtils::CBuilder  0.280225
    ExtUtils::Command   7.24    
    ExtUtils::Install   2.04    
    ExtUtils::MakeMaker 7.24    
    ExtUtils::Manifest  1.70    
    ExtUtils::ParseXS   3.34    
    File::Spec          3.67    
    JSON                2.97001 
    JSON::PP            2.97001 
    Module::Build       0.4224  
    Module::Signature   0.83    
    Parse::CPAN::Meta   2.150010
    Test::Harness       3.38    
    Test::More          1.302140
    YAML                1.27    
    YAML::Syck          1.31    
    version             0.9917  


--

Summary of my perl5 (revision 5 version 26 subversion 3) configuration:
   
  Platform:
    osname=linux
    osvers=3.10.0-862.14.4.el7.x86_64
    archname=x86_64-linux
    uname='linux centos-4gb-hel1-1 3.10.0-862.14.4.el7.x86_64 #1 smp wed sep 26 15:12:11 utc 2018 x86_64 x86_64 x86_64 gnulinux '
    config_args='-ds -e -Dprefix=/opt/perl-5.26.3 -Dcf_email=srezic@cpan.org'
    hint=recommended
    useposix=true
    d_sigaction=define
    useithreads=undef
    usemultiplicity=undef
    use64bitint=define
    use64bitall=define
    uselongdouble=undef
    usemymalloc=n
    default_inc_excludes_dot=define
    bincompat5005=undef
  Compiler:
    cc='cc'
    ccflags ='-fwrapv -fno-strict-aliasing -pipe -fstack-protector-strong -I/usr/local/include -D_LARGEFILE_SOURCE -D_FILE_OFFSET_BITS=64 -D_FORTIFY_SOURCE=2'
    optimize='-O2'
    cppflags='-fwrapv -fno-strict-aliasing -pipe -fstack-protector-strong -I/usr/local/include'
    ccversion=''
    gccversion='4.8.5 20150623 (Red Hat 4.8.5-28)'
    gccosandvers=''
    intsize=4
    longsize=8
    ptrsize=8
    doublesize=8
    byteorder=12345678
    doublekind=3
    d_longlong=define
    longlongsize=8
    d_longdbl=define
    longdblsize=16
    longdblkind=3
    ivtype='long'
    ivsize=8
    nvtype='double'
    nvsize=8
    Off_t='off_t'
    lseeksize=8
    alignbytes=8
    prototype=define
  Linker and Libraries:
    ld='cc'
    ldflags =' -fstack-protector-strong -L/usr/local/lib'
    libpth=/usr/local/lib /usr/lib /lib/../lib64 /usr/lib/../lib64 /lib /lib64 /usr/lib64 /usr/local/lib64
    libs=-lpthread -lnsl -lgdbm -ldb -ldl -lm -lcrypt -lutil -lc -lgdbm_compat
    perllibs=-lpthread -lnsl -ldl -lm -lcrypt -lutil -lc
    libc=libc-2.17.so
    so=so
    useshrplib=false
    libperl=libperl.a
    gnulibc_version='2.17'
  Dynamic Linking:
    dlsrc=dl_dlopen.xs
    dlext=so
    d_dlsymun=undef
    ccdlflags='-Wl,-E'
    cccdlflags='-fPIC'
    lddlflags='-shared -O2 -L/usr/local/lib -fstack-protector-strong'


Characteristics of this binary (from libperl): 
  Compile-time options:
    HAS_TIMES
    PERLIO_LAYERS
    PERL_COPY_ON_WRITE
    PERL_DONT_CREATE_GVSV
    PERL_MALLOC_WRAP
    PERL_OP_PARENT
    PERL_PRESERVE_IVUV
    USE_64_BIT_ALL
    USE_64_BIT_INT
    USE_LARGE_FILES
    USE_LOCALE
    USE_LOCALE_COLLATE
    USE_LOCALE_CTYPE
    USE_LOCALE_NUMERIC
    USE_LOCALE_TIME
    USE_PERLIO
    USE_PERL_ATOF
  Built under linux
  Compiled at Nov 29 2018 22:53:06
  %ENV:
    PERL5LIB="/home/cpansand/.cpan/build/2018120318/XML-LibXML-LazyBuilder-0.08-0/blib/arch:/home/cpansand/.cpan/build/2018120318/XML-LibXML-LazyBuilder-0.08-0/blib/lib:/home/cpansand/.cpan/build/2018120318/URI-ni-0.05-1/blib/arch:/home/cpansand/.cpan/build/2018120318/URI-ni-0.05-1/blib/lib:/home/cpansand/.cpan/build/2018120318/Role-MimeInfo-0.02-0/blib/arch:/home/cpansand/.cpan/build/2018120318/Role-MimeInfo-0.02-0/blib/lib:/home/cpansand/.cpan/build/2018120318/MooseX-Params-Validate-0.21-0/blib/arch:/home/cpansand/.cpan/build/2018120318/MooseX-Params-Validate-0.21-0/blib/lib:/home/cpansand/.cpan/build/2018120318/MIME-Base32-1.303-0/blib/arch:/home/cpansand/.cpan/build/2018120318/MIME-Base32-1.303-0/blib/lib:/home/cpansand/.cpan/build/2018120318/DateTime-Format-HTTP-0.42-0/blib/arch:/home/cpansand/.cpan/build/2018120318/DateTime-Format-HTTP-0.42-0/blib/lib:/home/cpansand/.cpan/build/2018120318/BerkeleyDB-0.55-0/blib/arch:/home/cpansand/.cpan/build/2018120318/BerkeleyDB-0.55-0/blib/lib:/home/cpansand/.cpan/build/2018120318/Yote-3.0-0/blib/arch:/home/cpansand/.cpan/build/2018120318/Yote-3.0-0/blib/lib:/home/cpansand/.cpan/build/2018120318/Data-RecordStore-4.06-0/blib/arch:/home/cpansand/.cpan/build/2018120318/Data-RecordStore-4.06-0/blib/lib"
    PERL5OPT=""
    PERL5_CPANPLUS_IS_RUNNING="27156"
    PERL5_CPAN_IS_RUNNING="27156"
    PERL5_CPAN_IS_RUNNING_IN_RECURSION="21908,27156"
    PERLDOC="-MPod::Perldoc::ToTextOverstrike"
    PERL_BATCH="yes"
    PERL_CANARY_STABILITY_NOPROMPT="1"
    PERL_CPAN_REPORTER_CONFIG="/var/tmp/cpansmoker-1023/2018120307/cpanreporter_001_config.ini"
    PERL_EXTUTILS_AUTOINSTALL="--defaultdeps"
    PERL_PARALLEL_SMOKER="yes"
    PERL_USE_UNSAFE_INC="1"
  @INC:
    /home/cpansand/.cpan/build/2018120318/XML-LibXML-LazyBuilder-0.08-0/blib/arch
    /home/cpansand/.cpan/build/2018120318/XML-LibXML-LazyBuilder-0.08-0/blib/lib
    /home/cpansand/.cpan/build/2018120318/URI-ni-0.05-1/blib/arch
    /home/cpansand/.cpan/build/2018120318/URI-ni-0.05-1/blib/lib
    /home/cpansand/.cpan/build/2018120318/Role-MimeInfo-0.02-0/blib/arch
    /home/cpansand/.cpan/build/2018120318/Role-MimeInfo-0.02-0/blib/lib
    /home/cpansand/.cpan/build/2018120318/MooseX-Params-Validate-0.21-0/blib/arch
    /home/cpansand/.cpan/build/2018120318/MooseX-Params-Validate-0.21-0/blib/lib
    /home/cpansand/.cpan/build/2018120318/MIME-Base32-1.303-0/blib/arch
    /home/cpansand/.cpan/build/2018120318/MIME-Base32-1.303-0/blib/lib
    /home/cpansand/.cpan/build/2018120318/DateTime-Format-HTTP-0.42-0/blib/arch
    /home/cpansand/.cpan/build/2018120318/DateTime-Format-HTTP-0.42-0/blib/lib
    /home/cpansand/.cpan/build/2018120318/BerkeleyDB-0.55-0/blib/arch
    /home/cpansand/.cpan/build/2018120318/BerkeleyDB-0.55-0/blib/lib
    /home/cpansand/.cpan/build/2018120318/Yote-3.0-0/blib/arch
    /home/cpansand/.cpan/build/2018120318/Yote-3.0-0/blib/lib
    /home/cpansand/.cpan/build/2018120318/Data-RecordStore-4.06-0/blib/arch
    /home/cpansand/.cpan/build/2018120318/Data-RecordStore-4.06-0/blib/lib
    /opt/perl-5.26.3/lib/site_perl/5.26.3/x86_64-linux
    /opt/perl-5.26.3/lib/site_perl/5.26.3
    /opt/perl-5.26.3/lib/5.26.3/x86_64-linux
    /opt/perl-5.26.3/lib/5.26.3
    .