Math-GSL v0.49 Perl 5 v5.42.0 x86_64-linux-ld
- Status
- Pass
- From
- Slaven Rezić
- Dist
-
Math-GSL v0.49
- Platform
- Perl 5 v5.42.0 x86_64-linux-ld
- Date
- 2025-09-22 05:56:51
- ID
- ef3c39d4-9778-11f0-a1b2-b7d96d8775ea
This distribution has been tested as part of the CPAN Testers
project, supporting the Perl programming language. See
http://wiki.cpantesters.org/ for more information or email
questions to cpan-testers-discuss@perl.org
--
Dear Hakon Haegland,
This is a computer-generated report for Math-GSL-0.49
on perl 5.42.0, created by CPAN-Reporter-1.2020.
Thank you for uploading your work to CPAN. Congratulations!
All tests were successful.
Sections of this report:
* Tester comments
* Program output
* Prerequisites
* Environment and other context
------------------------------
TESTER COMMENTS
------------------------------
Additional comments from tester:
none provided
------------------------------
PROGRAM OUTPUT
------------------------------
Output from './Build test':
Processing 2.6 XS files, GSL 2.6 (via gsl-config) at /usr
Compiler = cc (Debian 10.2.1-6) 10.2.1 20210110
Copyright (C) 2020 Free Software Foundation, Inc.
This is free software; see the source for copying conditions. There is NO
warranty; not even for MERCHANTABILITY or FITNESS FOR A PARTICULAR PURPOSE.
ccflags = -fPIC -I/usr/include -fwrapv -fno-strict-aliasing -pipe -fstack-protector-strong -I/usr/local/include -D_LARGEFILE_SOURCE -D_FILE_OFFSET_BITS=64 -D_FORTIFY_SOURCE=2 -Wall -Wno-sometimes-uninitialized -Wno-unused-function -Wno-unused-value -Wno-unused-function -Wno-unused-variable -Wno-gnu -g -fPIC -fno-omit-frame-pointer -I/usr/include
ldflags = -shared -L/usr/lib/x86_64-linux-gnu -lgsl -lgslcblas -lm -fPIC -fno-omit-frame-pointer
PERL5LIB = /home/cpansand/.local/share/.cpan/build/2025092205/Math-GSL-Alien-1.05-1/blib/arch:/home/cpansand/.local/share/.cpan/build/2025092205/Math-GSL-Alien-1.05-1/blib/lib:/home/cpansand/.local/share/.cpan/build/2025092205/Alien-Role-Dino-0.08-1/blib/arch:/home/cpansand/.local/share/.cpan/build/2025092205/Alien-Role-Dino-0.08-1/blib/lib:/home/cpansand/.local/share/.cpan/build/2025092205/Inline-Filters-0.20-1/blib/arch:/home/cpansand/.local/share/.cpan/build/2025092205/Inline-Filters-0.20-1/blib/lib:/home/cpansand/.local/share/.cpan/build/2025092205/Inline-CPP-0.80-1/blib/arch:/home/cpansand/.local/share/.cpan/build/2025092205/Inline-CPP-0.80-1/blib/lib:/home/cpansand/.local/share/.cpan/build/2025092205/Alien-GSL-1.07-1/blib/arch:/home/cpansand/.local/share/.cpan/build/2025092205/Alien-GSL-1.07-1/blib/lib
LD_LIBRARY_PATH =
# Testing Math::GSL 0.49 with GSL 2.6 on x86_64-linux-ld, Perl (/opt/perl-5.42.0D/bin/perl) 5.042000
t/00-load.t ........ ok
t/BLAS.t ........... ok
t/BSpline.t ........ ok
t/CBLAS.t .......... ok
t/CDF.t ............ ok
t/Chebyshev.t ...... ok
t/Combination.t .... ok
t/Complex.t ........ ok
t/Const.t .......... ok
t/DHT.t ............ ok
t/Deriv.t .......... ok
t/Diff.t ........... ok
t/Eigen.t .......... ok
t/Errno.t .......... ok
t/FFT.t ............ ok
t/Fit.t ............ ok
#
# Elements start differing at index 2, delta = 9.99999999998398004e-08
# $x->[2] = 3.0010001
# $y->[2] = 3.0010002
#
# Elements start differing at index 2, delta = 0.00100000000000000002
# $x->[2] = 3
# $y->[2] = 3.001
t/GSL.t ............ ok
t/Heapsort.t ....... ok
t/Histogram.t ...... ok
t/Histogram2D.t .... ok
t/IEEEUtils.t ...... ok
t/Integration.t .... ok
t/Interp.t ......... ok
t/Linalg.t ......... ok
t/Machine.t ........ ok
#
# Elements start differing at index 1, delta = 1
# $x->[1] = 3
# $y->[1] = 2
t/Matrix.t ......... ok
#
# Elements start differing at index 1, delta = 1
# $x->[1] = 3
# $y->[1] = 4
#
# Elements start differing at index 1, delta = 1
# $x->[1] = 3
# $y->[1] = 2
t/MatrixComplex.t .. ok
t/Min.t ............ ok
t/Monte.t .......... ok
t/Multifit.t ....... ok
t/Multilarge.t ..... ok
t/Multimin.t ....... ok
t/Multiroots.t ..... ok
t/Multiset.t ....... ok
t/NTuple.t ......... ok
t/ODEIV.t .......... ok
t/ODEIV_evolve.t ... ok
t/Permutation.t .... ok
t/Poly.t ........... ok
t/PowInt.t ......... ok
t/QRNG.t ........... ok
t/RNG.t ............ ok
t/Randist.t ........ ok
t/Roots.t .......... ok
t/Rstat.t .......... ok
t/SF.t ............. ok
t/Siman.t .......... ok
t/Sort.t ........... ok
t/SparseMatrix.t ... ok
t/Spline.t ......... ok
t/Statistics.t ..... ok
t/Sum.t ............ ok
t/Sys.t ............ ok
#
# Elements start differing at index 0, delta = 9
# $x->[0] = 1
# $y->[0] = 10
#
# Elements start differing at index 0, delta = 9
# $x->[0] = 1
# $y->[0] = 10
t/Vector.t ......... ok
t/VectorComplex.t .. ok
t/Wavelet.t ........ ok
t/Wavelet2D.t ...... ok
# Testing Math::GSL with GSL 1.16.1 on x86_64-linux-ld, Perl (/opt/perl-5.42.0D/bin/perl) 5.042000
t/ver2func.t ....... ok
All tests successful.
Files=58, Tests=4193, 6 wallclock secs ( 0.40 usr 0.11 sys + 4.97 cusr 0.72 csys = 6.20 CPU)
Result: PASS
------------------------------
PREREQUISITES
------------------------------
Prerequisite modules loaded:
requires:
Module Need Have
---------------- ------- --------
Math::Complex 0 1.63
parent 0 0.244
perl v5.8.1 5.042000
Scalar::Util 0 1.70
version 0.77 0.9933
build_requires:
Module Need Have
---------------- ------- --------
Test::Class 0.12 0.52
Test::Exception 0.21 0.43
Test::More 0 1.302210
Test::Most 0.31 0.38
Test::Taint 1.06 1.08
configure_requires:
Module Need Have
---------------- ------- --------
Math::GSL::Alien 1.03 1.05
Module::Build 0.38 0.4234
PkgConfig 0.07720 0.26026
------------------------------
ENVIRONMENT AND OTHER CONTEXT
------------------------------
Environment variables:
LANG = en_US.UTF-8
PATH = /usr/local/bin:/usr/bin:/bin:/usr/local/sbin:/usr/sbin:/sbin:/home/cpansand/bin/linux-gnu:/home/cpansand/bin/sh:/home/cpansand/bin:/usr/games:/home/cpansand/devel:/home/eserte/src/srezic-misc/scripts
PERL5LIB = /home/cpansand/.local/share/.cpan/build/2025092205/Math-GSL-Alien-1.05-1/blib/arch:/home/cpansand/.local/share/.cpan/build/2025092205/Math-GSL-Alien-1.05-1/blib/lib:/home/cpansand/.local/share/.cpan/build/2025092205/Alien-Role-Dino-0.08-1/blib/arch:/home/cpansand/.local/share/.cpan/build/2025092205/Alien-Role-Dino-0.08-1/blib/lib:/home/cpansand/.local/share/.cpan/build/2025092205/Inline-Filters-0.20-1/blib/arch:/home/cpansand/.local/share/.cpan/build/2025092205/Inline-Filters-0.20-1/blib/lib:/home/cpansand/.local/share/.cpan/build/2025092205/Inline-CPP-0.80-1/blib/arch:/home/cpansand/.local/share/.cpan/build/2025092205/Inline-CPP-0.80-1/blib/lib:/home/cpansand/.local/share/.cpan/build/2025092205/Alien-GSL-1.07-1/blib/arch:/home/cpansand/.local/share/.cpan/build/2025092205/Alien-GSL-1.07-1/blib/lib
PERL5OPT =
PERL5_CPANPLUS_IS_RUNNING = 857861
PERL5_CPAN_IS_RUNNING = 857861
PERL5_CPAN_IS_RUNNING_IN_RECURSION = 857800,857861
PERLDOC = -MPod::Perldoc::ToTextOverstrike
PERL_BATCH = yes
PERL_CANARY_STABILITY_NOPROMPT = 1
PERL_CPAN_REPORTER_CONFIG = /var/tmp/cpansmoker-1023/2025092205/cpanreporter_000_config.ini
PERL_EXTUTILS_AUTOINSTALL = --defaultdeps
PERL_USE_UNSAFE_INC = 1
SHELL = /usr/bin/zsh
TERM = screen
TMPDIR = /var/tmp/cpansmoker-1023/2025092205
Perl special variables (and OS-specific diagnostics, for MSWin32):
$^X = /opt/perl-5.42.0D/bin/perl
$UID/$EUID = 1023 / 1023
$GID = 1023 1023
$EGID = 1023 1023
Perl module toolchain versions installed:
Module Have
------------------- --------
CPAN 2.38
CPAN::Meta 2.150010
Cwd 3.94
ExtUtils::CBuilder 0.280242
ExtUtils::Command 7.76
ExtUtils::Install 2.22
ExtUtils::MakeMaker 7.76
ExtUtils::Manifest 1.75
ExtUtils::ParseXS 3.58
File::Spec 3.94
JSON 4.10
JSON::PP 4.16
Module::Build 0.4234
Module::Signature n/a
Parse::CPAN::Meta 2.150010
Test2 1.302210
Test::Harness 3.50
Test::More 1.302210
YAML 1.31
YAML::Syck 1.34
version 0.9933
--
Summary of my perl5 (revision 5 version 42 subversion 0) configuration:
Platform:
osname=linux
osvers=5.10.0-35-amd64
archname=x86_64-linux-ld
uname='linux cloud7.bbbike.org 5.10.0-35-amd64 #1 smp debian 5.10.237-1 (2025-05-19) x86_64 gnulinux '
config_args='-ds -e -Dprefix=/opt/perl-5.42.0D -Uinstallusrbinperl -Duselongdouble -Dcf_email=srezic@cpan.org'
hint=recommended
useposix=true
d_sigaction=define
useithreads=undef
usemultiplicity=undef
use64bitint=define
use64bitall=define
uselongdouble=define
usemymalloc=n
default_inc_excludes_dot=define
Compiler:
cc='cc'
ccflags ='-fwrapv -fno-strict-aliasing -pipe -fstack-protector-strong -I/usr/local/include -D_LARGEFILE_SOURCE -D_FILE_OFFSET_BITS=64 -D_FORTIFY_SOURCE=2'
optimize='-O2'
cppflags='-fwrapv -fno-strict-aliasing -pipe -fstack-protector-strong -I/usr/local/include'
ccversion=''
gccversion='10.2.1 20210110'
gccosandvers=''
intsize=4
longsize=8
ptrsize=8
doublesize=8
byteorder=12345678
doublekind=3
d_longlong=define
longlongsize=8
d_longdbl=define
longdblsize=16
longdblkind=3
ivtype='long'
ivsize=8
nvtype='long double'
nvsize=16
Off_t='off_t'
lseeksize=8
alignbytes=16
prototype=define
Linker and Libraries:
ld='cc'
ldflags =' -fstack-protector-strong -L/usr/local/lib'
libpth=/usr/local/lib /usr/lib/x86_64-linux-gnu /usr/lib /usr/lib64
libs=-lpthread -lgdbm -ldb -ldl -lm -lcrypt -lutil -lc
perllibs=-lpthread -ldl -lm -lcrypt -lutil -lc
libc=libc-2.31.so
so=so
useshrplib=false
libperl=libperl.a
gnulibc_version='2.31'
Dynamic Linking:
dlsrc=dl_dlopen.xs
dlext=so
d_dlsymun=undef
ccdlflags='-Wl,-E'
cccdlflags='-fPIC'
lddlflags='-shared -O2 -L/usr/local/lib -fstack-protector-strong'
Characteristics of this binary (from libperl):
Compile-time options:
HAS_LONG_DOUBLE
HAS_STRTOLD
HAS_TIMES
PERLIO_LAYERS
PERL_COPY_ON_WRITE
PERL_DONT_CREATE_GVSV
PERL_HASH_FUNC_SIPHASH13
PERL_HASH_USE_SBOX32
PERL_MALLOC_WRAP
PERL_OP_PARENT
PERL_PRESERVE_IVUV
PERL_USE_SAFE_PUTENV
USE_64_BIT_ALL
USE_64_BIT_INT
USE_LARGE_FILES
USE_LOCALE
USE_LOCALE_COLLATE
USE_LOCALE_CTYPE
USE_LOCALE_NUMERIC
USE_LOCALE_TIME
USE_LONG_DOUBLE
USE_PERLIO
USE_PERL_ATOF
Built under linux
Compiled at Jul 3 2025 20:28:56
%ENV:
PERL5LIB="/home/cpansand/.local/share/.cpan/build/2025092205/Math-GSL-Alien-1.05-1/blib/arch:/home/cpansand/.local/share/.cpan/build/2025092205/Math-GSL-Alien-1.05-1/blib/lib:/home/cpansand/.local/share/.cpan/build/2025092205/Alien-Role-Dino-0.08-1/blib/arch:/home/cpansand/.local/share/.cpan/build/2025092205/Alien-Role-Dino-0.08-1/blib/lib:/home/cpansand/.local/share/.cpan/build/2025092205/Inline-Filters-0.20-1/blib/arch:/home/cpansand/.local/share/.cpan/build/2025092205/Inline-Filters-0.20-1/blib/lib:/home/cpansand/.local/share/.cpan/build/2025092205/Inline-CPP-0.80-1/blib/arch:/home/cpansand/.local/share/.cpan/build/2025092205/Inline-CPP-0.80-1/blib/lib:/home/cpansand/.local/share/.cpan/build/2025092205/Alien-GSL-1.07-1/blib/arch:/home/cpansand/.local/share/.cpan/build/2025092205/Alien-GSL-1.07-1/blib/lib"
PERL5OPT=""
PERL5_CPANPLUS_IS_RUNNING="857861"
PERL5_CPAN_IS_RUNNING="857861"
PERL5_CPAN_IS_RUNNING_IN_RECURSION="857800,857861"
PERLDOC="-MPod::Perldoc::ToTextOverstrike"
PERL_BATCH="yes"
PERL_CANARY_STABILITY_NOPROMPT="1"
PERL_CPAN_REPORTER_CONFIG="/var/tmp/cpansmoker-1023/2025092205/cpanreporter_000_config.ini"
PERL_EXTUTILS_AUTOINSTALL="--defaultdeps"
PERL_USE_UNSAFE_INC="1"
@INC:
/home/cpansand/.local/share/.cpan/build/2025092205/Math-GSL-Alien-1.05-1/blib/arch
/home/cpansand/.local/share/.cpan/build/2025092205/Math-GSL-Alien-1.05-1/blib/lib
/home/cpansand/.local/share/.cpan/build/2025092205/Alien-Role-Dino-0.08-1/blib/arch
/home/cpansand/.local/share/.cpan/build/2025092205/Alien-Role-Dino-0.08-1/blib/lib
/home/cpansand/.local/share/.cpan/build/2025092205/Inline-Filters-0.20-1/blib/arch
/home/cpansand/.local/share/.cpan/build/2025092205/Inline-Filters-0.20-1/blib/lib
/home/cpansand/.local/share/.cpan/build/2025092205/Inline-CPP-0.80-1/blib/arch
/home/cpansand/.local/share/.cpan/build/2025092205/Inline-CPP-0.80-1/blib/lib
/home/cpansand/.local/share/.cpan/build/2025092205/Alien-GSL-1.07-1/blib/arch
/home/cpansand/.local/share/.cpan/build/2025092205/Alien-GSL-1.07-1/blib/lib
/opt/perl-5.42.0D/lib/site_perl/5.42.0/x86_64-linux-ld
/opt/perl-5.42.0D/lib/site_perl/5.42.0
/opt/perl-5.42.0D/lib/5.42.0/x86_64-linux-ld
/opt/perl-5.42.0D/lib/5.42.0
.