Report for CGI-Buffer-0.79

Back
From: metabase:user:30f4dfbe-2aae-11df-837a-5e0a49663a4f
Subject: PASS CGI-Buffer-0.79 v5.14.2 GNU/Linux
Date: 2017-01-09T06:36:21Z

This distribution has been tested as part of the CPAN Testers
project, supporting the Perl programming language.  See
http://wiki.cpantesters.org/ for more information or email
questions to cpan-testers-discuss@perl.org


--
Dear Nigel Horne,

This is a computer-generated report for CGI-Buffer-0.79
on perl 5.14.2, created by CPAN-Reporter-1.2018.

Thank you for uploading your work to CPAN.  Congratulations!
All tests were successful.

Sections of this report:

    * Tester comments
    * Program output
    * Prerequisites
    * Environment and other context

------------------------------
TESTER COMMENTS
------------------------------

Additional comments from tester:

none provided

------------------------------
PROGRAM OUTPUT
------------------------------

Output from '/usr/bin/make test':

PERL_DL_NONLAZY=1 "/home/njh/perl5/perlbrew/perls/perl-5.14.2/bin/perl5.14.2" "-MExtUtils::Command::MM" "-MTest::Harness" "-e" "undef *Test::Harness::Switches; test_harness(0, 'blib/lib', 'blib/arch')" t/*.t
# Testing CGI::Buffer 0.79, Perl 5.014002, /home/njh/perl5/perlbrew/perls/perl-5.14.2/bin/perl5.14.2
t/00-load.t ..... ok
t/apoc.t ........ skipped: Test::Apocalypse required for testing the distribution
t/boiler.t ...... ok
t/changes.t ..... skipped: Author tests not required for installation
t/coverage.t .... ok
t/critic.t ...... skipped: Author tests not required for installation
t/cv.t .......... skipped: Author tests not required for installation
t/dist.t ........ skipped: Author tests not required for installation
t/gv.t .......... skipped: Author tests not required for installation
# Using CHI 0.60
t/is_cached.t ... ok
t/js.t .......... ok
t/kwalitee.t .... skipped: Author tests not required for installation
t/last_mod.t .... ok
t/manifest.t .... skipped: Author tests not required for installation
t/metrics.t ..... skipped: Author tests not required for installation
t/namespaces.t .. skipped: Author tests not required for installation
t/noplan.t ...... skipped: Author tests not required for installation
# Ignore warning about <a> is never closed
(1:59): <a> at (1:13) is never closed
(1:66): <head> tag is required
(1:66): <title> tag is required
t/output.t ...... ok
t/pod-cm.t ...... skipped: Test::Pod::Spelling::CommonMistakes required for testing POD spelling
t/pod.t ......... skipped: Author tests not required for installation
t/port.t ........ skipped: Test::Portability::Files required for testing filenames portability
t/prereq.t ...... skipped: Author tests not required for installation
t/snippets.t .... skipped: Author tests not required for installation
t/spelling.t .... skipped: Author tests not required for installation
t/strict.t ...... skipped: Author tests not required for installation
t/too_late.t .... skipped: Test::Carp required for test
t/unused.t ...... skipped: Author tests not required for installation
t/used.t ........ skipped: Author tests not required for installation
t/vars.t ........ skipped: Author tests not required for installation
All tests successful.

Test Summary Report
-------------------
t/boiler.t    (Wstat: 0 Tests: 3 Failed: 0)
  TODO passed:   1-3
Files=29, Tests=134, 43 wallclock secs ( 0.70 usr  0.14 sys + 37.75 cusr  3.07 csys = 41.66 CPU)
Result: PASS

------------------------------
PREREQUISITES
------------------------------

Prerequisite modules loaded:

requires:

    Module               Need     Have    
    -------------------- -------- --------
    Carp                 0        1.36    
    CGI::Info            0.51     0.62    
    Compress::Zlib       0        2.069   
    CSS::Packer          0        2.00    
    Digest::MD5          0        2.55    
    Encode               0        2.82    
    File::Spec           0        3.47    
    HTML::Lint           0        2.22    
    HTML::Packer         1        2.02    
    HTTP::Date           0        6.02    
    HTTP::Status         0        6.09    
    IO::Compress::Brotli 0        0.002001
    IO::String           0        1.08    
    JavaScript::Packer   2        2.00    
    perl                 5.006002 5.014002
    Storable             0        2.27    
    Time::localtime      0        1.02    

build_requires:

    Module               Need     Have    
    -------------------- -------- --------
    DateTime             0        1.25    
    Test::Most           0        0.34    
    Test::TempDir::Tiny  0        0.012   

configure_requires:

    Module               Need     Have    
    -------------------- -------- --------
    ExtUtils::MakeMaker  0        7.18    


------------------------------
ENVIRONMENT AND OTHER CONTEXT
------------------------------

Environment variables:

    LANG = en_GB
    NONINTERACTIVE_TESTING = 1
    PATH = /home/njh/perl5/perlbrew/bin:/home/njh/perl5/perlbrew/perls/perl-5.14.2/bin:/usr/bin:/bin
    PERL5LIB = 
    PERL5OPT = 
    PERL5_CPANPLUS_IS_RUNNING = 18918
    PERL5_CPAN_IS_RUNNING = 18918
    PERLBREW_BASHRC_VERSION = 0.73
    PERLBREW_HOME = /home/njh/.perlbrew
    PERLBREW_MANPATH = /home/njh/perl5/perlbrew/perls/perl-5.14.2/man
    PERLBREW_PATH = /home/njh/perl5/perlbrew/bin:/home/njh/perl5/perlbrew/perls/perl-5.14.2/bin
    PERLBREW_PERL = perl-5.14.2
    PERLBREW_ROOT = /home/njh/perl5/perlbrew
    PERLBREW_VERSION = 0.73
    PERL_MM_USE_DEFAULT = 1
    SHELL = /bin/sh
    TMPDIR = /home/njh/tmp

Perl special variables (and OS-specific diagnostics, for MSWin32):

    $^X = /home/njh/perl5/perlbrew/perls/perl-5.14.2/bin/perl5.14.2
    $UID/$EUID = 1000 / 1000
    $GID = 1000 4 24 25 29 30 44 46 200 1000
    $EGID = 1000 4 24 25 29 30 44 46 200 1000

Perl module toolchain versions installed:

    Module              Have    
    ------------------- --------
    CPAN                2.10    
    CPAN::Meta          2.150005
    Cwd                 3.47    
    ExtUtils::CBuilder  0.280224
    ExtUtils::Command   7.18    
    ExtUtils::Install   2.04    
    ExtUtils::MakeMaker 7.18    
    ExtUtils::Manifest  1.70    
    ExtUtils::ParseXS   3.30    
    File::Spec          3.47    
    JSON                2.90    
    JSON::PP            2.27300 
    Module::Build       0.4216  
    Module::Signature   n/a     
    Parse::CPAN::Meta   1.4417  
    Test::Harness       3.36    
    Test::More          1.001014
    YAML                1.15    
    YAML::Syck          1.29    
    version             0.9915  


--

Summary of my perl5 (revision 5 version 14 subversion 2) configuration:
   
  Platform:
    osname=linux, osvers=3.18.13-v7+, archname=armv7l-linux-thread-multi
    uname='linux pi2a 3.18.13-v7+ #785 smp preempt mon may 18 17:53:02 bst 2015 armv7l gnulinux '
    config_args='-de -Dprefix=/home/njh/perl5/perlbrew/perls/perl-5.14.2 -Duseithreads -Dusemultiplicity -Dusedevel -Accflags= -Aeval:scriptdir=/home/njh/perl5/perlbrew/perls/perl-5.14.2/bin'
    hint=recommended, useposix=true, d_sigaction=define
    useithreads=define, usemultiplicity=define
    useperlio=define, d_sfio=undef, uselargefiles=define, usesocks=undef
    use64bitint=undef, use64bitall=undef, uselongdouble=undef
    usemymalloc=n, bincompat5005=undef
  Compiler:
    cc='cc', ccflags ='-D_REENTRANT -D_GNU_SOURCE -fno-strict-aliasing -pipe -fstack-protector -I/usr/local/include -D_LARGEFILE_SOURCE -D_FILE_OFFSET_BITS=64',
    optimize='-O2',
    cppflags='-D_REENTRANT -D_GNU_SOURCE -fno-strict-aliasing -pipe -fstack-protector -I/usr/local/include'
    ccversion='', gccversion='4.6.3', gccosandvers=''
    intsize=4, longsize=4, ptrsize=4, doublesize=8, byteorder=1234
    d_longlong=define, longlongsize=8, d_longdbl=define, longdblsize=8
    ivtype='long', ivsize=4, nvtype='double', nvsize=8, Off_t='off_t', lseeksize=8
    alignbytes=8, prototype=define
  Linker and Libraries:
    ld='cc', ldflags =' -fstack-protector -L/usr/local/lib'
    libpth=/usr/local/lib /lib/arm-linux-gnueabihf /lib /usr/lib/arm-linux-gnueabihf /usr/lib
    libs=-lnsl -lgdbm -ldb -ldl -lm -lcrypt -lutil -lpthread -lc -lgdbm_compat
    perllibs=-lnsl -ldl -lm -lcrypt -lutil -lpthread -lc
    libc=libc-2.13.so, so=so, useshrplib=false, libperl=libperl.a
    gnulibc_version='2.13'
  Dynamic Linking:
    dlsrc=dl_dlopen.xs, dlext=so, d_dlsymun=undef, ccdlflags='-Wl,-E'
    cccdlflags='-fPIC', lddlflags='-shared -O2 -L/usr/local/lib -fstack-protector'


Characteristics of this binary (from libperl): 
  Compile-time options: MULTIPLICITY PERL_DONT_CREATE_GVSV
                        PERL_IMPLICIT_CONTEXT PERL_MALLOC_WRAP
                        PERL_PRESERVE_IVUV PERL_USE_DEVEL USE_ITHREADS
                        USE_LARGE_FILES USE_PERLIO USE_PERL_ATOF
                        USE_REENTRANT_API
  Locally applied patches:
	Devel::PatchPerl 1.34
  Built under linux
  Compiled at Jun  1 2015 11:26:18
  %ENV:
    PERL5LIB=""
    PERL5OPT=""
    PERL5_CPANPLUS_IS_RUNNING="18918"
    PERL5_CPAN_IS_RUNNING="18918"
    PERLBREW_BASHRC_VERSION="0.73"
    PERLBREW_HOME="/home/njh/.perlbrew"
    PERLBREW_MANPATH="/home/njh/perl5/perlbrew/perls/perl-5.14.2/man"
    PERLBREW_PATH="/home/njh/perl5/perlbrew/bin:/home/njh/perl5/perlbrew/perls/perl-5.14.2/bin"
    PERLBREW_PERL="perl-5.14.2"
    PERLBREW_ROOT="/home/njh/perl5/perlbrew"
    PERLBREW_VERSION="0.73"
    PERL_MM_USE_DEFAULT="1"
  @INC:
    /home/njh/perl5/perlbrew/perls/perl-5.14.2/lib/site_perl/5.14.2/armv7l-linux-thread-multi
    /home/njh/perl5/perlbrew/perls/perl-5.14.2/lib/site_perl/5.14.2
    /home/njh/perl5/perlbrew/perls/perl-5.14.2/lib/5.14.2/armv7l-linux-thread-multi
    /home/njh/perl5/perlbrew/perls/perl-5.14.2/lib/5.14.2
    .