Mail-Mbox-MessageParser v1.5111 Perl 5 v5.37.7 x86_64-linux

Status
Pass
From
Andreas J. König (ANDK)
Dist
Mail-Mbox-MessageParser v1.5111
Platform
Perl 5 v5.37.7 x86_64-linux
Date
2023-01-11 03:35:03
ID
ef292982-9160-11ed-8cc7-c00e871d758e
This distribution has been tested as part of the CPAN Testers
project, supporting the Perl programming language.  See
http://wiki.cpantesters.org/ for more information or email
questions to cpan-testers-discuss@perl.org


--
Dear David Coppit,

This is a computer-generated report for Mail-Mbox-MessageParser-1.5111
on perl 5.37.7, created by CPAN-Reporter-1.2018.

Thank you for uploading your work to CPAN.  Congratulations!
All tests were successful.

Sections of this report:

    * Tester comments
    * Program output
    * Prerequisites
    * Environment and other context

------------------------------
TESTER COMMENTS
------------------------------

Additional comments from tester:

this report is from an automated smoke testing program
and was not reviewed by a human for accuracy

------------------------------
PROGRAM OUTPUT
------------------------------

Output from '/usr/bin/make test':

PERL_DL_NONLAZY=1 "/tmp/basesmoker-reloperl-jzc2/bin/perl" "-MExtUtils::Command::MM" "-MTest::Harness" "-e" "undef *Test::Harness::Switches; test_harness(1, 'blib/lib', 'blib/arch')" t/*.t
t/000_standard__compile.t ....... 
1..6
ok 1 - blib/lib/Mail/Mbox/MessageParser.pm compiles
ok 2 - blib/lib/Mail/Mbox/MessageParser/Grep.pm compiles
ok 3 - blib/lib/Mail/Mbox/MessageParser/MetaInfo.pm compiles
ok 4 - blib/lib/Mail/Mbox/MessageParser/Cache.pm compiles
ok 5 - blib/lib/Mail/Mbox/MessageParser/Config.pm compiles
ok 6 - blib/lib/Mail/Mbox/MessageParser/Perl.pm compiles
ok
t/000_standard__perl_critic.t ... skipped: Author test. Set $ENV{TEST_AUTHOR} to a true value to run.
t/000_standard__pod.t ........... 
1..6
ok 1 - POD test for blib/lib/Mail/Mbox/MessageParser.pm
ok 2 - POD test for blib/lib/Mail/Mbox/MessageParser/Grep.pm
ok 3 - POD test for blib/lib/Mail/Mbox/MessageParser/MetaInfo.pm
ok 4 - POD test for blib/lib/Mail/Mbox/MessageParser/Cache.pm
ok 5 - POD test for blib/lib/Mail/Mbox/MessageParser/Config.pm
ok 6 - POD test for blib/lib/Mail/Mbox/MessageParser/Perl.pm
ok
t/000_standard__pod_coverage.t .. 
1..6
ok 1 - Pod coverage on Mail::Mbox::MessageParser
ok 2 - Pod coverage on Mail::Mbox::MessageParser::Grep
ok 3 - Pod coverage on Mail::Mbox::MessageParser::MetaInfo
ok 4 - Pod coverage on Mail::Mbox::MessageParser::Cache
ok 5 - Pod coverage on Mail::Mbox::MessageParser::Config
ok 6 - Pod coverage on Mail::Mbox::MessageParser::Perl
ok
t/appended_mailbox.t ............ 
1..6
Testing modified mailbox with Perl implementation
Comparing /tmp/YwHsRECSCG to t/mailboxes/mailarc-1.txt
Output /tmp/YwHsRECSCG looks good.
ok 1 - Computing differences
Testing modified mailbox with Cache implementation
Comparing /tmp/6D6ZJIN0jB to t/mailboxes/mailarc-1.txt
Output /tmp/6D6ZJIN0jB looks good.
ok 2 - Computing differences
Testing modified mailbox with Grep implementation
ok 3 # skip GNU grep not available
Testing modified mailbox with Perl implementation
Comparing /tmp/C61riVe14J to t/mailboxes/mailarc-1.txt
Output /tmp/C61riVe14J looks good.
ok 4 - Computing differences
Testing modified mailbox with Cache implementation
Comparing /tmp/pP4YVc_XaE to t/mailboxes/mailarc-1.txt
Output /tmp/pP4YVc_XaE looks good.
ok 5 - Computing differences
Testing modified mailbox with Grep implementation
ok 6 # skip GNU grep not available
ok
t/bzip2.t ....................... 
1..1
Running test:
  "/usr/bin/cat" "t/mailboxes/mailarc-2.txt.bz2" | "/usr/bin/bzip2" -cd
Comparing /tmp/vpzZwfG1OV to t/results/mailarc-2.txt
Output /tmp/vpzZwfG1OV looks good.
Comparing /tmp/bGi9R4GDlu to t/results/none
Output /tmp/bGi9R4GDlu looks good.
ok 1 - Computing differences
ok
t/endline.t ..................... 
1..8
Testing filename: t/mailboxes/mailarc-1-dos.txt
ok 1 - Dos endline expected
ok 2 - Dos endline expected
ok 3 - Dos endline expected
ok 4 # skip GNU grep not available
Testing filename: t/mailboxes/mailarc-1.txt
ok 5 - Unix endline expected
ok 6 - Unix endline expected
ok 7 - Unix endline expected
ok 8 # skip GNU grep not available
ok
t/filehandle_compressed.t ....... 
1..16
Testing filename: t/mailboxes/mailarc-2.txt.bz2
Comparing /tmp/hjxfNZsyDO to t/mailboxes/mailarc-2.txt
Output /tmp/hjxfNZsyDO looks good.
ok 1 - Computing differences
Comparing /tmp/y0zAK7aQcI to t/mailboxes/mailarc-2.txt
Output /tmp/y0zAK7aQcI looks good.
ok 2 - Computing differences
Comparing /tmp/zPHP0dQ0qq to t/mailboxes/mailarc-2.txt
Output /tmp/zPHP0dQ0qq looks good.
ok 3 - Computing differences
ok 4 # skip GNU grep not available
Testing filename: t/mailboxes/mailarc-2.txt.gz
Comparing /tmp/lMwsTwgRD5 to t/mailboxes/mailarc-2.txt
Output /tmp/lMwsTwgRD5 looks good.
ok 5 - Computing differences
Comparing /tmp/QOH0h0xAjX to t/mailboxes/mailarc-2.txt
Output /tmp/QOH0h0xAjX looks good.
ok 6 - Computing differences
Comparing /tmp/5v3M7gLqxT to t/mailboxes/mailarc-2.txt
Output /tmp/5v3M7gLqxT looks good.
ok 7 - Computing differences
ok 8 # skip GNU grep not available
Testing filename: t/mailboxes/mailarc-2.txt.lz
ok 9 # skip lzip not available
ok 10 # skip lzip not available
ok 11 # skip lzip not available
ok 12 # skip lzip not available
Testing filename: t/mailboxes/mailarc-2.txt.xz
Comparing /tmp/fucCVPZBtV to t/mailboxes/mailarc-2.txt
Output /tmp/fucCVPZBtV looks good.
ok 13 - Computing differences
Comparing /tmp/x97YA47eJl to t/mailboxes/mailarc-2.txt
Output /tmp/x97YA47eJl looks good.
ok 14 - Computing differences
Comparing /tmp/TAeq74mTZB to t/mailboxes/mailarc-2.txt
Output /tmp/TAeq74mTZB looks good.
ok 15 - Computing differences
ok 16 # skip GNU grep not available
ok
t/filehandle_noncompressed.t .... 
1..44
Testing filename: t/mailboxes/binary_body.txt
Comparing /tmp/4fgB4_j8gt to t/mailboxes/binary_body.txt
Output /tmp/4fgB4_j8gt looks good.
ok 1 - Computing differences
Comparing /tmp/5iME6uEn_Q to t/mailboxes/binary_body.txt
Output /tmp/5iME6uEn_Q looks good.
ok 2 - Computing differences
Comparing /tmp/eeduWPoS1u to t/mailboxes/binary_body.txt
Output /tmp/eeduWPoS1u looks good.
ok 3 - Computing differences
ok 4 # skip GNU grep not available
Testing filename: t/mailboxes/hessbug.txt
Comparing /tmp/Neb1bwybMQ to t/mailboxes/hessbug.txt
Output /tmp/Neb1bwybMQ looks good.
ok 5 - Computing differences
Comparing /tmp/e0v5b_YpOG to t/mailboxes/hessbug.txt
Output /tmp/e0v5b_YpOG looks good.
ok 6 - Computing differences
Comparing /tmp/aIdujX0nma to t/mailboxes/hessbug.txt
Output /tmp/aIdujX0nma looks good.
ok 7 - Computing differences
ok 8 # skip GNU grep not available
Testing filename: t/mailboxes/invalid-boundaries.txt
Comparing /tmp/0DUKC4VLga to t/mailboxes/invalid-boundaries.txt
Output /tmp/0DUKC4VLga looks good.
ok 9 - Computing differences
Comparing /tmp/hOAh8QztvJ to t/mailboxes/invalid-boundaries.txt
Output /tmp/hOAh8QztvJ looks good.
ok 10 - Computing differences
Comparing /tmp/SEvm8n8ZOt to t/mailboxes/invalid-boundaries.txt
Output /tmp/SEvm8n8ZOt looks good.
ok 11 - Computing differences
ok 12 # skip GNU grep not available
Testing filename: t/mailboxes/mailarc-1-dos.txt
Comparing /tmp/xqklXagGnq to t/mailboxes/mailarc-1-dos.txt
Output /tmp/xqklXagGnq looks good.
ok 13 - Computing differences
Comparing /tmp/wRdfBGq_P3 to t/mailboxes/mailarc-1-dos.txt
Output /tmp/wRdfBGq_P3 looks good.
ok 14 - Computing differences
Comparing /tmp/2XF01ODUYc to t/mailboxes/mailarc-1-dos.txt
Output /tmp/2XF01ODUYc looks good.
ok 15 - Computing differences
ok 16 # skip GNU grep not available
Testing filename: t/mailboxes/mailarc-1.txt
Comparing /tmp/2NjQSVKCdb to t/mailboxes/mailarc-1.txt
Output /tmp/2NjQSVKCdb looks good.
ok 17 - Computing differences
Comparing /tmp/4FbAFHUZbq to t/mailboxes/mailarc-1.txt
Output /tmp/4FbAFHUZbq looks good.
ok 18 - Computing differences
Comparing /tmp/nEzZhhVK4J to t/mailboxes/mailarc-1.txt
Output /tmp/nEzZhhVK4J looks good.
ok 19 - Computing differences
ok 20 # skip GNU grep not available
Testing filename: t/mailboxes/mailarc-2.txt
Comparing /tmp/EyXaCVK5EV to t/mailboxes/mailarc-2.txt
Output /tmp/EyXaCVK5EV looks good.
ok 21 - Computing differences
Comparing /tmp/ZFmWtgVYjf to t/mailboxes/mailarc-2.txt
Output /tmp/ZFmWtgVYjf looks good.
ok 22 - Computing differences
Comparing /tmp/WaC_V2zTp1 to t/mailboxes/mailarc-2.txt
Output /tmp/WaC_V2zTp1 looks good.
ok 23 - Computing differences
ok 24 # skip GNU grep not available
Testing filename: t/mailboxes/mailarc-3.txt
Comparing /tmp/uvqk4pHq7K to t/mailboxes/mailarc-3.txt
Output /tmp/uvqk4pHq7K looks good.
ok 25 - Computing differences
Comparing /tmp/x8QO0tJ4cS to t/mailboxes/mailarc-3.txt
Output /tmp/x8QO0tJ4cS looks good.
ok 26 - Computing differences
Comparing /tmp/_dxrTrY4Rv to t/mailboxes/mailarc-3.txt
Output /tmp/_dxrTrY4Rv looks good.
ok 27 - Computing differences
ok 28 # skip GNU grep not available
Testing filename: t/mailboxes/mailseparators.txt
Comparing /tmp/FtgnJ823gO to t/mailboxes/mailseparators.txt
Output /tmp/FtgnJ823gO looks good.
ok 29 - Computing differences
Comparing /tmp/_PXpj6HqIu to t/mailboxes/mailseparators.txt
Output /tmp/_PXpj6HqIu looks good.
ok 30 - Computing differences
Comparing /tmp/m8PyAAqg3C to t/mailboxes/mailseparators.txt
Output /tmp/m8PyAAqg3C looks good.
ok 31 - Computing differences
ok 32 # skip GNU grep not available
Testing filename: t/mailboxes/malformed.txt
Comparing /tmp/wR94bW4bp7 to t/mailboxes/malformed.txt
Output /tmp/wR94bW4bp7 looks good.
ok 33 - Computing differences
Comparing /tmp/zgCfq9F1Gi to t/mailboxes/malformed.txt
Output /tmp/zgCfq9F1Gi looks good.
ok 34 - Computing differences
Comparing /tmp/XvroJr6DQ_ to t/mailboxes/malformed.txt
Output /tmp/XvroJr6DQ_ looks good.
ok 35 - Computing differences
ok 36 # skip GNU grep not available
Testing filename: t/mailboxes/newlines_at_beginning.txt
Comparing /tmp/RHcCoMNdWj to t/mailboxes/newlines_at_beginning.txt
Output /tmp/RHcCoMNdWj looks good.
ok 37 - Computing differences
Comparing /tmp/nMIWqCubrg to t/mailboxes/newlines_at_beginning.txt
Output /tmp/nMIWqCubrg looks good.
ok 38 - Computing differences
Comparing /tmp/itSR0cR_NB to t/mailboxes/newlines_at_beginning.txt
Output /tmp/itSR0cR_NB looks good.
ok 39 - Computing differences
ok 40 # skip GNU grep not available
Testing filename: t/mailboxes/vm-emacs.txt
Comparing /tmp/H34YEUHd9_ to t/mailboxes/vm-emacs.txt
Output /tmp/H34YEUHd9_ looks good.
ok 41 - Computing differences
Comparing /tmp/Drp4qAkzcJ to t/mailboxes/vm-emacs.txt
Output /tmp/Drp4qAkzcJ looks good.
ok 42 - Computing differences
Comparing /tmp/ofSLnhKJYt to t/mailboxes/vm-emacs.txt
Output /tmp/ofSLnhKJYt looks good.
ok 43 - Computing differences
ok 44 # skip GNU grep not available
ok
t/filename_compressed.t ......... 
1..4
Testing filename: t/mailboxes/mailarc-2.txt.bz2
Comparing /tmp/J0ZX3yRtt_ to t/mailboxes/mailarc-2.txt
Output /tmp/J0ZX3yRtt_ looks good.
ok 1 - Computing differences
Testing filename: t/mailboxes/mailarc-2.txt.gz
Comparing /tmp/KuWpFphrZY to t/mailboxes/mailarc-2.txt
Output /tmp/KuWpFphrZY looks good.
ok 2 - Computing differences
Testing filename: t/mailboxes/mailarc-2.txt.lz
ok 3 # skip lzip not available
Testing filename: t/mailboxes/mailarc-2.txt.xz
Comparing /tmp/dHH0OnyX_q to t/mailboxes/mailarc-2.txt
Output /tmp/dHH0OnyX_q looks good.
ok 4 - Computing differences
ok
t/filename_noncompressed.t ...... 
1..11
Testing filename: t/mailboxes/binary_body.txt
Comparing /tmp/n4hOZ1IWoB to t/mailboxes/binary_body.txt
Output /tmp/n4hOZ1IWoB looks good.
ok 1 - Computing differences
Testing filename: t/mailboxes/hessbug.txt
Comparing /tmp/FYz90RiGgp to t/mailboxes/hessbug.txt
Output /tmp/FYz90RiGgp looks good.
ok 2 - Computing differences
Testing filename: t/mailboxes/invalid-boundaries.txt
Comparing /tmp/lukVXbWPTI to t/mailboxes/invalid-boundaries.txt
Output /tmp/lukVXbWPTI looks good.
ok 3 - Computing differences
Testing filename: t/mailboxes/mailarc-1-dos.txt
Comparing /tmp/ePEuGBgypE to t/mailboxes/mailarc-1-dos.txt
Output /tmp/ePEuGBgypE looks good.
ok 4 - Computing differences
Testing filename: t/mailboxes/mailarc-1.txt
Comparing /tmp/Fetrsx8Mta to t/mailboxes/mailarc-1.txt
Output /tmp/Fetrsx8Mta looks good.
ok 5 - Computing differences
Testing filename: t/mailboxes/mailarc-2.txt
Comparing /tmp/RkhtndVqC7 to t/mailboxes/mailarc-2.txt
Output /tmp/RkhtndVqC7 looks good.
ok 6 - Computing differences
Testing filename: t/mailboxes/mailarc-3.txt
Comparing /tmp/noMMrc0nXH to t/mailboxes/mailarc-3.txt
Output /tmp/noMMrc0nXH looks good.
ok 7 - Computing differences
Testing filename: t/mailboxes/mailseparators.txt
Comparing /tmp/NscojvotLk to t/mailboxes/mailseparators.txt
Output /tmp/NscojvotLk looks good.
ok 8 - Computing differences
Testing filename: t/mailboxes/malformed.txt
Comparing /tmp/KpvMzuQ8Lk to t/mailboxes/malformed.txt
Output /tmp/KpvMzuQ8Lk looks good.
ok 9 - Computing differences
Testing filename: t/mailboxes/newlines_at_beginning.txt
Comparing /tmp/yOCIDVfnO_ to t/mailboxes/newlines_at_beginning.txt
Output /tmp/yOCIDVfnO_ looks good.
ok 10 - Computing differences
Testing filename: t/mailboxes/vm-emacs.txt
Comparing /tmp/5BI66imim2 to t/mailboxes/vm-emacs.txt
Output /tmp/5BI66imim2 looks good.
ok 11 - Computing differences
ok
t/grep.t ........................ 
1..4
Running test:
  unset LC_ALL LC_COLLATE LANG LC_CTYPE LC_MESSAGES; grep --extended-regexp --line-number --byte-offset --binary-files=text "^From [^:]+(:[0-9][0-9]){1,2}(  *([A-Z]{2,6}|[+-]?[0-9]{4})){1,3}( remote from .*)?
?$" t/mailboxes/mailarc-1.txt
ok 1 # skip 1
Running test:
  unset LC_ALL LC_COLLATE LANG LC_CTYPE LC_MESSAGES; grep --extended-regexp --line-number --byte-offset --binary-files=text "^From [^:]+(:[0-9][0-9]){1,2}(  *([A-Z]{2,6}|[+-]?[0-9]{4})){1,3}( remote from .*)?
?$" t/mailboxes/mailarc-2.txt
ok 2 # skip 1
Running test:
  unset LC_ALL LC_COLLATE LANG LC_CTYPE LC_MESSAGES; grep --extended-regexp --line-number --byte-offset --binary-files=text "^From [^:]+(:[0-9][0-9]){1,2}(  *([A-Z]{2,6}|[+-]?[0-9]{4})){1,3}( remote from .*)?
?$" t/mailboxes/mailarc-3.txt
ok 3 # skip 1
Running test:
  unset LC_ALL LC_COLLATE LANG LC_CTYPE LC_MESSAGES; grep --extended-regexp --line-number --byte-offset --binary-files=text "^From [^:]+(:[0-9][0-9]){1,2}(  *([A-Z]{2,6}|[+-]?[0-9]{4})){1,3}( remote from .*)?
?$" t/mailboxes/mailseparators.txt
ok 4 # skip 1
ok
t/gzip.t ........................ 
1..1
Running test:
  "/usr/bin/cat" "t/mailboxes/mailarc-2.txt.gz" | "/usr/bin/gzip" -cd
Comparing /tmp/Rcvq52bGIP to t/results/mailarc-2.txt
Output /tmp/Rcvq52bGIP looks good.
Comparing /tmp/c24WatkHeT to t/results/none
Output /tmp/c24WatkHeT looks good.
ok 1 - Computing differences
ok
t/length.t ...................... 
1..30
Testing filename: t/mailboxes/binary_body.txt
Comparing /tmp/kpwRX4_8aK to t/results/length_binary_body.stdout
Output /tmp/kpwRX4_8aK looks good.
ok 1 - Computing differences
Comparing /tmp/ns38T1Jhmd to t/results/length_binary_body.stdout
Output /tmp/ns38T1Jhmd looks good.
ok 2 - Computing differences
ok 3 # skip GNU grep not available
Testing filename: t/mailboxes/hessbug.txt
Comparing /tmp/7LTuG7PaSD to t/results/length_hessbug.stdout
Output /tmp/7LTuG7PaSD looks good.
ok 4 - Computing differences
Comparing /tmp/Bu5G7URpkt to t/results/length_hessbug.stdout
Output /tmp/Bu5G7URpkt looks good.
ok 5 - Computing differences
ok 6 # skip GNU grep not available
Testing filename: t/mailboxes/invalid-boundaries.txt
Comparing /tmp/l_BQbXWjdd to t/results/length_invalid-boundaries.stdout
Output /tmp/l_BQbXWjdd looks good.
ok 7 - Computing differences
Comparing /tmp/acSYstiP2N to t/results/length_invalid-boundaries.stdout
Output /tmp/acSYstiP2N looks good.
ok 8 - Computing differences
ok 9 # skip GNU grep not available
Testing filename: t/mailboxes/mailarc-1-dos.txt
Comparing /tmp/C6LTOQLFzc to t/results/length_mailarc-1-dos.stdout
Output /tmp/C6LTOQLFzc looks good.
ok 10 - Computing differences
Comparing /tmp/gtadqOaSQA to t/results/length_mailarc-1-dos.stdout
Output /tmp/gtadqOaSQA looks good.
ok 11 - Computing differences
ok 12 # skip GNU grep not available
Testing filename: t/mailboxes/mailarc-1.txt
Comparing /tmp/sMW6qxQ7I4 to t/results/length_mailarc-1.stdout
Output /tmp/sMW6qxQ7I4 looks good.
ok 13 - Computing differences
Comparing /tmp/YAl0Odyw_D to t/results/length_mailarc-1.stdout
Output /tmp/YAl0Odyw_D looks good.
ok 14 - Computing differences
ok 15 # skip GNU grep not available
Testing filename: t/mailboxes/mailarc-2.txt
Comparing /tmp/bW7LKaltPI to t/results/length_mailarc-2.stdout
Output /tmp/bW7LKaltPI looks good.
ok 16 - Computing differences
Comparing /tmp/A06OSLPP6b to t/results/length_mailarc-2.stdout
Output /tmp/A06OSLPP6b looks good.
ok 17 - Computing differences
ok 18 # skip GNU grep not available
Testing filename: t/mailboxes/mailarc-3.txt
Comparing /tmp/gEfEhAGGUH to t/results/length_mailarc-3.stdout
Output /tmp/gEfEhAGGUH looks good.
ok 19 - Computing differences
Comparing /tmp/yUkct2p1Z0 to t/results/length_mailarc-3.stdout
Output /tmp/yUkct2p1Z0 looks good.
ok 20 - Computing differences
ok 21 # skip GNU grep not available
Testing filename: t/mailboxes/mailseparators.txt
Comparing /tmp/9Abu0Z7V1k to t/results/length_mailseparators.stdout
Output /tmp/9Abu0Z7V1k looks good.
ok 22 - Computing differences
Comparing /tmp/_lZ4Zn1d80 to t/results/length_mailseparators.stdout
Output /tmp/_lZ4Zn1d80 looks good.
ok 23 - Computing differences
ok 24 # skip GNU grep not available
Testing filename: t/mailboxes/malformed.txt
Comparing /tmp/b34kbsEiyd to t/results/length_malformed.stdout
Output /tmp/b34kbsEiyd looks good.
ok 25 - Computing differences
Comparing /tmp/frptVa1HvD to t/results/length_malformed.stdout
Output /tmp/frptVa1HvD looks good.
ok 26 - Computing differences
ok 27 # skip GNU grep not available
Testing filename: t/mailboxes/newlines_at_beginning.txt
Comparing /tmp/JgzNkDsNVh to t/results/length_newlines_at_beginning.stdout
Output /tmp/JgzNkDsNVh looks good.
ok 28 - Computing differences
Comparing /tmp/UWpGEH7a_P to t/results/length_newlines_at_beginning.stdout
Output /tmp/UWpGEH7a_P looks good.
ok 29 - Computing differences
ok 30 # skip GNU grep not available
ok
t/line_number.t ................. 
1..30
Testing filename: t/mailboxes/binary_body.txt
Comparing /tmp/WdyFkKH5vp to t/results/line_number_binary_body.stdout
Output /tmp/WdyFkKH5vp looks good.
ok 1 - Computing differences
Comparing /tmp/TEwZSPZMD1 to t/results/line_number_binary_body.stdout
Output /tmp/TEwZSPZMD1 looks good.
ok 2 - Computing differences
ok 3 # skip GNU grep not available
Testing filename: t/mailboxes/hessbug.txt
Comparing /tmp/OUukwk6AOF to t/results/line_number_hessbug.stdout
Output /tmp/OUukwk6AOF looks good.
ok 4 - Computing differences
Comparing /tmp/uKQErwHPra to t/results/line_number_hessbug.stdout
Output /tmp/uKQErwHPra looks good.
ok 5 - Computing differences
ok 6 # skip GNU grep not available
Testing filename: t/mailboxes/invalid-boundaries.txt
Comparing /tmp/1QRrmRigOP to t/results/line_number_invalid-boundaries.stdout
Output /tmp/1QRrmRigOP looks good.
ok 7 - Computing differences
Comparing /tmp/NaDBqPY0LK to t/results/line_number_invalid-boundaries.stdout
Output /tmp/NaDBqPY0LK looks good.
ok 8 - Computing differences
ok 9 # skip GNU grep not available
Testing filename: t/mailboxes/mailarc-1-dos.txt
Comparing /tmp/pHGmwF5_bE to t/results/line_number_mailarc-1-dos.stdout
Output /tmp/pHGmwF5_bE looks good.
ok 10 - Computing differences
Comparing /tmp/d5QZbd3Hdx to t/results/line_number_mailarc-1-dos.stdout
Output /tmp/d5QZbd3Hdx looks good.
ok 11 - Computing differences
ok 12 # skip GNU grep not available
Testing filename: t/mailboxes/mailarc-1.txt
Comparing /tmp/2Oy_4GW_lW to t/results/line_number_mailarc-1.stdout
Output /tmp/2Oy_4GW_lW looks good.
ok 13 - Computing differences
Comparing /tmp/rQcJCRIwxL to t/results/line_number_mailarc-1.stdout
Output /tmp/rQcJCRIwxL looks good.
ok 14 - Computing differences
ok 15 # skip GNU grep not available
Testing filename: t/mailboxes/mailarc-2.txt
Comparing /tmp/KrMXEum_oi to t/results/line_number_mailarc-2.stdout
Output /tmp/KrMXEum_oi looks good.
ok 16 - Computing differences
Comparing /tmp/nu95tqsuSV to t/results/line_number_mailarc-2.stdout
Output /tmp/nu95tqsuSV looks good.
ok 17 - Computing differences
ok 18 # skip GNU grep not available
Testing filename: t/mailboxes/mailarc-3.txt
Comparing /tmp/rVd8mYuQML to t/results/line_number_mailarc-3.stdout
Output /tmp/rVd8mYuQML looks good.
ok 19 - Computing differences
Comparing /tmp/wjeTbfjGre to t/results/line_number_mailarc-3.stdout
Output /tmp/wjeTbfjGre looks good.
ok 20 - Computing differences
ok 21 # skip GNU grep not available
Testing filename: t/mailboxes/mailseparators.txt
Comparing /tmp/mzu3g2rynQ to t/results/line_number_mailseparators.stdout
Output /tmp/mzu3g2rynQ looks good.
ok 22 - Computing differences
Comparing /tmp/QDA3BjoKZO to t/results/line_number_mailseparators.stdout
Output /tmp/QDA3BjoKZO looks good.
ok 23 - Computing differences
ok 24 # skip GNU grep not available
Testing filename: t/mailboxes/malformed.txt
Comparing /tmp/440QHRSJP3 to t/results/line_number_malformed.stdout
Output /tmp/440QHRSJP3 looks good.
ok 25 - Computing differences
Comparing /tmp/TN5zTH5_sT to t/results/line_number_malformed.stdout
Output /tmp/TN5zTH5_sT looks good.
ok 26 - Computing differences
ok 27 # skip GNU grep not available
Testing filename: t/mailboxes/newlines_at_beginning.txt
Comparing /tmp/irFILoAVKD to t/results/line_number_newlines_at_beginning.stdout
Output /tmp/irFILoAVKD looks good.
ok 28 - Computing differences
Comparing /tmp/ZN8mtHRlma to t/results/line_number_newlines_at_beginning.stdout
Output /tmp/ZN8mtHRlma looks good.
ok 29 - Computing differences
ok 30 # skip GNU grep not available
ok
t/lzip.t ........................ 
1..1
Running test:
  "/usr/bin/cat" "t/mailboxes/mailarc-2.txt.lz" | "lzip" -cd
ok 1 # skip lzip not available
ok
t/number.t ...................... 
1..30
Testing filename: t/mailboxes/binary_body.txt
Comparing /tmp/q2CYhxLsQm to t/results/number_binary_body.stdout
Output /tmp/q2CYhxLsQm looks good.
ok 1 - Computing differences
Comparing /tmp/5hUBhbyquW to t/results/number_binary_body.stdout
Output /tmp/5hUBhbyquW looks good.
ok 2 - Computing differences
ok 3 # skip GNU grep not available
Testing filename: t/mailboxes/hessbug.txt
Comparing /tmp/OjtpY4fGSD to t/results/number_hessbug.stdout
Output /tmp/OjtpY4fGSD looks good.
ok 4 - Computing differences
Comparing /tmp/88448hEmI4 to t/results/number_hessbug.stdout
Output /tmp/88448hEmI4 looks good.
ok 5 - Computing differences
ok 6 # skip GNU grep not available
Testing filename: t/mailboxes/invalid-boundaries.txt
Comparing /tmp/ZyouMGiPUK to t/results/number_invalid-boundaries.stdout
Output /tmp/ZyouMGiPUK looks good.
ok 7 - Computing differences
Comparing /tmp/xjYM_FtVBZ to t/results/number_invalid-boundaries.stdout
Output /tmp/xjYM_FtVBZ looks good.
ok 8 - Computing differences
ok 9 # skip GNU grep not available
Testing filename: t/mailboxes/mailarc-1-dos.txt
Comparing /tmp/RtfQ_kyrSG to t/results/number_mailarc-1-dos.stdout
Output /tmp/RtfQ_kyrSG looks good.
ok 10 - Computing differences
Comparing /tmp/zt42xoBuKw to t/results/number_mailarc-1-dos.stdout
Output /tmp/zt42xoBuKw looks good.
ok 11 - Computing differences
ok 12 # skip GNU grep not available
Testing filename: t/mailboxes/mailarc-1.txt
Comparing /tmp/4tlaqsCkZM to t/results/number_mailarc-1.stdout
Output /tmp/4tlaqsCkZM looks good.
ok 13 - Computing differences
Comparing /tmp/ARbhUn8O6x to t/results/number_mailarc-1.stdout
Output /tmp/ARbhUn8O6x looks good.
ok 14 - Computing differences
ok 15 # skip GNU grep not available
Testing filename: t/mailboxes/mailarc-2.txt
Comparing /tmp/RTHECAujNy to t/results/number_mailarc-2.stdout
Output /tmp/RTHECAujNy looks good.
ok 16 - Computing differences
Comparing /tmp/ilWaeeurHc to t/results/number_mailarc-2.stdout
Output /tmp/ilWaeeurHc looks good.
ok 17 - Computing differences
ok 18 # skip GNU grep not available
Testing filename: t/mailboxes/mailarc-3.txt
Comparing /tmp/XJ4x1DmGdP to t/results/number_mailarc-3.stdout
Output /tmp/XJ4x1DmGdP looks good.
ok 19 - Computing differences
Comparing /tmp/IJx6F9ZGP6 to t/results/number_mailarc-3.stdout
Output /tmp/IJx6F9ZGP6 looks good.
ok 20 - Computing differences
ok 21 # skip GNU grep not available
Testing filename: t/mailboxes/mailseparators.txt
Comparing /tmp/5u3u01nVBZ to t/results/number_mailseparators.stdout
Output /tmp/5u3u01nVBZ looks good.
ok 22 - Computing differences
Comparing /tmp/lc0uwYuzy9 to t/results/number_mailseparators.stdout
Output /tmp/lc0uwYuzy9 looks good.
ok 23 - Computing differences
ok 24 # skip GNU grep not available
Testing filename: t/mailboxes/malformed.txt
Comparing /tmp/LveDZ7mZez to t/results/number_malformed.stdout
Output /tmp/LveDZ7mZez looks good.
ok 25 - Computing differences
Comparing /tmp/cBcyvkZuBl to t/results/number_malformed.stdout
Output /tmp/cBcyvkZuBl looks good.
ok 26 - Computing differences
ok 27 # skip GNU grep not available
Testing filename: t/mailboxes/newlines_at_beginning.txt
Comparing /tmp/k4ZWl4VQ9o to t/results/number_newlines_at_beginning.stdout
Output /tmp/k4ZWl4VQ9o looks good.
ok 28 - Computing differences
Comparing /tmp/psoDFWcyBH to t/results/number_newlines_at_beginning.stdout
Output /tmp/psoDFWcyBH looks good.
ok 29 - Computing differences
ok 30 # skip GNU grep not available
ok
t/offset.t ...................... 
1..30
Testing filename: t/mailboxes/binary_body.txt
Comparing /tmp/2AoXHDbezB to t/results/offset_binary_body.stdout
Output /tmp/2AoXHDbezB looks good.
ok 1 - Computing differences
Comparing /tmp/3IUIv0bIXN to t/results/offset_binary_body.stdout
Output /tmp/3IUIv0bIXN looks good.
ok 2 - Computing differences
ok 3 # skip GNU grep not available
Testing filename: t/mailboxes/hessbug.txt
Comparing /tmp/LjfDvsqhQp to t/results/offset_hessbug.stdout
Output /tmp/LjfDvsqhQp looks good.
ok 4 - Computing differences
Comparing /tmp/lAxta_t09o to t/results/offset_hessbug.stdout
Output /tmp/lAxta_t09o looks good.
ok 5 - Computing differences
ok 6 # skip GNU grep not available
Testing filename: t/mailboxes/invalid-boundaries.txt
Comparing /tmp/3_qG1vioKa to t/results/offset_invalid-boundaries.stdout
Output /tmp/3_qG1vioKa looks good.
ok 7 - Computing differences
Comparing /tmp/5kMAw0vOV3 to t/results/offset_invalid-boundaries.stdout
Output /tmp/5kMAw0vOV3 looks good.
ok 8 - Computing differences
ok 9 # skip GNU grep not available
Testing filename: t/mailboxes/mailarc-1-dos.txt
Comparing /tmp/ymqPrE1NVG to t/results/offset_mailarc-1-dos.stdout
Output /tmp/ymqPrE1NVG looks good.
ok 10 - Computing differences
Comparing /tmp/0n3gVzWSzJ to t/results/offset_mailarc-1-dos.stdout
Output /tmp/0n3gVzWSzJ looks good.
ok 11 - Computing differences
ok 12 # skip GNU grep not available
Testing filename: t/mailboxes/mailarc-1.txt
Comparing /tmp/SIV3ORdDM6 to t/results/offset_mailarc-1.stdout
Output /tmp/SIV3ORdDM6 looks good.
ok 13 - Computing differences
Comparing /tmp/3l5TsCUxER to t/results/offset_mailarc-1.stdout
Output /tmp/3l5TsCUxER looks good.
ok 14 - Computing differences
ok 15 # skip GNU grep not available
Testing filename: t/mailboxes/mailarc-2.txt
Comparing /tmp/3khE059gRN to t/results/offset_mailarc-2.stdout
Output /tmp/3khE059gRN looks good.
ok 16 - Computing differences
Comparing /tmp/4kRrlnoZxq to t/results/offset_mailarc-2.stdout
Output /tmp/4kRrlnoZxq looks good.
ok 17 - Computing differences
ok 18 # skip GNU grep not available
Testing filename: t/mailboxes/mailarc-3.txt
Comparing /tmp/qH6fbzQFS6 to t/results/offset_mailarc-3.stdout
Output /tmp/qH6fbzQFS6 looks good.
ok 19 - Computing differences
Comparing /tmp/IpyniKaaaw to t/results/offset_mailarc-3.stdout
Output /tmp/IpyniKaaaw looks good.
ok 20 - Computing differences
ok 21 # skip GNU grep not available
Testing filename: t/mailboxes/mailseparators.txt
Comparing /tmp/VZbuwPIDBf to t/results/offset_mailseparators.stdout
Output /tmp/VZbuwPIDBf looks good.
ok 22 - Computing differences
Comparing /tmp/cPkCUw4w0o to t/results/offset_mailseparators.stdout
Output /tmp/cPkCUw4w0o looks good.
ok 23 - Computing differences
ok 24 # skip GNU grep not available
Testing filename: t/mailboxes/malformed.txt
Comparing /tmp/6OI_01kigK to t/results/offset_malformed.stdout
Output /tmp/6OI_01kigK looks good.
ok 25 - Computing differences
Comparing /tmp/DV1IppdtEo to t/results/offset_malformed.stdout
Output /tmp/DV1IppdtEo looks good.
ok 26 - Computing differences
ok 27 # skip GNU grep not available
Testing filename: t/mailboxes/newlines_at_beginning.txt
Comparing /tmp/9cZmUi8uYo to t/results/offset_newlines_at_beginning.stdout
Output /tmp/9cZmUi8uYo looks good.
ok 28 - Computing differences
Comparing /tmp/er83o3xpUL to t/results/offset_newlines_at_beginning.stdout
Output /tmp/er83o3xpUL looks good.
ok 29 - Computing differences
ok 30 # skip GNU grep not available
ok
t/prologue.t .................... 
1..33
Testing filename: t/mailboxes/binary_body.txt
Comparing /tmp/l5lXDs3IyB to t/mailboxes/binary_body.txt
Output /tmp/l5lXDs3IyB looks good.
ok 1 - Computing differences
Comparing /tmp/6qGKc6IYYl to t/mailboxes/binary_body.txt
Output /tmp/6qGKc6IYYl looks good.
ok 2 - Computing differences
ok 3 # skip GNU grep not available
Testing filename: t/mailboxes/hessbug.txt
Comparing /tmp/HpUFFsf69Q to t/mailboxes/hessbug.txt
Output /tmp/HpUFFsf69Q looks good.
ok 4 - Computing differences
Comparing /tmp/XwUCpFNRTA to t/mailboxes/hessbug.txt
Output /tmp/XwUCpFNRTA looks good.
ok 5 - Computing differences
ok 6 # skip GNU grep not available
Testing filename: t/mailboxes/invalid-boundaries.txt
Comparing /tmp/7ChWHuLUcE to t/mailboxes/invalid-boundaries.txt
Output /tmp/7ChWHuLUcE looks good.
ok 7 - Computing differences
Comparing /tmp/Y5mkwRnFrx to t/mailboxes/invalid-boundaries.txt
Output /tmp/Y5mkwRnFrx looks good.
ok 8 - Computing differences
ok 9 # skip GNU grep not available
Testing filename: t/mailboxes/mailarc-1-dos.txt
Comparing /tmp/DujKN67XoX to t/mailboxes/mailarc-1-dos.txt
Output /tmp/DujKN67XoX looks good.
ok 10 - Computing differences
Comparing /tmp/bVlvHnbAjP to t/mailboxes/mailarc-1-dos.txt
Output /tmp/bVlvHnbAjP looks good.
ok 11 - Computing differences
ok 12 # skip GNU grep not available
Testing filename: t/mailboxes/mailarc-1.txt
Comparing /tmp/CUZspqrcwG to t/mailboxes/mailarc-1.txt
Output /tmp/CUZspqrcwG looks good.
ok 13 - Computing differences
Comparing /tmp/rFLQOWzavL to t/mailboxes/mailarc-1.txt
Output /tmp/rFLQOWzavL looks good.
ok 14 - Computing differences
ok 15 # skip GNU grep not available
Testing filename: t/mailboxes/mailarc-2.txt
Comparing /tmp/vCMzrRqjs7 to t/mailboxes/mailarc-2.txt
Output /tmp/vCMzrRqjs7 looks good.
ok 16 - Computing differences
Comparing /tmp/gBO1szrUZ_ to t/mailboxes/mailarc-2.txt
Output /tmp/gBO1szrUZ_ looks good.
ok 17 - Computing differences
ok 18 # skip GNU grep not available
Testing filename: t/mailboxes/mailarc-3.txt
Comparing /tmp/EuHiPEXFZS to t/mailboxes/mailarc-3.txt
Output /tmp/EuHiPEXFZS looks good.
ok 19 - Computing differences
Comparing /tmp/WQKc3smR0t to t/mailboxes/mailarc-3.txt
Output /tmp/WQKc3smR0t looks good.
ok 20 - Computing differences
ok 21 # skip GNU grep not available
Testing filename: t/mailboxes/mailseparators.txt
Comparing /tmp/QiJflcfEpn to t/mailboxes/mailseparators.txt
Output /tmp/QiJflcfEpn looks good.
ok 22 - Computing differences
Comparing /tmp/IJWmfRxOoQ to t/mailboxes/mailseparators.txt
Output /tmp/IJWmfRxOoQ looks good.
ok 23 - Computing differences
ok 24 # skip GNU grep not available
Testing filename: t/mailboxes/malformed.txt
Comparing /tmp/nKee4JBBPq to t/mailboxes/malformed.txt
Output /tmp/nKee4JBBPq looks good.
ok 25 - Computing differences
Comparing /tmp/YIKA9PaFFF to t/mailboxes/malformed.txt
Output /tmp/YIKA9PaFFF looks good.
ok 26 - Computing differences
ok 27 # skip GNU grep not available
Testing filename: t/mailboxes/newlines_at_beginning.txt
Comparing /tmp/lkornjOIfP to t/mailboxes/newlines_at_beginning.txt
Output /tmp/lkornjOIfP looks good.
ok 28 - Computing differences
Comparing /tmp/y_WhgJZo2I to t/mailboxes/newlines_at_beginning.txt
Output /tmp/y_WhgJZo2I looks good.
ok 29 - Computing differences
ok 30 # skip GNU grep not available
Testing filename: t/mailboxes/vm-emacs.txt
Comparing /tmp/gQCMS2OqgE to t/mailboxes/vm-emacs.txt
Output /tmp/gQCMS2OqgE looks good.
ok 31 - Computing differences
Comparing /tmp/vu4qHxxjvM to t/mailboxes/vm-emacs.txt
Output /tmp/vu4qHxxjvM looks good.
ok 32 - Computing differences
ok 33 # skip GNU grep not available
ok
t/reset.t ....................... 
1..60
Testing filename: t/mailboxes/binary_body.txt
Testing partial mailbox reset with Perl implementation
Comparing /tmp/HqoCepSvgk to t/results/reset_binary_body.stdout
Output /tmp/HqoCepSvgk looks good.
ok 1 - Computing differences
Testing partial mailbox reset with Cache implementation
Comparing /tmp/g2DFqLyvzm to t/results/reset_binary_body.stdout
Output /tmp/g2DFqLyvzm looks good.
ok 2 - Computing differences
Testing partial mailbox reset with Grep implementation
ok 3 # skip GNU grep not available
Testing full mailbox reset with Perl implementation
Comparing /tmp/wrgsFgqFH_ to t/results/reset_binary_body.stdout
Output /tmp/wrgsFgqFH_ looks good.
ok 4 - Computing differences
Testing full mailbox reset with Cache implementation
Comparing /tmp/nlhc6zg6JH to t/results/reset_binary_body.stdout
Output /tmp/nlhc6zg6JH looks good.
ok 5 - Computing differences
Testing full mailbox reset with Grep implementation
ok 6 # skip GNU grep not available
Testing filename: t/mailboxes/hessbug.txt
Testing partial mailbox reset with Perl implementation
Comparing /tmp/kb_37Mcy7E to t/results/reset_hessbug.stdout
Output /tmp/kb_37Mcy7E looks good.
ok 7 - Computing differences
Testing partial mailbox reset with Cache implementation
Comparing /tmp/on5DsTygFo to t/results/reset_hessbug.stdout
Output /tmp/on5DsTygFo looks good.
ok 8 - Computing differences
Testing partial mailbox reset with Grep implementation
ok 9 # skip GNU grep not available
Testing full mailbox reset with Perl implementation
Comparing /tmp/KhopO25zCb to t/results/reset_hessbug.stdout
Output /tmp/KhopO25zCb looks good.
ok 10 - Computing differences
Testing full mailbox reset with Cache implementation
Comparing /tmp/PmPjhGyBdF to t/results/reset_hessbug.stdout
Output /tmp/PmPjhGyBdF looks good.
ok 11 - Computing differences
Testing full mailbox reset with Grep implementation
ok 12 # skip GNU grep not available
Testing filename: t/mailboxes/invalid-boundaries.txt
Testing partial mailbox reset with Perl implementation
Comparing /tmp/2LWaAlE9Mo to t/results/reset_invalid-boundaries.stdout
Output /tmp/2LWaAlE9Mo looks good.
ok 13 - Computing differences
Testing partial mailbox reset with Cache implementation
Comparing /tmp/7usEoxMbWv to t/results/reset_invalid-boundaries.stdout
Output /tmp/7usEoxMbWv looks good.
ok 14 - Computing differences
Testing partial mailbox reset with Grep implementation
ok 15 # skip GNU grep not available
Testing full mailbox reset with Perl implementation
Comparing /tmp/Pmzxpz909z to t/results/reset_invalid-boundaries.stdout
Output /tmp/Pmzxpz909z looks good.
ok 16 - Computing differences
Testing full mailbox reset with Cache implementation
Comparing /tmp/YxWedovnAE to t/results/reset_invalid-boundaries.stdout
Output /tmp/YxWedovnAE looks good.
ok 17 - Computing differences
Testing full mailbox reset with Grep implementation
ok 18 # skip GNU grep not available
Testing filename: t/mailboxes/mailarc-1-dos.txt
Testing partial mailbox reset with Perl implementation
Comparing /tmp/A2kuQWPUit to t/results/reset_mailarc-1-dos.stdout
Output /tmp/A2kuQWPUit looks good.
ok 19 - Computing differences
Testing partial mailbox reset with Cache implementation
Comparing /tmp/qQK3Nd7AKQ to t/results/reset_mailarc-1-dos.stdout
Output /tmp/qQK3Nd7AKQ looks good.
ok 20 - Computing differences
Testing partial mailbox reset with Grep implementation
ok 21 # skip GNU grep not available
Testing full mailbox reset with Perl implementation
Comparing /tmp/7oV9W2TEKi to t/results/reset_mailarc-1-dos.stdout
Output /tmp/7oV9W2TEKi looks good.
ok 22 - Computing differences
Testing full mailbox reset with Cache implementation
Comparing /tmp/Q88jtmUy8u to t/results/reset_mailarc-1-dos.stdout
Output /tmp/Q88jtmUy8u looks good.
ok 23 - Computing differences
Testing full mailbox reset with Grep implementation
ok 24 # skip GNU grep not available
Testing filename: t/mailboxes/mailarc-1.txt
Testing partial mailbox reset with Perl implementation
Comparing /tmp/76C1vdpfIr to t/results/reset_mailarc-1.stdout
Output /tmp/76C1vdpfIr looks good.
ok 25 - Computing differences
Testing partial mailbox reset with Cache implementation
Comparing /tmp/1_RYJEbtX5 to t/results/reset_mailarc-1.stdout
Output /tmp/1_RYJEbtX5 looks good.
ok 26 - Computing differences
Testing partial mailbox reset with Grep implementation
ok 27 # skip GNU grep not available
Testing full mailbox reset with Perl implementation
Comparing /tmp/TXAyh6mqog to t/results/reset_mailarc-1.stdout
Output /tmp/TXAyh6mqog looks good.
ok 28 - Computing differences
Testing full mailbox reset with Cache implementation
Comparing /tmp/AI98vN_BQu to t/results/reset_mailarc-1.stdout
Output /tmp/AI98vN_BQu looks good.
ok 29 - Computing differences
Testing full mailbox reset with Grep implementation
ok 30 # skip GNU grep not available
Testing filename: t/mailboxes/mailarc-2.txt
Testing partial mailbox reset with Perl implementation
Comparing /tmp/fVrugtpZRM to t/results/reset_mailarc-2.stdout
Output /tmp/fVrugtpZRM looks good.
ok 31 - Computing differences
Testing partial mailbox reset with Cache implementation
Comparing /tmp/9XQRszi_lr to t/results/reset_mailarc-2.stdout
Output /tmp/9XQRszi_lr looks good.
ok 32 - Computing differences
Testing partial mailbox reset with Grep implementation
ok 33 # skip GNU grep not available
Testing full mailbox reset with Perl implementation
Comparing /tmp/FuvZngBh1H to t/results/reset_mailarc-2.stdout
Output /tmp/FuvZngBh1H looks good.
ok 34 - Computing differences
Testing full mailbox reset with Cache implementation
Comparing /tmp/2nhIny5Nvf to t/results/reset_mailarc-2.stdout
Output /tmp/2nhIny5Nvf looks good.
ok 35 - Computing differences
Testing full mailbox reset with Grep implementation
ok 36 # skip GNU grep not available
Testing filename: t/mailboxes/mailarc-3.txt
Testing partial mailbox reset with Perl implementation
Comparing /tmp/u3k0AdbAyY to t/results/reset_mailarc-3.stdout
Output /tmp/u3k0AdbAyY looks good.
ok 37 - Computing differences
Testing partial mailbox reset with Cache implementation
Comparing /tmp/d4fWXwEka3 to t/results/reset_mailarc-3.stdout
Output /tmp/d4fWXwEka3 looks good.
ok 38 - Computing differences
Testing partial mailbox reset with Grep implementation
ok 39 # skip GNU grep not available
Testing full mailbox reset with Perl implementation
Comparing /tmp/QlG2bnQ7Ut to t/results/reset_mailarc-3.stdout
Output /tmp/QlG2bnQ7Ut looks good.
ok 40 - Computing differences
Testing full mailbox reset with Cache implementation
Comparing /tmp/Wihg1sSV8a to t/results/reset_mailarc-3.stdout
Output /tmp/Wihg1sSV8a looks good.
ok 41 - Computing differences
Testing full mailbox reset with Grep implementation
ok 42 # skip GNU grep not available
Testing filename: t/mailboxes/mailseparators.txt
Testing partial mailbox reset with Perl implementation
Comparing /tmp/ms95_viZgu to t/results/reset_mailseparators.stdout
Output /tmp/ms95_viZgu looks good.
ok 43 - Computing differences
Testing partial mailbox reset with Cache implementation
Comparing /tmp/JHAHjn90U4 to t/results/reset_mailseparators.stdout
Output /tmp/JHAHjn90U4 looks good.
ok 44 - Computing differences
Testing partial mailbox reset with Grep implementation
ok 45 # skip GNU grep not available
Testing full mailbox reset with Perl implementation
Comparing /tmp/J1OylBKkpN to t/results/reset_mailseparators.stdout
Output /tmp/J1OylBKkpN looks good.
ok 46 - Computing differences
Testing full mailbox reset with Cache implementation
Comparing /tmp/mmqL4otaLw to t/results/reset_mailseparators.stdout
Output /tmp/mmqL4otaLw looks good.
ok 47 - Computing differences
Testing full mailbox reset with Grep implementation
ok 48 # skip GNU grep not available
Testing filename: t/mailboxes/malformed.txt
Testing partial mailbox reset with Perl implementation
Comparing /tmp/WMVLYgHNZK to t/results/reset_malformed.stdout
Output /tmp/WMVLYgHNZK looks good.
ok 49 - Computing differences
Testing partial mailbox reset with Cache implementation
Comparing /tmp/wVwxvwl1zo to t/results/reset_malformed.stdout
Output /tmp/wVwxvwl1zo looks good.
ok 50 - Computing differences
Testing partial mailbox reset with Grep implementation
ok 51 # skip GNU grep not available
Testing full mailbox reset with Perl implementation
Comparing /tmp/ZXhLV2S7fo to t/results/reset_malformed.stdout
Output /tmp/ZXhLV2S7fo looks good.
ok 52 - Computing differences
Testing full mailbox reset with Cache implementation
Comparing /tmp/Of24IxGp9j to t/results/reset_malformed.stdout
Output /tmp/Of24IxGp9j looks good.
ok 53 - Computing differences
Testing full mailbox reset with Grep implementation
ok 54 # skip GNU grep not available
Testing filename: t/mailboxes/newlines_at_beginning.txt
Testing partial mailbox reset with Perl implementation
Comparing /tmp/hf0nnGl2iW to t/results/reset_newlines_at_beginning.stdout
Output /tmp/hf0nnGl2iW looks good.
ok 55 - Computing differences
Testing partial mailbox reset with Cache implementation
Comparing /tmp/UZPybDITTf to t/results/reset_newlines_at_beginning.stdout
Output /tmp/UZPybDITTf looks good.
ok 56 - Computing differences
Testing partial mailbox reset with Grep implementation
ok 57 # skip GNU grep not available
Testing full mailbox reset with Perl implementation
Comparing /tmp/5H9qFW5Gc2 to t/results/reset_newlines_at_beginning.stdout
Output /tmp/5H9qFW5Gc2 looks good.
ok 58 - Computing differences
Testing full mailbox reset with Cache implementation
Comparing /tmp/WiEVl8kCDO to t/results/reset_newlines_at_beginning.stdout
Output /tmp/WiEVl8kCDO looks good.
ok 59 - Computing differences
Testing full mailbox reset with Grep implementation
ok 60 # skip GNU grep not available
ok
t/separators.t .................. 
1..6
Testing filename: t/mailboxes/separators2.sep
ok 1 - Number of emails in t/mailboxes/separators2.sep
ok 2 - Number of emails in t/mailboxes/separators2.sep
ok 3 # skip GNU grep not available
Testing filename: t/mailboxes/separators1.sep
ok 4 - Number of emails in t/mailboxes/separators1.sep
ok 5 - Number of emails in t/mailboxes/separators1.sep
ok 6 # skip GNU grep not available
ok
t/stdin_compressed.t ............ 
1..4
Testing filename: t/mailboxes/mailarc-2.txt.bz2
Comparing /tmp/7u_fQYJeGO to t/mailboxes/mailarc-2.txt
Output /tmp/7u_fQYJeGO looks good.
ok 1 - Computing differences
Testing filename: t/mailboxes/mailarc-2.txt.gz
Comparing /tmp/CZtcuXSH5X to t/mailboxes/mailarc-2.txt
Output /tmp/CZtcuXSH5X looks good.
ok 2 - Computing differences
Testing filename: t/mailboxes/mailarc-2.txt.lz
ok 3 # skip lzip not available
Testing filename: t/mailboxes/mailarc-2.txt.xz
Comparing /tmp/DFnCZj9M_n to t/mailboxes/mailarc-2.txt
Output /tmp/DFnCZj9M_n looks good.
ok 4 - Computing differences
ok
t/stdin_uncompressed.t .......... 
1..11
Testing filename: t/mailboxes/binary_body.txt
Comparing /tmp/Fee0ngq4LQ to t/mailboxes/binary_body.txt
Output /tmp/Fee0ngq4LQ looks good.
ok 1 - Computing differences
Testing filename: t/mailboxes/hessbug.txt
Comparing /tmp/5i_Wk_yvb9 to t/mailboxes/hessbug.txt
Output /tmp/5i_Wk_yvb9 looks good.
ok 2 - Computing differences
Testing filename: t/mailboxes/invalid-boundaries.txt
Comparing /tmp/8TOEa0Isnw to t/mailboxes/invalid-boundaries.txt
Output /tmp/8TOEa0Isnw looks good.
ok 3 - Computing differences
Testing filename: t/mailboxes/mailarc-1-dos.txt
Comparing /tmp/uo6QKCLC9O to t/mailboxes/mailarc-1-dos.txt
Output /tmp/uo6QKCLC9O looks good.
ok 4 - Computing differences
Testing filename: t/mailboxes/mailarc-1.txt
Comparing /tmp/OyxkMOOJOn to t/mailboxes/mailarc-1.txt
Output /tmp/OyxkMOOJOn looks good.
ok 5 - Computing differences
Testing filename: t/mailboxes/mailarc-2.txt
Comparing /tmp/OadDsu4sYX to t/mailboxes/mailarc-2.txt
Output /tmp/OadDsu4sYX looks good.
ok 6 - Computing differences
Testing filename: t/mailboxes/mailarc-3.txt
Comparing /tmp/fu0Jz0f3Hb to t/mailboxes/mailarc-3.txt
Output /tmp/fu0Jz0f3Hb looks good.
ok 7 - Computing differences
Testing filename: t/mailboxes/mailseparators.txt
Comparing /tmp/ti0YCVqJbE to t/mailboxes/mailseparators.txt
Output /tmp/ti0YCVqJbE looks good.
ok 8 - Computing differences
Testing filename: t/mailboxes/malformed.txt
Comparing /tmp/a99begMrrK to t/mailboxes/malformed.txt
Output /tmp/a99begMrrK looks good.
ok 9 - Computing differences
Testing filename: t/mailboxes/newlines_at_beginning.txt
Comparing /tmp/WbOzg4Brnj to t/mailboxes/newlines_at_beginning.txt
Output /tmp/WbOzg4Brnj looks good.
ok 10 - Computing differences
Testing filename: t/mailboxes/vm-emacs.txt
Comparing /tmp/GIo2Rg8H80 to t/mailboxes/vm-emacs.txt
Output /tmp/GIo2Rg8H80 looks good.
ok 11 - Computing differences
ok
t/undef_return_value.t .......... 
1..33
Testing Perl 
Comparing /tmp/s_ydDOT0H5 to t/mailboxes/binary_body.txt
Output /tmp/s_ydDOT0H5 looks good.
ok 1 - Computing differences
Testing Cache implementation
Comparing /tmp/o5LdXlG9y7 to t/mailboxes/binary_body.txt
Output /tmp/o5LdXlG9y7 looks good.
ok 2 - Computing differences
ok 3 # skip GNU grep not available
Testing Perl 
Comparing /tmp/w01rjmaGeb to t/mailboxes/hessbug.txt
Output /tmp/w01rjmaGeb looks good.
ok 4 - Computing differences
Testing Cache implementation
Comparing /tmp/UWWaNmvKCV to t/mailboxes/hessbug.txt
Output /tmp/UWWaNmvKCV looks good.
ok 5 - Computing differences
ok 6 # skip GNU grep not available
Testing Perl 
Comparing /tmp/GqmK45AK1z to t/mailboxes/invalid-boundaries.txt
Output /tmp/GqmK45AK1z looks good.
ok 7 - Computing differences
Testing Cache implementation
Comparing /tmp/brXZ1KJMzH to t/mailboxes/invalid-boundaries.txt
Output /tmp/brXZ1KJMzH looks good.
ok 8 - Computing differences
ok 9 # skip GNU grep not available
Testing Perl 
Comparing /tmp/08uNbcU8yC to t/mailboxes/mailarc-1-dos.txt
Output /tmp/08uNbcU8yC looks good.
ok 10 - Computing differences
Testing Cache implementation
Comparing /tmp/STx0ptuiLo to t/mailboxes/mailarc-1-dos.txt
Output /tmp/STx0ptuiLo looks good.
ok 11 - Computing differences
ok 12 # skip GNU grep not available
Testing Perl 
Comparing /tmp/c2iOiKmLvK to t/mailboxes/mailarc-1.txt
Output /tmp/c2iOiKmLvK looks good.
ok 13 - Computing differences
Testing Cache implementation
Comparing /tmp/RVD4pXyii6 to t/mailboxes/mailarc-1.txt
Output /tmp/RVD4pXyii6 looks good.
ok 14 - Computing differences
ok 15 # skip GNU grep not available
Testing Perl 
Comparing /tmp/pQxXqm147P to t/mailboxes/mailarc-2.txt
Output /tmp/pQxXqm147P looks good.
ok 16 - Computing differences
Testing Cache implementation
Comparing /tmp/f4dCqHb4gC to t/mailboxes/mailarc-2.txt
Output /tmp/f4dCqHb4gC looks good.
ok 17 - Computing differences
ok 18 # skip GNU grep not available
Testing Perl 
Comparing /tmp/T5tUPO5eIm to t/mailboxes/mailarc-3.txt
Output /tmp/T5tUPO5eIm looks good.
ok 19 - Computing differences
Testing Cache implementation
Comparing /tmp/BvBXHVlE4P to t/mailboxes/mailarc-3.txt
Output /tmp/BvBXHVlE4P looks good.
ok 20 - Computing differences
ok 21 # skip GNU grep not available
Testing Perl 
Comparing /tmp/KcL7nxvSmc to t/mailboxes/mailseparators.txt
Output /tmp/KcL7nxvSmc looks good.
ok 22 - Computing differences
Testing Cache implementation
Comparing /tmp/YkDUGTWOGs to t/mailboxes/mailseparators.txt
Output /tmp/YkDUGTWOGs looks good.
ok 23 - Computing differences
ok 24 # skip GNU grep not available
Testing Perl 
Comparing /tmp/pyPK3qshlQ to t/mailboxes/malformed.txt
Output /tmp/pyPK3qshlQ looks good.
ok 25 - Computing differences
Testing Cache implementation
Comparing /tmp/IFfdzPpDxO to t/mailboxes/malformed.txt
Output /tmp/IFfdzPpDxO looks good.
ok 26 - Computing differences
ok 27 # skip GNU grep not available
Testing Perl 
Comparing /tmp/UPhWat12F7 to t/mailboxes/newlines_at_beginning.txt
Output /tmp/UPhWat12F7 looks good.
ok 28 - Computing differences
Testing Cache implementation
Comparing /tmp/ebmw7ABC1k to t/mailboxes/newlines_at_beginning.txt
Output /tmp/ebmw7ABC1k looks good.
ok 29 - Computing differences
ok 30 # skip GNU grep not available
Testing Perl 
Comparing /tmp/10FKDYqAPu to t/mailboxes/vm-emacs.txt
Output /tmp/10FKDYqAPu looks good.
ok 31 - Computing differences
Testing Cache implementation
Comparing /tmp/Kc6T2vdmW8 to t/mailboxes/vm-emacs.txt
Output /tmp/Kc6T2vdmW8 looks good.
ok 32 - Computing differences
ok 33 # skip GNU grep not available
ok
t/xz.t .......................... 
1..1
Running test:
  "/usr/bin/cat" "t/mailboxes/mailarc-2.txt.xz" | "/usr/bin/xz" -cd
Comparing /tmp/rkqV29aaom to t/results/mailarc-2.txt
Output /tmp/rkqV29aaom looks good.
Comparing /tmp/534FMxMFFN to t/results/none
Output /tmp/534FMxMFFN looks good.
ok 1 - Computing differences
ok
All tests successful.
Files=25, Tests=382,  5 wallclock secs ( 0.14 usr  0.09 sys +  4.16 cusr  0.71 csys =  5.10 CPU)
Result: PASS

------------------------------
PREREQUISITES
------------------------------

Prerequisite modules loaded:

requires:

    Module              Need  Have    
    ------------------- ----- --------
    FileHandle::Unget   0     0.1634  
    perl                5.005 5.037007
    Storable            0     3.28    

build_requires:

    Module              Need  Have    
    ------------------- ----- --------
    ExtUtils::MakeMaker 6.36  7.66    
    File::Path          2.08  2.18    
    File::Slurper       0     0.014   
    Test::Compile       0     v3.1.0  
    Test::More          0     1.302191
    Text::Diff          0     1.45    
    UNIVERSAL::require  0     0.19    
    URI::Escape         0     5.17    

configure_requires:

    Module              Need  Have    
    ------------------- ----- --------
    ExtUtils::MakeMaker 6.36  7.66    
    URI::Escape         0     5.17    


------------------------------
ENVIRONMENT AND OTHER CONTEXT
------------------------------

Environment variables:

    AUTOMATED_TESTING = 1
    LANG = en_US.UTF-8
    PATH = /home/sand/bin:/usr/local/bin:/usr/local/sbin:/usr/sbin:/usr/bin:/sbin:/bin:/usr/games:/usr/local/games:/snap/bin:/usr/local/perl/bin:/usr/X11/bin
    PERL5LIB = /tmp/loop_over_bdir-2720289-E2bU0y/Debian-Packages-0.03-0/blib/arch:/tmp/loop_over_bdir-2720289-E2bU0y/Debian-Packages-0.03-0/blib/lib:/tmp/loop_over_bdir-2720289-E2bU0y/dta-tokwrap-0.98-0/blib/arch:/tmp/loop_over_bdir-2720289-E2bU0y/dta-tokwrap-0.98-0/blib/lib:/tmp/loop_over_bdir-2720289-E2bU0y/App-nrun-v1.1.2-0/blib/arch:/tmp/loop_over_bdir-2720289-E2bU0y/App-nrun-v1.1.2-0/blib/lib
    PERL5OPT = 
    PERL5_CPANPLUS_IS_RUNNING = 2720298
    PERL5_CPAN_IS_RUNNING = 2720298
    PERL_CANARY_STABILITY_NOPROMPT = 1
    PERL_MM_USE_DEFAULT = 1
    PERL_USE_UNSAFE_INC = 1
    SHELL = /usr/bin/zsh
    TERM = screen

Perl special variables (and OS-specific diagnostics, for MSWin32):

    $^X = /tmp/basesmoker-reloperl-jzc2/bin/perl
    $UID/$EUID = 1005 / 1005
    $GID = 1005 1005
    $EGID = 1005 1005

Perl module toolchain versions installed:

    Module              Have    
    ------------------- --------
    CPAN                2.34    
    CPAN::Meta          2.150010
    Cwd                 3.88    
    ExtUtils::CBuilder  0.280238
    ExtUtils::Command   7.66    
    ExtUtils::Install   2.20    
    ExtUtils::MakeMaker 7.66    
    ExtUtils::Manifest  1.73    
    ExtUtils::ParseXS   3.49    
    File::Spec          3.88    
    JSON                4.10    
    JSON::PP            4.16    
    Module::Build       0.4232  
    Module::Signature   0.88    
    Parse::CPAN::Meta   2.150010
    Test::Harness       3.44    
    Test::More          1.302191
    YAML                1.30    
    YAML::Syck          1.34    
    version             0.9929  


--

Summary of my perl5 (revision 5 version 37 subversion 7) configuration:
  Commit id: b1163c2ae562670f2bf4c7700087f0c9d0ad8fe5
  Platform:
    osname=linux
    osvers=5.4.0-135-generic
    archname=x86_64-linux
    uname='linux k93focal 5.4.0-135-generic #152-ubuntu smp wed nov 23 20:19:22 utc 2022 x86_64 x86_64 x86_64 gnulinux '
    config_args='-Dprefix=/home/sand/src/perl/repoperls/installed-perls/host/k93focal/v5.37.7/b254 -Dmyhostname=k93focal -Dinstallusrbinperl=n -Uversiononly -Dusedevel -des -Ui_db -Dlibswanted=cl pthread socket inet nsl gdbm dbm malloc dl ld sun m crypt sec util c cposix posix ucb BSD gdbm_compat -Uuseithreads -Uuselongdouble -DEBUGGING=both'
    hint=recommended
    useposix=true
    d_sigaction=define
    useithreads=undef
    usemultiplicity=undef
    use64bitint=define
    use64bitall=define
    uselongdouble=undef
    usemymalloc=n
    default_inc_excludes_dot=define
  Compiler:
    cc='cc'
    ccflags ='-fwrapv -DDEBUGGING -fno-strict-aliasing -pipe -fstack-protector-strong -I/usr/local/include -D_LARGEFILE_SOURCE -D_FILE_OFFSET_BITS=64'
    optimize='-O2 -g'
    cppflags='-fwrapv -DDEBUGGING -fno-strict-aliasing -pipe -fstack-protector-strong -I/usr/local/include'
    ccversion=''
    gccversion='9.4.0'
    gccosandvers=''
    intsize=4
    longsize=8
    ptrsize=8
    doublesize=8
    byteorder=12345678
    doublekind=3
    d_longlong=define
    longlongsize=8
    d_longdbl=define
    longdblsize=16
    longdblkind=3
    ivtype='long'
    ivsize=8
    nvtype='double'
    nvsize=8
    Off_t='off_t'
    lseeksize=8
    alignbytes=8
    prototype=define
  Linker and Libraries:
    ld='cc'
    ldflags =' -fstack-protector-strong -L/usr/local/lib'
    libpth=/usr/local/lib /usr/lib/x86_64-linux-gnu /usr/lib /usr/lib64
    libs=-lpthread -lnsl -ldl -lm -lcrypt -lutil -lc
    perllibs=-lpthread -lnsl -ldl -lm -lcrypt -lutil -lc
    libc=libc-2.31.so
    so=so
    useshrplib=false
    libperl=libperl.a
    gnulibc_version='2.31'
  Dynamic Linking:
    dlsrc=dl_dlopen.xs
    dlext=so
    d_dlsymun=undef
    ccdlflags='-Wl,-E'
    cccdlflags='-fPIC'
    lddlflags='-shared -O2 -g -L/usr/local/lib -fstack-protector-strong'


Characteristics of this binary (from libperl): 
  Compile-time options:
    DEBUGGING
    HAS_TIMES
    PERLIO_LAYERS
    PERL_COPY_ON_WRITE
    PERL_DONT_CREATE_GVSV
    PERL_HASH_FUNC_SIPHASH13
    PERL_HASH_USE_SBOX32
    PERL_MALLOC_WRAP
    PERL_OP_PARENT
    PERL_PRESERVE_IVUV
    PERL_USE_DEVEL
    PERL_USE_SAFE_PUTENV
    USE_64_BIT_ALL
    USE_64_BIT_INT
    USE_LARGE_FILES
    USE_LOCALE
    USE_LOCALE_COLLATE
    USE_LOCALE_CTYPE
    USE_LOCALE_NUMERIC
    USE_LOCALE_TIME
    USE_PERLIO
    USE_PERL_ATOF
  Built under linux
  Compiled at Jan  5 2023 05:26:31
  %ENV:
    PERL5LIB="/tmp/loop_over_bdir-2720289-E2bU0y/Debian-Packages-0.03-0/blib/arch:/tmp/loop_over_bdir-2720289-E2bU0y/Debian-Packages-0.03-0/blib/lib:/tmp/loop_over_bdir-2720289-E2bU0y/dta-tokwrap-0.98-0/blib/arch:/tmp/loop_over_bdir-2720289-E2bU0y/dta-tokwrap-0.98-0/blib/lib:/tmp/loop_over_bdir-2720289-E2bU0y/App-nrun-v1.1.2-0/blib/arch:/tmp/loop_over_bdir-2720289-E2bU0y/App-nrun-v1.1.2-0/blib/lib"
    PERL5OPT=""
    PERL5_CPANPLUS_IS_RUNNING="2720298"
    PERL5_CPAN_IS_RUNNING="2720298"
    PERL_CANARY_STABILITY_NOPROMPT="1"
    PERL_MM_USE_DEFAULT="1"
    PERL_USE_UNSAFE_INC="1"
  @INC:
    /tmp/loop_over_bdir-2720289-E2bU0y/Debian-Packages-0.03-0/blib/arch
    /tmp/loop_over_bdir-2720289-E2bU0y/Debian-Packages-0.03-0/blib/lib
    /tmp/loop_over_bdir-2720289-E2bU0y/dta-tokwrap-0.98-0/blib/arch
    /tmp/loop_over_bdir-2720289-E2bU0y/dta-tokwrap-0.98-0/blib/lib
    /tmp/loop_over_bdir-2720289-E2bU0y/App-nrun-v1.1.2-0/blib/arch
    /tmp/loop_over_bdir-2720289-E2bU0y/App-nrun-v1.1.2-0/blib/lib
    /home/sand/src/perl/repoperls/installed-perls/host/k93focal/v5.37.7/b254/lib/site_perl/5.37.7/x86_64-linux
    /home/sand/src/perl/repoperls/installed-perls/host/k93focal/v5.37.7/b254/lib/site_perl/5.37.7
    /home/sand/src/perl/repoperls/installed-perls/host/k93focal/v5.37.7/b254/lib/5.37.7/x86_64-linux
    /home/sand/src/perl/repoperls/installed-perls/host/k93focal/v5.37.7/b254/lib/5.37.7
    .