Catalyst-Action-REST v1.21 Perl 5 v5.29.4 darwin-2level

Status
Pass
From
Carlos Guevara
Dist
Catalyst-Action-REST v1.21
Platform
Perl 5 v5.29.4 darwin-2level
Date
2018-09-29 02:11:10
ID
eeff36dc-c38c-11e8-a003-4a60683264fb
This distribution has been tested as part of the CPAN Testers
project, supporting the Perl programming language.  See
http://wiki.cpantesters.org/ for more information or email
questions to cpan-testers-discuss@perl.org


--
Dear John Napiorkowski,

This is a computer-generated report for Catalyst-Action-REST-1.21
on perl 5.29.4, created by CPAN-Reporter-1.2018.

Thank you for uploading your work to CPAN.  Congratulations!
All tests were successful.

Sections of this report:

    * Tester comments
    * Program output
    * Prerequisites
    * Environment and other context

------------------------------
TESTER COMMENTS
------------------------------

Additional comments from tester:

none provided

------------------------------
PROGRAM OUTPUT
------------------------------

Output from '/usr/bin/make test':

PERL_DL_NONLAZY=1 "/Users/cpan/bin/perl-blead/bin/perl5.29.4" "-MExtUtils::Command::MM" "-MTest::Harness" "-e" "undef *Test::Harness::Switches; test_harness(0, 'blib/lib', 'blib/arch')" t/*.t
t/author-pod-syntax.t ................................... skipped: these tests are for testing by the author
t/callback.t ............................................ ok
t/catalyst-action-deserialize-multipart.t ............... ok
t/catalyst-action-deserialize.t ......................... ok
t/catalyst-action-rest-action-dispatch-for-browsers.t ... ok
t/catalyst-action-rest-action-dispatch.t ................ ok
t/catalyst-action-rest.t ................................ ok
t/catalyst-action-serialize-accept.t .................... ok
t/catalyst-action-serialize-query.t ..................... ok
t/catalyst-action-serialize.t ........................... ok
t/catalyst-controller-rest.t ............................ ok
t/catalyst-request-rest-custom-nonrest-request-class.t .. ok
t/catalyst-request-rest-custom-rest-request-class.t ..... ok
t/catalyst-traitfor-request-rest-forbrowsers.t .......... ok
t/catalyst-traitfor-request-rest.t ...................... ok
t/isa.t ................................................. ok
t/json.t ................................................ ok
t/jsonp.t ............................................... ok
t/view.t ................................................ ok
t/xml-simple.t .......................................... ok
t/yaml-html.t ........................................... ok
t/yaml.t ................................................ ok
All tests successful.
Files=22, Tests=301, 17 wallclock secs ( 0.12 usr  0.05 sys + 16.13 cusr  1.18 csys = 17.48 CPU)
Result: PASS

------------------------------
PREREQUISITES
------------------------------

Prerequisite modules loaded:

requires:

    Module                    Need    Have    
    ------------------------- ------- --------
    Catalyst::Runtime         5.80030 5.90119 
    Class::Inspector          1.13    1.32    
    JSON::MaybeXS             0       1.004000
    Module::Pluggable::Object 0       5.2     
    Moose                     1.03    2.2011  
    MRO::Compat               0.10    0.13    
    namespace::autoclean      0       0.28    
    Params::Validate          0.76    1.29    
    URI::Find                 0       20160806

build_requires:

    Module                    Need    Have    
    ------------------------- ------- --------
    ExtUtils::MakeMaker       0       7.34    
    LWP::UserAgent            5.00    6.35    
    Test::More                0.88    1.302140
    Test::Requires            0       0.10    

configure_requires:

    Module                    Need    Have    
    ------------------------- ------- --------
    ExtUtils::MakeMaker       0       7.34    


------------------------------
ENVIRONMENT AND OTHER CONTEXT
------------------------------

Environment variables:

    LC_ALL = C
    NONINTERACTIVE_TESTING = 1
    PATH = /Users/cpan/bin/perl-blead/bin:/Users/cpan/bin/perl-blead/bin:/Users/cpan/bin:/Users/cpan/bin/perl-blead/bin:/Users/cpan/bin:/usr/local/bin:/usr/bin:/bin:/usr/sbin:/sbin
    PERL5LIB = 
    PERL5OPT = 
    PERL5_CPANPLUS_IS_RUNNING = 38076
    PERL5_CPAN_IS_RUNNING = 38076
    PERL_MM_USE_DEFAULT = 1
    PERL_USE_UNSAFE_INC = 1
    PERL_VERSION = blead
    SHELL = /bin/bash
    TERM = screen
    TMPDIR = /Users/cpan/tmp

Perl special variables (and OS-specific diagnostics, for MSWin32):

    $^X = /Users/cpan/bin/perl-blead/bin/perl5.29.4
    $UID/$EUID = 503 / 503
    $GID = 20 20 12 61 399 701 702 703 100
    $EGID = 20 20 12 61 399 701 702 703 100

Perl module toolchain versions installed:

    Module              Have    
    ------------------- --------
    CPAN                2.21    
    CPAN::Meta          2.150010
    Cwd                 3.75    
    ExtUtils::CBuilder  0.280230
    ExtUtils::Command   7.34    
    ExtUtils::Install   2.14    
    ExtUtils::MakeMaker 7.34    
    ExtUtils::Manifest  1.71    
    ExtUtils::ParseXS   3.39    
    File::Spec          3.75    
    JSON                2.97001 
    JSON::PP            2.97001 
    Module::Build       0.4224  
    Module::Signature   n/a     
    Parse::CPAN::Meta   2.150010
    Test::Harness       3.42    
    Test::More          1.302140
    YAML                1.26    
    YAML::Syck          1.30    
    version             0.9924  


--

Summary of my perl5 (revision 5 version 29 subversion 4) configuration:
  Commit id: 5133224233bb01d0fecad317741666793a0a15e1
  Platform:
    osname=darwin
    osvers=17.7.0
    archname=darwin-2level
    uname='darwin cjg-mac.local 17.7.0 darwin kernel version 17.7.0: thu jun 21 22:53:14 pdt 2018; root:xnu-4570.71.2~1release_x86_64 x86_64 '
    config_args='-des -Dprefix=~/bin/perl-blead -Dscriptdir=~/bin/perl-blead/bin -Dusedevel -Duse64bitall'
    hint=recommended
    useposix=true
    d_sigaction=define
    useithreads=undef
    usemultiplicity=undef
    use64bitint=define
    use64bitall=define
    uselongdouble=undef
    usemymalloc=n
    default_inc_excludes_dot=define
    bincompat5005=undef
  Compiler:
    cc='cc'
    ccflags ='-fno-common -DPERL_DARWIN -mmacosx-version-min=10.13 -arch x86_64 -fno-strict-aliasing -pipe -fstack-protector-strong -DPERL_USE_SAFE_PUTENV'
    optimize='-O3'
    cppflags='-arch x86_64 -fno-common -DPERL_DARWIN -mmacosx-version-min=10.13 -arch x86_64 -fno-strict-aliasing -pipe -fstack-protector-strong'
    ccversion=''
    gccversion='4.2.1 Compatible Apple LLVM 10.0.0 (clang-1000.11.45.2)'
    gccosandvers=''
    intsize=4
    longsize=8
    ptrsize=8
    doublesize=8
    byteorder=12345678
    doublekind=3
    d_longlong=define
    longlongsize=8
    d_longdbl=define
    longdblsize=16
    longdblkind=3
    ivtype='long'
    ivsize=8
    nvtype='double'
    nvsize=8
    Off_t='off_t'
    lseeksize=8
    alignbytes=8
    prototype=define
  Linker and Libraries:
    ld='cc -arch x86_64'
    ldflags =' -mmacosx-version-min=10.13 -arch x86_64 -fstack-protector-strong'
    libpth=/Applications/Xcode.app/Contents/Developer/Toolchains/XcodeDefault.xctoolchain/usr/lib/clang/10.0.0/lib /Applications/Xcode.app/Contents/Developer/Toolchains/XcodeDefault.xctoolchain/usr/lib /Applications/Xcode.app/Contents/Developer/Platforms/MacOSX.platform/Developer/SDKs/MacOSX.sdk/usr/lib /usr/lib
    libs=-lpthread -ldbm -ldl -lm -lutil -lc
    perllibs=-lpthread -ldl -lm -lutil -lc
    libc=
    so=dylib
    useshrplib=false
    libperl=libperl.a
    gnulibc_version=''
  Dynamic Linking:
    dlsrc=dl_dlopen.xs
    dlext=bundle
    d_dlsymun=undef
    ccdlflags=' '
    cccdlflags=' '
    lddlflags=' -mmacosx-version-min=10.13 -bundle -undefined dynamic_lookup -fstack-protector-strong'


Characteristics of this binary (from libperl): 
  Compile-time options:
    HAS_TIMES
    PERLIO_LAYERS
    PERL_COPY_ON_WRITE
    PERL_DONT_CREATE_GVSV
    PERL_MALLOC_WRAP
    PERL_OP_PARENT
    PERL_PRESERVE_IVUV
    PERL_USE_DEVEL
    PERL_USE_SAFE_PUTENV
    USE_64_BIT_ALL
    USE_64_BIT_INT
    USE_LARGE_FILES
    USE_LOCALE
    USE_LOCALE_COLLATE
    USE_LOCALE_CTYPE
    USE_LOCALE_NUMERIC
    USE_LOCALE_TIME
    USE_PERLIO
    USE_PERL_ATOF
  Built under darwin
  Compiled at Sep 28 2018 17:44:37
  %ENV:
    PERL5LIB=""
    PERL5OPT=""
    PERL5_CPANPLUS_IS_RUNNING="38076"
    PERL5_CPAN_IS_RUNNING="38076"
    PERL_MM_USE_DEFAULT="1"
    PERL_USE_UNSAFE_INC="1"
    PERL_VERSION="blead"
  @INC:
    /Users/cpan/bin/perl-blead/lib/site_perl/5.29.4/darwin-2level
    /Users/cpan/bin/perl-blead/lib/site_perl/5.29.4
    /Users/cpan/bin/perl-blead/lib/5.29.4/darwin-2level
    /Users/cpan/bin/perl-blead/lib/5.29.4
    .