Plack-Middleware-AccessLog-Structured v0.001002 Perl 5 v5.26.2 x86_64-linux-thread-multi
- Status
- Pass
- From
- Slaven Rezić (SREZIC)
- Dist
-
Plack-Middleware-AccessLog-Structured v0.001002
- Platform
- Perl 5 v5.26.2 x86_64-linux-thread-multi
- Date
- 2019-03-17 14:57:07
- ID
- eef7a580-48c4-11e9-9da4-2a8f1f24ea8f
This distribution has been tested as part of the CPAN Testers
project, supporting the Perl programming language. See
http://wiki.cpantesters.org/ for more information or email
questions to cpan-testers-discuss@perl.org
--
Dear Manfred Stock,
This is a computer-generated report for Plack-Middleware-AccessLog-Structured-0.001002
on perl 5.26.2, created by CPAN-Reporter-1.2018.
Thank you for uploading your work to CPAN. Congratulations!
All tests were successful.
Sections of this report:
* Tester comments
* Program output
* Prerequisites
* Environment and other context
------------------------------
TESTER COMMENTS
------------------------------
Additional comments from tester:
none provided
------------------------------
PROGRAM OUTPUT
------------------------------
Output from './Build test':
t/00-compile.t .............................. ok
#
#
# Generated by Dist::Zilla::Plugin::ReportVersions::Tiny v1.10
# perl: 5.026002 (wanted any version) on linux from /opt/perl-5.26.2t/bin/perl
#
# Carp => 1.50 (want any version)
# DateTime => 1.50 (want any version)
# File::Find => 1.34 (want any version)
# File::Temp => 0.2308 (want any version)
# HTTP::Request::Common => 6.18 (want any version)
# JSON => 4.01 (want any version)
# MRO::Compat => 0.13 (want any version)
# Module::Build => 0.4224 (want 0.28)
# Net::Domain => 3.11 (want any version)
# Plack::Middleware => <undef> (want any version)
# Plack::Test => <undef> (want any version)
# Plack::Util::Accessor => <undef> (want any version)
# Test::Class => 0.50 (want any version)
# Test::Deep => 1.128 (want any version)
# Test::Exception => 0.43 (want any version)
# Test::More => 1.302162 (want 0.88)
# Time::HiRes => 1.9758 (want any version)
# lib => 0.64 (want any version)
# parent => 0.236 (want any version)
# strict => 1.11 (want any version)
# warnings => 1.37 (want any version)
#
# Thanks for using my code. I hope it works for you.
# If not, please try and include this output in the bug report.
# That will help me reproduce the issue and solve your problem.
#
t/000-report-versions-tiny.t ................ ok
t/author-critic.t ........................... skipped: these tests are for testing by the author
t/author-eol.t .............................. skipped: these tests are for testing by the author
t/author-pod-coverage.t ..................... skipped: these tests are for testing by the author
t/author-pod-syntax.t ....................... skipped: these tests are for testing by the author
t/plack.middleware.access-log.structured.t .. ok
t/release-cpan-changes.t .................... skipped: these tests are for release candidate testing
t/release-distmeta.t ........................ skipped: these tests are for release candidate testing
All tests successful.
Files=9, Tests=20, 2 wallclock secs ( 0.03 usr 0.04 sys + 0.63 cusr 0.10 csys = 0.80 CPU)
Result: PASS
------------------------------
PREREQUISITES
------------------------------
Prerequisite modules loaded:
requires:
Module Need Have
--------------------- ---- --------
Carp 0 1.50
DateTime 0 1.50
JSON 0 4.01
MRO::Compat 0 0.13
Net::Domain 0 3.11
parent 0 0.236
Plack::Middleware 0 0
Plack::Util::Accessor 0 0
strict 0 1.11
Time::HiRes 0 1.9758
warnings 0 1.37
build_requires:
Module Need Have
--------------------- ---- --------
File::Find 0 1.34
File::Temp 0 0.2308
HTTP::Request::Common 0 6.18
lib 0 0.64
Module::Build 0.28 0.4224
Plack::Test 0 0
Test::Class 0 0.50
Test::Deep 0 1.128
Test::Exception 0 0.43
Test::More 0.88 1.302162
configure_requires:
Module Need Have
--------------------- ---- --------
Module::Build 0.28 0.4224
------------------------------
ENVIRONMENT AND OTHER CONTEXT
------------------------------
Environment variables:
LANG = C
LC_ALL = de_DE.UTF-8
PATH = /usr/local/bin:/usr/bin:/bin:/usr/local/sbin:/usr/sbin:/sbin:/home/cpansand/bin/linux-gnu:/home/cpansand/bin/sh:/home/cpansand/bin:/usr/games:/home/cpansand/devel:/home/eserte/src/srezic-misc/scripts
PERL5LIB = /home/cpansand/.cpan/build/2019031714/Message-Passing-ZeroMQ-0.010-1/blib/arch:/home/cpansand/.cpan/build/2019031714/Message-Passing-ZeroMQ-0.010-1/blib/lib
PERL5OPT =
PERL5_CPANPLUS_IS_RUNNING = 26590
PERL5_CPAN_IS_RUNNING = 26590
PERL5_CPAN_IS_RUNNING_IN_RECURSION = 24239,26590
PERLDOC = -MPod::Perldoc::ToTextOverstrike
PERL_BATCH = yes
PERL_CANARY_STABILITY_NOPROMPT = 1
PERL_CPAN_REPORTER_CONFIG = /var/tmp/cpansmoker-1023/2019031714/cpanreporter_001_config.ini
PERL_EXTUTILS_AUTOINSTALL = --defaultdeps
PERL_USE_UNSAFE_INC = 1
SHELL = /usr/bin/zsh
TERM = screen
TMPDIR = /var/tmp/cpansmoker-1023/2019031714
Perl special variables (and OS-specific diagnostics, for MSWin32):
$^X = /opt/perl-5.26.2t/bin/perl
$UID/$EUID = 1023 / 1023
$GID = 1023 1023
$EGID = 1023 1023
Perl module toolchain versions installed:
Module Have
------------------- --------
CPAN 2.18
CPAN::Meta 2.150010
Cwd 3.75
ExtUtils::CBuilder 0.280230
ExtUtils::Command 7.34
ExtUtils::Install 2.14
ExtUtils::MakeMaker 7.34
ExtUtils::Manifest 1.72
ExtUtils::ParseXS 3.34
File::Spec 3.75
JSON 4.01
JSON::PP 4.02
Module::Build 0.4224
Module::Signature 0.83
Parse::CPAN::Meta 2.150010
Test::Harness 3.42
Test::More 1.302162
YAML 1.26
YAML::Syck 1.31
version 0.9924
--
Summary of my perl5 (revision 5 version 26 subversion 2) configuration:
Platform:
osname=linux
osvers=3.16.0-5-amd64
archname=x86_64-linux-thread-multi
uname='linux debian8 3.16.0-5-amd64 #1 smp debian 3.16.51-3+deb8u1 (2018-01-08) x86_64 gnulinux '
config_args='-ds -e -Dprefix=/opt/perl-5.26.2t -Dusethreads -Dcf_email=srezic@cpan.org'
hint=recommended
useposix=true
d_sigaction=define
useithreads=define
usemultiplicity=define
use64bitint=define
use64bitall=define
uselongdouble=undef
usemymalloc=n
default_inc_excludes_dot=define
bincompat5005=undef
Compiler:
cc='cc'
ccflags ='-D_REENTRANT -D_GNU_SOURCE -fwrapv -fno-strict-aliasing -pipe -fstack-protector-strong -I/usr/local/include -D_LARGEFILE_SOURCE -D_FILE_OFFSET_BITS=64 -D_FORTIFY_SOURCE=2'
optimize='-O2'
cppflags='-D_REENTRANT -D_GNU_SOURCE -fwrapv -fno-strict-aliasing -pipe -fstack-protector-strong -I/usr/local/include'
ccversion=''
gccversion='4.9.2'
gccosandvers=''
intsize=4
longsize=8
ptrsize=8
doublesize=8
byteorder=12345678
doublekind=3
d_longlong=define
longlongsize=8
d_longdbl=define
longdblsize=16
longdblkind=3
ivtype='long'
ivsize=8
nvtype='double'
nvsize=8
Off_t='off_t'
lseeksize=8
alignbytes=8
prototype=define
Linker and Libraries:
ld='cc'
ldflags =' -fstack-protector-strong -L/usr/local/lib'
libpth=/usr/local/lib /usr/lib/gcc/x86_64-linux-gnu/4.9/include-fixed /usr/include/x86_64-linux-gnu /usr/lib /lib/x86_64-linux-gnu /lib/../lib /usr/lib/x86_64-linux-gnu /usr/lib/../lib /lib
libs=-lpthread -lnsl -lgdbm -ldb -ldl -lm -lcrypt -lutil -lc -lgdbm_compat
perllibs=-lpthread -lnsl -ldl -lm -lcrypt -lutil -lc
libc=libc-2.19.so
so=so
useshrplib=false
libperl=libperl.a
gnulibc_version='2.19'
Dynamic Linking:
dlsrc=dl_dlopen.xs
dlext=so
d_dlsymun=undef
ccdlflags='-Wl,-E'
cccdlflags='-fPIC'
lddlflags='-shared -O2 -L/usr/local/lib -fstack-protector-strong'
Characteristics of this binary (from libperl):
Compile-time options:
HAS_TIMES
MULTIPLICITY
PERLIO_LAYERS
PERL_COPY_ON_WRITE
PERL_DONT_CREATE_GVSV
PERL_IMPLICIT_CONTEXT
PERL_MALLOC_WRAP
PERL_OP_PARENT
PERL_PRESERVE_IVUV
USE_64_BIT_ALL
USE_64_BIT_INT
USE_ITHREADS
USE_LARGE_FILES
USE_LOCALE
USE_LOCALE_COLLATE
USE_LOCALE_CTYPE
USE_LOCALE_NUMERIC
USE_LOCALE_TIME
USE_PERLIO
USE_PERL_ATOF
USE_REENTRANT_API
Built under linux
Compiled at Apr 17 2018 05:14:42
%ENV:
PERL5LIB="/home/cpansand/.cpan/build/2019031714/Message-Passing-ZeroMQ-0.010-1/blib/arch:/home/cpansand/.cpan/build/2019031714/Message-Passing-ZeroMQ-0.010-1/blib/lib"
PERL5OPT=""
PERL5_CPANPLUS_IS_RUNNING="26590"
PERL5_CPAN_IS_RUNNING="26590"
PERL5_CPAN_IS_RUNNING_IN_RECURSION="24239,26590"
PERLDOC="-MPod::Perldoc::ToTextOverstrike"
PERL_BATCH="yes"
PERL_CANARY_STABILITY_NOPROMPT="1"
PERL_CPAN_REPORTER_CONFIG="/var/tmp/cpansmoker-1023/2019031714/cpanreporter_001_config.ini"
PERL_EXTUTILS_AUTOINSTALL="--defaultdeps"
PERL_USE_UNSAFE_INC="1"
@INC:
/home/cpansand/.cpan/build/2019031714/Message-Passing-ZeroMQ-0.010-1/blib/arch
/home/cpansand/.cpan/build/2019031714/Message-Passing-ZeroMQ-0.010-1/blib/lib
/opt/perl-5.26.2t/lib/site_perl/5.26.2/x86_64-linux-thread-multi
/opt/perl-5.26.2t/lib/site_perl/5.26.2
/opt/perl-5.26.2t/lib/5.26.2/x86_64-linux-thread-multi
/opt/perl-5.26.2t/lib/5.26.2
.