WebService-HMRC-VAT v0.04 Perl 5 v5.20.1 amd64-freebsd

Status
Pass
From
Slaven Rezić (SREZIC)
Dist
WebService-HMRC-VAT v0.04
Platform
Perl 5 v5.20.1 amd64-freebsd
Date
2019-04-19 17:38:24
ID
eedf9a70-62c9-11e9-be3e-d16b1f24ea8f
This distribution has been tested as part of the CPAN Testers
project, supporting the Perl programming language.  See
http://wiki.cpantesters.org/ for more information or email
questions to cpan-testers-discuss@perl.org


--
Dear Nicholas Prater,

This is a computer-generated report for WebService-HMRC-VAT-0.04
on perl 5.20.1, created by CPAN-Reporter-1.2018.

Thank you for uploading your work to CPAN.  Congratulations!
All tests were successful.

Sections of this report:

    * Tester comments
    * Program output
    * Prerequisites
    * Environment and other context

------------------------------
TESTER COMMENTS
------------------------------

Additional comments from tester:

none provided

------------------------------
PROGRAM OUTPUT
------------------------------

Output from '/usr/bin/make test':

PERL_DL_NONLAZY=1 "/usr/perl5.20.1p/bin/perl" "-MExtUtils::Command::MM" "-MTest::Harness" "-e" "undef *Test::Harness::Switches; test_harness(0, 'blib/lib', 'blib/arch')" t/*.t
# Testing WebService::HMRC::VAT 0.04, Perl 5.020001, /usr/perl5.20.1p/bin/perl
t/00-load.t ............. ok
unable to parse api response as json: malformed JSON string, neither tag, array, object, number, string or atom, at character offset 0 (before "Can't connect to inv...") at /usr/perl5.20.1p/lib/site_perl/5.20.1/WebService/HMRC/Response.pm line 119.
 at /usr/perl5.20.1p/lib/site_perl/5.20.1/WebService/HMRC/Response.pm line 132.
Error calling api endpoint: 500 Can't connect to invalid:443 (hostname nor servname provided, or not known) at t/01-vat-obligations.t line 38.
code: INVALID_RESPONSE at t/01-vat-obligations.t line 38.
message: No valid JSON data received from api call. 500 Can't connect to invalid:443 (hostname nor servname provided, or not known) at t/01-vat-obligations.t line 38.
unable to parse api response as json: malformed JSON string, neither tag, array, object, number, string or atom, at character offset 0 (before "Can't connect to inv...") at /usr/perl5.20.1p/lib/site_perl/5.20.1/WebService/HMRC/Response.pm line 119.
 at /usr/perl5.20.1p/lib/site_perl/5.20.1/WebService/HMRC/Response.pm line 132.
Error calling api endpoint: 500 Can't connect to invalid:443 (hostname nor servname provided, or not known) at t/01-vat-obligations.t line 51.
code: INVALID_RESPONSE at t/01-vat-obligations.t line 51.
message: No valid JSON data received from api call. 500 Can't connect to invalid:443 (hostname nor servname provided, or not known) at t/01-vat-obligations.t line 51.
t/01-vat-obligations.t .. ok
unable to parse api response as json: malformed JSON string, neither tag, array, object, number, string or atom, at character offset 0 (before "Can't connect to inv...") at /usr/perl5.20.1p/lib/site_perl/5.20.1/WebService/HMRC/Response.pm line 119.
 at /usr/perl5.20.1p/lib/site_perl/5.20.1/WebService/HMRC/Response.pm line 132.
Error calling api endpoint: 500 Can't connect to invalid:443 (hostname nor servname provided, or not known) at t/02-vat-liabilities.t line 32.
code: INVALID_RESPONSE at t/02-vat-liabilities.t line 32.
message: No valid JSON data received from api call. 500 Can't connect to invalid:443 (hostname nor servname provided, or not known) at t/02-vat-liabilities.t line 32.
t/02-vat-liabilities.t .. ok
unable to parse api response as json: malformed JSON string, neither tag, array, object, number, string or atom, at character offset 0 (before "Can't connect to inv...") at /usr/perl5.20.1p/lib/site_perl/5.20.1/WebService/HMRC/Response.pm line 119.
 at /usr/perl5.20.1p/lib/site_perl/5.20.1/WebService/HMRC/Response.pm line 132.
Error calling api endpoint: 500 Can't connect to invalid:443 (hostname nor servname provided, or not known) at t/03-vat-submit-get.t line 33.
code: INVALID_RESPONSE at t/03-vat-submit-get.t line 33.
message: No valid JSON data received from api call. 500 Can't connect to invalid:443 (hostname nor servname provided, or not known) at t/03-vat-submit-get.t line 33.
unable to parse api response as json: malformed JSON string, neither tag, array, object, number, string or atom, at character offset 0 (before "Can't connect to inv...") at /usr/perl5.20.1p/lib/site_perl/5.20.1/WebService/HMRC/Response.pm line 119.
 at /usr/perl5.20.1p/lib/site_perl/5.20.1/WebService/HMRC/Response.pm line 132.
Error calling api endpoint: 500 Can't connect to invalid:443 (hostname nor servname provided, or not known) at t/03-vat-submit-get.t line 59.
code: INVALID_RESPONSE at t/03-vat-submit-get.t line 59.
message: No valid JSON data received from api call. 500 Can't connect to invalid:443 (hostname nor servname provided, or not known) at t/03-vat-submit-get.t line 59.
unable to parse api response as json: malformed JSON string, neither tag, array, object, number, string or atom, at character offset 0 (before "Can't connect to inv...") at /usr/perl5.20.1p/lib/site_perl/5.20.1/WebService/HMRC/Response.pm line 119.
 at /usr/perl5.20.1p/lib/site_perl/5.20.1/WebService/HMRC/Response.pm line 132.
Error calling api endpoint: 500 Can't connect to invalid:443 (hostname nor servname provided, or not known) at t/03-vat-submit-get.t line 79.
code: INVALID_RESPONSE at t/03-vat-submit-get.t line 79.
message: No valid JSON data received from api call. 500 Can't connect to invalid:443 (hostname nor servname provided, or not known) at t/03-vat-submit-get.t line 79.
t/03-vat-submit-get.t ... ok
unable to parse api response as json: malformed JSON string, neither tag, array, object, number, string or atom, at character offset 0 (before "Can't connect to inv...") at /usr/perl5.20.1p/lib/site_perl/5.20.1/WebService/HMRC/Response.pm line 119.
 at /usr/perl5.20.1p/lib/site_perl/5.20.1/WebService/HMRC/Response.pm line 132.
Error calling api endpoint: 500 Can't connect to invalid:443 (hostname nor servname provided, or not known) at t/04-vat-payments.t line 32.
code: INVALID_RESPONSE at t/04-vat-payments.t line 32.
message: No valid JSON data received from api call. 500 Can't connect to invalid:443 (hostname nor servname provided, or not known) at t/04-vat-payments.t line 32.
t/04-vat-payments.t ..... ok
All tests successful.
Files=5, Tests=83,  2 wallclock secs ( 0.00 usr  0.05 sys +  0.41 cusr  1.18 csys =  1.63 CPU)
Result: PASS

------------------------------
PREREQUISITES
------------------------------

Prerequisite modules loaded:

requires:

    Module               Need  Have    
    -------------------- ----- --------
    JSON::MaybeXS        0     1.004000
    Moose                0     2.2011  
    namespace::autoclean 0     0.28    
    perl                 5.006 5.020001
    URI::Escape          0     3.31    
    WebService::HMRC     0     0.01    

build_requires:

    Module               Need  Have    
    -------------------- ----- --------
    ExtUtils::MakeMaker  0     7.34    
    Test::Exception      0     0.43    
    Test::More           0     1.302162

configure_requires:

    Module               Need  Have    
    -------------------- ----- --------
    ExtUtils::MakeMaker  0     7.34    


------------------------------
ENVIRONMENT AND OTHER CONTEXT
------------------------------

Environment variables:

    LC_ALL = de_DE.ISO8859-1
    PATH = /usr/local/bin:/usr/bin:/bin:/usr/local/sbin:/usr/sbin:/sbin:/home/cpansand/bin/freebsd10.3:/home/cpansand/bin/sh:/home/cpansand/bin:/usr/games:/home/cpansand/devel:/home/eserte/src/srezic-misc/scripts
    PERL5LIB = 
    PERL5OPT = 
    PERL5_CPANPLUS_IS_RUNNING = 36885
    PERL5_CPAN_IS_RUNNING = 36885
    PERL5_CPAN_IS_RUNNING_IN_RECURSION = 58352,36885
    PERLDOC = -MPod::Perldoc::ToTextOverstrike
    PERL_BATCH = yes
    PERL_CANARY_STABILITY_NOPROMPT = 1
    PERL_CPAN_REPORTER_CONFIG = /var/tmp/cpansmoker-1023/2019041502/cpanreporter_000_config.ini
    PERL_EXTUTILS_AUTOINSTALL = --defaultdeps
    SHELL = /usr/local/bin/zsh
    TERM = screen
    TMPDIR = /var/tmp/cpansmoker-1023/2019041502

Perl special variables (and OS-specific diagnostics, for MSWin32):

    $^X = /usr/perl5.20.1p/bin/perl
    $UID/$EUID = 1023 / 1023
    $GID = 1023 1023
    $EGID = 1023 1023

Perl module toolchain versions installed:

    Module              Have    
    ------------------- --------
    CPAN                2.16    
    CPAN::Meta          2.150010
    Cwd                 3.75    
    ExtUtils::CBuilder  0.280231
    ExtUtils::Command   7.34    
    ExtUtils::Install   2.14    
    ExtUtils::MakeMaker 7.34    
    ExtUtils::Manifest  1.70    
    ExtUtils::ParseXS   3.35    
    File::Spec          3.75    
    JSON                2.97001 
    JSON::PP            2.97001 
    Module::Build       0.4224  
    Module::Signature   0.83    
    Parse::CPAN::Meta   2.150010
    Test::Harness       3.42    
    Test::More          1.302162
    YAML                1.27    
    YAML::Syck          1.30    
    version             0.9924  


--

Summary of my perl5 (revision 5 version 20 subversion 1) configuration:
   
  Platform:
    osname=freebsd, osvers=10.1-release, archname=amd64-freebsd
    uname='freebsd cvrsnica-freebsd-101.herceg.de 10.1-release freebsd 10.1-release #0 r274401: tue nov 11 21:02:49 utc 2014 root@releng1.nyi.freebsd.org:usrobjusrsrcsysgeneric amd64 '
    config_args='-ds -e -Dprefix=/usr/perl5.20.1p'
    hint=recommended, useposix=true, d_sigaction=define
    useithreads=undef, usemultiplicity=undef
    use64bitint=define, use64bitall=define, uselongdouble=undef
    usemymalloc=n, bincompat5005=undef
  Compiler:
    cc='cc', ccflags ='-DHAS_FPSETMASK -DHAS_FLOATINGPOINT_H -fno-strict-aliasing -pipe -fstack-protector -I/usr/local/include',
    optimize='-O',
    cppflags='-DHAS_FPSETMASK -DHAS_FLOATINGPOINT_H -fno-strict-aliasing -pipe -fstack-protector -I/usr/local/include'
    ccversion='', gccversion='4.2.1 Compatible FreeBSD Clang 3.4.1 (tags/RELEASE_34/dot1-final 208032)', gccosandvers=''
    intsize=4, longsize=8, ptrsize=8, doublesize=8, byteorder=12345678
    d_longlong=define, longlongsize=8, d_longdbl=define, longdblsize=16
    ivtype='long', ivsize=8, nvtype='double', nvsize=8, Off_t='off_t', lseeksize=8
    alignbytes=8, prototype=define
  Linker and Libraries:
    ld='cc', ldflags ='-pthread -Wl,-E  -fstack-protector -L/usr/local/lib'
    libpth=/usr/lib /usr/local/lib /usr/include/clang/3.4.1 /usr/lib
    libs=-lm -lcrypt -lutil -lc
    perllibs=-lm -lcrypt -lutil -lc
    libc=, so=so, useshrplib=false, libperl=libperl.a
    gnulibc_version=''
  Dynamic Linking:
    dlsrc=dl_dlopen.xs, dlext=so, d_dlsymun=undef, ccdlflags=' '
    cccdlflags='-DPIC -fPIC', lddlflags='-shared  -L/usr/local/lib -fstack-protector'


Characteristics of this binary (from libperl): 
  Compile-time options: HAS_TIMES PERLIO_LAYERS PERL_DONT_CREATE_GVSV
                        PERL_HASH_FUNC_ONE_AT_A_TIME_HARD PERL_MALLOC_WRAP
                        PERL_NEW_COPY_ON_WRITE PERL_PRESERVE_IVUV
                        USE_64_BIT_ALL USE_64_BIT_INT USE_LARGE_FILES
                        USE_LOCALE USE_LOCALE_COLLATE USE_LOCALE_CTYPE
                        USE_LOCALE_NUMERIC USE_PERLIO USE_PERL_ATOF
  Built under freebsd
  Compiled at Jan 29 2015 08:45:50
  %ENV:
    PERL5LIB=""
    PERL5OPT=""
    PERL5_CPANPLUS_IS_RUNNING="36885"
    PERL5_CPAN_IS_RUNNING="36885"
    PERL5_CPAN_IS_RUNNING_IN_RECURSION="58352,36885"
    PERLDOC="-MPod::Perldoc::ToTextOverstrike"
    PERL_BATCH="yes"
    PERL_CANARY_STABILITY_NOPROMPT="1"
    PERL_CPAN_REPORTER_CONFIG="/var/tmp/cpansmoker-1023/2019041502/cpanreporter_000_config.ini"
    PERL_EXTUTILS_AUTOINSTALL="--defaultdeps"
  @INC:
    /usr/perl5.20.1p/lib/site_perl/5.20.1/amd64-freebsd
    /usr/perl5.20.1p/lib/site_perl/5.20.1
    /usr/perl5.20.1p/lib/5.20.1/amd64-freebsd
    /usr/perl5.20.1p/lib/5.20.1
    .