Catalyst-Model-DBIC-Schema v0.66 Perl 5 v5.40.0 RC1 amd64-midnightbsd
- Status
- Pass
- From
- Carlos Guevara
- Dist
-
Catalyst-Model-DBIC-Schema v0.66
- Platform
- Perl 5 v5.40.0 RC1 amd64-midnightbsd
- Date
- 2024-05-26 10:58:50
- ID
- eedf041e-1b4e-11ef-8f77-bf3d2adbbdce
This distribution has been tested as part of the CPAN Testers
project, supporting the Perl programming language. See
http://wiki.cpantesters.org/ for more information or email
questions to cpan-testers-discuss@perl.org
--
Dear Graham Knop,
This is a computer-generated report for Catalyst-Model-DBIC-Schema-0.66
on perl 5.40.0, created by CPAN-Reporter-1.2019.
Thank you for uploading your work to CPAN. Congratulations!
All tests were successful.
Sections of this report:
* Tester comments
* Program output
* Prerequisites
* Environment and other context
------------------------------
TESTER COMMENTS
------------------------------
Additional comments from tester:
this report is from an automated smoke testing program
and was not reviewed by a human for accuracy
------------------------------
PROGRAM OUTPUT
------------------------------
Output from '/usr/bin/make test':
PERL_DL_NONLAZY=1 "/usr/home/cpan/bin/perl/bin/perl5.40.0" "-MExtUtils::Command::MM" "-MTest::Harness" "-e" "undef *Test::Harness::Switches; test_harness(0, 'inc', 'blib/lib', 'blib/arch')" t/01use.t t/02pod.t t/05testapp.t t/06c3_issues.t t/07connect_info.t t/08helper.t t/09schema_options.t t/10literal_sql_through_accessor.t
t/01use.t ........................... ok
t/02pod.t ........................... skipped: set TEST_POD to enable this test
t/05testapp.t ....................... skipped: Enable this optional test with $ENV{C_M_DBIC_SCHEMA_TESTAPP}
t/06c3_issues.t ..................... ok
t/07connect_info.t .................. ok
t/08helper.t ........................ skipped: Test requires module 'Catalyst::Helper' but it's not found
t/09schema_options.t ................ ok
t/10literal_sql_through_accessor.t .. ok
All tests successful.
Files=8, Tests=25, 3 wallclock secs ( 0.02 usr 0.01 sys + 2.20 cusr 0.18 csys = 2.40 CPU)
Result: PASS
------------------------------
PREREQUISITES
------------------------------
Prerequisite modules loaded:
requires:
Module Need Have
--------------------------------------- -------- --------
Carp::Clan 0 6.08
Catalyst::Component::InstancePerContext 0 0.001001
Catalyst::Runtime 5.80005 5.90131
CatalystX::Component::Traits 0.14 0.19
DBD::SQLite 0 1.74
DBIx::Class 0.08114 0.082843
DBIx::Class::Schema::Loader 0.04005 0.07052
Hash::Merge 0 0.302
List::MoreUtils 0 0.430
Module::Runtime 0.012 0.016
Moose 1.12 2.2207
MooseX::MarkAsMethods 0.13 0.15
MooseX::NonMoose 0.16 0.26
MooseX::Types 0 0.50
MooseX::Types::LoadableClass 0.009 0.015
namespace::autoclean 0.09 0.29
namespace::clean 0 0.27
perl 5.008001 5.040000
Storable 0 3.32
Test::Exception 0 0.43
Test::More 0.94 1.302199
Test::Requires 0 0.11
Tie::IxHash 0 1.23
Try::Tiny 0 0.31
build_requires:
Module Need Have
--------------------------------------- -------- --------
DBD::SQLite 0 1.74
ExtUtils::MakeMaker 6.59 7.70
Storable 0 3.32
Test::Exception 0 0.43
Test::More 0.94 1.302199
Test::Requires 0 0.11
configure_requires:
Module Need Have
--------------------------------------- -------- --------
ExtUtils::MakeMaker 6.59 7.70
------------------------------
ENVIRONMENT AND OTHER CONTEXT
------------------------------
Environment variables:
AUTOMATED_TESTING = 1
DATE_MANIP_TEST_DM5 = 1
LC_ALL = C
NONINTERACTIVE_TESTING = 1
NO_NETWORK_TESTING = 1
PATH = /home/cpan/bin/perl/bin:/home/cpan/bin:/sbin:/bin:/usr/sbin:/usr/bin:/usr/games:/usr/local/sbin:/usr/local/bin:/home/cpan/bin
PERL5LIB =
PERL5OPT =
PERL5_CPANPLUS_IS_RUNNING = 28291
PERL5_CPAN_IS_RUNNING = 28291
PERL_MM_USE_DEFAULT = 1
PERL_USE_UNSAFE_INC = 1
SHELL = /usr/local/bin/bash
TERM = screen
TMPDIR = /home/cpan/tmp
Perl special variables (and OS-specific diagnostics, for MSWin32):
$^X = /usr/home/cpan/bin/perl/bin/perl5.40.0
$UID/$EUID = 1002 / 1002
$GID = 1002 1002
$EGID = 1002 1002
Perl module toolchain versions installed:
Module Have
------------------- --------
CPAN 2.36
CPAN::Meta 2.150010
Cwd 3.90
ExtUtils::CBuilder 0.280240
ExtUtils::Command 7.70
ExtUtils::Install 2.22
ExtUtils::MakeMaker 7.70
ExtUtils::Manifest 1.75
ExtUtils::ParseXS 3.51
File::Spec 3.90
JSON 4.10
JSON::PP 4.16
Module::Build 0.4234
Module::Signature 0.88
Parse::CPAN::Meta 2.150010
Test2 1.302199
Test::Harness 3.48
Test::More 1.302199
YAML 1.31
YAML::Syck 1.34
version 0.9930
--
Summary of my perl5 (revision 5 version 40 subversion 0) configuration:
Commit id: 9028e12473e7fa76ca5a5787af6d1b2e6d110b78
Platform:
osname=midnightbsd
osvers=3.1.3
archname=amd64-midnightbsd
uname='midnightbsd cjg-midnightbsd3 3.1.3 midnightbsd 3.1.3 #9n12826-9619ab86ba(stable3.1)-dirty: mon dec 25 14:57:58 est 2023 root@m3164:usrobjusrsrcamd64.amd64sysgeneric amd64 '
config_args='-des -Dprefix=/home/cpan/bin/perl -Dscriptdir=/home/cpan/bin/perl/bin -Dusedevel -Duse64bitall'
hint=recommended
useposix=true
d_sigaction=define
useithreads=undef
usemultiplicity=undef
use64bitint=define
use64bitall=define
uselongdouble=undef
usemymalloc=n
default_inc_excludes_dot=define
Compiler:
cc='cc'
ccflags ='-DHAS_FPSETMASK -DHAS_FLOATINGPOINT_H -fno-strict-aliasing -pipe -fstack-protector-strong -I/usr/local/include'
optimize='-O'
cppflags='-DHAS_FPSETMASK -DHAS_FLOATINGPOINT_H -fno-strict-aliasing -pipe -fstack-protector-strong -I/usr/local/include'
ccversion=''
gccversion='MidnightBSD Clang 13.0.0 (git@github.com:llvm/llvm-project.git llvmorg-13.0.0-0-gd7b669b3a303)'
gccosandvers=''
intsize=4
longsize=8
ptrsize=8
doublesize=8
byteorder=12345678
doublekind=3
d_longlong=define
longlongsize=8
d_longdbl=define
longdblsize=16
longdblkind=3
ivtype='long'
ivsize=8
nvtype='double'
nvsize=8
Off_t='off_t'
lseeksize=8
alignbytes=8
prototype=define
Linker and Libraries:
ld='cc'
ldflags ='-Wl,-E -fstack-protector-strong -L/usr/local/lib'
libpth=/usr/lib /usr/local/lib /usr/lib/clang/13.0.0/lib
libs=-lpthread -lgdbm -ldl -lm -lcrypt -lutil -lc
perllibs=-lpthread -ldl -lm -lcrypt -lutil -lc
libc=
so=so
useshrplib=false
libperl=libperl.a
gnulibc_version=''
Dynamic Linking:
dlsrc=dl_dlopen.xs
dlext=so
d_dlsymun=undef
ccdlflags=' '
cccdlflags='-DPIC -fPIC'
lddlflags='-shared -L/usr/local/lib -fstack-protector-strong'
Characteristics of this binary (from libperl):
Compile-time options:
HAS_LONG_DOUBLE
HAS_STRTOLD
HAS_TIMES
PERLIO_LAYERS
PERL_COPY_ON_WRITE
PERL_DONT_CREATE_GVSV
PERL_HASH_FUNC_SIPHASH13
PERL_HASH_USE_SBOX32
PERL_MALLOC_WRAP
PERL_OP_PARENT
PERL_PRESERVE_IVUV
PERL_USE_DEVEL
PERL_USE_SAFE_PUTENV
USE_64_BIT_ALL
USE_64_BIT_INT
USE_LARGE_FILES
USE_LOCALE
USE_LOCALE_COLLATE
USE_LOCALE_CTYPE
USE_LOCALE_NUMERIC
USE_LOCALE_TIME
USE_PERLIO
USE_PERL_ATOF
Locally applied patches:
RC1
Built under midnightbsd
Compiled at May 26 2024 01:34:58
%ENV:
PERL5LIB=""
PERL5OPT=""
PERL5_CPANPLUS_IS_RUNNING="28291"
PERL5_CPAN_IS_RUNNING="28291"
PERL_MM_USE_DEFAULT="1"
PERL_USE_UNSAFE_INC="1"
@INC:
/home/cpan/bin/perl/lib/site_perl/5.40.0/amd64-midnightbsd
/home/cpan/bin/perl/lib/site_perl/5.40.0
/home/cpan/bin/perl/lib/5.40.0/amd64-midnightbsd
/home/cpan/bin/perl/lib/5.40.0
.