Back
From: metabase:user:31d414ea-2aae-11df-837a-5e0a49663a4f
Subject: PASS Net-Google-DataAPI-0.2805 v5.24.1 GNU/Linux
Date: 2017-01-30T13:20:56Z
This distribution has been tested as part of the CPAN Testers
project, supporting the Perl programming language. See
http://wiki.cpantesters.org/ for more information or email
questions to cpan-testers-discuss@perl.org
--
Dear Nobuo Danjou,
This is a computer-generated report for Net-Google-DataAPI-0.2805
on perl 5.24.1, created by CPAN-Reporter-1.2018.
Thank you for uploading your work to CPAN. Congratulations!
All tests were successful.
Sections of this report:
* Tester comments
* Program output
* Prerequisites
* Environment and other context
------------------------------
TESTER COMMENTS
------------------------------
Additional comments from tester:
this report is from an automated smoke testing program
and was not reviewed by a human for accuracy
------------------------------
PROGRAM OUTPUT
------------------------------
Output from '/usr/bin/make test':
PERL_DL_NONLAZY=1 "/home/david/cpantesting/perl-5.24.1/bin/perl" "-MExtUtils::Command::MM" "-MTest::Harness" "-e" "undef *Test::Harness::Switches; test_harness(0, 'inc', 'blib/lib', 'blib/arch')" t/*.t t/01_role/01_service/*.t t/01_role/02_entry/*.t t/01_role/03_has_content/*.t t/02_feedurl/*.t t/03_entry_has/*.t t/04_auth/*.t
Any::Moose is deprecated. Please use Moo instead at /home/david/cpantesting/perl-5.24.1/.cpan/build/Net-Google-DataAPI-0.2805-lvW2uL/blib/lib/Net/Google/DataAPI.pm line 3.
t/00_compile.t ......................................... ok
Any::Moose is deprecated. Please use Moo instead at /home/david/cpantesting/perl-5.24.1/.cpan/build/Net-Google-DataAPI-0.2805-lvW2uL/blib/lib/Net/Google/DataAPI/Role/Service.pm line 2.
t/01_role/01_service/01_instanciate.t .................. ok
Any::Moose is deprecated. Please use Moo instead at /home/david/cpantesting/perl-5.24.1/.cpan/build/Net-Google-DataAPI-0.2805-lvW2uL/blib/lib/Net/Google/DataAPI/Role/Service.pm line 2.
t/01_role/01_service/02_namespace.t .................... ok
Any::Moose is deprecated. Please use Moo instead at t/01_role/01_service/03_request.t line 11.
t/01_role/01_service/03_request.t ...................... ok
Any::Moose is deprecated. Please use Moo instead at t/01_role/01_service/04_methods.t line 9.
t/01_role/01_service/04_methods.t ...................... ok
Any::Moose is deprecated. Please use Moo instead at t/lib/MyService.pm line 2.
t/01_role/01_service/05_debug.t ........................ ok
Any::Moose is deprecated. Please use Moo instead at /home/david/cpantesting/perl-5.24.1/.cpan/build/Net-Google-DataAPI-0.2805-lvW2uL/blib/lib/Net/Google/DataAPI/Role/Service.pm line 2.
t/01_role/01_service/06_pass_through.t ................. ok
Any::Moose is deprecated. Please use Moo instead at /home/david/cpantesting/perl-5.24.1/.cpan/build/Net-Google-DataAPI-0.2805-lvW2uL/blib/lib/Net/Google/DataAPI/Role/Service.pm line 2.
t/01_role/01_service/07_max_line_length.t .............. ok
Any::Moose is deprecated. Please use Moo instead at /home/david/cpantesting/perl-5.24.1/.cpan/build/Net-Google-DataAPI-0.2805-lvW2uL/blib/lib/Net/Google/DataAPI/Role/Service.pm line 2.
t/01_role/01_service/08_max_line_length_custom_size.t .. ok
Any::Moose is deprecated. Please use Moo instead at /home/david/cpantesting/perl-5.24.1/.cpan/build/Net-Google-DataAPI-0.2805-lvW2uL/blib/lib/Net/Google/DataAPI/Role/Entry.pm line 2.
t/01_role/02_entry/01_instanciate.t .................... ok
Any::Moose is deprecated. Please use Moo instead at t/01_role/02_entry/02_update.t line 10.
t/01_role/02_entry/02_update.t ......................... ok
Any::Moose is deprecated. Please use Moo instead at /home/david/cpantesting/perl-5.24.1/.cpan/build/Net-Google-DataAPI-0.2805-lvW2uL/blib/lib/Net/Google/DataAPI/Role/HasContent.pm line 2.
t/01_role/03_has_content/01_basic.t .................... ok
Any::Moose is deprecated. Please use Moo instead at t/lib/MyService.pm line 2.
t/02_feedurl/01_basic.t ................................ ok
Any::Moose is deprecated. Please use Moo instead at t/lib/MyService.pm line 2.
t/02_feedurl/02_add.t .................................. ok
Any::Moose is deprecated. Please use Moo instead at t/lib/MyService.pm line 2.
t/02_feedurl/03_list.t ................................. ok
Any::Moose is deprecated. Please use Moo instead at t/lib/MyService.pm line 2.
t/02_feedurl/04_delete.t ............................... ok
Any::Moose is deprecated. Please use Moo instead at t/02_feedurl/05_error.t line 10.
t/02_feedurl/05_error.t ................................ ok
Any::Moose is deprecated. Please use Moo instead at t/03_entry_has/01_basic.t line 116.
t/03_entry_has/01_basic.t .............................. ok
Any::Moose is deprecated. Please use Moo instead at t/03_entry_has/02_error.t line 8.
t/03_entry_has/02_error.t .............................. ok
Any::Moose is deprecated. Please use Moo instead at t/lib/MyService.pm line 2.
t/04_auth/01_authsub.t ................................. ok
Any::Moose is deprecated. Please use Moo instead at /home/david/cpantesting/perl-5.24.1/.cpan/build/Net-Google-DataAPI-0.2805-lvW2uL/blib/lib/Net/Google/DataAPI/Auth/OAuth.pm line 2.
t/04_auth/02_oauth.t ................................... ok
Any::Moose is deprecated. Please use Moo instead at /home/david/cpantesting/perl-5.24.1/.cpan/build/Net-Google-DataAPI-0.2805-lvW2uL/blib/lib/Net/Google/DataAPI/Auth/ClientLogin/Multiple.pm line 2.
t/04_auth/03_multiple.t ................................ ok
Any::Moose is deprecated. Please use Moo instead at /home/david/cpantesting/perl-5.24.1/.cpan/build/Net-Google-DataAPI-0.2805-lvW2uL/blib/lib/Net/Google/DataAPI/Auth/OAuth2.pm line 2.
t/04_auth/04_oauth2.t .................................. ok
Any::Moose is deprecated. Please use Moo instead at t/05_types.t line 6.
t/05_types.t ........................................... ok
All tests successful.
Files=24, Tests=423, 10 wallclock secs ( 0.10 usr 0.06 sys + 2.52 cusr 0.46 csys = 3.14 CPU)
Result: PASS
------------------------------
PREREQUISITES
------------------------------
Prerequisite modules loaded:
requires:
Module Need Have
--------------------------- -------- ----------
Any::Moose 0.04 0.27
Carp 0 1.40
Digest::SHA1 0 2.13
Lingua::EN::Inflect::Number 0 1.12
LWP::Protocol::https 0 6.06
LWP::UserAgent 0 6.16
Mouse 0.51 v2.4.7
Net::Google::AuthSub 0.5 0.5
Net::OAuth 0 0.28
Net::OAuth2 0.60 0.63
perl 5.008001 5.024001
Text::Glob 0 0.10
URI 0 1.71
XML::Atom 0 0.41
XML::LibXML 0 2.0128
build_requires:
Module Need Have
--------------------------- -------- ----------
ExtUtils::MakeMaker 6.59 7.24
Test::Exception 0 0.43
Test::MockModule 0 0.11
Test::MockObject 0 1.20161202
Test::More 0.88 1.302075
Test::Warn 0 0.32
UNIVERSAL::can 0 1.20140328
UNIVERSAL::isa 0 1.20150614
configure_requires:
Module Need Have
--------------------------- -------- ----------
ExtUtils::MakeMaker 6.59 7.24
------------------------------
ENVIRONMENT AND OTHER CONTEXT
------------------------------
Environment variables:
AUTOMATED_TESTING = 1
NONINTERACTIVE_TESTING = 1
PATH = /usr/local/bin:/usr/bin:/bin:/usr/local/games:/usr/games
PERL = 5.24.1
PERL5LIB =
PERL5OPT =
PERL5_CPANPLUS_IS_RUNNING = 17580
PERL5_CPAN_IS_RUNNING = 17580
PERLVER = 5.24.1
PERL_INLINE_DIRECTORY = /home/david/.Inline-5.24.1
PERL_MM_USE_DEFAULT = 1
SHELL = /bin/bash
TERM = screen
Perl special variables (and OS-specific diagnostics, for MSWin32):
$^X = /home/david/cpantesting/perl-5.24.1/bin/perl
$UID/$EUID = 1000 / 1000
$GID = 1000 1000
$EGID = 1000 1000
Perl module toolchain versions installed:
Module Have
------------------- ----------
CPAN 2.11_01
CPAN::Meta 2.150005
Cwd 3.63_01
ExtUtils::CBuilder 0.280225
ExtUtils::Command 7.24
ExtUtils::Install 2.04
ExtUtils::MakeMaker 7.24
ExtUtils::Manifest 1.70
ExtUtils::ParseXS 3.31
File::Spec 3.63_01
JSON 2.90
JSON::PP 2.27300_01
Module::Build 0.4220
Module::Signature n/a
Parse::CPAN::Meta 1.4417_001
Test::Harness 3.36_01
Test::More 1.302075
YAML 1.21
YAML::Syck n/a
version 0.9916
--
Summary of my perl5 (revision 5 version 24 subversion 1) configuration:
Platform:
osname=linux, osvers=3.16.0-4-amd64, archname=x86_64-linux-thread-multi
uname='linux pigsty.barnyard.co.uk 3.16.0-4-amd64 #1 smp debian 3.16.36-1+deb8u1 (2016-09-03) x86_64 gnulinux '
config_args='-de -Duse64bitall -Dusethreads -Dprefix=/home/david/cpantesting/perl-5.24.1'
hint=recommended, useposix=true, d_sigaction=define
useithreads=define, usemultiplicity=define
use64bitint=define, use64bitall=define, uselongdouble=undef
usemymalloc=n, bincompat5005=undef
Compiler:
cc='cc', ccflags ='-D_REENTRANT -D_GNU_SOURCE -fwrapv -fno-strict-aliasing -pipe -fstack-protector-strong -I/usr/local/include -D_LARGEFILE_SOURCE -D_FILE_OFFSET_BITS=64 -D_FORTIFY_SOURCE=2',
optimize='-O2',
cppflags='-D_REENTRANT -D_GNU_SOURCE -fwrapv -fno-strict-aliasing -pipe -fstack-protector-strong -I/usr/local/include'
ccversion='', gccversion='4.9.2', gccosandvers=''
intsize=4, longsize=8, ptrsize=8, doublesize=8, byteorder=12345678, doublekind=3
d_longlong=define, longlongsize=8, d_longdbl=define, longdblsize=16, longdblkind=3
ivtype='long', ivsize=8, nvtype='double', nvsize=8, Off_t='off_t', lseeksize=8
alignbytes=8, prototype=define
Linker and Libraries:
ld='cc', ldflags =' -fstack-protector-strong -L/usr/local/lib'
libpth=/usr/local/lib /usr/lib/gcc/x86_64-linux-gnu/4.9/include-fixed /usr/include/x86_64-linux-gnu /usr/lib /lib/x86_64-linux-gnu /lib/../lib /usr/lib/x86_64-linux-gnu /usr/lib/../lib /lib
libs=-lpthread -lnsl -ldb -ldl -lm -lcrypt -lutil -lc
perllibs=-lpthread -lnsl -ldl -lm -lcrypt -lutil -lc
libc=libc-2.19.so, so=so, useshrplib=false, libperl=libperl.a
gnulibc_version='2.19'
Dynamic Linking:
dlsrc=dl_dlopen.xs, dlext=so, d_dlsymun=undef, ccdlflags='-Wl,-E'
cccdlflags='-fPIC', lddlflags='-shared -O2 -L/usr/local/lib -fstack-protector-strong'
Characteristics of this binary (from libperl):
Compile-time options: HAS_TIMES MULTIPLICITY PERLIO_LAYERS
PERL_COPY_ON_WRITE PERL_DONT_CREATE_GVSV
PERL_HASH_FUNC_ONE_AT_A_TIME_HARD
PERL_IMPLICIT_CONTEXT PERL_MALLOC_WRAP
PERL_PRESERVE_IVUV USE_64_BIT_ALL USE_64_BIT_INT
USE_ITHREADS USE_LARGE_FILES USE_LOCALE
USE_LOCALE_COLLATE USE_LOCALE_CTYPE
USE_LOCALE_NUMERIC USE_LOCALE_TIME USE_PERLIO
USE_PERL_ATOF USE_REENTRANT_API
Built under linux
Compiled at Jan 17 2017 16:38:59
%ENV:
PERL="5.24.1"
PERL5LIB=""
PERL5OPT=""
PERL5_CPANPLUS_IS_RUNNING="17580"
PERL5_CPAN_IS_RUNNING="17580"
PERLVER="5.24.1"
PERL_INLINE_DIRECTORY="/home/david/.Inline-5.24.1"
PERL_MM_USE_DEFAULT="1"
@INC:
/home/david/cpantesting/perl-5.24.1/lib/site_perl/5.24.1/x86_64-linux-thread-multi
/home/david/cpantesting/perl-5.24.1/lib/site_perl/5.24.1
/home/david/cpantesting/perl-5.24.1/lib/5.24.1/x86_64-linux-thread-multi
/home/david/cpantesting/perl-5.24.1/lib/5.24.1
.