Report for Spreadsheet-WriteExcel-2.40

Back
From: metabase:user:6b7c0268-6bfa-1014-b492-d6f6123e60b2
Subject: PASS Spreadsheet-WriteExcel-2.40 v5.18.1 
Date: 2013-11-15T12:45:21Z

This distribution has been tested as part of the CPAN Testers
project, supporting the Perl programming language.  See
http://wiki.cpantesters.org/ for more information or email
questions to cpan-testers-discuss@perl.org


--
Dear John McNamara,

This is a computer-generated report for Spreadsheet-WriteExcel-2.40
on perl 5.18.1, created by CPAN-Reporter-1.2010.

Thank you for uploading your work to CPAN.  Congratulations!
All tests were successful.

Sections of this report:

    * Tester comments
    * Program output
    * Prerequisites
    * Environment and other context

------------------------------
TESTER COMMENTS
------------------------------

Additional comments from tester:

this report is from an automated smoke testing program
and was not reviewed by a human for accuracy

------------------------------
PROGRAM OUTPUT
------------------------------

Output from 'Z:\perls\sp5181_64\c\bin\dmake.exe test':

Z:\perls\sp5181_64\perl\bin\perl.exe "-MExtUtils::Command::MM" "-e" "test_harness(0, 'blib\lib', 'blib\arch')" t/*.t
t/00_IEEE_double.t ............ ok
t/01_add_worksheet.t .......... ok
t/02_merge_formats.t .......... ok
t/03_cleanup.t ................ ok
t/04_dimensions.t ............. ok
t/05_rows.t ................... ok
t/06_extsst.t ................. ok
t/07_set_propertes.t .......... ok
t/11_date_time.t .............. ok
t/12_date_only.t .............. ok
t/13_date_seconds.t ........... ok
t/21_escher.t ................. ok
t/22_mso_drawing_group.t ...... ok
t/23_note.t ................... ok
t/24_txo.t .................... ok
t/25_position_object.t ........ ok
t/26_autofilter.t ............. ok
t/27_autofilter.t ............. ok
t/28_autofilter.t ............. ok
t/29_process_jpg.t ............ ok
t/30_validation_dval.t ........ ok
t/31_validation_dv_strings.t .. ok
t/32_validation_dv_formula.t .. ok
t/33_validation_dv.t .......... ok
t/40_property_types.t ......... ok
t/41_properties.t ............. ok
t/42_set_properties.t ......... ok
t/50_name_stored.t ............ ok
t/51_name_print_area.t ........ ok
t/52_name_print_titles.t ...... ok
t/53_name_autofilter.t ........ ok
t/60_chart_generic.t .......... ok
t/61_chart_subclasses.t ....... ok
t/62_chart_formats.t .......... ok
t/63_chart_area_formats.t ..... ok
All tests successful.
Files=35, Tests=1254, 24 wallclock secs ( 0.53 usr +  0.06 sys =  0.59 CPU)
Result: PASS

------------------------------
PREREQUISITES
------------------------------

Prerequisite modules loaded:

requires:

    Module              Need Have    
    ------------------- ---- --------
    File::Temp          0    0.2301  
    OLE::Storage_Lite   0.19 0.19    
    Parse::RecDescent   0    1.967009

build_requires:

    Module              Need Have    
    ------------------- ---- --------
    ExtUtils::MakeMaker 0    6.72    

configure_requires:

    Module              Need Have    
    ------------------- ---- --------
    ExtUtils::MakeMaker 0    6.72    


------------------------------
ENVIRONMENT AND OTHER CONTEXT
------------------------------

Environment variables:

    AUTOMATED_TESTING = 1
    COMSPEC = C:\Windows\system32\cmd.exe
    NUMBER_OF_PROCESSORS = 3
    PATH = Z:\perls\sp5181_64\\perl\site\bin;Z:\perls\sp5181_64\\perl\bin;Z:\perls\sp5181_64\\c\bin;C:\Windows\system32;C:\Windows;C:\Windows\System32\Wbem
    PERL5LIB = Z:\perls\sp5181_64\cpan\build\Parse-RecDescent-1.967009-t5AlTm/blib/arch;Z:\perls\sp5181_64\cpan\build\Parse-RecDescent-1.967009-t5AlTm/blib/lib;Z:\perls\sp5181_64\cpan\build\OLE-Storage_Lite-0.19-0TUoFi/blib/arch;Z:\perls\sp5181_64\cpan\build\OLE-Storage_Lite-0.19-0TUoFi/blib/lib;Z:\perls\sp5181_64\cpan\build\Querylet-0.401-AuGJwo/blib/arch;Z:\perls\sp5181_64\cpan\build\Querylet-0.401-AuGJwo/blib/lib
    PERL5OPT = 
    PERL5_CPANPLUS_IS_RUNNING = 2252
    PERL5_CPAN_IS_RUNNING = 2252
    PERL5_CPAN_IS_RUNNING_IN_RECURSION = 3492,2252
    PERL_CR_SMOKER_CURRENT = Querylet-Output-Excel-XLS-0.133
    PERL_EXTUTILS_AUTOINSTALL = --defaultdeps
    PERL_MM_USE_DEFAULT = 1
    PROCESSOR_IDENTIFIER = Intel64 Family 6 Model 13 Stepping 3, GenuineIntel
    TEMP = C:\Users\kmx\AppData\Local\Temp\2

Perl special variables (and OS-specific diagnostics, for MSWin32):

    $^X = Z:\perls\sp5181_64\perl\bin\perl.exe
    $UID/$EUID = 0 / 0
    $GID = 0
    $EGID = 0
    Win32::GetOSName = Win2012
    Win32::GetOSVersion = , 6, 2, 9200, 2, 0, 0, 400, 3
    Win32::FsType = NTFS
    Win32::IsAdminUser = 0

Perl module toolchain versions installed:

    Module              Have    
    ------------------- --------
    CPAN                2.00    
    CPAN::Meta          2.132140
    Cwd                 3.40    
    ExtUtils::CBuilder  0.280210
    ExtUtils::Command   1.17    
    ExtUtils::Install   1.59    
    ExtUtils::MakeMaker 6.72    
    ExtUtils::Manifest  1.63    
    ExtUtils::ParseXS   3.21    
    File::Spec          3.40    
    JSON                2.59    
    JSON::PP            2.27202 
    Module::Build       0.4007  
    Module::Signature   n/a     
    Parse::CPAN::Meta   1.4405  
    Test::Harness       3.28    
    Test::More          0.98    
    YAML                0.84    
    YAML::Syck          n/a     
    version             0.9902  


--

Summary of my perl5 (revision 5 version 18 subversion 1) configuration:
   
  Platform:
    osname=MSWin32, osvers=4.0, archname=MSWin32-x64-multi-thread
    uname='Win32 strawberry-perl 5.18.1.1 #1 Tue Aug 13 17:18:28 2013 x64'
    config_args='undef'
    hint=recommended, useposix=true, d_sigaction=undef
    useithreads=define, usemultiplicity=define
    useperlio=define, d_sfio=undef, uselargefiles=define, usesocks=undef
    use64bitint=define, use64bitall=undef, uselongdouble=undef
    usemymalloc=n, bincompat5005=undef
  Compiler:
    cc='gcc', ccflags =' -s -O2 -DWIN32 -DWIN64 -DCONSERVATIVE  -DPERL_TEXTMODE_SCRIPTS -DPERL_IMPLICIT_CONTEXT -DPERL_IMPLICIT_SYS -DUSE_PERLIO -fno-strict-aliasing -mms-bitfields',
    optimize='-s -O2',
    cppflags='-DWIN32'
    ccversion='', gccversion='4.7.3', gccosandvers=''
    intsize=4, longsize=4, ptrsize=8, doublesize=8, byteorder=12345678
    d_longlong=define, longlongsize=8, d_longdbl=define, longdblsize=12
    ivtype='long long', ivsize=8, nvtype='double', nvsize=8, Off_t='long long', lseeksize=8
    alignbytes=8, prototype=define
  Linker and Libraries:
    ld='g++', ldflags ='-s -L"Z:\perls\sp5181_64\perl\lib\CORE" -L"Z:\perls\sp5181_64\c\lib"'
    libpth=Z:\perls\sp5181_64\c\lib Z:\perls\sp5181_64\c\x86_64-w64-mingw32\lib
    libs=-lmoldname -lkernel32 -luser32 -lgdi32 -lwinspool -lcomdlg32 -ladvapi32 -lshell32 -lole32 -loleaut32 -lnetapi32 -luuid -lws2_32 -lmpr -lwinmm -lversion -lodbc32 -lodbccp32 -lcomctl32
    perllibs=-lmoldname -lkernel32 -luser32 -lgdi32 -lwinspool -lcomdlg32 -ladvapi32 -lshell32 -lole32 -loleaut32 -lnetapi32 -luuid -lws2_32 -lmpr -lwinmm -lversion -lodbc32 -lodbccp32 -lcomctl32
    libc=, so=dll, useshrplib=true, libperl=libperl518.a
    gnulibc_version=''
  Dynamic Linking:
    dlsrc=dl_win32.xs, dlext=dll, d_dlsymun=undef, ccdlflags=' '
    cccdlflags=' ', lddlflags='-mdll -s -L"Z:\perls\sp5181_64\perl\lib\CORE" -L"Z:\perls\sp5181_64\c\lib"'


Characteristics of this binary (from libperl): 
  Compile-time options: HAS_TIMES HAVE_INTERP_INTERN MULTIPLICITY
                        PERLIO_LAYERS PERL_DONT_CREATE_GVSV
                        PERL_HASH_FUNC_ONE_AT_A_TIME_HARD
                        PERL_IMPLICIT_CONTEXT PERL_IMPLICIT_SYS
                        PERL_MALLOC_WRAP PERL_PRESERVE_IVUV PERL_SAWAMPERSAND
                        USE_64_BIT_INT USE_ITHREADS USE_LARGE_FILES
                        USE_LOCALE USE_LOCALE_COLLATE USE_LOCALE_CTYPE
                        USE_LOCALE_NUMERIC USE_PERLIO USE_PERL_ATOF
  Built under MSWin32
  Compiled at Aug 13 2013 17:23:34
  %ENV:
    PERL5LIB="Z:\perls\sp5181_64\cpan\build\Parse-RecDescent-1.967009-t5AlTm/blib/arch;Z:\perls\sp5181_64\cpan\build\Parse-RecDescent-1.967009-t5AlTm/blib/lib;Z:\perls\sp5181_64\cpan\build\OLE-Storage_Lite-0.19-0TUoFi/blib/arch;Z:\perls\sp5181_64\cpan\build\OLE-Storage_Lite-0.19-0TUoFi/blib/lib;Z:\perls\sp5181_64\cpan\build\Querylet-0.401-AuGJwo/blib/arch;Z:\perls\sp5181_64\cpan\build\Querylet-0.401-AuGJwo/blib/lib"
    PERL5_CPANPLUS_IS_RUNNING="2252"
    PERL5_CPAN_IS_RUNNING="2252"
    PERL5_CPAN_IS_RUNNING_IN_RECURSION="3492,2252"
    PERL_CR_SMOKER_CURRENT="Querylet-Output-Excel-XLS-0.133"
    PERL_EXTUTILS_AUTOINSTALL="--defaultdeps"
    PERL_MM_USE_DEFAULT="1"
  @INC:
    Z:\perls\sp5181_64\cpan\build\Parse-RecDescent-1.967009-t5AlTm/blib/arch
    Z:\perls\sp5181_64\cpan\build\Parse-RecDescent-1.967009-t5AlTm/blib/lib
    Z:\perls\sp5181_64\cpan\build\OLE-Storage_Lite-0.19-0TUoFi/blib/arch
    Z:\perls\sp5181_64\cpan\build\OLE-Storage_Lite-0.19-0TUoFi/blib/lib
    Z:\perls\sp5181_64\cpan\build\Querylet-0.401-AuGJwo/blib/arch
    Z:\perls\sp5181_64\cpan\build\Querylet-0.401-AuGJwo/blib/lib
    Z:/perls/sp5181_64/perl/site/lib/MSWin32-x64-multi-thread
    Z:/perls/sp5181_64/perl/site/lib
    Z:/perls/sp5181_64/perl/vendor/lib
    Z:/perls/sp5181_64/perl/lib
    .