Text-Xslate-Syntax-HTMLTemplate v0.1005 Perl 5 v5.38.4 RC1 x86_64-linux

Status
Pass
From
Andreas J. König (ANDK)
Dist
Text-Xslate-Syntax-HTMLTemplate v0.1005
Platform
Perl 5 v5.38.4 RC1 x86_64-linux
Date
2025-03-31 15:58:05
ID
ee9c70ac-0e48-11f0-bd1e-a8acf507c76c
This distribution has been tested as part of the CPAN Testers
project, supporting the Perl programming language.  See
http://wiki.cpantesters.org/ for more information or email
questions to cpan-testers-discuss@perl.org


--
Dear Shigeki Morimoto,

This is a computer-generated report for Text-Xslate-Syntax-HTMLTemplate-0.1005
on perl 5.38.4, created by CPAN-Reporter-1.2020.

Thank you for uploading your work to CPAN.  Congratulations!
All tests were successful.

Sections of this report:

    * Tester comments
    * Program output
    * Prerequisites
    * Environment and other context

------------------------------
TESTER COMMENTS
------------------------------

Additional comments from tester:

this report is from an automated smoke testing program
and was not reviewed by a human for accuracy

------------------------------
PROGRAM OUTPUT
------------------------------

Output from '/usr/bin/make test':

PERL_DL_NONLAZY=1 "/tmp/basesmoker-reloperl-3VRm/bin/perl" "-MExtUtils::Command::MM" "-MTest::Harness" "-e" "undef *Test::Harness::Switches; test_harness(0, 'inc', 'blib/lib', 'blib/arch')" t/*.t t/010_ast/*.t t/020_render/*.t t/030_filter/*.t t/900_bug/*.t
Any::Moose is deprecated. Please use Moo instead at /tmp/loop_over_bdir-2787454-LT3RhR/Text-Xslate-Syntax-HTMLTemplate-0.1005-0/blib/lib/Text/Xslate/Compiler/HTMLTemplate.pm line 8.
t/000_load.t ................................. ok
Any::Moose is deprecated. Please use Moo instead at /tmp/loop_over_bdir-2787454-LT3RhR/Text-Xslate-Syntax-HTMLTemplate-0.1005-0/blib/lib/Text/Xslate/Syntax/HTMLTemplate.pm line 10.
t/010_ast/001_plain_text.t ................... ok
Any::Moose is deprecated. Please use Moo instead at /tmp/loop_over_bdir-2787454-LT3RhR/Text-Xslate-Syntax-HTMLTemplate-0.1005-0/blib/lib/Text/Xslate/Syntax/HTMLTemplate.pm line 10.
t/010_ast/002_variable.t ..................... ok
Any::Moose is deprecated. Please use Moo instead at /tmp/loop_over_bdir-2787454-LT3RhR/Text-Xslate-Syntax-HTMLTemplate-0.1005-0/blib/lib/Text/Xslate/Syntax/HTMLTemplate.pm line 10.
t/010_ast/003_expr.t ......................... ok
Any::Moose is deprecated. Please use Moo instead at /tmp/loop_over_bdir-2787454-LT3RhR/Text-Xslate-Syntax-HTMLTemplate-0.1005-0/blib/lib/Text/Xslate/Syntax/HTMLTemplate.pm line 10.
t/010_ast/004_if.t ........................... ok
Any::Moose is deprecated. Please use Moo instead at /tmp/loop_over_bdir-2787454-LT3RhR/Text-Xslate-Syntax-HTMLTemplate-0.1005-0/blib/lib/Text/Xslate/Syntax/HTMLTemplate.pm line 10.
t/010_ast/005_for.t .......................... ok
Any::Moose is deprecated. Please use Moo instead at /tmp/loop_over_bdir-2787454-LT3RhR/Text-Xslate-Syntax-HTMLTemplate-0.1005-0/blib/lib/Text/Xslate/Syntax/HTMLTemplate.pm line 10.
t/010_ast/006_include.t ...................... ok
Any::Moose is deprecated. Please use Moo instead at /tmp/loop_over_bdir-2787454-LT3RhR/Text-Xslate-Syntax-HTMLTemplate-0.1005-0/blib/lib/Text/Xslate/Syntax/HTMLTemplate.pm line 10.
t/020_render/001_plain_text.t ................ ok
Any::Moose is deprecated. Please use Moo instead at /tmp/loop_over_bdir-2787454-LT3RhR/Text-Xslate-Syntax-HTMLTemplate-0.1005-0/blib/lib/Text/Xslate/Syntax/HTMLTemplate.pm line 10.
t/020_render/002_variable.t .................. ok
Any::Moose is deprecated. Please use Moo instead at /tmp/loop_over_bdir-2787454-LT3RhR/Text-Xslate-Syntax-HTMLTemplate-0.1005-0/blib/lib/Text/Xslate/Syntax/HTMLTemplate.pm line 10.
t/020_render/003_expr.t ...................... ok
Any::Moose is deprecated. Please use Moo instead at /tmp/loop_over_bdir-2787454-LT3RhR/Text-Xslate-Syntax-HTMLTemplate-0.1005-0/blib/lib/Text/Xslate/Syntax/HTMLTemplate.pm line 10.
t/020_render/004_if.t ........................ ok
Any::Moose is deprecated. Please use Moo instead at /tmp/loop_over_bdir-2787454-LT3RhR/Text-Xslate-Syntax-HTMLTemplate-0.1005-0/blib/lib/Text/Xslate/Syntax/HTMLTemplate.pm line 10.
t/020_render/005_for.t ....................... ok
Any::Moose is deprecated. Please use Moo instead at /tmp/loop_over_bdir-2787454-LT3RhR/Text-Xslate-Syntax-HTMLTemplate-0.1005-0/blib/lib/Text/Xslate/Syntax/HTMLTemplate.pm line 10.
t/020_render/006_include.t ................... ok
Any::Moose is deprecated. Please use Moo instead at /tmp/loop_over_bdir-2787454-LT3RhR/Text-Xslate-Syntax-HTMLTemplate-0.1005-0/blib/lib/Text/Xslate/Syntax/HTMLTemplate.pm line 10.
t/020_render/007_escape.t .................... ok
Any::Moose is deprecated. Please use Moo instead at /tmp/loop_over_bdir-2787454-LT3RhR/Text-Xslate-Syntax-HTMLTemplate-0.1005-0/blib/lib/Text/Xslate/Syntax/HTMLTemplate.pm line 10.
t/020_render/008_global_vars.t ............... ok
Any::Moose is deprecated. Please use Moo instead at /tmp/loop_over_bdir-2787454-LT3RhR/Text-Xslate-Syntax-HTMLTemplate-0.1005-0/blib/lib/Text/Xslate/Syntax/HTMLTemplate.pm line 10.
t/020_render/009_has_value.t ................. ok
Any::Moose is deprecated. Please use Moo instead at /tmp/loop_over_bdir-2787454-LT3RhR/Text-Xslate-Syntax-HTMLTemplate-0.1005-0/blib/lib/Text/Xslate/Syntax/HTMLTemplate.pm line 10.
t/020_render/010_loop_context_vars.t ......... ok
Any::Moose is deprecated. Please use Moo instead at /tmp/loop_over_bdir-2787454-LT3RhR/Text-Xslate-Syntax-HTMLTemplate-0.1005-0/blib/lib/Text/Xslate/Syntax/HTMLTemplate.pm line 10.
t/020_render/011_path_like_variable_scope.t .. ok
Any::Moose is deprecated. Please use Moo instead at /tmp/loop_over_bdir-2787454-LT3RhR/Text-Xslate-Syntax-HTMLTemplate-0.1005-0/blib/lib/Text/Xslate/Syntax/HTMLTemplate.pm line 10.
t/020_render/012_is_escaped_var.t ............ ok
Any::Moose is deprecated. Please use Moo instead at /tmp/loop_over_bdir-2787454-LT3RhR/Text-Xslate-Syntax-HTMLTemplate-0.1005-0/blib/lib/Text/Xslate/Syntax/HTMLTemplate.pm line 10.
t/020_render/013_htp_builtin_function.t ...... ok
Any::Moose is deprecated. Please use Moo instead at t/030_filter/001_simple_filter.t line 10.
t/030_filter/001_simple_filter.t ............. ok
Any::Moose is deprecated. Please use Moo instead at /tmp/loop_over_bdir-2787454-LT3RhR/Text-Xslate-Syntax-HTMLTemplate-0.1005-0/blib/lib/Text/Xslate/Syntax/HTMLTemplate.pm line 10.
t/900_bug/001_loop_and_include.t ............. ok
Any::Moose is deprecated. Please use Moo instead at /tmp/loop_over_bdir-2787454-LT3RhR/Text-Xslate-Syntax-HTMLTemplate-0.1005-0/blib/lib/Text/Xslate/Syntax/HTMLTemplate.pm line 10.
t/900_bug/002_if_x_==_0.t .................... ok
All tests successful.
Files=23, Tests=244,  6 wallclock secs ( 0.09 usr  0.02 sys +  5.45 cusr  0.54 csys =  6.10 CPU)
Result: PASS

------------------------------
PREREQUISITES
------------------------------

Prerequisite modules loaded:

requires:

    Module                 Need     Have    
    ---------------------- -------- --------
    HTML::Template::Parser 0        0.1011  
    HTML::Template::Pro    0        0.9524  
    perl                   5.008001 5.038004
    Text::Xslate           0        v3.5.9  
    YAML                   0        1.31    

build_requires:

    Module                 Need     Have    
    ---------------------- -------- --------
    ExtUtils::MakeMaker    6.59     7.72    

configure_requires:

    Module                 Need     Have    
    ---------------------- -------- --------
    ExtUtils::MakeMaker    6.59     7.72    


------------------------------
ENVIRONMENT AND OTHER CONTEXT
------------------------------

Environment variables:

    AUTOMATED_TESTING = 1
    LANG = en_US.UTF-8
    PATH = /home/sand/bin:/usr/local/bin:/usr/local/sbin:/usr/sbin:/usr/bin:/sbin:/bin:/usr/games:/usr/local/games:/snap/bin:/usr/local/perl/bin:/usr/X11/bin
    PERL = /tmp/basesmoker-reloperl-3VRm/bin/perl
    PERL5LIB = 
    PERL5OPT = 
    PERL5_CPANPLUS_IS_RUNNING = 2787464
    PERL5_CPAN_IS_RUNNING = 2787464
    PERL_CANARY_STABILITY_NOPROMPT = 1
    PERL_MM_USE_DEFAULT = 1
    PERL_USE_UNSAFE_INC = 1
    SHELL = /usr/bin/zsh
    TERM = screen

Perl special variables (and OS-specific diagnostics, for MSWin32):

    $^X = /tmp/basesmoker-reloperl-3VRm/bin/perl
    $UID/$EUID = 1005 / 1005
    $GID = 1005 1005
    $EGID = 1005 1005

Perl module toolchain versions installed:

    Module              Have    
    ------------------- --------
    CPAN                2.38    
    CPAN::Meta          2.150010
    Cwd                 3.89    
    ExtUtils::CBuilder  0.280238
    ExtUtils::Command   7.72    
    ExtUtils::Install   2.22    
    ExtUtils::MakeMaker 7.72    
    ExtUtils::Manifest  1.73    
    ExtUtils::ParseXS   3.51    
    File::Spec          3.88    
    JSON                4.10    
    JSON::PP            4.16    
    Module::Build       0.4234  
    Module::Signature   0.89    
    Parse::CPAN::Meta   2.150010
    Test2               1.302210
    Test::Harness       3.50    
    Test::More          1.302210
    YAML                1.31    
    YAML::Syck          1.34    
    version             0.9933  


--

Summary of my perl5 (revision 5 version 38 subversion 4) configuration:
   
  Platform:
    osname=linux
    osvers=5.4.0-208-generic
    archname=x86_64-linux
    uname='linux k93focal 5.4.0-208-generic #228-ubuntu smp fri feb 7 19:41:33 utc 2025 x86_64 x86_64 x86_64 gnulinux '
    config_args='-Dprefix=/home/sand/src/perl/repoperls/installed-perls/host/k93focal/perl-5.38.4-RC1/d119 -Dmyhostname=k93focal -Dinstallusrbinperl=n -Uversiononly -Dusedevel -des -Ui_db -Dlibswanted=cl pthread socket inet nsl gdbm dbm malloc dl ld sun m crypt sec util c cposix posix ucb BSD gdbm_compat -Duseithreads -Uuselongdouble -DEBUGGING=both'
    hint=previous
    useposix=true
    d_sigaction=define
    useithreads=undef
    usemultiplicity=undef
    use64bitint=define
    use64bitall=define
    uselongdouble=undef
    usemymalloc=n
    default_inc_excludes_dot=define
  Compiler:
    cc='cc'
    ccflags ='-fwrapv -DDEBUGGING -fno-strict-aliasing -pipe -fstack-protector-strong -I/usr/local/include -D_LARGEFILE_SOURCE -D_FILE_OFFSET_BITS=64'
    optimize='-O2 -g'
    cppflags='-fwrapv -DDEBUGGING -fno-strict-aliasing -pipe -fstack-protector-strong -I/usr/local/include'
    ccversion=''
    gccversion='9.4.0'
    gccosandvers=''
    intsize=4
    longsize=8
    ptrsize=8
    doublesize=8
    byteorder=12345678
    doublekind=3
    d_longlong=define
    longlongsize=8
    d_longdbl=define
    longdblsize=16
    longdblkind=3
    ivtype='long'
    ivsize=8
    nvtype='double'
    nvsize=8
    Off_t='off_t'
    lseeksize=8
    alignbytes=8
    prototype=define
  Linker and Libraries:
    ld='cc'
    ldflags =' -fstack-protector-strong -L/usr/local/lib'
    libpth=/usr/local/lib /usr/lib/x86_64-linux-gnu /usr/lib /usr/lib64
    libs=-lpthread -lnsl -ldl -lm -lcrypt -lutil -lc
    perllibs=-lpthread -lnsl -ldl -lm -lcrypt -lutil -lc
    libc=libc-2.31.so
    so=so
    useshrplib=false
    libperl=libperl.a
    gnulibc_version='2.31'
  Dynamic Linking:
    dlsrc=dl_dlopen.xs
    dlext=so
    d_dlsymun=undef
    ccdlflags='-Wl,-E'
    cccdlflags='-fPIC'
    lddlflags='-shared -O2 -g -L/usr/local/lib -fstack-protector-strong'


Characteristics of this binary (from libperl): 
  Compile-time options:
    DEBUGGING
    HAS_LONG_DOUBLE
    HAS_STRTOLD
    HAS_TIMES
    PERLIO_LAYERS
    PERL_COPY_ON_WRITE
    PERL_DONT_CREATE_GVSV
    PERL_HASH_FUNC_SIPHASH13
    PERL_HASH_USE_SBOX32
    PERL_MALLOC_WRAP
    PERL_OP_PARENT
    PERL_PRESERVE_IVUV
    PERL_USE_DEVEL
    PERL_USE_SAFE_PUTENV
    USE_64_BIT_ALL
    USE_64_BIT_INT
    USE_LARGE_FILES
    USE_LOCALE
    USE_LOCALE_COLLATE
    USE_LOCALE_CTYPE
    USE_LOCALE_NUMERIC
    USE_LOCALE_TIME
    USE_PERLIO
    USE_PERL_ATOF
  Locally applied patches:
    RC1
  Built under linux
  Compiled at Mar 30 2025 19:41:51
  %ENV:
    PERL="/tmp/basesmoker-reloperl-3VRm/bin/perl"
    PERL5LIB=""
    PERL5OPT=""
    PERL5_CPANPLUS_IS_RUNNING="2787464"
    PERL5_CPAN_IS_RUNNING="2787464"
    PERL_CANARY_STABILITY_NOPROMPT="1"
    PERL_MM_USE_DEFAULT="1"
    PERL_USE_UNSAFE_INC="1"
  @INC:
    /home/sand/src/perl/repoperls/installed-perls/host/k93focal/perl-5.38.4-RC1/b254/lib/site_perl/5.38.4/x86_64-linux
    /home/sand/src/perl/repoperls/installed-perls/host/k93focal/perl-5.38.4-RC1/b254/lib/site_perl/5.38.4
    /home/sand/src/perl/repoperls/installed-perls/host/k93focal/perl-5.38.4-RC1/b254/lib/5.38.4/x86_64-linux
    /home/sand/src/perl/repoperls/installed-perls/host/k93focal/perl-5.38.4-RC1/b254/lib/5.38.4
    .