Report for XML-RSS-Tools-0.31

Back
From: metabase:user:9820532a-708b-1014-9a05-b18a96298da1
Subject: PASS XML-RSS-Tools-0.31 v5.15.4 GNU/Linux
Date: 2011-11-15T01:34:16Z

This distribution has been tested as part of the CPAN Testers
project, supporting the Perl programming language.  See
http://wiki.cpantesters.org/ for more information or email
questions to cpan-testers-discuss@perl.org


--
Dear Adam John Trickett,

This is a computer-generated report for XML-RSS-Tools-0.31
on perl 5.15.4, created by CPAN-Reporter-1.2002.

Thank you for uploading your work to CPAN.  Congratulations!
All tests were successful.

Sections of this report:

    * Tester comments
    * Program output
    * Prerequisites
    * Environment and other context

------------------------------
TESTER COMMENTS
------------------------------

Additional comments from tester:

this report is from an automated smoke testing program
and was not reviewed by a human for accuracy

------------------------------
PROGRAM OUTPUT
------------------------------

Output from './Build test':

t/00-signature.t ......... ok
# 
# Package                        Version
#  Operating System               linux
#  perl                           5.15.4
#  XML::Parser                    2.41
#  XML::RSS                       1.49
#  XML::LibXML                    1.88
#  XML::LibXSLT                   1.75
#  URI                            1.59
#  LWP                            6.03
#  HTTP::GHTTP                    Not Installed
#  HTTP::Lite                     2.3
#  WWW::Curl::Easy                Not Installed
#  Test::More                     0.98
#  Test::Warn                     0.23
#  Test::NoWarnings               1.03
#  Test::Perl::Critic             1.02
#  Test::Pod                      1.45
#  Test::Pod::Coverage            1.08
#  Pod::Coverage                  0.21
#  IO::Capture                    0.05
t/01-config.t ............ ok
t/02-use.t ............... ok
t/03-basic-tests.t ....... ok
t/04-standard-tests.t .... ok
t/05-version-tests.t ..... ok
t/06-filehandle-tests.t .. ok
t/07-catalog-tests.t ..... ok
t/08-no-catalog.t ........ skipped: Your XML::LibXML is up to date.
t/50-error-tests.t ....... ok
t/51-debug-tests-1.t ..... ok
t/52-debug-tests-2.t ..... ok
t/53-no-debug-tests-1.t .. ok
t/54-no-debug-tests-2.t .. ok
t/60-http-tests.t ........ ok
t/70-pod-test.t .......... ok
t/71-pod-cover-1.t ....... ok
t/72-pod-cover-2.t ....... ok
t/80-kwalitee.t .......... skipped: Author test. Set $ENV{TEST_AUTHOR} to a true value to run.
t/81-perl-critic.t ....... skipped: Author test. Set $ENV{TEST_AUTHOR} to a true value to run.
t/90-distribution.t ...... ok
t/91-meta-yaml.t ......... ok
All tests successful.
Files=22, Tests=365,  9 wallclock secs ( 0.13 usr  0.04 sys +  6.85 cusr  0.50 csys =  7.52 CPU)
Result: PASS

------------------------------
PREREQUISITES
------------------------------

Prerequisite modules loaded:

requires:

    Module           Need   Have    
    ---------------- ------ --------
    LWP              5.8    6.03    
    perl             v5.6.1 5.015004
    URI              1.35   1.59    
    XML::LibXML      1.59   1.88    
    XML::LibXSLT     1.59   1.75    
    XML::RSS         1.22   1.49    

build_requires:

    Module           Need   Have    
    ---------------- ------ --------
    IO::Capture      0.04   0.05    
    Pod::Coverage    0.18   0.21    
    Test::NoWarnings 0.08   1.03    
    Test::Pod        1.0    1.45    
    Test::Warn       0.09   0.23    
    URI::file        4.19   4.21    


------------------------------
ENVIRONMENT AND OTHER CONTEXT
------------------------------

Environment variables:

    AUTOMATED_TESTING = 1
    LANG = C
    LANGUAGE = en_GB:en
    LC_ALL = C
    PATH = /home/bri/bin:/home/bri/perl5/perlbrew/bin:/home/bri/perl5/perlbrew/perls/perl-5.15.4-th-ld/bin:~/bin:/usr/local/sbin:/usr/local/bin:/usr/sbin:/usr/bin:/sbin:/bin:/usr/games
    PATH_WITHOUT_PERLBREW = ~/bin:/usr/local/sbin:/usr/local/bin:/usr/sbin:/usr/bin:/sbin:/bin:/usr/games
    PERL5LIB = 
    PERL5OPT = 
    PERL5_CPANPLUS_IS_RUNNING = 17365
    PERL5_CPAN_IS_RUNNING = 17365
    PERL5_CPAN_IS_RUNNING_IN_RECURSION = 2120,17365
    PERLBREW_BASHRC_VERSION = 0.31
    PERLBREW_HOME = /home/bri/.perlbrew
    PERLBREW_PATH = /home/bri/perl5/perlbrew/bin:/home/bri/perl5/perlbrew/perls/perl-5.15.4-th-ld/bin
    PERLBREW_PERL = perl-5.15.4-th-ld
    PERLBREW_ROOT = /home/bri/perl5/perlbrew
    PERLBREW_VERSION = 0.31
    PERL_CPANM_OPT = --prompt --mirror http://172.16.1.3/cpan/
    PERL_CR_SMOKER_CURRENT = XML-RSS-Tools-0.31
    PERL_EXTUTILS_AUTOINSTALL = --defaultdeps
    PERL_MM_USE_DEFAULT = 1
    SHELL = /bin/bash
    TERM = linux

Perl special variables (and OS-specific diagnostics, for MSWin32):

    $^X = /home/bri/perl5/perlbrew/perls/perl-5.15.4-th-ld/bin/perl5.15.4
    $UID/$EUID = 1000 / 1000
    $GID = 1000 4 20 24 46 112 120 122 1000
    $EGID = 1000 4 20 24 46 112 120 122 1000

Perl module toolchain versions installed:

    Module              Have    
    ------------------- --------
    CPAN                1.9800  
    CPAN::Meta          2.112621
    Cwd                 3.33    
    ExtUtils::CBuilder  0.280202
    ExtUtils::Command   1.17    
    ExtUtils::Install   1.52    
    ExtUtils::MakeMaker 6.62    
    ExtUtils::Manifest  1.60    
    ExtUtils::ParseXS   3.05    
    File::Spec          3.33    
    JSON                2.27    
    JSON::PP            2.27008 
    Module::Build       0.3800  
    Module::Signature   n/a     
    Parse::CPAN::Meta   1.4401  
    Test::Harness       3.23    
    Test::More          0.98    
    YAML                0.73    
    YAML::Syck          1.19    
    version             0.95    


--

Summary of my perl5 (revision 5 version 15 subversion 4) configuration:
   
  Platform:
    osname=linux, osvers=2.6.38-11-generic, archname=i686-linux-thread-multi-ld
    uname='linux lappy 2.6.38-11-generic #48-ubuntu smp fri jul 29 19:05:14 utc 2011 i686 i686 i386 gnulinux '
    config_args='-de -Dprefix=/home/bri/perl5/perlbrew/perls/perl-5.15.4-th-ld -Dusethreads -Duselongdouble -Dusedevel'
    hint=recommended, useposix=true, d_sigaction=define
    useithreads=define, usemultiplicity=define
    useperlio=define, d_sfio=undef, uselargefiles=define, usesocks=undef
    use64bitint=undef, use64bitall=undef, uselongdouble=define
    usemymalloc=n, bincompat5005=undef
  Compiler:
    cc='cc', ccflags ='-D_REENTRANT -D_GNU_SOURCE -fno-strict-aliasing -pipe -fstack-protector -I/usr/local/include -D_LARGEFILE_SOURCE -D_FILE_OFFSET_BITS=64',
    optimize='-O2',
    cppflags='-D_REENTRANT -D_GNU_SOURCE -fno-strict-aliasing -pipe -fstack-protector -I/usr/local/include'
    ccversion='', gccversion='4.5.2', gccosandvers=''
    intsize=4, longsize=4, ptrsize=4, doublesize=8, byteorder=1234
    d_longlong=define, longlongsize=8, d_longdbl=define, longdblsize=12
    ivtype='long', ivsize=4, nvtype='long double', nvsize=12, Off_t='off_t', lseeksize=8
    alignbytes=4, prototype=define
  Linker and Libraries:
    ld='cc', ldflags =' -fstack-protector -L/usr/local/lib'
    libpth=/usr/local/lib /lib /usr/lib /usr/lib/i386-linux-gnu /usr/lib64
    libs=-lnsl -ldl -lm -lcrypt -lutil -lpthread -lc
    perllibs=-lnsl -ldl -lm -lcrypt -lutil -lpthread -lc
    libc=, so=so, useshrplib=false, libperl=libperl.a
    gnulibc_version='2.13'
  Dynamic Linking:
    dlsrc=dl_dlopen.xs, dlext=so, d_dlsymun=undef, ccdlflags='-Wl,-E'
    cccdlflags='-fPIC', lddlflags='-shared -O2 -L/usr/local/lib -fstack-protector'


Characteristics of this binary (from libperl): 
  Compile-time options: HAS_TIMES MULTIPLICITY PERLIO_LAYERS
                        PERL_DONT_CREATE_GVSV PERL_IMPLICIT_CONTEXT
                        PERL_MALLOC_WRAP PERL_PRESERVE_IVUV PERL_USE_DEVEL
                        USE_ITHREADS USE_LARGE_FILES USE_LOCALE
                        USE_LOCALE_COLLATE USE_LOCALE_CTYPE
                        USE_LOCALE_NUMERIC USE_LONG_DOUBLE USE_PERLIO
                        USE_PERL_ATOF USE_REENTRANT_API
  Built under linux
  Compiled at Nov  9 2011 22:49:20
  %ENV:
    PERL5LIB=""
    PERL5OPT=""
    PERL5_CPANPLUS_IS_RUNNING="17365"
    PERL5_CPAN_IS_RUNNING="17365"
    PERL5_CPAN_IS_RUNNING_IN_RECURSION="2120,17365"
    PERLBREW_BASHRC_VERSION="0.31"
    PERLBREW_HOME="/home/bri/.perlbrew"
    PERLBREW_PATH="/home/bri/perl5/perlbrew/bin:/home/bri/perl5/perlbrew/perls/perl-5.15.4-th-ld/bin"
    PERLBREW_PERL="perl-5.15.4-th-ld"
    PERLBREW_ROOT="/home/bri/perl5/perlbrew"
    PERLBREW_VERSION="0.31"
    PERL_CPANM_OPT="--prompt --mirror http://172.16.1.3/cpan/"
    PERL_CR_SMOKER_CURRENT="XML-RSS-Tools-0.31"
    PERL_EXTUTILS_AUTOINSTALL="--defaultdeps"
    PERL_MM_USE_DEFAULT="1"
  @INC:
    /home/bri/perl5/perlbrew/perls/perl-5.15.4-th-ld/lib/site_perl/5.15.4/i686-linux-thread-multi-ld
    /home/bri/perl5/perlbrew/perls/perl-5.15.4-th-ld/lib/site_perl/5.15.4
    /home/bri/perl5/perlbrew/perls/perl-5.15.4-th-ld/lib/5.15.4/i686-linux-thread-multi-ld
    /home/bri/perl5/perlbrew/perls/perl-5.15.4-th-ld/lib/5.15.4
    .