HTTP-Session2 v1.09 Perl 5 v5.26.0 x86_64-linux-thread-multi

Status
Pass
From
Slaven Rezić (SREZIC)
Dist
HTTP-Session2 v1.09
Platform
Perl 5 v5.26.0 x86_64-linux-thread-multi
Date
2017-12-10 12:52:08
ID
ee61796c-dda8-11e7-adaa-e1de86c17d35
This distribution has been tested as part of the CPAN Testers
project, supporting the Perl programming language.  See
http://wiki.cpantesters.org/ for more information or email
questions to cpan-testers-discuss@perl.org


--
Dear Author,

This is a computer-generated report for HTTP-Session2-1.09
on perl 5.26.0, created by CPAN-Reporter-1.2018.

Thank you for uploading your work to CPAN.  Congratulations!
All tests were successful.

Sections of this report:

    * Tester comments
    * Program output
    * Prerequisites
    * Environment and other context

------------------------------
TESTER COMMENTS
------------------------------

Additional comments from tester:

none provided

------------------------------
PROGRAM OUTPUT
------------------------------

Output from './Build test':

t/00_compile.t .............. ok
Secret string too short at /home/cpansand/.cpan/build/2017121009/HTTP-Session2-1.09-0/blib/lib/HTTP/Session2/Base.pm line 79.
	HTTP::Session2::Base::__ANON__(HTTP::Session2::ServerStore=HASH(0x2bec568), "s3cret") called at t/01_server_side.t line 23
	main::__ANON__("client -> server: request without cookie", CODE(0x2bec2c8)) called at t/01_server_side.t line 25
	main::__ANON__() called at /opt/perl-5.26.0t/lib/5.26.0/Test/Builder.pm line 309
	eval {...} called at /opt/perl-5.26.0t/lib/5.26.0/Test/Builder.pm line 309
	Test::Builder::subtest(Test::Builder=HASH(0x2448dc0), "First request", CODE(0x299e868)) called at /opt/perl-5.26.0t/lib/5.26.0/Test/More.pm line 807
	Test::More::subtest("First request", CODE(0x299e868)) called at t/01_server_side.t line 11
	main::scenario("First request", CODE(0x299e868)) called at t/01_server_side.t line 31
Secret string too short at /home/cpansand/.cpan/build/2017121009/HTTP-Session2-1.09-0/blib/lib/HTTP/Session2/Base.pm line 79.
	HTTP::Session2::Base::__ANON__(HTTP::Session2::ServerStore=HASH(0x2bec3b8), "s3cret") called at t/01_server_side.t line 40
	main::__ANON__("client -> server: request without cookie", CODE(0x2bebf20)) called at t/01_server_side.t line 42
	main::__ANON__() called at /opt/perl-5.26.0t/lib/5.26.0/Test/Builder.pm line 309
	eval {...} called at /opt/perl-5.26.0t/lib/5.26.0/Test/Builder.pm line 309
	Test::Builder::subtest(Test::Builder=HASH(0x2448dc0), "Store something without login", CODE(0x2bcc398)) called at /opt/perl-5.26.0t/lib/5.26.0/Test/More.pm line 807
	Test::More::subtest("Store something without login", CODE(0x2bcc398)) called at t/01_server_side.t line 11
	main::scenario("Store something without login", CODE(0x2bcc398)) called at t/01_server_side.t line 58
Secret string too short at /home/cpansand/.cpan/build/2017121009/HTTP-Session2-1.09-0/blib/lib/HTTP/Session2/Base.pm line 79.
	HTTP::Session2::Base::__ANON__(HTTP::Session2::ServerStore=HASH(0x2bfb878), "s3cret") called at t/01_server_side.t line 70
	main::__ANON__("client -> server: request without cookie", CODE(0x295ff00)) called at t/01_server_side.t line 72
	main::__ANON__() called at /opt/perl-5.26.0t/lib/5.26.0/Test/Builder.pm line 309
	eval {...} called at /opt/perl-5.26.0t/lib/5.26.0/Test/Builder.pm line 309
	Test::Builder::subtest(Test::Builder=HASH(0x2448dc0), "Login", CODE(0x2bcc650)) called at /opt/perl-5.26.0t/lib/5.26.0/Test/More.pm line 807
	Test::More::subtest("Login", CODE(0x2bcc650)) called at t/01_server_side.t line 11
	main::scenario("Login", CODE(0x2bcc650)) called at t/01_server_side.t line 96
Secret string too short at /home/cpansand/.cpan/build/2017121009/HTTP-Session2-1.09-0/blib/lib/HTTP/Session2/Base.pm line 79.
	HTTP::Session2::Base::__ANON__(HTTP::Session2::ServerStore=HASH(0x295f8e8), "s3cret") called at t/01_server_side.t line 108
	main::__ANON__("client -> server: request without cookie", CODE(0x2bec5e0)) called at t/01_server_side.t line 110
	main::__ANON__() called at /opt/perl-5.26.0t/lib/5.26.0/Test/Builder.pm line 309
	eval {...} called at /opt/perl-5.26.0t/lib/5.26.0/Test/Builder.pm line 309
	Test::Builder::subtest(Test::Builder=HASH(0x2448dc0), "In a login session", CODE(0x2bd7f08)) called at /opt/perl-5.26.0t/lib/5.26.0/Test/More.pm line 807
	Test::More::subtest("In a login session", CODE(0x2bd7f08)) called at t/01_server_side.t line 11
	main::scenario("In a login session", CODE(0x2bd7f08)) called at t/01_server_side.t line 124
Secret string too short at /home/cpansand/.cpan/build/2017121009/HTTP-Session2-1.09-0/blib/lib/HTTP/Session2/Base.pm line 79.
	HTTP::Session2::Base::__ANON__(HTTP::Session2::ServerStore=HASH(0x295fba0), "s3cret") called at t/01_server_side.t line 131
	main::__ANON__("client -> server: request without cookie", CODE(0x2bfbe78)) called at t/01_server_side.t line 138
	main::__ANON__() called at /opt/perl-5.26.0t/lib/5.26.0/Test/Builder.pm line 309
	eval {...} called at /opt/perl-5.26.0t/lib/5.26.0/Test/Builder.pm line 309
	Test::Builder::subtest(Test::Builder=HASH(0x2448dc0), "Logout", CODE(0x2bd86a0)) called at /opt/perl-5.26.0t/lib/5.26.0/Test/More.pm line 807
	Test::More::subtest("Logout", CODE(0x2bd86a0)) called at t/01_server_side.t line 11
	main::scenario("Logout", CODE(0x2bd86a0)) called at t/01_server_side.t line 153
t/01_server_side.t .......... ok
Secret string too short at /home/cpansand/.cpan/build/2017121009/HTTP-Session2-1.09-0/blib/lib/HTTP/Session2/Base.pm line 79.
	HTTP::Session2::Base::__ANON__(HTTP::Session2::ClientStore=HASH(0x12dcf00), "s3cret") called at t/02_client_side.t line 17
	main::__ANON__("client -> server: request without cookie", CODE(0x12f6678)) called at t/02_client_side.t line 22
	main::__ANON__() called at /opt/perl-5.26.0t/lib/5.26.0/Test/Builder.pm line 309
	eval {...} called at /opt/perl-5.26.0t/lib/5.26.0/Test/Builder.pm line 309
	Test::Builder::subtest(Test::Builder=HASH(0xb11cc0), "First request", CODE(0xac0a38)) called at /opt/perl-5.26.0t/lib/5.26.0/Test/More.pm line 807
	Test::More::subtest("First request", CODE(0xac0a38)) called at t/02_client_side.t line 9
	main::scenario("First request", CODE(0xac0a38)) called at t/02_client_side.t line 28
Secret string too short at /home/cpansand/.cpan/build/2017121009/HTTP-Session2-1.09-0/blib/lib/HTTP/Session2/Base.pm line 79.
	HTTP::Session2::Base::__ANON__(HTTP::Session2::ClientStore=HASH(0xaae6c0), "s3cret") called at t/02_client_side.t line 33
	main::__ANON__("client -> server: request without cookie", CODE(0x12f61c8)) called at t/02_client_side.t line 38
	main::__ANON__() called at /opt/perl-5.26.0t/lib/5.26.0/Test/Builder.pm line 309
	eval {...} called at /opt/perl-5.26.0t/lib/5.26.0/Test/Builder.pm line 309
	Test::Builder::subtest(Test::Builder=HASH(0xb11cc0), "Store something without login", CODE(0x12cbf88)) called at /opt/perl-5.26.0t/lib/5.26.0/Test/More.pm line 807
	Test::More::subtest("Store something without login", CODE(0x12cbf88)) called at t/02_client_side.t line 9
	main::scenario("Store something without login", CODE(0x12cbf88)) called at t/02_client_side.t line 54
Do not use HTTP::Session2::ClientStore. Use HTTP::Session2::ServerStore or HTTP::Session2::ClientStore2 instead. at /home/cpansand/.cpan/build/2017121009/HTTP-Session2-1.09-0/blib/lib/HTTP/Session2/ClientStore.pm line 25.
Secret string too short at /home/cpansand/.cpan/build/2017121009/HTTP-Session2-1.09-0/blib/lib/HTTP/Session2/Base.pm line 79.
	HTTP::Session2::Base::__ANON__(HTTP::Session2::ClientStore=HASH(0x12fd680), "s3cret") called at t/02_client_side.t line 60
	main::__ANON__("client -> server: request without cookie", CODE(0x12fde00)) called at t/02_client_side.t line 66
	main::__ANON__() called at /opt/perl-5.26.0t/lib/5.26.0/Test/Builder.pm line 309
	eval {...} called at /opt/perl-5.26.0t/lib/5.26.0/Test/Builder.pm line 309
	Test::Builder::subtest(Test::Builder=HASH(0xb11cc0), "Login", CODE(0x12cc1b0)) called at /opt/perl-5.26.0t/lib/5.26.0/Test/More.pm line 807
	Test::More::subtest("Login", CODE(0x12cc1b0)) called at t/02_client_side.t line 9
	main::scenario("Login", CODE(0x12cc1b0)) called at t/02_client_side.t line 86
Do not use HTTP::Session2::ClientStore. Use HTTP::Session2::ServerStore or HTTP::Session2::ClientStore2 instead. at /home/cpansand/.cpan/build/2017121009/HTTP-Session2-1.09-0/blib/lib/HTTP/Session2/ClientStore.pm line 35.
Do not use HTTP::Session2::ClientStore. Use HTTP::Session2::ServerStore or HTTP::Session2::ClientStore2 instead. at /home/cpansand/.cpan/build/2017121009/HTTP-Session2-1.09-0/blib/lib/HTTP/Session2/ClientStore.pm line 25.
Secret string too short at /home/cpansand/.cpan/build/2017121009/HTTP-Session2-1.09-0/blib/lib/HTTP/Session2/Base.pm line 79.
	HTTP::Session2::Base::__ANON__(HTTP::Session2::ClientStore=HASH(0x12dcca8), "s3cret") called at t/02_client_side.t line 92
	main::__ANON__("client -> server: request without cookie", CODE(0x12f67b0)) called at t/02_client_side.t line 98
	main::__ANON__() called at /opt/perl-5.26.0t/lib/5.26.0/Test/Builder.pm line 309
	eval {...} called at /opt/perl-5.26.0t/lib/5.26.0/Test/Builder.pm line 309
	Test::Builder::subtest(Test::Builder=HASH(0xb11cc0), "In a login session", CODE(0x12dc390)) called at /opt/perl-5.26.0t/lib/5.26.0/Test/More.pm line 807
	Test::More::subtest("In a login session", CODE(0x12dc390)) called at t/02_client_side.t line 9
	main::scenario("In a login session", CODE(0x12dc390)) called at t/02_client_side.t line 107
Do not use HTTP::Session2::ClientStore. Use HTTP::Session2::ServerStore or HTTP::Session2::ClientStore2 instead. at /home/cpansand/.cpan/build/2017121009/HTTP-Session2-1.09-0/blib/lib/HTTP/Session2/ClientStore.pm line 35.
Do not use HTTP::Session2::ClientStore. Use HTTP::Session2::ServerStore or HTTP::Session2::ClientStore2 instead. at /home/cpansand/.cpan/build/2017121009/HTTP-Session2-1.09-0/blib/lib/HTTP/Session2/ClientStore.pm line 25.
Secret string too short at /home/cpansand/.cpan/build/2017121009/HTTP-Session2-1.09-0/blib/lib/HTTP/Session2/Base.pm line 79.
	HTTP::Session2::Base::__ANON__(HTTP::Session2::ClientStore=HASH(0x12f6d98), "s3cret") called at t/02_client_side.t line 112
	main::__ANON__("client -> server: request without cookie", CODE(0x12dcea0)) called at t/02_client_side.t line 118
	main::__ANON__() called at /opt/perl-5.26.0t/lib/5.26.0/Test/Builder.pm line 309
	eval {...} called at /opt/perl-5.26.0t/lib/5.26.0/Test/Builder.pm line 309
	Test::Builder::subtest(Test::Builder=HASH(0xb11cc0), "Logout", CODE(0x12dc8e8)) called at /opt/perl-5.26.0t/lib/5.26.0/Test/More.pm line 807
	Test::More::subtest("Logout", CODE(0x12dc8e8)) called at t/02_client_side.t line 9
	main::scenario("Logout", CODE(0x12dc8e8)) called at t/02_client_side.t line 131
t/02_client_side.t .......... ok
Secret string too short at /home/cpansand/.cpan/build/2017121009/HTTP-Session2-1.09-0/blib/lib/HTTP/Session2/Base.pm line 79.
	HTTP::Session2::Base::__ANON__(HTTP::Session2::ServerStore=HASH(0x22f2ed8), "s3cret") called at t/03_mech.t line 121
	main::server_session(HASH(0x218ecd8)) called at t/03_mech.t line 17
	main::__ANON__(HASH(0x218ecd8)) called at /home/cpansand/.cpan/build/2017121009/Test-WWW-Mechanize-PSGI-0.38-0/blib/lib/Test/WWW/Mechanize/PSGI.pm line 43
	Test::WWW::Mechanize::PSGI::try {...} () called at /opt/perl-5.26.0t/lib/site_perl/5.26.0/Try/Tiny.pm line 103
	eval {...} called at /opt/perl-5.26.0t/lib/site_perl/5.26.0/Try/Tiny.pm line 94
	Try::Tiny::try(CODE(0x22f2c50), Try::Tiny::Catch=REF(0x13e1d30)) called at /home/cpansand/.cpan/build/2017121009/Test-WWW-Mechanize-PSGI-0.38-0/blib/lib/Test/WWW/Mechanize/PSGI.pm line 50
	Test::WWW::Mechanize::PSGI::simple_request(Test::WWW::Mechanize::PSGI=HASH(0x21b2a10), HTTP::Request=HASH(0x21b3418), undef, undef) called at /opt/perl-5.26.0t/lib/site_perl/5.26.0/LWP/UserAgent.pm line 297
	LWP::UserAgent::request(Test::WWW::Mechanize::PSGI=HASH(0x21b2a10), HTTP::Request=HASH(0x21b3418)) called at /home/cpansand/.cpan/build/2017121009/WWW-Mechanize-1.86-0/blib/lib/WWW/Mechanize.pm line 1413
	WWW::Mechanize::_make_request(Test::WWW::Mechanize::PSGI=HASH(0x21b2a10), HTTP::Request=HASH(0x21b3418)) called at /home/cpansand/.cpan/build/2017121009/WWW-Mechanize-1.86-0/blib/lib/WWW/Mechanize.pm line 1253
	WWW::Mechanize::request(Test::WWW::Mechanize::PSGI=HASH(0x21b2a10), HTTP::Request=HASH(0x21b3418)) called at /opt/perl-5.26.0t/lib/site_perl/5.26.0/LWP/UserAgent.pm line 435
	LWP::UserAgent::get(Test::WWW::Mechanize::PSGI=HASH(0x21b2a10), "/") called at /home/cpansand/.cpan/build/2017121009/WWW-Mechanize-1.86-0/blib/lib/WWW/Mechanize.pm line 117
	WWW::Mechanize::get(Test::WWW::Mechanize::PSGI=HASH(0x21b2a10), "/") called at /home/cpansand/.cpan/build/2017121009/Test-WWW-Mechanize-1.48-0/blib/lib/Test/WWW/Mechanize.pm line 160
	Test::WWW::Mechanize::get_ok(Test::WWW::Mechanize::PSGI=HASH(0x21b2a10), "/") called at t/03_mech.t line 74
Secret string too short at /home/cpansand/.cpan/build/2017121009/HTTP-Session2-1.09-0/blib/lib/HTTP/Session2/Base.pm line 79.
	HTTP::Session2::Base::__ANON__(HTTP::Session2::ServerStore=HASH(0x231f920), "s3cret") called at t/03_mech.t line 121
	main::server_session(HASH(0x21becd8)) called at t/03_mech.t line 17
	main::__ANON__(HASH(0x21becd8)) called at /home/cpansand/.cpan/build/2017121009/Test-WWW-Mechanize-PSGI-0.38-0/blib/lib/Test/WWW/Mechanize/PSGI.pm line 43
	Test::WWW::Mechanize::PSGI::try {...} () called at /opt/perl-5.26.0t/lib/site_perl/5.26.0/Try/Tiny.pm line 103
	eval {...} called at /opt/perl-5.26.0t/lib/site_perl/5.26.0/Try/Tiny.pm line 94
	Try::Tiny::try(CODE(0x231f5a8), Try::Tiny::Catch=REF(0x22f2d58)) called at /home/cpansand/.cpan/build/2017121009/Test-WWW-Mechanize-PSGI-0.38-0/blib/lib/Test/WWW/Mechanize/PSGI.pm line 50
	Test::WWW::Mechanize::PSGI::simple_request(Test::WWW::Mechanize::PSGI=HASH(0x21b2a10), HTTP::Request=HASH(0x22fc128), undef, undef) called at /opt/perl-5.26.0t/lib/site_perl/5.26.0/LWP/UserAgent.pm line 297
	LWP::UserAgent::request(Test::WWW::Mechanize::PSGI=HASH(0x21b2a10), HTTP::Request=HASH(0x22fc128)) called at /home/cpansand/.cpan/build/2017121009/WWW-Mechanize-1.86-0/blib/lib/WWW/Mechanize.pm line 1413
	WWW::Mechanize::_make_request(Test::WWW::Mechanize::PSGI=HASH(0x21b2a10), HTTP::Request=HASH(0x22fc128)) called at /home/cpansand/.cpan/build/2017121009/WWW-Mechanize-1.86-0/blib/lib/WWW/Mechanize.pm line 1253
	WWW::Mechanize::request(Test::WWW::Mechanize::PSGI=HASH(0x21b2a10), HTTP::Request=HASH(0x22fc128)) called at /opt/perl-5.26.0t/lib/site_perl/5.26.0/LWP/UserAgent.pm line 478
	LWP::UserAgent::post(Test::WWW::Mechanize::PSGI=HASH(0x21b2a10), "/wishlist?foo", HASH(0x1e4f5f8)) called at /home/cpansand/.cpan/build/2017121009/Test-WWW-Mechanize-1.48-0/blib/lib/Test/WWW/Mechanize.pm line 237
	Test::WWW::Mechanize::post_ok(Test::WWW::Mechanize::PSGI=HASH(0x21b2a10), "/wishlist?foo") called at t/03_mech.t line 75
Secret string too short at /home/cpansand/.cpan/build/2017121009/HTTP-Session2-1.09-0/blib/lib/HTTP/Session2/Base.pm line 79.
	HTTP::Session2::Base::__ANON__(HTTP::Session2::ServerStore=HASH(0x232f0a8), "s3cret") called at t/03_mech.t line 121
	main::server_session(HASH(0x231fce0)) called at t/03_mech.t line 17
	main::__ANON__(HASH(0x231fce0)) called at /home/cpansand/.cpan/build/2017121009/Test-WWW-Mechanize-PSGI-0.38-0/blib/lib/Test/WWW/Mechanize/PSGI.pm line 43
	Test::WWW::Mechanize::PSGI::try {...} () called at /opt/perl-5.26.0t/lib/site_perl/5.26.0/Try/Tiny.pm line 103
	eval {...} called at /opt/perl-5.26.0t/lib/site_perl/5.26.0/Try/Tiny.pm line 94
	Try::Tiny::try(CODE(0x231f6f8), Try::Tiny::Catch=REF(0x231f800)) called at /home/cpansand/.cpan/build/2017121009/Test-WWW-Mechanize-PSGI-0.38-0/blib/lib/Test/WWW/Mechanize/PSGI.pm line 50
	Test::WWW::Mechanize::PSGI::simple_request(Test::WWW::Mechanize::PSGI=HASH(0x21b2a10), HTTP::Request=HASH(0x231f5d8), undef, undef) called at /opt/perl-5.26.0t/lib/site_perl/5.26.0/LWP/UserAgent.pm line 297
	LWP::UserAgent::request(Test::WWW::Mechanize::PSGI=HASH(0x21b2a10), HTTP::Request=HASH(0x231f5d8)) called at /home/cpansand/.cpan/build/2017121009/WWW-Mechanize-1.86-0/blib/lib/WWW/Mechanize.pm line 1413
	WWW::Mechanize::_make_request(Test::WWW::Mechanize::PSGI=HASH(0x21b2a10), HTTP::Request=HASH(0x231f5d8)) called at /home/cpansand/.cpan/build/2017121009/WWW-Mechanize-1.86-0/blib/lib/WWW/Mechanize.pm line 1253
	WWW::Mechanize::request(Test::WWW::Mechanize::PSGI=HASH(0x21b2a10), HTTP::Request=HASH(0x231f5d8)) called at /opt/perl-5.26.0t/lib/site_perl/5.26.0/LWP/UserAgent.pm line 435
	LWP::UserAgent::get(Test::WWW::Mechanize::PSGI=HASH(0x21b2a10), "http://localhost/wishlist") called at /home/cpansand/.cpan/build/2017121009/WWW-Mechanize-1.86-0/blib/lib/WWW/Mechanize.pm line 117
	WWW::Mechanize::get(Test::WWW::Mechanize::PSGI=HASH(0x21b2a10), "/wishlist") called at /home/cpansand/.cpan/build/2017121009/Test-WWW-Mechanize-1.48-0/blib/lib/Test/WWW/Mechanize.pm line 160
	Test::WWW::Mechanize::get_ok(Test::WWW::Mechanize::PSGI=HASH(0x21b2a10), "/wishlist") called at t/03_mech.t line 76
Secret string too short at /home/cpansand/.cpan/build/2017121009/HTTP-Session2-1.09-0/blib/lib/HTTP/Session2/Base.pm line 79.
	HTTP::Session2::Base::__ANON__(HTTP::Session2::ServerStore=HASH(0x232f5a0), "s3cret") called at t/03_mech.t line 121
	main::server_session(HASH(0x231ff08)) called at t/03_mech.t line 17
	main::__ANON__(HASH(0x231ff08)) called at /home/cpansand/.cpan/build/2017121009/Test-WWW-Mechanize-PSGI-0.38-0/blib/lib/Test/WWW/Mechanize/PSGI.pm line 43
	Test::WWW::Mechanize::PSGI::try {...} () called at /opt/perl-5.26.0t/lib/site_perl/5.26.0/Try/Tiny.pm line 103
	eval {...} called at /opt/perl-5.26.0t/lib/site_perl/5.26.0/Try/Tiny.pm line 94
	Try::Tiny::try(CODE(0x23200d0), Try::Tiny::Catch=REF(0x23200a0)) called at /home/cpansand/.cpan/build/2017121009/Test-WWW-Mechanize-PSGI-0.38-0/blib/lib/Test/WWW/Mechanize/PSGI.pm line 50
	Test::WWW::Mechanize::PSGI::simple_request(Test::WWW::Mechanize::PSGI=HASH(0x21b2a10), HTTP::Request=HASH(0x2320070), undef, undef) called at /opt/perl-5.26.0t/lib/site_perl/5.26.0/LWP/UserAgent.pm line 297
	LWP::UserAgent::request(Test::WWW::Mechanize::PSGI=HASH(0x21b2a10), HTTP::Request=HASH(0x2320070)) called at /home/cpansand/.cpan/build/2017121009/WWW-Mechanize-1.86-0/blib/lib/WWW/Mechanize.pm line 1413
	WWW::Mechanize::_make_request(Test::WWW::Mechanize::PSGI=HASH(0x21b2a10), HTTP::Request=HASH(0x2320070)) called at /home/cpansand/.cpan/build/2017121009/WWW-Mechanize-1.86-0/blib/lib/WWW/Mechanize.pm line 1253
	WWW::Mechanize::request(Test::WWW::Mechanize::PSGI=HASH(0x21b2a10), HTTP::Request=HASH(0x2320070)) called at /opt/perl-5.26.0t/lib/site_perl/5.26.0/LWP/UserAgent.pm line 478
	LWP::UserAgent::post(Test::WWW::Mechanize::PSGI=HASH(0x21b2a10), "/wishlist?bar") called at t/03_mech.t line 78
Secret string too short at /home/cpansand/.cpan/build/2017121009/HTTP-Session2-1.09-0/blib/lib/HTTP/Session2/Base.pm line 79.
	HTTP::Session2::Base::__ANON__(HTTP::Session2::ServerStore=HASH(0x232f948), "s3cret") called at t/03_mech.t line 121
	main::server_session(HASH(0x232f420)) called at t/03_mech.t line 17
	main::__ANON__(HASH(0x232f420)) called at /home/cpansand/.cpan/build/2017121009/Test-WWW-Mechanize-PSGI-0.38-0/blib/lib/Test/WWW/Mechanize/PSGI.pm line 43
	Test::WWW::Mechanize::PSGI::try {...} () called at /opt/perl-5.26.0t/lib/site_perl/5.26.0/Try/Tiny.pm line 103
	eval {...} called at /opt/perl-5.26.0t/lib/site_perl/5.26.0/Try/Tiny.pm line 94
	Try::Tiny::try(CODE(0x232f900), Try::Tiny::Catch=REF(0x232f3c0)) called at /home/cpansand/.cpan/build/2017121009/Test-WWW-Mechanize-PSGI-0.38-0/blib/lib/Test/WWW/Mechanize/PSGI.pm line 50
	Test::WWW::Mechanize::PSGI::simple_request(Test::WWW::Mechanize::PSGI=HASH(0x21b2a10), HTTP::Request=HASH(0x232f378), undef, undef) called at /opt/perl-5.26.0t/lib/site_perl/5.26.0/LWP/UserAgent.pm line 297
	LWP::UserAgent::request(Test::WWW::Mechanize::PSGI=HASH(0x21b2a10), HTTP::Request=HASH(0x232f378)) called at /home/cpansand/.cpan/build/2017121009/WWW-Mechanize-1.86-0/blib/lib/WWW/Mechanize.pm line 1413
	WWW::Mechanize::_make_request(Test::WWW::Mechanize::PSGI=HASH(0x21b2a10), HTTP::Request=HASH(0x232f378)) called at /home/cpansand/.cpan/build/2017121009/WWW-Mechanize-1.86-0/blib/lib/WWW/Mechanize.pm line 1253
	WWW::Mechanize::request(Test::WWW::Mechanize::PSGI=HASH(0x21b2a10), HTTP::Request=HASH(0x232f378)) called at /opt/perl-5.26.0t/lib/site_perl/5.26.0/LWP/UserAgent.pm line 478
	LWP::UserAgent::post(Test::WWW::Mechanize::PSGI=HASH(0x21b2a10), "/wishlist?bar", HASH(0x1e4f5f8)) called at /home/cpansand/.cpan/build/2017121009/Test-WWW-Mechanize-1.48-0/blib/lib/Test/WWW/Mechanize.pm line 237
	Test::WWW::Mechanize::post_ok(Test::WWW::Mechanize::PSGI=HASH(0x21b2a10), "/wishlist?bar") called at t/03_mech.t line 81
Secret string too short at /home/cpansand/.cpan/build/2017121009/HTTP-Session2-1.09-0/blib/lib/HTTP/Session2/Base.pm line 79.
	HTTP::Session2::Base::__ANON__(HTTP::Session2::ServerStore=HASH(0x232fd50), "s3cret") called at t/03_mech.t line 121
	main::server_session(HASH(0x232fe70)) called at t/03_mech.t line 17
	main::__ANON__(HASH(0x232fe70)) called at /home/cpansand/.cpan/build/2017121009/Test-WWW-Mechanize-PSGI-0.38-0/blib/lib/Test/WWW/Mechanize/PSGI.pm line 43
	Test::WWW::Mechanize::PSGI::try {...} () called at /opt/perl-5.26.0t/lib/site_perl/5.26.0/Try/Tiny.pm line 103
	eval {...} called at /opt/perl-5.26.0t/lib/site_perl/5.26.0/Try/Tiny.pm line 94
	Try::Tiny::try(CODE(0x232faf8), Try::Tiny::Catch=REF(0x232f9d8)) called at /home/cpansand/.cpan/build/2017121009/Test-WWW-Mechanize-PSGI-0.38-0/blib/lib/Test/WWW/Mechanize/PSGI.pm line 50
	Test::WWW::Mechanize::PSGI::simple_request(Test::WWW::Mechanize::PSGI=HASH(0x21b2a10), HTTP::Request=HASH(0x232f258), undef, undef) called at /opt/perl-5.26.0t/lib/site_perl/5.26.0/LWP/UserAgent.pm line 297
	LWP::UserAgent::request(Test::WWW::Mechanize::PSGI=HASH(0x21b2a10), HTTP::Request=HASH(0x232f258)) called at /home/cpansand/.cpan/build/2017121009/WWW-Mechanize-1.86-0/blib/lib/WWW/Mechanize.pm line 1413
	WWW::Mechanize::_make_request(Test::WWW::Mechanize::PSGI=HASH(0x21b2a10), HTTP::Request=HASH(0x232f258)) called at /home/cpansand/.cpan/build/2017121009/WWW-Mechanize-1.86-0/blib/lib/WWW/Mechanize.pm line 1253
	WWW::Mechanize::request(Test::WWW::Mechanize::PSGI=HASH(0x21b2a10), HTTP::Request=HASH(0x232f258)) called at /opt/perl-5.26.0t/lib/site_perl/5.26.0/LWP/UserAgent.pm line 435
	LWP::UserAgent::get(Test::WWW::Mechanize::PSGI=HASH(0x21b2a10), "http://localhost/wishlist") called at /home/cpansand/.cpan/build/2017121009/WWW-Mechanize-1.86-0/blib/lib/WWW/Mechanize.pm line 117
	WWW::Mechanize::get(Test::WWW::Mechanize::PSGI=HASH(0x21b2a10), "/wishlist") called at /home/cpansand/.cpan/build/2017121009/Test-WWW-Mechanize-1.48-0/blib/lib/Test/WWW/Mechanize.pm line 160
	Test::WWW::Mechanize::get_ok(Test::WWW::Mechanize::PSGI=HASH(0x21b2a10), "/wishlist") called at t/03_mech.t line 82
Secret string too short at /home/cpansand/.cpan/build/2017121009/HTTP-Session2-1.09-0/blib/lib/HTTP/Session2/Base.pm line 79.
	HTTP::Session2::Base::__ANON__(HTTP::Session2::ServerStore=HASH(0x2333a30), "s3cret") called at t/03_mech.t line 121
	main::server_session(HASH(0x232fee8)) called at t/03_mech.t line 17
	main::__ANON__(HASH(0x232fee8)) called at /home/cpansand/.cpan/build/2017121009/Test-WWW-Mechanize-PSGI-0.38-0/blib/lib/Test/WWW/Mechanize/PSGI.pm line 43
	Test::WWW::Mechanize::PSGI::try {...} () called at /opt/perl-5.26.0t/lib/site_perl/5.26.0/Try/Tiny.pm line 103
	eval {...} called at /opt/perl-5.26.0t/lib/site_perl/5.26.0/Try/Tiny.pm line 94
	Try::Tiny::try(CODE(0x232fdc8), Try::Tiny::Catch=REF(0x232fbe8)) called at /home/cpansand/.cpan/build/2017121009/Test-WWW-Mechanize-PSGI-0.38-0/blib/lib/Test/WWW/Mechanize/PSGI.pm line 50
	Test::WWW::Mechanize::PSGI::simple_request(Test::WWW::Mechanize::PSGI=HASH(0x21b2a10), HTTP::Request=HASH(0x232fcc0), undef, undef) called at /opt/perl-5.26.0t/lib/site_perl/5.26.0/LWP/UserAgent.pm line 297
	LWP::UserAgent::request(Test::WWW::Mechanize::PSGI=HASH(0x21b2a10), HTTP::Request=HASH(0x232fcc0)) called at /home/cpansand/.cpan/build/2017121009/WWW-Mechanize-1.86-0/blib/lib/WWW/Mechanize.pm line 1413
	WWW::Mechanize::_make_request(Test::WWW::Mechanize::PSGI=HASH(0x21b2a10), HTTP::Request=HASH(0x232fcc0)) called at /home/cpansand/.cpan/build/2017121009/WWW-Mechanize-1.86-0/blib/lib/WWW/Mechanize.pm line 1253
	WWW::Mechanize::request(Test::WWW::Mechanize::PSGI=HASH(0x21b2a10), HTTP::Request=HASH(0x232fcc0)) called at /opt/perl-5.26.0t/lib/site_perl/5.26.0/LWP/UserAgent.pm line 478
	LWP::UserAgent::post(Test::WWW::Mechanize::PSGI=HASH(0x21b2a10), "/account/login?john", HASH(0x1e4f5f8)) called at /home/cpansand/.cpan/build/2017121009/Test-WWW-Mechanize-1.48-0/blib/lib/Test/WWW/Mechanize.pm line 237
	Test::WWW::Mechanize::post_ok(Test::WWW::Mechanize::PSGI=HASH(0x21b2a10), "/account/login?john") called at t/03_mech.t line 84
Secret string too short at /home/cpansand/.cpan/build/2017121009/HTTP-Session2-1.09-0/blib/lib/HTTP/Session2/Base.pm line 79.
	HTTP::Session2::Base::__ANON__(HTTP::Session2::ServerStore=HASH(0x2333d60), "s3cret") called at t/03_mech.t line 121
	main::server_session(HASH(0x2333da8)) called at t/03_mech.t line 17
	main::__ANON__(HASH(0x2333da8)) called at /home/cpansand/.cpan/build/2017121009/Test-WWW-Mechanize-PSGI-0.38-0/blib/lib/Test/WWW/Mechanize/PSGI.pm line 43
	Test::WWW::Mechanize::PSGI::try {...} () called at /opt/perl-5.26.0t/lib/site_perl/5.26.0/Try/Tiny.pm line 103
	eval {...} called at /opt/perl-5.26.0t/lib/site_perl/5.26.0/Try/Tiny.pm line 94
	Try::Tiny::try(CODE(0x232ff18), Try::Tiny::Catch=REF(0x2333628)) called at /home/cpansand/.cpan/build/2017121009/Test-WWW-Mechanize-PSGI-0.38-0/blib/lib/Test/WWW/Mechanize/PSGI.pm line 50
	Test::WWW::Mechanize::PSGI::simple_request(Test::WWW::Mechanize::PSGI=HASH(0x21b2a10), HTTP::Request=HASH(0x232f9f0), undef, undef) called at /opt/perl-5.26.0t/lib/site_perl/5.26.0/LWP/UserAgent.pm line 297
	LWP::UserAgent::request(Test::WWW::Mechanize::PSGI=HASH(0x21b2a10), HTTP::Request=HASH(0x232f9f0)) called at /home/cpansand/.cpan/build/2017121009/WWW-Mechanize-1.86-0/blib/lib/WWW/Mechanize.pm line 1413
	WWW::Mechanize::_make_request(Test::WWW::Mechanize::PSGI=HASH(0x21b2a10), HTTP::Request=HASH(0x232f9f0)) called at /home/cpansand/.cpan/build/2017121009/WWW-Mechanize-1.86-0/blib/lib/WWW/Mechanize.pm line 1253
	WWW::Mechanize::request(Test::WWW::Mechanize::PSGI=HASH(0x21b2a10), HTTP::Request=HASH(0x232f9f0)) called at /opt/perl-5.26.0t/lib/site_perl/5.26.0/LWP/UserAgent.pm line 435
	LWP::UserAgent::get(Test::WWW::Mechanize::PSGI=HASH(0x21b2a10), "http://localhost/wishlist") called at /home/cpansand/.cpan/build/2017121009/WWW-Mechanize-1.86-0/blib/lib/WWW/Mechanize.pm line 117
	WWW::Mechanize::get(Test::WWW::Mechanize::PSGI=HASH(0x21b2a10), "/wishlist") called at /home/cpansand/.cpan/build/2017121009/Test-WWW-Mechanize-1.48-0/blib/lib/Test/WWW/Mechanize.pm line 160
	Test::WWW::Mechanize::get_ok(Test::WWW::Mechanize::PSGI=HASH(0x21b2a10), "/wishlist", "Wishlist is still available") called at t/03_mech.t line 85
Secret string too short at /home/cpansand/.cpan/build/2017121009/HTTP-Session2-1.09-0/blib/lib/HTTP/Session2/Base.pm line 79.
	HTTP::Session2::Base::__ANON__(HTTP::Session2::ServerStore=HASH(0x23343f0), "s3cret") called at t/03_mech.t line 121
	main::server_session(HASH(0x2333be0)) called at t/03_mech.t line 17
	main::__ANON__(HASH(0x2333be0)) called at /home/cpansand/.cpan/build/2017121009/Test-WWW-Mechanize-PSGI-0.38-0/blib/lib/Test/WWW/Mechanize/PSGI.pm line 43
	Test::WWW::Mechanize::PSGI::try {...} () called at /opt/perl-5.26.0t/lib/site_perl/5.26.0/Try/Tiny.pm line 103
	eval {...} called at /opt/perl-5.26.0t/lib/site_perl/5.26.0/Try/Tiny.pm line 94
	Try::Tiny::try(CODE(0x232f360), Try::Tiny::Catch=REF(0x2333a18)) called at /home/cpansand/.cpan/build/2017121009/Test-WWW-Mechanize-PSGI-0.38-0/blib/lib/Test/WWW/Mechanize/PSGI.pm line 50
	Test::WWW::Mechanize::PSGI::simple_request(Test::WWW::Mechanize::PSGI=HASH(0x21b2a10), HTTP::Request=HASH(0x2333628), undef, undef) called at /opt/perl-5.26.0t/lib/site_perl/5.26.0/LWP/UserAgent.pm line 297
	LWP::UserAgent::request(Test::WWW::Mechanize::PSGI=HASH(0x21b2a10), HTTP::Request=HASH(0x2333628)) called at /home/cpansand/.cpan/build/2017121009/WWW-Mechanize-1.86-0/blib/lib/WWW/Mechanize.pm line 1413
	WWW::Mechanize::_make_request(Test::WWW::Mechanize::PSGI=HASH(0x21b2a10), HTTP::Request=HASH(0x2333628)) called at /home/cpansand/.cpan/build/2017121009/WWW-Mechanize-1.86-0/blib/lib/WWW/Mechanize.pm line 1253
	WWW::Mechanize::request(Test::WWW::Mechanize::PSGI=HASH(0x21b2a10), HTTP::Request=HASH(0x2333628)) called at /opt/perl-5.26.0t/lib/site_perl/5.26.0/LWP/UserAgent.pm line 478
	LWP::UserAgent::post(Test::WWW::Mechanize::PSGI=HASH(0x21b2a10), "/wishlist?baz") called at t/03_mech.t line 87
Secret string too short at /home/cpansand/.cpan/build/2017121009/HTTP-Session2-1.09-0/blib/lib/HTTP/Session2/Base.pm line 79.
	HTTP::Session2::Base::__ANON__(HTTP::Session2::ServerStore=HASH(0x2337f90), "s3cret") called at t/03_mech.t line 121
	main::server_session(HASH(0x23342d0)) called at t/03_mech.t line 17
	main::__ANON__(HASH(0x23342d0)) called at /home/cpansand/.cpan/build/2017121009/Test-WWW-Mechanize-PSGI-0.38-0/blib/lib/Test/WWW/Mechanize/PSGI.pm line 43
	Test::WWW::Mechanize::PSGI::try {...} () called at /opt/perl-5.26.0t/lib/site_perl/5.26.0/Try/Tiny.pm line 103
	eval {...} called at /opt/perl-5.26.0t/lib/site_perl/5.26.0/Try/Tiny.pm line 94
	Try::Tiny::try(CODE(0x2334060), Try::Tiny::Catch=REF(0x2333f88)) called at /home/cpansand/.cpan/build/2017121009/Test-WWW-Mechanize-PSGI-0.38-0/blib/lib/Test/WWW/Mechanize/PSGI.pm line 50
	Test::WWW::Mechanize::PSGI::simple_request(Test::WWW::Mechanize::PSGI=HASH(0x21b2a10), HTTP::Request=HASH(0x23343c0), undef, undef) called at /opt/perl-5.26.0t/lib/site_perl/5.26.0/LWP/UserAgent.pm line 297
	LWP::UserAgent::request(Test::WWW::Mechanize::PSGI=HASH(0x21b2a10), HTTP::Request=HASH(0x23343c0)) called at /home/cpansand/.cpan/build/2017121009/WWW-Mechanize-1.86-0/blib/lib/WWW/Mechanize.pm line 1413
	WWW::Mechanize::_make_request(Test::WWW::Mechanize::PSGI=HASH(0x21b2a10), HTTP::Request=HASH(0x23343c0)) called at /home/cpansand/.cpan/build/2017121009/WWW-Mechanize-1.86-0/blib/lib/WWW/Mechanize.pm line 1253
	WWW::Mechanize::request(Test::WWW::Mechanize::PSGI=HASH(0x21b2a10), HTTP::Request=HASH(0x23343c0)) called at /opt/perl-5.26.0t/lib/site_perl/5.26.0/LWP/UserAgent.pm line 478
	LWP::UserAgent::post(Test::WWW::Mechanize::PSGI=HASH(0x21b2a10), "/wishlist?baz", HASH(0x1e4f5f8)) called at /home/cpansand/.cpan/build/2017121009/Test-WWW-Mechanize-1.48-0/blib/lib/Test/WWW/Mechanize.pm line 237
	Test::WWW::Mechanize::post_ok(Test::WWW::Mechanize::PSGI=HASH(0x21b2a10), "/wishlist?baz") called at t/03_mech.t line 90
Secret string too short at /home/cpansand/.cpan/build/2017121009/HTTP-Session2-1.09-0/blib/lib/HTTP/Session2/Base.pm line 79.
	HTTP::Session2::Base::__ANON__(HTTP::Session2::ServerStore=HASH(0x2338398), "s3cret") called at t/03_mech.t line 121
	main::server_session(HASH(0x23382f0)) called at t/03_mech.t line 17
	main::__ANON__(HASH(0x23382f0)) called at /home/cpansand/.cpan/build/2017121009/Test-WWW-Mechanize-PSGI-0.38-0/blib/lib/Test/WWW/Mechanize/PSGI.pm line 43
	Test::WWW::Mechanize::PSGI::try {...} () called at /opt/perl-5.26.0t/lib/site_perl/5.26.0/Try/Tiny.pm line 103
	eval {...} called at /opt/perl-5.26.0t/lib/site_perl/5.26.0/Try/Tiny.pm line 94
	Try::Tiny::try(CODE(0x2333d60), Try::Tiny::Catch=REF(0x2334048)) called at /home/cpansand/.cpan/build/2017121009/Test-WWW-Mechanize-PSGI-0.38-0/blib/lib/Test/WWW/Mechanize/PSGI.pm line 50
	Test::WWW::Mechanize::PSGI::simple_request(Test::WWW::Mechanize::PSGI=HASH(0x21b2a10), HTTP::Request=HASH(0x2337d08), undef, undef) called at /opt/perl-5.26.0t/lib/site_perl/5.26.0/LWP/UserAgent.pm line 297
	LWP::UserAgent::request(Test::WWW::Mechanize::PSGI=HASH(0x21b2a10), HTTP::Request=HASH(0x2337d08)) called at /home/cpansand/.cpan/build/2017121009/WWW-Mechanize-1.86-0/blib/lib/WWW/Mechanize.pm line 1413
	WWW::Mechanize::_make_request(Test::WWW::Mechanize::PSGI=HASH(0x21b2a10), HTTP::Request=HASH(0x2337d08)) called at /home/cpansand/.cpan/build/2017121009/WWW-Mechanize-1.86-0/blib/lib/WWW/Mechanize.pm line 1253
	WWW::Mechanize::request(Test::WWW::Mechanize::PSGI=HASH(0x21b2a10), HTTP::Request=HASH(0x2337d08)) called at /opt/perl-5.26.0t/lib/site_perl/5.26.0/LWP/UserAgent.pm line 435
	LWP::UserAgent::get(Test::WWW::Mechanize::PSGI=HASH(0x21b2a10), "http://localhost/wishlist") called at /home/cpansand/.cpan/build/2017121009/WWW-Mechanize-1.86-0/blib/lib/WWW/Mechanize.pm line 117
	WWW::Mechanize::get(Test::WWW::Mechanize::PSGI=HASH(0x21b2a10), "/wishlist") called at /home/cpansand/.cpan/build/2017121009/Test-WWW-Mechanize-1.48-0/blib/lib/Test/WWW/Mechanize.pm line 160
	Test::WWW::Mechanize::get_ok(Test::WWW::Mechanize::PSGI=HASH(0x21b2a10), "/wishlist", "Wishlist is still available") called at t/03_mech.t line 91
Secret string too short at /home/cpansand/.cpan/build/2017121009/HTTP-Session2-1.09-0/blib/lib/HTTP/Session2/Base.pm line 79.
	HTTP::Session2::Base::__ANON__(HTTP::Session2::ServerStore=HASH(0x23385c0), "s3cret") called at t/03_mech.t line 121
	main::server_session(HASH(0x23386f8)) called at t/03_mech.t line 17
	main::__ANON__(HASH(0x23386f8)) called at /home/cpansand/.cpan/build/2017121009/Test-WWW-Mechanize-PSGI-0.38-0/blib/lib/Test/WWW/Mechanize/PSGI.pm line 43
	Test::WWW::Mechanize::PSGI::try {...} () called at /opt/perl-5.26.0t/lib/site_perl/5.26.0/Try/Tiny.pm line 103
	eval {...} called at /opt/perl-5.26.0t/lib/site_perl/5.26.0/Try/Tiny.pm line 94
	Try::Tiny::try(CODE(0x2338110), Try::Tiny::Catch=REF(0x2338020)) called at /home/cpansand/.cpan/build/2017121009/Test-WWW-Mechanize-PSGI-0.38-0/blib/lib/Test/WWW/Mechanize/PSGI.pm line 50
	Test::WWW::Mechanize::PSGI::simple_request(Test::WWW::Mechanize::PSGI=HASH(0x21b2a10), HTTP::Request=HASH(0x2337d38), undef, undef) called at /opt/perl-5.26.0t/lib/site_perl/5.26.0/LWP/UserAgent.pm line 297
	LWP::UserAgent::request(Test::WWW::Mechanize::PSGI=HASH(0x21b2a10), HTTP::Request=HASH(0x2337d38)) called at /home/cpansand/.cpan/build/2017121009/WWW-Mechanize-1.86-0/blib/lib/WWW/Mechanize.pm line 1413
	WWW::Mechanize::_make_request(Test::WWW::Mechanize::PSGI=HASH(0x21b2a10), HTTP::Request=HASH(0x2337d38)) called at /home/cpansand/.cpan/build/2017121009/WWW-Mechanize-1.86-0/blib/lib/WWW/Mechanize.pm line 1253
	WWW::Mechanize::request(Test::WWW::Mechanize::PSGI=HASH(0x21b2a10), HTTP::Request=HASH(0x2337d38)) called at /opt/perl-5.26.0t/lib/site_perl/5.26.0/LWP/UserAgent.pm line 435
	LWP::UserAgent::get(Test::WWW::Mechanize::PSGI=HASH(0x21b2a10), "http://localhost/my/name") called at /home/cpansand/.cpan/build/2017121009/WWW-Mechanize-1.86-0/blib/lib/WWW/Mechanize.pm line 117
	WWW::Mechanize::get(Test::WWW::Mechanize::PSGI=HASH(0x21b2a10), "/my/name") called at /home/cpansand/.cpan/build/2017121009/Test-WWW-Mechanize-1.48-0/blib/lib/Test/WWW/Mechanize.pm line 160
	Test::WWW::Mechanize::get_ok(Test::WWW::Mechanize::PSGI=HASH(0x21b2a10), "/my/name") called at t/03_mech.t line 93
Secret string too short at /home/cpansand/.cpan/build/2017121009/HTTP-Session2-1.09-0/blib/lib/HTTP/Session2/Base.pm line 79.
	HTTP::Session2::Base::__ANON__(HTTP::Session2::ServerStore=HASH(0x233b050), "s3cret") called at t/03_mech.t line 121
	main::server_session(HASH(0x23386b0)) called at t/03_mech.t line 17
	main::__ANON__(HASH(0x23386b0)) called at /home/cpansand/.cpan/build/2017121009/Test-WWW-Mechanize-PSGI-0.38-0/blib/lib/Test/WWW/Mechanize/PSGI.pm line 43
	Test::WWW::Mechanize::PSGI::try {...} () called at /opt/perl-5.26.0t/lib/site_perl/5.26.0/Try/Tiny.pm line 103
	eval {...} called at /opt/perl-5.26.0t/lib/site_perl/5.26.0/Try/Tiny.pm line 94
	Try::Tiny::try(CODE(0x2338ab8), Try::Tiny::Catch=REF(0x2338590)) called at /home/cpansand/.cpan/build/2017121009/Test-WWW-Mechanize-PSGI-0.38-0/blib/lib/Test/WWW/Mechanize/PSGI.pm line 50
	Test::WWW::Mechanize::PSGI::simple_request(Test::WWW::Mechanize::PSGI=HASH(0x21b2a10), HTTP::Request=HASH(0x2338758), undef, undef) called at /opt/perl-5.26.0t/lib/site_perl/5.26.0/LWP/UserAgent.pm line 297
	LWP::UserAgent::request(Test::WWW::Mechanize::PSGI=HASH(0x21b2a10), HTTP::Request=HASH(0x2338758)) called at /home/cpansand/.cpan/build/2017121009/WWW-Mechanize-1.86-0/blib/lib/WWW/Mechanize.pm line 1413
	WWW::Mechanize::_make_request(Test::WWW::Mechanize::PSGI=HASH(0x21b2a10), HTTP::Request=HASH(0x2338758)) called at /home/cpansand/.cpan/build/2017121009/WWW-Mechanize-1.86-0/blib/lib/WWW/Mechanize.pm line 1253
	WWW::Mechanize::request(Test::WWW::Mechanize::PSGI=HASH(0x21b2a10), HTTP::Request=HASH(0x2338758)) called at /opt/perl-5.26.0t/lib/site_perl/5.26.0/LWP/UserAgent.pm line 478
	LWP::UserAgent::post(Test::WWW::Mechanize::PSGI=HASH(0x21b2a10), "/account/logout?john") called at t/03_mech.t line 97
Secret string too short at /home/cpansand/.cpan/build/2017121009/HTTP-Session2-1.09-0/blib/lib/HTTP/Session2/Base.pm line 79.
	HTTP::Session2::Base::__ANON__(HTTP::Session2::ClientStore=HASH(0x2202dd0), "s3cret") called at t/03_mech.t line 127
	main::client_session(HASH(0x233b398)) called at t/03_mech.t line 17
	main::__ANON__(HASH(0x233b398)) called at /home/cpansand/.cpan/build/2017121009/Test-WWW-Mechanize-PSGI-0.38-0/blib/lib/Test/WWW/Mechanize/PSGI.pm line 43
	Test::WWW::Mechanize::PSGI::try {...} () called at /opt/perl-5.26.0t/lib/site_perl/5.26.0/Try/Tiny.pm line 103
	eval {...} called at /opt/perl-5.26.0t/lib/site_perl/5.26.0/Try/Tiny.pm line 94
	Try::Tiny::try(CODE(0x125e908), Try::Tiny::Catch=REF(0x2338050)) called at /home/cpansand/.cpan/build/2017121009/Test-WWW-Mechanize-PSGI-0.38-0/blib/lib/Test/WWW/Mechanize/PSGI.pm line 50
	Test::WWW::Mechanize::PSGI::simple_request(Test::WWW::Mechanize::PSGI=HASH(0x2338920), HTTP::Request=HASH(0x231fc98), undef, undef) called at /opt/perl-5.26.0t/lib/site_perl/5.26.0/LWP/UserAgent.pm line 297
	LWP::UserAgent::request(Test::WWW::Mechanize::PSGI=HASH(0x2338920), HTTP::Request=HASH(0x231fc98)) called at /home/cpansand/.cpan/build/2017121009/WWW-Mechanize-1.86-0/blib/lib/WWW/Mechanize.pm line 1413
	WWW::Mechanize::_make_request(Test::WWW::Mechanize::PSGI=HASH(0x2338920), HTTP::Request=HASH(0x231fc98)) called at /home/cpansand/.cpan/build/2017121009/WWW-Mechanize-1.86-0/blib/lib/WWW/Mechanize.pm line 1253
	WWW::Mechanize::request(Test::WWW::Mechanize::PSGI=HASH(0x2338920), HTTP::Request=HASH(0x231fc98)) called at /opt/perl-5.26.0t/lib/site_perl/5.26.0/LWP/UserAgent.pm line 435
	LWP::UserAgent::get(Test::WWW::Mechanize::PSGI=HASH(0x2338920), "/") called at /home/cpansand/.cpan/build/2017121009/WWW-Mechanize-1.86-0/blib/lib/WWW/Mechanize.pm line 117
	WWW::Mechanize::get(Test::WWW::Mechanize::PSGI=HASH(0x2338920), "/") called at /home/cpansand/.cpan/build/2017121009/Test-WWW-Mechanize-1.48-0/blib/lib/Test/WWW/Mechanize.pm line 160
	Test::WWW::Mechanize::get_ok(Test::WWW::Mechanize::PSGI=HASH(0x2338920), "/") called at t/03_mech.t line 74
Secret string too short at /home/cpansand/.cpan/build/2017121009/HTTP-Session2-1.09-0/blib/lib/HTTP/Session2/Base.pm line 79.
	HTTP::Session2::Base::__ANON__(HTTP::Session2::ClientStore=HASH(0x2320058), "s3cret") called at t/03_mech.t line 127
	main::client_session(HASH(0x2338740)) called at t/03_mech.t line 17
	main::__ANON__(HASH(0x2338740)) called at /home/cpansand/.cpan/build/2017121009/Test-WWW-Mechanize-PSGI-0.38-0/blib/lib/Test/WWW/Mechanize/PSGI.pm line 43
	Test::WWW::Mechanize::PSGI::try {...} () called at /opt/perl-5.26.0t/lib/site_perl/5.26.0/Try/Tiny.pm line 103
	eval {...} called at /opt/perl-5.26.0t/lib/site_perl/5.26.0/Try/Tiny.pm line 94
	Try::Tiny::try(CODE(0x231f470), Try::Tiny::Catch=REF(0x22fc3b0)) called at /home/cpansand/.cpan/build/2017121009/Test-WWW-Mechanize-PSGI-0.38-0/blib/lib/Test/WWW/Mechanize/PSGI.pm line 50
	Test::WWW::Mechanize::PSGI::simple_request(Test::WWW::Mechanize::PSGI=HASH(0x2338920), HTTP::Request=HASH(0x230ef00), undef, undef) called at /opt/perl-5.26.0t/lib/site_perl/5.26.0/LWP/UserAgent.pm line 297
	LWP::UserAgent::request(Test::WWW::Mechanize::PSGI=HASH(0x2338920), HTTP::Request=HASH(0x230ef00)) called at /home/cpansand/.cpan/build/2017121009/WWW-Mechanize-1.86-0/blib/lib/WWW/Mechanize.pm line 1413
	WWW::Mechanize::_make_request(Test::WWW::Mechanize::PSGI=HASH(0x2338920), HTTP::Request=HASH(0x230ef00)) called at /home/cpansand/.cpan/build/2017121009/WWW-Mechanize-1.86-0/blib/lib/WWW/Mechanize.pm line 1253
	WWW::Mechanize::request(Test::WWW::Mechanize::PSGI=HASH(0x2338920), HTTP::Request=HASH(0x230ef00)) called at /opt/perl-5.26.0t/lib/site_perl/5.26.0/LWP/UserAgent.pm line 478
	LWP::UserAgent::post(Test::WWW::Mechanize::PSGI=HASH(0x2338920), "/wishlist?foo", HASH(0x1e4f5f8)) called at /home/cpansand/.cpan/build/2017121009/Test-WWW-Mechanize-1.48-0/blib/lib/Test/WWW/Mechanize.pm line 237
	Test::WWW::Mechanize::post_ok(Test::WWW::Mechanize::PSGI=HASH(0x2338920), "/wishlist?foo") called at t/03_mech.t line 75
Do not use HTTP::Session2::ClientStore. Use HTTP::Session2::ServerStore or HTTP::Session2::ClientStore2 instead. at /home/cpansand/.cpan/build/2017121009/HTTP-Session2-1.09-0/blib/lib/HTTP/Session2/ClientStore.pm line 25.
Secret string too short at /home/cpansand/.cpan/build/2017121009/HTTP-Session2-1.09-0/blib/lib/HTTP/Session2/Base.pm line 79.
	HTTP::Session2::Base::__ANON__(HTTP::Session2::ClientStore=HASH(0x232faf8), "s3cret") called at t/03_mech.t line 127
	main::client_session(HASH(0x231f890)) called at t/03_mech.t line 17
	main::__ANON__(HASH(0x231f890)) called at /home/cpansand/.cpan/build/2017121009/Test-WWW-Mechanize-PSGI-0.38-0/blib/lib/Test/WWW/Mechanize/PSGI.pm line 43
	Test::WWW::Mechanize::PSGI::try {...} () called at /opt/perl-5.26.0t/lib/site_perl/5.26.0/Try/Tiny.pm line 103
	eval {...} called at /opt/perl-5.26.0t/lib/site_perl/5.26.0/Try/Tiny.pm line 94
	Try::Tiny::try(CODE(0x231fdb8), Try::Tiny::Catch=REF(0x231f518)) called at /home/cpansand/.cpan/build/2017121009/Test-WWW-Mechanize-PSGI-0.38-0/blib/lib/Test/WWW/Mechanize/PSGI.pm line 50
	Test::WWW::Mechanize::PSGI::simple_request(Test::WWW::Mechanize::PSGI=HASH(0x2338920), HTTP::Request=HASH(0x232f4f8), undef, undef) called at /opt/perl-5.26.0t/lib/site_perl/5.26.0/LWP/UserAgent.pm line 297
	LWP::UserAgent::request(Test::WWW::Mechanize::PSGI=HASH(0x2338920), HTTP::Request=HASH(0x232f4f8)) called at /home/cpansand/.cpan/build/2017121009/WWW-Mechanize-1.86-0/blib/lib/WWW/Mechanize.pm line 1413
	WWW::Mechanize::_make_request(Test::WWW::Mechanize::PSGI=HASH(0x2338920), HTTP::Request=HASH(0x232f4f8)) called at /home/cpansand/.cpan/build/2017121009/WWW-Mechanize-1.86-0/blib/lib/WWW/Mechanize.pm line 1253
	WWW::Mechanize::request(Test::WWW::Mechanize::PSGI=HASH(0x2338920), HTTP::Request=HASH(0x232f4f8)) called at /opt/perl-5.26.0t/lib/site_perl/5.26.0/LWP/UserAgent.pm line 435
	LWP::UserAgent::get(Test::WWW::Mechanize::PSGI=HASH(0x2338920), "http://localhost/wishlist") called at /home/cpansand/.cpan/build/2017121009/WWW-Mechanize-1.86-0/blib/lib/WWW/Mechanize.pm line 117
	WWW::Mechanize::get(Test::WWW::Mechanize::PSGI=HASH(0x2338920), "/wishlist") called at /home/cpansand/.cpan/build/2017121009/Test-WWW-Mechanize-1.48-0/blib/lib/Test/WWW/Mechanize.pm line 160
	Test::WWW::Mechanize::get_ok(Test::WWW::Mechanize::PSGI=HASH(0x2338920), "/wishlist") called at t/03_mech.t line 76
Do not use HTTP::Session2::ClientStore. Use HTTP::Session2::ServerStore or HTTP::Session2::ClientStore2 instead. at /home/cpansand/.cpan/build/2017121009/HTTP-Session2-1.09-0/blib/lib/HTTP/Session2/ClientStore.pm line 35.
Secret string too short at /home/cpansand/.cpan/build/2017121009/HTTP-Session2-1.09-0/blib/lib/HTTP/Session2/Base.pm line 79.
	HTTP::Session2::Base::__ANON__(HTTP::Session2::ClientStore=HASH(0x232f768), "s3cret") called at t/03_mech.t line 127
	main::client_session(HASH(0x232f6d8)) called at t/03_mech.t line 17
	main::__ANON__(HASH(0x232f6d8)) called at /home/cpansand/.cpan/build/2017121009/Test-WWW-Mechanize-PSGI-0.38-0/blib/lib/Test/WWW/Mechanize/PSGI.pm line 43
	Test::WWW::Mechanize::PSGI::try {...} () called at /opt/perl-5.26.0t/lib/site_perl/5.26.0/Try/Tiny.pm line 103
	eval {...} called at /opt/perl-5.26.0t/lib/site_perl/5.26.0/Try/Tiny.pm line 94
	Try::Tiny::try(CODE(0x231fb90), Try::Tiny::Catch=REF(0x232fa98)) called at /home/cpansand/.cpan/build/2017121009/Test-WWW-Mechanize-PSGI-0.38-0/blib/lib/Test/WWW/Mechanize/PSGI.pm line 50
	Test::WWW::Mechanize::PSGI::simple_request(Test::WWW::Mechanize::PSGI=HASH(0x2338920), HTTP::Request=HASH(0x232f2a0), undef, undef) called at /opt/perl-5.26.0t/lib/site_perl/5.26.0/LWP/UserAgent.pm line 297
	LWP::UserAgent::request(Test::WWW::Mechanize::PSGI=HASH(0x2338920), HTTP::Request=HASH(0x232f2a0)) called at /home/cpansand/.cpan/build/2017121009/WWW-Mechanize-1.86-0/blib/lib/WWW/Mechanize.pm line 1413
	WWW::Mechanize::_make_request(Test::WWW::Mechanize::PSGI=HASH(0x2338920), HTTP::Request=HASH(0x232f2a0)) called at /home/cpansand/.cpan/build/2017121009/WWW-Mechanize-1.86-0/blib/lib/WWW/Mechanize.pm line 1253
	WWW::Mechanize::request(Test::WWW::Mechanize::PSGI=HASH(0x2338920), HTTP::Request=HASH(0x232f2a0)) called at /opt/perl-5.26.0t/lib/site_perl/5.26.0/LWP/UserAgent.pm line 478
	LWP::UserAgent::post(Test::WWW::Mechanize::PSGI=HASH(0x2338920), "/wishlist?bar") called at t/03_mech.t line 78
Do not use HTTP::Session2::ClientStore. Use HTTP::Session2::ServerStore or HTTP::Session2::ClientStore2 instead. at /home/cpansand/.cpan/build/2017121009/HTTP-Session2-1.09-0/blib/lib/HTTP/Session2/ClientStore.pm line 35.
Secret string too short at /home/cpansand/.cpan/build/2017121009/HTTP-Session2-1.09-0/blib/lib/HTTP/Session2/Base.pm line 79.
	HTTP::Session2::Base::__ANON__(HTTP::Session2::ClientStore=HASH(0x2334120), "s3cret") called at t/03_mech.t line 127
	main::client_session(HASH(0x21b2e48)) called at t/03_mech.t line 17
	main::__ANON__(HASH(0x21b2e48)) called at /home/cpansand/.cpan/build/2017121009/Test-WWW-Mechanize-PSGI-0.38-0/blib/lib/Test/WWW/Mechanize/PSGI.pm line 43
	Test::WWW::Mechanize::PSGI::try {...} () called at /opt/perl-5.26.0t/lib/site_perl/5.26.0/Try/Tiny.pm line 103
	eval {...} called at /opt/perl-5.26.0t/lib/site_perl/5.26.0/Try/Tiny.pm line 94
	Try::Tiny::try(CODE(0x23338b0), Try::Tiny::Catch=REF(0x23337d8)) called at /home/cpansand/.cpan/build/2017121009/Test-WWW-Mechanize-PSGI-0.38-0/blib/lib/Test/WWW/Mechanize/PSGI.pm line 50
	Test::WWW::Mechanize::PSGI::simple_request(Test::WWW::Mechanize::PSGI=HASH(0x2338920), HTTP::Request=HASH(0x232fcc0), undef, undef) called at /opt/perl-5.26.0t/lib/site_perl/5.26.0/LWP/UserAgent.pm line 297
	LWP::UserAgent::request(Test::WWW::Mechanize::PSGI=HASH(0x2338920), HTTP::Request=HASH(0x232fcc0)) called at /home/cpansand/.cpan/build/2017121009/WWW-Mechanize-1.86-0/blib/lib/WWW/Mechanize.pm line 1413
	WWW::Mechanize::_make_request(Test::WWW::Mechanize::PSGI=HASH(0x2338920), HTTP::Request=HASH(0x232fcc0)) called at /home/cpansand/.cpan/build/2017121009/WWW-Mechanize-1.86-0/blib/lib/WWW/Mechanize.pm line 1253
	WWW::Mechanize::request(Test::WWW::Mechanize::PSGI=HASH(0x2338920), HTTP::Request=HASH(0x232fcc0)) called at /opt/perl-5.26.0t/lib/site_perl/5.26.0/LWP/UserAgent.pm line 478
	LWP::UserAgent::post(Test::WWW::Mechanize::PSGI=HASH(0x2338920), "/wishlist?bar", HASH(0x1e4f5f8)) called at /home/cpansand/.cpan/build/2017121009/Test-WWW-Mechanize-1.48-0/blib/lib/Test/WWW/Mechanize.pm line 237
	Test::WWW::Mechanize::post_ok(Test::WWW::Mechanize::PSGI=HASH(0x2338920), "/wishlist?bar") called at t/03_mech.t line 81
Do not use HTTP::Session2::ClientStore. Use HTTP::Session2::ServerStore or HTTP::Session2::ClientStore2 instead. at /home/cpansand/.cpan/build/2017121009/HTTP-Session2-1.09-0/blib/lib/HTTP/Session2/ClientStore.pm line 35.
Do not use HTTP::Session2::ClientStore. Use HTTP::Session2::ServerStore or HTTP::Session2::ClientStore2 instead. at /home/cpansand/.cpan/build/2017121009/HTTP-Session2-1.09-0/blib/lib/HTTP/Session2/ClientStore.pm line 25.
Secret string too short at /home/cpansand/.cpan/build/2017121009/HTTP-Session2-1.09-0/blib/lib/HTTP/Session2/Base.pm line 79.
	HTTP::Session2::Base::__ANON__(HTTP::Session2::ClientStore=HASH(0x232f7f8), "s3cret") called at t/03_mech.t line 127
	main::client_session(HASH(0x232f648)) called at t/03_mech.t line 17
	main::__ANON__(HASH(0x232f648)) called at /home/cpansand/.cpan/build/2017121009/Test-WWW-Mechanize-PSGI-0.38-0/blib/lib/Test/WWW/Mechanize/PSGI.pm line 43
	Test::WWW::Mechanize::PSGI::try {...} () called at /opt/perl-5.26.0t/lib/site_perl/5.26.0/Try/Tiny.pm line 103
	eval {...} called at /opt/perl-5.26.0t/lib/site_perl/5.26.0/Try/Tiny.pm line 94
	Try::Tiny::try(CODE(0x232f3a8), Try::Tiny::Catch=REF(0x231f9c8)) called at /home/cpansand/.cpan/build/2017121009/Test-WWW-Mechanize-PSGI-0.38-0/blib/lib/Test/WWW/Mechanize/PSGI.pm line 50
	Test::WWW::Mechanize::PSGI::simple_request(Test::WWW::Mechanize::PSGI=HASH(0x2338920), HTTP::Request=HASH(0x232fc48), undef, undef) called at /opt/perl-5.26.0t/lib/site_perl/5.26.0/LWP/UserAgent.pm line 297
	LWP::UserAgent::request(Test::WWW::Mechanize::PSGI=HASH(0x2338920), HTTP::Request=HASH(0x232fc48)) called at /home/cpansand/.cpan/build/2017121009/WWW-Mechanize-1.86-0/blib/lib/WWW/Mechanize.pm line 1413
	WWW::Mechanize::_make_request(Test::WWW::Mechanize::PSGI=HASH(0x2338920), HTTP::Request=HASH(0x232fc48)) called at /home/cpansand/.cpan/build/2017121009/WWW-Mechanize-1.86-0/blib/lib/WWW/Mechanize.pm line 1253
	WWW::Mechanize::request(Test::WWW::Mechanize::PSGI=HASH(0x2338920), HTTP::Request=HASH(0x232fc48)) called at /opt/perl-5.26.0t/lib/site_perl/5.26.0/LWP/UserAgent.pm line 435
	LWP::UserAgent::get(Test::WWW::Mechanize::PSGI=HASH(0x2338920), "http://localhost/wishlist") called at /home/cpansand/.cpan/build/2017121009/WWW-Mechanize-1.86-0/blib/lib/WWW/Mechanize.pm line 117
	WWW::Mechanize::get(Test::WWW::Mechanize::PSGI=HASH(0x2338920), "/wishlist") called at /home/cpansand/.cpan/build/2017121009/Test-WWW-Mechanize-1.48-0/blib/lib/Test/WWW/Mechanize.pm line 160
	Test::WWW::Mechanize::get_ok(Test::WWW::Mechanize::PSGI=HASH(0x2338920), "/wishlist") called at t/03_mech.t line 82
Do not use HTTP::Session2::ClientStore. Use HTTP::Session2::ServerStore or HTTP::Session2::ClientStore2 instead. at /home/cpansand/.cpan/build/2017121009/HTTP-Session2-1.09-0/blib/lib/HTTP/Session2/ClientStore.pm line 35.
Secret string too short at /home/cpansand/.cpan/build/2017121009/HTTP-Session2-1.09-0/blib/lib/HTTP/Session2/Base.pm line 79.
	HTTP::Session2::Base::__ANON__(HTTP::Session2::ClientStore=HASH(0x2334498), "s3cret") called at t/03_mech.t line 127
	main::client_session(HASH(0x2334420)) called at t/03_mech.t line 17
	main::__ANON__(HASH(0x2334420)) called at /home/cpansand/.cpan/build/2017121009/Test-WWW-Mechanize-PSGI-0.38-0/blib/lib/Test/WWW/Mechanize/PSGI.pm line 43
	Test::WWW::Mechanize::PSGI::try {...} () called at /opt/perl-5.26.0t/lib/site_perl/5.26.0/Try/Tiny.pm line 103
	eval {...} called at /opt/perl-5.26.0t/lib/site_perl/5.26.0/Try/Tiny.pm line 94
	Try::Tiny::try(CODE(0x2338548), Try::Tiny::Catch=REF(0x2333598)) called at /home/cpansand/.cpan/build/2017121009/Test-WWW-Mechanize-PSGI-0.38-0/blib/lib/Test/WWW/Mechanize/PSGI.pm line 50
	Test::WWW::Mechanize::PSGI::simple_request(Test::WWW::Mechanize::PSGI=HASH(0x2338920), HTTP::Request=HASH(0x232fb88), undef, undef) called at /opt/perl-5.26.0t/lib/site_perl/5.26.0/LWP/UserAgent.pm line 297
	LWP::UserAgent::request(Test::WWW::Mechanize::PSGI=HASH(0x2338920), HTTP::Request=HASH(0x232fb88)) called at /home/cpansand/.cpan/build/2017121009/WWW-Mechanize-1.86-0/blib/lib/WWW/Mechanize.pm line 1413
	WWW::Mechanize::_make_request(Test::WWW::Mechanize::PSGI=HASH(0x2338920), HTTP::Request=HASH(0x232fb88)) called at /home/cpansand/.cpan/build/2017121009/WWW-Mechanize-1.86-0/blib/lib/WWW/Mechanize.pm line 1253
	WWW::Mechanize::request(Test::WWW::Mechanize::PSGI=HASH(0x2338920), HTTP::Request=HASH(0x232fb88)) called at /opt/perl-5.26.0t/lib/site_perl/5.26.0/LWP/UserAgent.pm line 478
	LWP::UserAgent::post(Test::WWW::Mechanize::PSGI=HASH(0x2338920), "/account/login?john", HASH(0x1e4f5f8)) called at /home/cpansand/.cpan/build/2017121009/Test-WWW-Mechanize-1.48-0/blib/lib/Test/WWW/Mechanize.pm line 237
	Test::WWW::Mechanize::post_ok(Test::WWW::Mechanize::PSGI=HASH(0x2338920), "/account/login?john") called at t/03_mech.t line 84
Do not use HTTP::Session2::ClientStore. Use HTTP::Session2::ServerStore or HTTP::Session2::ClientStore2 instead. at /home/cpansand/.cpan/build/2017121009/HTTP-Session2-1.09-0/blib/lib/HTTP/Session2/ClientStore.pm line 35.
Do not use HTTP::Session2::ClientStore. Use HTTP::Session2::ServerStore or HTTP::Session2::ClientStore2 instead. at /home/cpansand/.cpan/build/2017121009/HTTP-Session2-1.09-0/blib/lib/HTTP/Session2/ClientStore.pm line 35.
Do not use HTTP::Session2::ClientStore. Use HTTP::Session2::ServerStore or HTTP::Session2::ClientStore2 instead. at /home/cpansand/.cpan/build/2017121009/HTTP-Session2-1.09-0/blib/lib/HTTP/Session2/ClientStore.pm line 25.
Secret string too short at /home/cpansand/.cpan/build/2017121009/HTTP-Session2-1.09-0/blib/lib/HTTP/Session2/Base.pm line 79.
	HTTP::Session2::Base::__ANON__(HTTP::Session2::ClientStore=HASH(0x2338068), "s3cret") called at t/03_mech.t line 127
	main::client_session(HASH(0x23387e8)) called at t/03_mech.t line 17
	main::__ANON__(HASH(0x23387e8)) called at /home/cpansand/.cpan/build/2017121009/Test-WWW-Mechanize-PSGI-0.38-0/blib/lib/Test/WWW/Mechanize/PSGI.pm line 43
	Test::WWW::Mechanize::PSGI::try {...} () called at /opt/perl-5.26.0t/lib/site_perl/5.26.0/Try/Tiny.pm line 103
	eval {...} called at /opt/perl-5.26.0t/lib/site_perl/5.26.0/Try/Tiny.pm line 94
	Try::Tiny::try(CODE(0x232fca8), Try::Tiny::Catch=REF(0x2337f00)) called at /home/cpansand/.cpan/build/2017121009/Test-WWW-Mechanize-PSGI-0.38-0/blib/lib/Test/WWW/Mechanize/PSGI.pm line 50
	Test::WWW::Mechanize::PSGI::simple_request(Test::WWW::Mechanize::PSGI=HASH(0x2338920), HTTP::Request=HASH(0x2334060), undef, undef) called at /opt/perl-5.26.0t/lib/site_perl/5.26.0/LWP/UserAgent.pm line 297
	LWP::UserAgent::request(Test::WWW::Mechanize::PSGI=HASH(0x2338920), HTTP::Request=HASH(0x2334060)) called at /home/cpansand/.cpan/build/2017121009/WWW-Mechanize-1.86-0/blib/lib/WWW/Mechanize.pm line 1413
	WWW::Mechanize::_make_request(Test::WWW::Mechanize::PSGI=HASH(0x2338920), HTTP::Request=HASH(0x2334060)) called at /home/cpansand/.cpan/build/2017121009/WWW-Mechanize-1.86-0/blib/lib/WWW/Mechanize.pm line 1253
	WWW::Mechanize::request(Test::WWW::Mechanize::PSGI=HASH(0x2338920), HTTP::Request=HASH(0x2334060)) called at /opt/perl-5.26.0t/lib/site_perl/5.26.0/LWP/UserAgent.pm line 435
	LWP::UserAgent::get(Test::WWW::Mechanize::PSGI=HASH(0x2338920), "http://localhost/wishlist") called at /home/cpansand/.cpan/build/2017121009/WWW-Mechanize-1.86-0/blib/lib/WWW/Mechanize.pm line 117
	WWW::Mechanize::get(Test::WWW::Mechanize::PSGI=HASH(0x2338920), "/wishlist") called at /home/cpansand/.cpan/build/2017121009/Test-WWW-Mechanize-1.48-0/blib/lib/Test/WWW/Mechanize.pm line 160
	Test::WWW::Mechanize::get_ok(Test::WWW::Mechanize::PSGI=HASH(0x2338920), "/wishlist", "Wishlist is still available") called at t/03_mech.t line 85
Do not use HTTP::Session2::ClientStore. Use HTTP::Session2::ServerStore or HTTP::Session2::ClientStore2 instead. at /home/cpansand/.cpan/build/2017121009/HTTP-Session2-1.09-0/blib/lib/HTTP/Session2/ClientStore.pm line 35.
Secret string too short at /home/cpansand/.cpan/build/2017121009/HTTP-Session2-1.09-0/blib/lib/HTTP/Session2/Base.pm line 79.
	HTTP::Session2::Base::__ANON__(HTTP::Session2::ClientStore=HASH(0x21b3268), "s3cret") called at t/03_mech.t line 127
	main::client_session(HASH(0x21b3010)) called at t/03_mech.t line 17
	main::__ANON__(HASH(0x21b3010)) called at /home/cpansand/.cpan/build/2017121009/Test-WWW-Mechanize-PSGI-0.38-0/blib/lib/Test/WWW/Mechanize/PSGI.pm line 43
	Test::WWW::Mechanize::PSGI::try {...} () called at /opt/perl-5.26.0t/lib/site_perl/5.26.0/Try/Tiny.pm line 103
	eval {...} called at /opt/perl-5.26.0t/lib/site_perl/5.26.0/Try/Tiny.pm line 94
	Try::Tiny::try(CODE(0x2338230), Try::Tiny::Catch=REF(0x2337d38)) called at /home/cpansand/.cpan/build/2017121009/Test-WWW-Mechanize-PSGI-0.38-0/blib/lib/Test/WWW/Mechanize/PSGI.pm line 50
	Test::WWW::Mechanize::PSGI::simple_request(Test::WWW::Mechanize::PSGI=HASH(0x2338920), HTTP::Request=HASH(0x2338248), undef, undef) called at /opt/perl-5.26.0t/lib/site_perl/5.26.0/LWP/UserAgent.pm line 297
	LWP::UserAgent::request(Test::WWW::Mechanize::PSGI=HASH(0x2338920), HTTP::Request=HASH(0x2338248)) called at /home/cpansand/.cpan/build/2017121009/WWW-Mechanize-1.86-0/blib/lib/WWW/Mechanize.pm line 1413
	WWW::Mechanize::_make_request(Test::WWW::Mechanize::PSGI=HASH(0x2338920), HTTP::Request=HASH(0x2338248)) called at /home/cpansand/.cpan/build/2017121009/WWW-Mechanize-1.86-0/blib/lib/WWW/Mechanize.pm line 1253
	WWW::Mechanize::request(Test::WWW::Mechanize::PSGI=HASH(0x2338920), HTTP::Request=HASH(0x2338248)) called at /opt/perl-5.26.0t/lib/site_perl/5.26.0/LWP/UserAgent.pm line 478
	LWP::UserAgent::post(Test::WWW::Mechanize::PSGI=HASH(0x2338920), "/wishlist?baz") called at t/03_mech.t line 87
Do not use HTTP::Session2::ClientStore. Use HTTP::Session2::ServerStore or HTTP::Session2::ClientStore2 instead. at /home/cpansand/.cpan/build/2017121009/HTTP-Session2-1.09-0/blib/lib/HTTP/Session2/ClientStore.pm line 35.
Secret string too short at /home/cpansand/.cpan/build/2017121009/HTTP-Session2-1.09-0/blib/lib/HTTP/Session2/Base.pm line 79.
	HTTP::Session2::Base::__ANON__(HTTP::Session2::ClientStore=HASH(0x232fd50), "s3cret") called at t/03_mech.t line 127
	main::client_session(HASH(0x23339e8)) called at t/03_mech.t line 17
	main::__ANON__(HASH(0x23339e8)) called at /home/cpansand/.cpan/build/2017121009/Test-WWW-Mechanize-PSGI-0.38-0/blib/lib/Test/WWW/Mechanize/PSGI.pm line 43
	Test::WWW::Mechanize::PSGI::try {...} () called at /opt/perl-5.26.0t/lib/site_perl/5.26.0/Try/Tiny.pm line 103
	eval {...} called at /opt/perl-5.26.0t/lib/site_perl/5.26.0/Try/Tiny.pm line 94
	Try::Tiny::try(CODE(0x21b2cc8), Try::Tiny::Catch=REF(0x2334348)) called at /home/cpansand/.cpan/build/2017121009/Test-WWW-Mechanize-PSGI-0.38-0/blib/lib/Test/WWW/Mechanize/PSGI.pm line 50
	Test::WWW::Mechanize::PSGI::simple_request(Test::WWW::Mechanize::PSGI=HASH(0x2338920), HTTP::Request=HASH(0x2337c30), undef, undef) called at /opt/perl-5.26.0t/lib/site_perl/5.26.0/LWP/UserAgent.pm line 297
	LWP::UserAgent::request(Test::WWW::Mechanize::PSGI=HASH(0x2338920), HTTP::Request=HASH(0x2337c30)) called at /home/cpansand/.cpan/build/2017121009/WWW-Mechanize-1.86-0/blib/lib/WWW/Mechanize.pm line 1413
	WWW::Mechanize::_make_request(Test::WWW::Mechanize::PSGI=HASH(0x2338920), HTTP::Request=HASH(0x2337c30)) called at /home/cpansand/.cpan/build/2017121009/WWW-Mechanize-1.86-0/blib/lib/WWW/Mechanize.pm line 1253
	WWW::Mechanize::request(Test::WWW::Mechanize::PSGI=HASH(0x2338920), HTTP::Request=HASH(0x2337c30)) called at /opt/perl-5.26.0t/lib/site_perl/5.26.0/LWP/UserAgent.pm line 478
	LWP::UserAgent::post(Test::WWW::Mechanize::PSGI=HASH(0x2338920), "/wishlist?baz", HASH(0x1e4f5f8)) called at /home/cpansand/.cpan/build/2017121009/Test-WWW-Mechanize-1.48-0/blib/lib/Test/WWW/Mechanize.pm line 237
	Test::WWW::Mechanize::post_ok(Test::WWW::Mechanize::PSGI=HASH(0x2338920), "/wishlist?baz") called at t/03_mech.t line 90
Do not use HTTP::Session2::ClientStore. Use HTTP::Session2::ServerStore or HTTP::Session2::ClientStore2 instead. at /home/cpansand/.cpan/build/2017121009/HTTP-Session2-1.09-0/blib/lib/HTTP/Session2/ClientStore.pm line 35.
Do not use HTTP::Session2::ClientStore. Use HTTP::Session2::ServerStore or HTTP::Session2::ClientStore2 instead. at /home/cpansand/.cpan/build/2017121009/HTTP-Session2-1.09-0/blib/lib/HTTP/Session2/ClientStore.pm line 25.
Secret string too short at /home/cpansand/.cpan/build/2017121009/HTTP-Session2-1.09-0/blib/lib/HTTP/Session2/Base.pm line 79.
	HTTP::Session2::Base::__ANON__(HTTP::Session2::ClientStore=HASH(0x233b188), "s3cret") called at t/03_mech.t line 127
	main::client_session(HASH(0x2338188)) called at t/03_mech.t line 17
	main::__ANON__(HASH(0x2338188)) called at /home/cpansand/.cpan/build/2017121009/Test-WWW-Mechanize-PSGI-0.38-0/blib/lib/Test/WWW/Mechanize/PSGI.pm line 43
	Test::WWW::Mechanize::PSGI::try {...} () called at /opt/perl-5.26.0t/lib/site_perl/5.26.0/Try/Tiny.pm line 103
	eval {...} called at /opt/perl-5.26.0t/lib/site_perl/5.26.0/Try/Tiny.pm line 94
	Try::Tiny::try(CODE(0x21b3340), Try::Tiny::Catch=REF(0x2334438)) called at /home/cpansand/.cpan/build/2017121009/Test-WWW-Mechanize-PSGI-0.38-0/blib/lib/Test/WWW/Mechanize/PSGI.pm line 50
	Test::WWW::Mechanize::PSGI::simple_request(Test::WWW::Mechanize::PSGI=HASH(0x2338920), HTTP::Request=HASH(0x2338b18), undef, undef) called at /opt/perl-5.26.0t/lib/site_perl/5.26.0/LWP/UserAgent.pm line 297
	LWP::UserAgent::request(Test::WWW::Mechanize::PSGI=HASH(0x2338920), HTTP::Request=HASH(0x2338b18)) called at /home/cpansand/.cpan/build/2017121009/WWW-Mechanize-1.86-0/blib/lib/WWW/Mechanize.pm line 1413
	WWW::Mechanize::_make_request(Test::WWW::Mechanize::PSGI=HASH(0x2338920), HTTP::Request=HASH(0x2338b18)) called at /home/cpansand/.cpan/build/2017121009/WWW-Mechanize-1.86-0/blib/lib/WWW/Mechanize.pm line 1253
	WWW::Mechanize::request(Test::WWW::Mechanize::PSGI=HASH(0x2338920), HTTP::Request=HASH(0x2338b18)) called at /opt/perl-5.26.0t/lib/site_perl/5.26.0/LWP/UserAgent.pm line 435
	LWP::UserAgent::get(Test::WWW::Mechanize::PSGI=HASH(0x2338920), "http://localhost/wishlist") called at /home/cpansand/.cpan/build/2017121009/WWW-Mechanize-1.86-0/blib/lib/WWW/Mechanize.pm line 117
	WWW::Mechanize::get(Test::WWW::Mechanize::PSGI=HASH(0x2338920), "/wishlist") called at /home/cpansand/.cpan/build/2017121009/Test-WWW-Mechanize-1.48-0/blib/lib/Test/WWW/Mechanize.pm line 160
	Test::WWW::Mechanize::get_ok(Test::WWW::Mechanize::PSGI=HASH(0x2338920), "/wishlist", "Wishlist is still available") called at t/03_mech.t line 91
Do not use HTTP::Session2::ClientStore. Use HTTP::Session2::ServerStore or HTTP::Session2::ClientStore2 instead. at /home/cpansand/.cpan/build/2017121009/HTTP-Session2-1.09-0/blib/lib/HTTP/Session2/ClientStore.pm line 35.
Secret string too short at /home/cpansand/.cpan/build/2017121009/HTTP-Session2-1.09-0/blib/lib/HTTP/Session2/Base.pm line 79.
	HTTP::Session2::Base::__ANON__(HTTP::Session2::ClientStore=HASH(0x233b8a8), "s3cret") called at t/03_mech.t line 127
	main::client_session(HASH(0x2333a90)) called at t/03_mech.t line 17
	main::__ANON__(HASH(0x2333a90)) called at /home/cpansand/.cpan/build/2017121009/Test-WWW-Mechanize-PSGI-0.38-0/blib/lib/Test/WWW/Mechanize/PSGI.pm line 43
	Test::WWW::Mechanize::PSGI::try {...} () called at /opt/perl-5.26.0t/lib/site_perl/5.26.0/Try/Tiny.pm line 103
	eval {...} called at /opt/perl-5.26.0t/lib/site_perl/5.26.0/Try/Tiny.pm line 94
	Try::Tiny::try(CODE(0x21b3298), Try::Tiny::Catch=REF(0x2333898)) called at /home/cpansand/.cpan/build/2017121009/Test-WWW-Mechanize-PSGI-0.38-0/blib/lib/Test/WWW/Mechanize/PSGI.pm line 50
	Test::WWW::Mechanize::PSGI::simple_request(Test::WWW::Mechanize::PSGI=HASH(0x2338920), HTTP::Request=HASH(0x2334450), undef, undef) called at /opt/perl-5.26.0t/lib/site_perl/5.26.0/LWP/UserAgent.pm line 297
	LWP::UserAgent::request(Test::WWW::Mechanize::PSGI=HASH(0x2338920), HTTP::Request=HASH(0x2334450)) called at /home/cpansand/.cpan/build/2017121009/WWW-Mechanize-1.86-0/blib/lib/WWW/Mechanize.pm line 1413
	WWW::Mechanize::_make_request(Test::WWW::Mechanize::PSGI=HASH(0x2338920), HTTP::Request=HASH(0x2334450)) called at /home/cpansand/.cpan/build/2017121009/WWW-Mechanize-1.86-0/blib/lib/WWW/Mechanize.pm line 1253
	WWW::Mechanize::request(Test::WWW::Mechanize::PSGI=HASH(0x2338920), HTTP::Request=HASH(0x2334450)) called at /opt/perl-5.26.0t/lib/site_perl/5.26.0/LWP/UserAgent.pm line 435
	LWP::UserAgent::get(Test::WWW::Mechanize::PSGI=HASH(0x2338920), "http://localhost/my/name") called at /home/cpansand/.cpan/build/2017121009/WWW-Mechanize-1.86-0/blib/lib/WWW/Mechanize.pm line 117
	WWW::Mechanize::get(Test::WWW::Mechanize::PSGI=HASH(0x2338920), "/my/name") called at /home/cpansand/.cpan/build/2017121009/Test-WWW-Mechanize-1.48-0/blib/lib/Test/WWW/Mechanize.pm line 160
	Test::WWW::Mechanize::get_ok(Test::WWW::Mechanize::PSGI=HASH(0x2338920), "/my/name") called at t/03_mech.t line 93
Do not use HTTP::Session2::ClientStore. Use HTTP::Session2::ServerStore or HTTP::Session2::ClientStore2 instead. at /home/cpansand/.cpan/build/2017121009/HTTP-Session2-1.09-0/blib/lib/HTTP/Session2/ClientStore.pm line 35.
Secret string too short at /home/cpansand/.cpan/build/2017121009/HTTP-Session2-1.09-0/blib/lib/HTTP/Session2/Base.pm line 79.
	HTTP::Session2::Base::__ANON__(HTTP::Session2::ClientStore=HASH(0x2343bc0), "s3cret") called at t/03_mech.t line 127
	main::client_session(HASH(0x2343ab8)) called at t/03_mech.t line 17
	main::__ANON__(HASH(0x2343ab8)) called at /home/cpansand/.cpan/build/2017121009/Test-WWW-Mechanize-PSGI-0.38-0/blib/lib/Test/WWW/Mechanize/PSGI.pm line 43
	Test::WWW::Mechanize::PSGI::try {...} () called at /opt/perl-5.26.0t/lib/site_perl/5.26.0/Try/Tiny.pm line 103
	eval {...} called at /opt/perl-5.26.0t/lib/site_perl/5.26.0/Try/Tiny.pm line 94
	Try::Tiny::try(CODE(0x233bd88), Try::Tiny::Catch=REF(0x233bc38)) called at /home/cpansand/.cpan/build/2017121009/Test-WWW-Mechanize-PSGI-0.38-0/blib/lib/Test/WWW/Mechanize/PSGI.pm line 50
	Test::WWW::Mechanize::PSGI::simple_request(Test::WWW::Mechanize::PSGI=HASH(0x2338920), HTTP::Request=HASH(0x233b1b8), undef, undef) called at /opt/perl-5.26.0t/lib/site_perl/5.26.0/LWP/UserAgent.pm line 297
	LWP::UserAgent::request(Test::WWW::Mechanize::PSGI=HASH(0x2338920), HTTP::Request=HASH(0x233b1b8)) called at /home/cpansand/.cpan/build/2017121009/WWW-Mechanize-1.86-0/blib/lib/WWW/Mechanize.pm line 1413
	WWW::Mechanize::_make_request(Test::WWW::Mechanize::PSGI=HASH(0x2338920), HTTP::Request=HASH(0x233b1b8)) called at /home/cpansand/.cpan/build/2017121009/WWW-Mechanize-1.86-0/blib/lib/WWW/Mechanize.pm line 1253
	WWW::Mechanize::request(Test::WWW::Mechanize::PSGI=HASH(0x2338920), HTTP::Request=HASH(0x233b1b8)) called at /opt/perl-5.26.0t/lib/site_perl/5.26.0/LWP/UserAgent.pm line 478
	LWP::UserAgent::post(Test::WWW::Mechanize::PSGI=HASH(0x2338920), "/account/logout?john") called at t/03_mech.t line 97
Do not use HTTP::Session2::ClientStore. Use HTTP::Session2::ServerStore or HTTP::Session2::ClientStore2 instead. at /home/cpansand/.cpan/build/2017121009/HTTP-Session2-1.09-0/blib/lib/HTTP/Session2/ClientStore.pm line 35.
Do not use HTTP::Session2::ClientStore. Use HTTP::Session2::ServerStore or HTTP::Session2::ClientStore2 instead. at /home/cpansand/.cpan/build/2017121009/HTTP-Session2-1.09-0/blib/lib/HTTP/Session2/ClientStore.pm line 35.
t/03_mech.t ................. ok
Do not use HTTP::Session2::ClientStore. Use HTTP::Session2::ServerStore or HTTP::Session2::ClientStore2 instead. at /home/cpansand/.cpan/build/2017121009/HTTP-Session2-1.09-0/blib/lib/HTTP/Session2/ClientStore.pm line 25.
t/04_plack_response.t ....... ok
Secret string too short at /home/cpansand/.cpan/build/2017121009/HTTP-Session2-1.09-0/blib/lib/HTTP/Session2/Base.pm line 79.
	HTTP::Session2::Base::__ANON__(HTTP::Session2::ClientStore=HASH(0x147fdb0), "s3cret") called at t/05_keep_me_signed_in.t line 20
Do not use HTTP::Session2::ClientStore. Use HTTP::Session2::ServerStore or HTTP::Session2::ClientStore2 instead. at /home/cpansand/.cpan/build/2017121009/HTTP-Session2-1.09-0/blib/lib/HTTP/Session2/ClientStore.pm line 25.
t/05_keep_me_signed_in.t .... ok
Secret string too short at /home/cpansand/.cpan/build/2017121009/HTTP-Session2-1.09-0/blib/lib/HTTP/Session2/Base.pm line 79.
	HTTP::Session2::Base::__ANON__(HTTP::Session2::Base=HASH(0x1ebda78), "i am secret") called at t/06_base_abstract.t line 7
t/06_base_abstract.t ........ ok
Secret string too short at /home/cpansand/.cpan/build/2017121009/HTTP-Session2-1.09-0/blib/lib/HTTP/Session2/Base.pm line 79.
	HTTP::Session2::Base::__ANON__(HTTP::Session2::ClientStore=HASH(0x10c69f8), "secret") called at t/07_client_store.t line 23
	main::__ANON__() called at /opt/perl-5.26.0t/lib/5.26.0/Test/Builder.pm line 309
	eval {...} called at /opt/perl-5.26.0t/lib/5.26.0/Test/Builder.pm line 309
	Test::Builder::subtest(Test::Builder=HASH(0x111d7c0), "get/set/remove", CODE(0x18d0390)) called at /opt/perl-5.26.0t/lib/5.26.0/Test/More.pm line 807
	Test::More::subtest("get/set/remove", CODE(0x18d0390)) called at t/07_client_store.t line 31
Secret string too short at /home/cpansand/.cpan/build/2017121009/HTTP-Session2-1.09-0/blib/lib/HTTP/Session2/Base.pm line 79.
	HTTP::Session2::Base::__ANON__(HTTP::Session2::ClientStore=HASH(0x10c6308), "secret") called at t/07_client_store.t line 35
	main::__ANON__() called at /opt/perl-5.26.0t/lib/5.26.0/Test/Builder.pm line 309
	eval {...} called at /opt/perl-5.26.0t/lib/5.26.0/Test/Builder.pm line 309
	Test::Builder::subtest(Test::Builder=HASH(0x111d7c0), "validate_token", CODE(0x18d0708)) called at /opt/perl-5.26.0t/lib/5.26.0/Test/More.pm line 807
	Test::More::subtest("validate_token", CODE(0x18d0708)) called at t/07_client_store.t line 71
Do not use HTTP::Session2::ClientStore. Use HTTP::Session2::ServerStore or HTTP::Session2::ClientStore2 instead. at /home/cpansand/.cpan/build/2017121009/HTTP-Session2-1.09-0/blib/lib/HTTP/Session2/ClientStore.pm line 25.
Secret string too short at /home/cpansand/.cpan/build/2017121009/HTTP-Session2-1.09-0/blib/lib/HTTP/Session2/Base.pm line 79.
	HTTP::Session2::Base::__ANON__(HTTP::Session2::ClientStore=HASH(0x1df3b70), "secret") called at t/07_client_store.t line 51
	main::__ANON__() called at /opt/perl-5.26.0t/lib/5.26.0/Test/Builder.pm line 309
	eval {...} called at /opt/perl-5.26.0t/lib/5.26.0/Test/Builder.pm line 309
	Test::Builder::subtest(Test::Builder=HASH(0x111d7c0), "bad", CODE(0x10c6818)) called at /opt/perl-5.26.0t/lib/5.26.0/Test/More.pm line 807
	Test::More::subtest("bad", CODE(0x10c6818)) called at t/07_client_store.t line 57
	main::__ANON__() called at /opt/perl-5.26.0t/lib/5.26.0/Test/Builder.pm line 309
	eval {...} called at /opt/perl-5.26.0t/lib/5.26.0/Test/Builder.pm line 309
	Test::Builder::subtest(Test::Builder=HASH(0x111d7c0), "validate_token", CODE(0x18d0708)) called at /opt/perl-5.26.0t/lib/5.26.0/Test/More.pm line 807
	Test::More::subtest("validate_token", CODE(0x18d0708)) called at t/07_client_store.t line 71
Do not use HTTP::Session2::ClientStore. Use HTTP::Session2::ServerStore or HTTP::Session2::ClientStore2 instead. at /home/cpansand/.cpan/build/2017121009/HTTP-Session2-1.09-0/blib/lib/HTTP/Session2/ClientStore.pm line 35.
Secret string too short at /home/cpansand/.cpan/build/2017121009/HTTP-Session2-1.09-0/blib/lib/HTTP/Session2/Base.pm line 79.
	HTTP::Session2::Base::__ANON__(HTTP::Session2::ClientStore=HASH(0x1df9ab0), "secret") called at t/07_client_store.t line 65
	main::__ANON__() called at /opt/perl-5.26.0t/lib/5.26.0/Test/Builder.pm line 309
	eval {...} called at /opt/perl-5.26.0t/lib/5.26.0/Test/Builder.pm line 309
	Test::Builder::subtest(Test::Builder=HASH(0x111d7c0), "good", CODE(0x10c6818)) called at /opt/perl-5.26.0t/lib/5.26.0/Test/More.pm line 807
	Test::More::subtest("good", CODE(0x10c6818)) called at t/07_client_store.t line 70
	main::__ANON__() called at /opt/perl-5.26.0t/lib/5.26.0/Test/Builder.pm line 309
	eval {...} called at /opt/perl-5.26.0t/lib/5.26.0/Test/Builder.pm line 309
	Test::Builder::subtest(Test::Builder=HASH(0x111d7c0), "validate_token", CODE(0x18d0708)) called at /opt/perl-5.26.0t/lib/5.26.0/Test/More.pm line 807
	Test::More::subtest("validate_token", CODE(0x18d0708)) called at t/07_client_store.t line 71
Do not use HTTP::Session2::ClientStore. Use HTTP::Session2::ServerStore or HTTP::Session2::ClientStore2 instead. at /home/cpansand/.cpan/build/2017121009/HTTP-Session2-1.09-0/blib/lib/HTTP/Session2/ClientStore.pm line 35.
Secret string too short at /home/cpansand/.cpan/build/2017121009/HTTP-Session2-1.09-0/blib/lib/HTTP/Session2/Base.pm line 79.
	HTTP::Session2::Base::__ANON__(HTTP::Session2::ClientStore=HASH(0x10c6fe0), "secret") called at t/07_client_store.t line 76
	main::__ANON__() called at /opt/perl-5.26.0t/lib/5.26.0/Test/Builder.pm line 309
	eval {...} called at /opt/perl-5.26.0t/lib/5.26.0/Test/Builder.pm line 309
	Test::Builder::subtest(Test::Builder=HASH(0x111d7c0), "ignore_old", CODE(0x1dc7678)) called at /opt/perl-5.26.0t/lib/5.26.0/Test/More.pm line 807
	Test::More::subtest("ignore_old", CODE(0x1dc7678)) called at t/07_client_store.t line 106
Do not use HTTP::Session2::ClientStore. Use HTTP::Session2::ServerStore or HTTP::Session2::ClientStore2 instead. at /home/cpansand/.cpan/build/2017121009/HTTP-Session2-1.09-0/blib/lib/HTTP/Session2/ClientStore.pm line 25.
Secret string too short at /home/cpansand/.cpan/build/2017121009/HTTP-Session2-1.09-0/blib/lib/HTTP/Session2/Base.pm line 79.
	HTTP::Session2::Base::__ANON__(HTTP::Session2::ClientStore=HASH(0x1df2fa0), "secret") called at t/07_client_store.t line 87
	main::__ANON__() called at /opt/perl-5.26.0t/lib/5.26.0/Test/Builder.pm line 309
	eval {...} called at /opt/perl-5.26.0t/lib/5.26.0/Test/Builder.pm line 309
	Test::Builder::subtest(Test::Builder=HASH(0x111d7c0), "ignore_old disabled", CODE(0x1dfd320)) called at /opt/perl-5.26.0t/lib/5.26.0/Test/More.pm line 807
	Test::More::subtest("ignore_old disabled", CODE(0x1dfd320)) called at t/07_client_store.t line 95
	main::__ANON__() called at /opt/perl-5.26.0t/lib/5.26.0/Test/Builder.pm line 309
	eval {...} called at /opt/perl-5.26.0t/lib/5.26.0/Test/Builder.pm line 309
	Test::Builder::subtest(Test::Builder=HASH(0x111d7c0), "ignore_old", CODE(0x1dc7678)) called at /opt/perl-5.26.0t/lib/5.26.0/Test/More.pm line 807
	Test::More::subtest("ignore_old", CODE(0x1dc7678)) called at t/07_client_store.t line 106
Do not use HTTP::Session2::ClientStore. Use HTTP::Session2::ServerStore or HTTP::Session2::ClientStore2 instead. at /home/cpansand/.cpan/build/2017121009/HTTP-Session2-1.09-0/blib/lib/HTTP/Session2/ClientStore.pm line 35.
Secret string too short at /home/cpansand/.cpan/build/2017121009/HTTP-Session2-1.09-0/blib/lib/HTTP/Session2/Base.pm line 79.
	HTTP::Session2::Base::__ANON__(HTTP::Session2::ClientStore=HASH(0x1df8ee0), "secret") called at t/07_client_store.t line 97
	main::__ANON__() called at /opt/perl-5.26.0t/lib/5.26.0/Test/Builder.pm line 309
	eval {...} called at /opt/perl-5.26.0t/lib/5.26.0/Test/Builder.pm line 309
	Test::Builder::subtest(Test::Builder=HASH(0x111d7c0), "ignore_old enabled", CODE(0x1dfd320)) called at /opt/perl-5.26.0t/lib/5.26.0/Test/More.pm line 807
	Test::More::subtest("ignore_old enabled", CODE(0x1dfd320)) called at t/07_client_store.t line 105
	main::__ANON__() called at /opt/perl-5.26.0t/lib/5.26.0/Test/Builder.pm line 309
	eval {...} called at /opt/perl-5.26.0t/lib/5.26.0/Test/Builder.pm line 309
	Test::Builder::subtest(Test::Builder=HASH(0x111d7c0), "ignore_old", CODE(0x1dc7678)) called at /opt/perl-5.26.0t/lib/5.26.0/Test/More.pm line 807
	Test::More::subtest("ignore_old", CODE(0x1dc7678)) called at t/07_client_store.t line 106
t/07_client_store.t ......... ok
Secret string too short at /home/cpansand/.cpan/build/2017121009/HTTP-Session2-1.09-0/blib/lib/HTTP/Session2/Base.pm line 79.
	HTTP::Session2::Base::__ANON__(HTTP::Session2::Expired=HASH(0x27fc858), 33333) called at t/08_expired.t line 7
t/08_expired.t .............. ok
# /dev/urandom available
# /dev/urandom(1): lN3ely2lp0mqcUyvlMTPdV8CsRSedUW
# /dev/urandom(2): D6l1m1OGQj4pCEOGCgzHHGWeQceKfd1
# perl:            63897466b4c90b6c38ff4e5fb3e99e1
t/09_random.t ............... ok
t/11_secret_string.t ........ ok
Secret string too short at /home/cpansand/.cpan/build/2017121009/HTTP-Session2-1.09-0/blib/lib/HTTP/Session2/Base.pm line 79.
	HTTP::Session2::Base::__ANON__(HTTP::Session2::ClientStore2=HASH(0x2d0bd38), "s3cret") called at t/client_store2/01_basic.t line 24
	main::__ANON__("client -> server: request without cookie", CODE(0x2d0b8d0)) called at t/client_store2/01_basic.t line 30
	main::__ANON__() called at /opt/perl-5.26.0t/lib/5.26.0/Test/Builder.pm line 309
	eval {...} called at /opt/perl-5.26.0t/lib/5.26.0/Test/Builder.pm line 309
	Test::Builder::subtest(Test::Builder=HASH(0x2488ef0), "First request", CODE(0x23fef90)) called at /opt/perl-5.26.0t/lib/5.26.0/Test/More.pm line 807
	Test::More::subtest("First request", CODE(0x23fef90)) called at t/client_store2/01_basic.t line 9
	main::scenario("First request", CODE(0x23fef90)) called at t/client_store2/01_basic.t line 36
Secret string too short at /home/cpansand/.cpan/build/2017121009/HTTP-Session2-1.09-0/blib/lib/HTTP/Session2/Base.pm line 79.
	HTTP::Session2::Base::__ANON__(HTTP::Session2::ClientStore2=HASH(0x2d0b6c0), "s3cret") called at t/client_store2/01_basic.t line 41
	main::__ANON__("client -> server: request without cookie", CODE(0x2cfbbc0)) called at t/client_store2/01_basic.t line 47
	main::__ANON__() called at /opt/perl-5.26.0t/lib/5.26.0/Test/Builder.pm line 309
	eval {...} called at /opt/perl-5.26.0t/lib/5.26.0/Test/Builder.pm line 309
	Test::Builder::subtest(Test::Builder=HASH(0x2488ef0), "Store something without login", CODE(0x23fef90)) called at /opt/perl-5.26.0t/lib/5.26.0/Test/More.pm line 807
	Test::More::subtest("Store something without login", CODE(0x23fef90)) called at t/client_store2/01_basic.t line 9
	main::scenario("Store something without login", CODE(0x23fef90)) called at t/client_store2/01_basic.t line 63
Secret string too short at /home/cpansand/.cpan/build/2017121009/HTTP-Session2-1.09-0/blib/lib/HTTP/Session2/Base.pm line 79.
	HTTP::Session2::Base::__ANON__(HTTP::Session2::ClientStore2=HASH(0x2d1a878), "s3cret") called at t/client_store2/01_basic.t line 69
	main::__ANON__("client -> server: request without cookie", CODE(0x2d1a608)) called at t/client_store2/01_basic.t line 76
	main::__ANON__() called at /opt/perl-5.26.0t/lib/5.26.0/Test/Builder.pm line 309
	eval {...} called at /opt/perl-5.26.0t/lib/5.26.0/Test/Builder.pm line 309
	Test::Builder::subtest(Test::Builder=HASH(0x2488ef0), "Login", CODE(0x23fef90)) called at /opt/perl-5.26.0t/lib/5.26.0/Test/More.pm line 807
	Test::More::subtest("Login", CODE(0x23fef90)) called at t/client_store2/01_basic.t line 9
	main::scenario("Login", CODE(0x23fef90)) called at t/client_store2/01_basic.t line 96
Ciphertext does not begin with a valid header for 'salt' header mode at /home/cpansand/.cpan/build/2017121009/HTTP-Session2-1.09-0/blib/lib/HTTP/Session2/ClientStore2.pm line 81.
Ciphertext does not begin with a valid header for 'salt' header mode at /home/cpansand/.cpan/build/2017121009/HTTP-Session2-1.09-0/blib/lib/HTTP/Session2/ClientStore2.pm line 81.
Secret string too short at /home/cpansand/.cpan/build/2017121009/HTTP-Session2-1.09-0/blib/lib/HTTP/Session2/Base.pm line 79.
	HTTP::Session2::Base::__ANON__(HTTP::Session2::ClientStore2=HASH(0x2d0b798), "s3cret") called at t/client_store2/01_basic.t line 102
	main::__ANON__("client -> server: request without cookie", CODE(0x2d0bca8)) called at t/client_store2/01_basic.t line 109
	main::__ANON__() called at /opt/perl-5.26.0t/lib/5.26.0/Test/Builder.pm line 309
	eval {...} called at /opt/perl-5.26.0t/lib/5.26.0/Test/Builder.pm line 309
	Test::Builder::subtest(Test::Builder=HASH(0x2488ef0), "In a login session", CODE(0x23fef90)) called at /opt/perl-5.26.0t/lib/5.26.0/Test/More.pm line 807
	Test::More::subtest("In a login session", CODE(0x23fef90)) called at t/client_store2/01_basic.t line 9
	main::scenario("In a login session", CODE(0x23fef90)) called at t/client_store2/01_basic.t line 118
Ciphertext does not begin with a valid header for 'salt' header mode at /home/cpansand/.cpan/build/2017121009/HTTP-Session2-1.09-0/blib/lib/HTTP/Session2/ClientStore2.pm line 81.
Secret string too short at /home/cpansand/.cpan/build/2017121009/HTTP-Session2-1.09-0/blib/lib/HTTP/Session2/Base.pm line 79.
	HTTP::Session2::Base::__ANON__(HTTP::Session2::ClientStore2=HASH(0x2d0c3c8), "s3cret") called at t/client_store2/01_basic.t line 123
	main::__ANON__("client -> server: request without cookie", CODE(0x2d1ad70)) called at t/client_store2/01_basic.t line 130
	main::__ANON__() called at /opt/perl-5.26.0t/lib/5.26.0/Test/Builder.pm line 309
	eval {...} called at /opt/perl-5.26.0t/lib/5.26.0/Test/Builder.pm line 309
	Test::Builder::subtest(Test::Builder=HASH(0x2488ef0), "Logout", CODE(0x23fef90)) called at /opt/perl-5.26.0t/lib/5.26.0/Test/More.pm line 807
	Test::More::subtest("Logout", CODE(0x23fef90)) called at t/client_store2/01_basic.t line 9
	main::scenario("Logout", CODE(0x23fef90)) called at t/client_store2/01_basic.t line 143
Ciphertext does not begin with a valid header for 'salt' header mode at /home/cpansand/.cpan/build/2017121009/HTTP-Session2-1.09-0/blib/lib/HTTP/Session2/ClientStore2.pm line 81.
t/client_store2/01_basic.t .. ok
t/client_store2/02_mech.t ... ok
t/client_store2/03_colon.t .. ok
All tests successful.
Files=14, Tests=83,  2 wallclock secs ( 0.06 usr  0.10 sys +  1.40 cusr  0.58 csys =  2.14 CPU)
Result: PASS

------------------------------
PREREQUISITES
------------------------------

Prerequisite modules loaded:

requires:

    Module                     Need     Have    
    -------------------------- -------- --------
    Cookie::Baker              0        0.08    
    Crypt::CBC                 0        2.33    
    Data::MessagePack          0        1.00    
    Digest::HMAC               0        1.03    
    Digest::SHA                0        5.96    
    Digest::SHA1               0        2.13    
    MIME::Base64               3.11     3.15    
    Mouse                      0        v2.5.0  
    parent                     0        0.236   
    perl                       5.008005 5.026000
    Time::HiRes                0        1.9741  

build_requires:

    Module                     Need     Have    
    -------------------------- -------- --------
    Crypt::Rijndael            0        1.13    
    Plack::Request             0        1.0044  
    Plack::Response            0        1.0044  
    Test::More                 0.98     1.302073
    Test::WWW::Mechanize::PSGI 0        0.38    

configure_requires:

    Module                     Need     Have    
    -------------------------- -------- --------
    Module::Build              0.38     0.4224  


------------------------------
ENVIRONMENT AND OTHER CONTEXT
------------------------------

Environment variables:

    LANG = en_US.UTF-8
    PATH = /usr/local/bin:/usr/bin:/bin:/usr/local/sbin:/usr/sbin:/sbin:/home/cpansand/bin/linux-gnu:/home/cpansand/bin/sh:/home/cpansand/bin:/usr/games:/home/cpansand/devel:/home/eserte/src/srezic-misc/scripts
    PERL5LIB = /home/cpansand/.cpan/build/2017121009/Test-WWW-Mechanize-PSGI-0.38-0/blib/arch:/home/cpansand/.cpan/build/2017121009/Test-WWW-Mechanize-PSGI-0.38-0/blib/lib:/home/cpansand/.cpan/build/2017121009/Test-WWW-Mechanize-1.48-0/blib/arch:/home/cpansand/.cpan/build/2017121009/Test-WWW-Mechanize-1.48-0/blib/lib:/home/cpansand/.cpan/build/2017121009/WWW-Mechanize-1.86-0/blib/arch:/home/cpansand/.cpan/build/2017121009/WWW-Mechanize-1.86-0/blib/lib:/home/cpansand/.cpan/build/2017121009/HTML-Form-6.03-0/blib/arch:/home/cpansand/.cpan/build/2017121009/HTML-Form-6.03-0/blib/lib:/home/cpansand/.cpan/build/2017121009/Test-LongString-0.17-0/blib/arch:/home/cpansand/.cpan/build/2017121009/Test-LongString-0.17-0/blib/lib:/home/cpansand/.cpan/build/2017121009/HTTP-Server-Simple-0.52-0/blib/arch:/home/cpansand/.cpan/build/2017121009/HTTP-Server-Simple-0.52-0/blib/lib:/home/cpansand/.cpan/build/2017121009/HTML-Formatter-2.16-0/blib/arch:/home/cpansand/.cpan/build/2017121009/HTML-Formatter-2.16-0/blib/lib:/home/cpansand/.cpan/build/2017121009/Font-AFM-1.20-0/blib/arch:/home/cpansand/.cpan/build/2017121009/Font-AFM-1.20-0/blib/lib:/home/cpansand/.cpan/build/2017121009/PerlIO-utf8_strict-0.007-2/blib/arch:/home/cpansand/.cpan/build/2017121009/PerlIO-utf8_strict-0.007-2/blib/lib:/home/cpansand/.cpan/build/2017121009/File-Slurper-0.010-0/blib/arch:/home/cpansand/.cpan/build/2017121009/File-Slurper-0.010-0/blib/lib:/home/cpansand/.cpan/build/2017121009/HTML-Tree-5.07-0/blib/arch:/home/cpansand/.cpan/build/2017121009/HTML-Tree-5.07-0/blib/lib:/home/cpansand/.cpan/build/2017121009/Carp-Assert-More-1.16-0/blib/arch:/home/cpansand/.cpan/build/2017121009/Carp-Assert-More-1.16-0/blib/lib:/home/cpansand/.cpan/build/2017121009/Carp-Assert-0.21-0/blib/arch:/home/cpansand/.cpan/build/2017121009/Carp-Assert-0.21-0/blib/lib:/home/cpansand/.cpan/build/2017121009/Plack-1.0044-0/blib/arch:/home/cpansand/.cpan/build/2017121009/Plack-1.0044-0/blib/lib:/home/cpansand/.cpan/build/2017121009/Test-TCP-2.19-0/blib/arch:/home/cpansand/.cpan/build/2017121009/Test-TCP-2.19-0/blib/lib:/home/cpansand/.cpan/build/2017121009/HTTP-Headers-Fast-0.21-0/blib/arch:/home/cpansand/.cpan/build/2017121009/HTTP-Headers-Fast-0.21-0/blib/lib:/home/cpansand/.cpan/build/2017121009/HTTP-Entity-Parser-0.20-0/blib/arch:/home/cpansand/.cpan/build/2017121009/HTTP-Entity-Parser-0.20-0/blib/lib:/home/cpansand/.cpan/build/2017121009/WWW-Form-UrlEncoded-0.24-0/blib/arch:/home/cpansand/.cpan/build/2017121009/WWW-Form-UrlEncoded-0.24-0/blib/lib:/home/cpansand/.cpan/build/2017121009/Stream-Buffered-0.03-0/blib/arch:/home/cpansand/.cpan/build/2017121009/Stream-Buffered-0.03-0/blib/lib:/home/cpansand/.cpan/build/2017121009/Hash-MultiValue-0.16-0/blib/arch:/home/cpansand/.cpan/build/2017121009/Hash-MultiValue-0.16-0/blib/lib:/home/cpansand/.cpan/build/2017121009/HTTP-MultiPartParser-0.02-0/blib/arch:/home/cpansand/.cpan/build/2017121009/HTTP-MultiPartParser-0.02-0/blib/lib:/home/cpansand/.cpan/build/2017121009/Filesys-Notify-Simple-0.12-0/blib/arch:/home/cpansand/.cpan/build/2017121009/Filesys-Notify-Simple-0.12-0/blib/lib:/home/cpansand/.cpan/build/2017121009/Test-SharedFork-0.35-0/blib/arch:/home/cpansand/.cpan/build/2017121009/Test-SharedFork-0.35-0/blib/lib:/home/cpansand/.cpan/build/2017121009/Devel-StackTrace-AsHTML-0.15-0/blib/arch:/home/cpansand/.cpan/build/2017121009/Devel-StackTrace-AsHTML-0.15-0/blib/lib:/home/cpansand/.cpan/build/2017121009/Apache-LogFormat-Compiler-0.35-0/blib/arch:/home/cpansand/.cpan/build/2017121009/Apache-LogFormat-Compiler-0.35-0/blib/lib:/home/cpansand/.cpan/build/2017121009/Test-MockTime-0.15-0/blib/arch:/home/cpansand/.cpan/build/2017121009/Test-MockTime-0.15-0/blib/lib:/home/cpansand/.cpan/build/2017121009/POSIX-strftime-Compiler-0.42-0/blib/arch:/home/cpansand/.cpan/build/2017121009/POSIX-strftime-Compiler-0.42-0/blib/lib:/home/cpansand/.cpan/build/2017121009/Mouse-v2.5.0-0/blib/arch:/home/cpansand/.cpan/build/2017121009/Mouse-v2.5.0-0/blib/lib:/home/cpansand/.cpan/build/2017121009/Test-Output-1.031-0/blib/arch:/home/cpansand/.cpan/build/2017121009/Test-Output-1.031-0/blib/lib:/home/cpansand/.cpan/build/2017121009/Module-Build-XSUtil-0.18-0/blib/arch:/home/cpansand/.cpan/build/2017121009/Module-Build-XSUtil-0.18-0/blib/lib:/home/cpansand/.cpan/build/2017121009/Devel-CheckCompiler-0.07-0/blib/arch:/home/cpansand/.cpan/build/2017121009/Devel-CheckCompiler-0.07-0/blib/lib:/home/cpansand/.cpan/build/2017121009/Cwd-Guard-0.05-0/blib/arch:/home/cpansand/.cpan/build/2017121009/Cwd-Guard-0.05-0/blib/lib:/home/cpansand/.cpan/build/2017121009/Digest-SHA1-2.13-0/blib/arch:/home/cpansand/.cpan/build/2017121009/Digest-SHA1-2.13-0/blib/lib:/home/cpansand/.cpan/build/2017121009/Data-MessagePack-1.00-0/blib/arch:/home/cpansand/.cpan/build/2017121009/Data-MessagePack-1.00-0/blib/lib:/home/cpansand/.cpan/build/2017121009/Crypt-Rijndael-1.13-0/blib/arch:/home/cpansand/.cpan/build/2017121009/Crypt-Rijndael-1.13-0/blib/lib:/home/cpansand/.cpan/build/2017121009/Crypt-CBC-2.33-0/blib/arch:/home/cpansand/.cpan/build/2017121009/Crypt-CBC-2.33-0/blib/lib:/home/cpansand/.cpan/build/2017121009/Cookie-Baker-0.08-0/blib/arch:/home/cpansand/.cpan/build/2017121009/Cookie-Baker-0.08-0/blib/lib:/home/cpansand/.cpan/build/2017121009/Test-Time-0.05-0/blib/arch:/home/cpansand/.cpan/build/2017121009/Test-Time-0.05-0/blib/lib:/home/cpansand/.cpan/build/2017121009/HTML-FillInForm-Lite-1.15-0/blib/arch:/home/cpansand/.cpan/build/2017121009/HTML-FillInForm-Lite-1.15-0/blib/lib
    PERL5OPT = 
    PERL5_CPANPLUS_IS_RUNNING = 10767
    PERL5_CPAN_IS_RUNNING = 10767
    PERL5_CPAN_IS_RUNNING_IN_RECURSION = 7444,10767
    PERLDOC = -MPod::Perldoc::ToTextOverstrike
    PERL_BATCH = yes
    PERL_CANARY_STABILITY_NOPROMPT = 1
    PERL_CPAN_REPORTER_CONFIG = /var/tmp/cpansmoker-1023/2017121009/cpanreporter_001_config.ini
    PERL_EXTUTILS_AUTOINSTALL = --defaultdeps
    PERL_USE_UNSAFE_INC = 1
    SHELL = /usr/bin/zsh
    TERM = screen
    TMPDIR = /var/tmp/cpansmoker-1023/2017121009

Perl special variables (and OS-specific diagnostics, for MSWin32):

    $^X = /opt/perl-5.26.0t/bin/perl
    $UID/$EUID = 1023 / 1023
    $GID = 1023 1023
    $EGID = 1023 1023

Perl module toolchain versions installed:

    Module              Have      
    ------------------- ----------
    CPAN                2.18      
    CPAN::Meta          2.150010  
    Cwd                 3.67      
    ExtUtils::CBuilder  0.280225  
    ExtUtils::Command   7.24      
    ExtUtils::Install   2.04      
    ExtUtils::MakeMaker 7.24      
    ExtUtils::Manifest  1.70      
    ExtUtils::ParseXS   3.34      
    File::Spec          3.67      
    JSON                2.94      
    JSON::PP            2.27400_02
    Module::Build       0.4224    
    Module::Signature   n/a       
    Parse::CPAN::Meta   2.150010  
    Test::Harness       3.38      
    Test::More          1.302073  
    YAML                1.23      
    YAML::Syck          1.30      
    version             0.9917    


--

Summary of my perl5 (revision 5 version 26 subversion 0) configuration:
   
  Platform:
    osname=linux
    osvers=4.4.0-83-generic
    archname=x86_64-linux-thread-multi
    uname='linux ubuntu16 4.4.0-83-generic #106-ubuntu smp mon jun 26 17:54:43 utc 2017 x86_64 x86_64 x86_64 gnulinux '
    config_args='-ds -e -Dprefix=/opt/perl-5.26.0t -Dusethreads -Dcf_email=srezic@cpan.org'
    hint=recommended
    useposix=true
    d_sigaction=define
    useithreads=define
    usemultiplicity=define
    use64bitint=define
    use64bitall=define
    uselongdouble=undef
    usemymalloc=n
    default_inc_excludes_dot=define
    bincompat5005=undef
  Compiler:
    cc='cc'
    ccflags ='-D_REENTRANT -D_GNU_SOURCE -fwrapv -fno-strict-aliasing -pipe -fstack-protector-strong -I/usr/local/include -D_LARGEFILE_SOURCE -D_FILE_OFFSET_BITS=64'
    optimize='-O2'
    cppflags='-D_REENTRANT -D_GNU_SOURCE -fwrapv -fno-strict-aliasing -pipe -fstack-protector-strong -I/usr/local/include'
    ccversion=''
    gccversion='5.4.0 20160609'
    gccosandvers=''
    intsize=4
    longsize=8
    ptrsize=8
    doublesize=8
    byteorder=12345678
    doublekind=3
    d_longlong=define
    longlongsize=8
    d_longdbl=define
    longdblsize=16
    longdblkind=3
    ivtype='long'
    ivsize=8
    nvtype='double'
    nvsize=8
    Off_t='off_t'
    lseeksize=8
    alignbytes=8
    prototype=define
  Linker and Libraries:
    ld='cc'
    ldflags =' -fstack-protector-strong -L/usr/local/lib'
    libpth=/usr/local/lib /usr/lib/gcc/x86_64-linux-gnu/5/include-fixed /usr/include/x86_64-linux-gnu /usr/lib /lib/x86_64-linux-gnu /lib/../lib /usr/lib/x86_64-linux-gnu /usr/lib/../lib /lib
    libs=-lpthread -lnsl -lgdbm -ldb -ldl -lm -lcrypt -lutil -lc -lgdbm_compat
    perllibs=-lpthread -lnsl -ldl -lm -lcrypt -lutil -lc
    libc=libc-2.23.so
    so=so
    useshrplib=false
    libperl=libperl.a
    gnulibc_version='2.23'
  Dynamic Linking:
    dlsrc=dl_dlopen.xs
    dlext=so
    d_dlsymun=undef
    ccdlflags='-Wl,-E'
    cccdlflags='-fPIC'
    lddlflags='-shared -O2 -L/usr/local/lib -fstack-protector-strong'


Characteristics of this binary (from libperl): 
  Compile-time options:
    HAS_TIMES
    MULTIPLICITY
    PERLIO_LAYERS
    PERL_COPY_ON_WRITE
    PERL_DONT_CREATE_GVSV
    PERL_IMPLICIT_CONTEXT
    PERL_MALLOC_WRAP
    PERL_OP_PARENT
    PERL_PRESERVE_IVUV
    USE_64_BIT_ALL
    USE_64_BIT_INT
    USE_ITHREADS
    USE_LARGE_FILES
    USE_LOCALE
    USE_LOCALE_COLLATE
    USE_LOCALE_CTYPE
    USE_LOCALE_NUMERIC
    USE_LOCALE_TIME
    USE_PERLIO
    USE_PERL_ATOF
    USE_REENTRANT_API
  Built under linux
  Compiled at Jul 27 2017 20:58:14
  %ENV:
    PERL5LIB="/home/cpansand/.cpan/build/2017121009/Test-WWW-Mechanize-PSGI-0.38-0/blib/arch:/home/cpansand/.cpan/build/2017121009/Test-WWW-Mechanize-PSGI-0.38-0/blib/lib:/home/cpansand/.cpan/build/2017121009/Test-WWW-Mechanize-1.48-0/blib/arch:/home/cpansand/.cpan/build/2017121009/Test-WWW-Mechanize-1.48-0/blib/lib:/home/cpansand/.cpan/build/2017121009/WWW-Mechanize-1.86-0/blib/arch:/home/cpansand/.cpan/build/2017121009/WWW-Mechanize-1.86-0/blib/lib:/home/cpansand/.cpan/build/2017121009/HTML-Form-6.03-0/blib/arch:/home/cpansand/.cpan/build/2017121009/HTML-Form-6.03-0/blib/lib:/home/cpansand/.cpan/build/2017121009/Test-LongString-0.17-0/blib/arch:/home/cpansand/.cpan/build/2017121009/Test-LongString-0.17-0/blib/lib:/home/cpansand/.cpan/build/2017121009/HTTP-Server-Simple-0.52-0/blib/arch:/home/cpansand/.cpan/build/2017121009/HTTP-Server-Simple-0.52-0/blib/lib:/home/cpansand/.cpan/build/2017121009/HTML-Formatter-2.16-0/blib/arch:/home/cpansand/.cpan/build/2017121009/HTML-Formatter-2.16-0/blib/lib:/home/cpansand/.cpan/build/2017121009/Font-AFM-1.20-0/blib/arch:/home/cpansand/.cpan/build/2017121009/Font-AFM-1.20-0/blib/lib:/home/cpansand/.cpan/build/2017121009/PerlIO-utf8_strict-0.007-2/blib/arch:/home/cpansand/.cpan/build/2017121009/PerlIO-utf8_strict-0.007-2/blib/lib:/home/cpansand/.cpan/build/2017121009/File-Slurper-0.010-0/blib/arch:/home/cpansand/.cpan/build/2017121009/File-Slurper-0.010-0/blib/lib:/home/cpansand/.cpan/build/2017121009/HTML-Tree-5.07-0/blib/arch:/home/cpansand/.cpan/build/2017121009/HTML-Tree-5.07-0/blib/lib:/home/cpansand/.cpan/build/2017121009/Carp-Assert-More-1.16-0/blib/arch:/home/cpansand/.cpan/build/2017121009/Carp-Assert-More-1.16-0/blib/lib:/home/cpansand/.cpan/build/2017121009/Carp-Assert-0.21-0/blib/arch:/home/cpansand/.cpan/build/2017121009/Carp-Assert-0.21-0/blib/lib:/home/cpansand/.cpan/build/2017121009/Plack-1.0044-0/blib/arch:/home/cpansand/.cpan/build/2017121009/Plack-1.0044-0/blib/lib:/home/cpansand/.cpan/build/2017121009/Test-TCP-2.19-0/blib/arch:/home/cpansand/.cpan/build/2017121009/Test-TCP-2.19-0/blib/lib:/home/cpansand/.cpan/build/2017121009/HTTP-Headers-Fast-0.21-0/blib/arch:/home/cpansand/.cpan/build/2017121009/HTTP-Headers-Fast-0.21-0/blib/lib:/home/cpansand/.cpan/build/2017121009/HTTP-Entity-Parser-0.20-0/blib/arch:/home/cpansand/.cpan/build/2017121009/HTTP-Entity-Parser-0.20-0/blib/lib:/home/cpansand/.cpan/build/2017121009/WWW-Form-UrlEncoded-0.24-0/blib/arch:/home/cpansand/.cpan/build/2017121009/WWW-Form-UrlEncoded-0.24-0/blib/lib:/home/cpansand/.cpan/build/2017121009/Stream-Buffered-0.03-0/blib/arch:/home/cpansand/.cpan/build/2017121009/Stream-Buffered-0.03-0/blib/lib:/home/cpansand/.cpan/build/2017121009/Hash-MultiValue-0.16-0/blib/arch:/home/cpansand/.cpan/build/2017121009/Hash-MultiValue-0.16-0/blib/lib:/home/cpansand/.cpan/build/2017121009/HTTP-MultiPartParser-0.02-0/blib/arch:/home/cpansand/.cpan/build/2017121009/HTTP-MultiPartParser-0.02-0/blib/lib:/home/cpansand/.cpan/build/2017121009/Filesys-Notify-Simple-0.12-0/blib/arch:/home/cpansand/.cpan/build/2017121009/Filesys-Notify-Simple-0.12-0/blib/lib:/home/cpansand/.cpan/build/2017121009/Test-SharedFork-0.35-0/blib/arch:/home/cpansand/.cpan/build/2017121009/Test-SharedFork-0.35-0/blib/lib:/home/cpansand/.cpan/build/2017121009/Devel-StackTrace-AsHTML-0.15-0/blib/arch:/home/cpansand/.cpan/build/2017121009/Devel-StackTrace-AsHTML-0.15-0/blib/lib:/home/cpansand/.cpan/build/2017121009/Apache-LogFormat-Compiler-0.35-0/blib/arch:/home/cpansand/.cpan/build/2017121009/Apache-LogFormat-Compiler-0.35-0/blib/lib:/home/cpansand/.cpan/build/2017121009/Test-MockTime-0.15-0/blib/arch:/home/cpansand/.cpan/build/2017121009/Test-MockTime-0.15-0/blib/lib:/home/cpansand/.cpan/build/2017121009/POSIX-strftime-Compiler-0.42-0/blib/arch:/home/cpansand/.cpan/build/2017121009/POSIX-strftime-Compiler-0.42-0/blib/lib:/home/cpansand/.cpan/build/2017121009/Mouse-v2.5.0-0/blib/arch:/home/cpansand/.cpan/build/2017121009/Mouse-v2.5.0-0/blib/lib:/home/cpansand/.cpan/build/2017121009/Test-Output-1.031-0/blib/arch:/home/cpansand/.cpan/build/2017121009/Test-Output-1.031-0/blib/lib:/home/cpansand/.cpan/build/2017121009/Module-Build-XSUtil-0.18-0/blib/arch:/home/cpansand/.cpan/build/2017121009/Module-Build-XSUtil-0.18-0/blib/lib:/home/cpansand/.cpan/build/2017121009/Devel-CheckCompiler-0.07-0/blib/arch:/home/cpansand/.cpan/build/2017121009/Devel-CheckCompiler-0.07-0/blib/lib:/home/cpansand/.cpan/build/2017121009/Cwd-Guard-0.05-0/blib/arch:/home/cpansand/.cpan/build/2017121009/Cwd-Guard-0.05-0/blib/lib:/home/cpansand/.cpan/build/2017121009/Digest-SHA1-2.13-0/blib/arch:/home/cpansand/.cpan/build/2017121009/Digest-SHA1-2.13-0/blib/lib:/home/cpansand/.cpan/build/2017121009/Data-MessagePack-1.00-0/blib/arch:/home/cpansand/.cpan/build/2017121009/Data-MessagePack-1.00-0/blib/lib:/home/cpansand/.cpan/build/2017121009/Crypt-Rijndael-1.13-0/blib/arch:/home/cpansand/.cpan/build/2017121009/Crypt-Rijndael-1.13-0/blib/lib:/home/cpansand/.cpan/build/2017121009/Crypt-CBC-2.33-0/blib/arch:/home/cpansand/.cpan/build/2017121009/Crypt-CBC-2.33-0/blib/lib:/home/cpansand/.cpan/build/2017121009/Cookie-Baker-0.08-0/blib/arch:/home/cpansand/.cpan/build/2017121009/Cookie-Baker-0.08-0/blib/lib:/home/cpansand/.cpan/build/2017121009/Test-Time-0.05-0/blib/arch:/home/cpansand/.cpan/build/2017121009/Test-Time-0.05-0/blib/lib:/home/cpansand/.cpan/build/2017121009/HTML-FillInForm-Lite-1.15-0/blib/arch:/home/cpansand/.cpan/build/2017121009/HTML-FillInForm-Lite-1.15-0/blib/lib"
    PERL5OPT=""
    PERL5_CPANPLUS_IS_RUNNING="10767"
    PERL5_CPAN_IS_RUNNING="10767"
    PERL5_CPAN_IS_RUNNING_IN_RECURSION="7444,10767"
    PERLDOC="-MPod::Perldoc::ToTextOverstrike"
    PERL_BATCH="yes"
    PERL_CANARY_STABILITY_NOPROMPT="1"
    PERL_CPAN_REPORTER_CONFIG="/var/tmp/cpansmoker-1023/2017121009/cpanreporter_001_config.ini"
    PERL_EXTUTILS_AUTOINSTALL="--defaultdeps"
    PERL_USE_UNSAFE_INC="1"
  @INC:
    /home/cpansand/.cpan/build/2017121009/Test-WWW-Mechanize-PSGI-0.38-0/blib/arch
    /home/cpansand/.cpan/build/2017121009/Test-WWW-Mechanize-PSGI-0.38-0/blib/lib
    /home/cpansand/.cpan/build/2017121009/Test-WWW-Mechanize-1.48-0/blib/arch
    /home/cpansand/.cpan/build/2017121009/Test-WWW-Mechanize-1.48-0/blib/lib
    /home/cpansand/.cpan/build/2017121009/WWW-Mechanize-1.86-0/blib/arch
    /home/cpansand/.cpan/build/2017121009/WWW-Mechanize-1.86-0/blib/lib
    /home/cpansand/.cpan/build/2017121009/HTML-Form-6.03-0/blib/arch
    /home/cpansand/.cpan/build/2017121009/HTML-Form-6.03-0/blib/lib
    /home/cpansand/.cpan/build/2017121009/Test-LongString-0.17-0/blib/arch
    /home/cpansand/.cpan/build/2017121009/Test-LongString-0.17-0/blib/lib
    /home/cpansand/.cpan/build/2017121009/HTTP-Server-Simple-0.52-0/blib/arch
    /home/cpansand/.cpan/build/2017121009/HTTP-Server-Simple-0.52-0/blib/lib
    /home/cpansand/.cpan/build/2017121009/HTML-Formatter-2.16-0/blib/arch
    /home/cpansand/.cpan/build/2017121009/HTML-Formatter-2.16-0/blib/lib
    /home/cpansand/.cpan/build/2017121009/Font-AFM-1.20-0/blib/arch
    /home/cpansand/.cpan/build/2017121009/Font-AFM-1.20-0/blib/lib
    /home/cpansand/.cpan/build/2017121009/PerlIO-utf8_strict-0.007-2/blib/arch
    /home/cpansand/.cpan/build/2017121009/PerlIO-utf8_strict-0.007-2/blib/lib
    /home/cpansand/.cpan/build/2017121009/File-Slurper-0.010-0/blib/arch
    /home/cpansand/.cpan/build/2017121009/File-Slurper-0.010-0/blib/lib
    /home/cpansand/.cpan/build/2017121009/HTML-Tree-5.07-0/blib/arch
    /home/cpansand/.cpan/build/2017121009/HTML-Tree-5.07-0/blib/lib
    /home/cpansand/.cpan/build/2017121009/Carp-Assert-More-1.16-0/blib/arch
    /home/cpansand/.cpan/build/2017121009/Carp-Assert-More-1.16-0/blib/lib
    /home/cpansand/.cpan/build/2017121009/Carp-Assert-0.21-0/blib/arch
    /home/cpansand/.cpan/build/2017121009/Carp-Assert-0.21-0/blib/lib
    /home/cpansand/.cpan/build/2017121009/Plack-1.0044-0/blib/arch
    /home/cpansand/.cpan/build/2017121009/Plack-1.0044-0/blib/lib
    /home/cpansand/.cpan/build/2017121009/Test-TCP-2.19-0/blib/arch
    /home/cpansand/.cpan/build/2017121009/Test-TCP-2.19-0/blib/lib
    /home/cpansand/.cpan/build/2017121009/HTTP-Headers-Fast-0.21-0/blib/arch
    /home/cpansand/.cpan/build/2017121009/HTTP-Headers-Fast-0.21-0/blib/lib
    /home/cpansand/.cpan/build/2017121009/HTTP-Entity-Parser-0.20-0/blib/arch
    /home/cpansand/.cpan/build/2017121009/HTTP-Entity-Parser-0.20-0/blib/lib
    /home/cpansand/.cpan/build/2017121009/WWW-Form-UrlEncoded-0.24-0/blib/arch
    /home/cpansand/.cpan/build/2017121009/WWW-Form-UrlEncoded-0.24-0/blib/lib
    /home/cpansand/.cpan/build/2017121009/Stream-Buffered-0.03-0/blib/arch
    /home/cpansand/.cpan/build/2017121009/Stream-Buffered-0.03-0/blib/lib
    /home/cpansand/.cpan/build/2017121009/Hash-MultiValue-0.16-0/blib/arch
    /home/cpansand/.cpan/build/2017121009/Hash-MultiValue-0.16-0/blib/lib
    /home/cpansand/.cpan/build/2017121009/HTTP-MultiPartParser-0.02-0/blib/arch
    /home/cpansand/.cpan/build/2017121009/HTTP-MultiPartParser-0.02-0/blib/lib
    /home/cpansand/.cpan/build/2017121009/Filesys-Notify-Simple-0.12-0/blib/arch
    /home/cpansand/.cpan/build/2017121009/Filesys-Notify-Simple-0.12-0/blib/lib
    /home/cpansand/.cpan/build/2017121009/Test-SharedFork-0.35-0/blib/arch
    /home/cpansand/.cpan/build/2017121009/Test-SharedFork-0.35-0/blib/lib
    /home/cpansand/.cpan/build/2017121009/Devel-StackTrace-AsHTML-0.15-0/blib/arch
    /home/cpansand/.cpan/build/2017121009/Devel-StackTrace-AsHTML-0.15-0/blib/lib
    /home/cpansand/.cpan/build/2017121009/Apache-LogFormat-Compiler-0.35-0/blib/arch
    /home/cpansand/.cpan/build/2017121009/Apache-LogFormat-Compiler-0.35-0/blib/lib
    /home/cpansand/.cpan/build/2017121009/Test-MockTime-0.15-0/blib/arch
    /home/cpansand/.cpan/build/2017121009/Test-MockTime-0.15-0/blib/lib
    /home/cpansand/.cpan/build/2017121009/POSIX-strftime-Compiler-0.42-0/blib/arch
    /home/cpansand/.cpan/build/2017121009/POSIX-strftime-Compiler-0.42-0/blib/lib
    /home/cpansand/.cpan/build/2017121009/Mouse-v2.5.0-0/blib/arch
    /home/cpansand/.cpan/build/2017121009/Mouse-v2.5.0-0/blib/lib
    /home/cpansand/.cpan/build/2017121009/Test-Output-1.031-0/blib/arch
    /home/cpansand/.cpan/build/2017121009/Test-Output-1.031-0/blib/lib
    /home/cpansand/.cpan/build/2017121009/Module-Build-XSUtil-0.18-0/blib/arch
    /home/cpansand/.cpan/build/2017121009/Module-Build-XSUtil-0.18-0/blib/lib
    /home/cpansand/.cpan/build/2017121009/Devel-CheckCompiler-0.07-0/blib/arch
    /home/cpansand/.cpan/build/2017121009/Devel-CheckCompiler-0.07-0/blib/lib
    /home/cpansand/.cpan/build/2017121009/Cwd-Guard-0.05-0/blib/arch
    /home/cpansand/.cpan/build/2017121009/Cwd-Guard-0.05-0/blib/lib
    /home/cpansand/.cpan/build/2017121009/Digest-SHA1-2.13-0/blib/arch
    /home/cpansand/.cpan/build/2017121009/Digest-SHA1-2.13-0/blib/lib
    /home/cpansand/.cpan/build/2017121009/Data-MessagePack-1.00-0/blib/arch
    /home/cpansand/.cpan/build/2017121009/Data-MessagePack-1.00-0/blib/lib
    /home/cpansand/.cpan/build/2017121009/Crypt-Rijndael-1.13-0/blib/arch
    /home/cpansand/.cpan/build/2017121009/Crypt-Rijndael-1.13-0/blib/lib
    /home/cpansand/.cpan/build/2017121009/Crypt-CBC-2.33-0/blib/arch
    /home/cpansand/.cpan/build/2017121009/Crypt-CBC-2.33-0/blib/lib
    /home/cpansand/.cpan/build/2017121009/Cookie-Baker-0.08-0/blib/arch
    /home/cpansand/.cpan/build/2017121009/Cookie-Baker-0.08-0/blib/lib
    /home/cpansand/.cpan/build/2017121009/Test-Time-0.05-0/blib/arch
    /home/cpansand/.cpan/build/2017121009/Test-Time-0.05-0/blib/lib
    /home/cpansand/.cpan/build/2017121009/HTML-FillInForm-Lite-1.15-0/blib/arch
    /home/cpansand/.cpan/build/2017121009/HTML-FillInForm-Lite-1.15-0/blib/lib
    /opt/perl-5.26.0t/lib/site_perl/5.26.0/x86_64-linux-thread-multi
    /opt/perl-5.26.0t/lib/site_perl/5.26.0
    /opt/perl-5.26.0t/lib/5.26.0/x86_64-linux-thread-multi
    /opt/perl-5.26.0t/lib/5.26.0
    .