Back
From: metabase:user:5f77f54e-6c0d-1014-966e-55cac1b3e646
Subject: PASS Data-Unixish-1.49 v5.16.3
Date: 2015-01-12T21:07:55Z
This distribution has been tested as part of the CPAN Testers
project, supporting the Perl programming language. See
http://wiki.cpantesters.org/ for more information or email
questions to cpan-testers-discuss@perl.org
--
Dear perlancar,
This is a computer-generated report for Data-Unixish-1.49
on perl 5.16.3, created by CPAN-Reporter-1.2011.
Thank you for uploading your work to CPAN. Congratulations!
All tests were successful.
Sections of this report:
* Tester comments
* Program output
* Prerequisites
* Environment and other context
------------------------------
TESTER COMMENTS
------------------------------
Additional comments from tester:
none provided
------------------------------
PROGRAM OUTPUT
------------------------------
Output from 'C:\VS10\VC\bin\nmake.exe test':
Microsoft (R) Program Maintenance Utility Version 10.00.30319.01
Copyright (C) Microsoft Corporation. All rights reserved.
"C:\Perl\bin\perl.EXE" "-MExtUtils::Command::MM" "-MTest::Harness" "-e" "undef *Test::Harness::Switches; test_harness(0, 'blib\lib', 'blib\arch')" t\*.t
t\00-compile.t ............ ok
t\01-basics.t ............. ok
t\Apply.t ................. ok
t\avg.t ................... ok
t\bool.t .................. ok
t\cat.t ................... ok
t\centerpad.t ............. ok
t\chain.t ................. ok
# itemfunc test skipped
t\cond.t .................. ok
t\date.t .................. ok
t\grep.t .................. ok
t\head.t .................. ok
t\indent.t ................ ok
t\lc.t .................... ok
t\lcfirst.t ............... ok
t\lins.t .................. ok
t\linum.t ................. ok
t\lpad.t .................. ok
t\ltrim.t ................. ok
# itemfunc test skipped
t\map.t ................... ok
# itemfunc test skipped
t\num.t ................... ok
t\pick.t .................. ok
t\rand.t .................. ok
t\release-pod-coverage.t .. skipped: these tests are for release candidate testing
t\release-pod-syntax.t .... skipped: these tests are for release candidate testing
t\release-rinci.t ......... skipped: these tests are for release candidate testing
t\rev.t ................... ok
t\rins.t .................. ok
t\rpad.t .................. ok
t\rtrim.t ................. ok
t\shuf.t .................. ok
t\sort.t .................. ok
t\sprintf.t ............... ok
t\sprintfn.t .............. ok
t\sum.t ................... ok
t\tail.t .................. ok
t\trim.t .................. ok
t\trunc.t ................. ok
t\uc.t .................... ok
t\ucfirst.t ............... ok
t\Util.t .................. ok
t\wc.t .................... ok
t\wrap.t .................. ok
All tests successful.
Files=43, Tests=91, 25 wallclock secs ( 0.42 usr + 0.17 sys = 0.59 CPU)
Result: PASS
------------------------------
PREREQUISITES
------------------------------
Prerequisite modules loaded:
requires:
Module Need Have
---------------------------- -------- --------
experimental 0 0.013
IPC::Cmd 0.52 0.92
Log::Any 0 0.15
Number::Format 0 1.73
Number::Format::Metric 0 0.60
Package::MoreUtil 0 0.58
perl 5.010001 5.016003
Rinci v1.1.67 1.1.70
String::Pad 0 0.01
Syntax::Feature::EachOnArray 0 0.04
Text::ANSI::Util 0.06 0.15
Text::sprintfn 0 0.06
Text::WideChar::Util 0.03 0.13
Tie::Simple 0 1.03
Unixish v1.0.1 1.0.4
build_requires:
Module Need Have
---------------------------- -------- --------
ExtUtils::MakeMaker 0 7.04
File::Spec 0 3.47
File::Which 0 1.09
IO::Handle 0 1.33
IPC::Open3 0 1.12
JSON 0 2.90
String::ShellQuote 0 1.04
Test::More 0.98 1.001009
configure_requires:
Module Need Have
---------------------------- -------- --------
ExtUtils::MakeMaker 0 7.04
Perl::osnames 0.09 0.11
------------------------------
ENVIRONMENT AND OTHER CONTEXT
------------------------------
Environment variables:
COMSPEC = C:\TCMD\TCC.EXE
INCLUDE = c:\openssl\include;c:\VS10\VC\INCLUDE;c:\VS10\VC\ATLMFC\INCLUDE;C:\Program Files (x86)\Microsoft SDKs\Windows\v7.0A\include
LIB = c:\openssl\lib;c:\VS10\VC\LIB;c:\VS10\VC\ATLMFC\LIB;C:\Program Files (x86)\Microsoft SDKs\Windows\v7.0A\lib;c:\tcl\lib
NUMBER_OF_PROCESSORS = 4
PATH = C:\Windows;C:\Windows\System32;C:\Windows\System32\WBEM;C:\Tcl\bin;C:\Perl\PDK\bin;C:\Python;C:\Python\Scripts;C:\Program Files (x86)\ImageMagick-6.9.0-Q16;C:\Program Files (x86)\ActiveState Komodo IDE 8;C:\Perl\PDK\bin;C:\Python;C:\Program Files\RSA SecurID Token Common;C:\Program Files (x86)\ImageMagick-6.8.7-Q16;C:\Program Files (x86)\ActiveState Komodo IDE 8;C:\TCMD;C:\Utils;C:\openssl\bin;C:\Perl\site\bin;C:\Perl\bin;C:\VS10\VC\bin;C:\Program Files (x86)\Nmap;C:\Windows\IDMU\COMMON;C:\Program Files (x86)\Microsoft F#\v4.0;C:\VS10\VSTSDB\Deploy;C:\VS10\Common7\IDE;C:\VS10\Common7\Tools;C:\Windows\Microsoft.NET\Framework\v4.0.30319;C:\Windows\Microsoft.NET\Framework\v3.5;C:\VS10\VC\vcpackages;C:\Program Files (x86)\Microsoft SDKs\Windows\v7.0A\Bin\NETFX 4.0 Tools;C:\Program Files (x86)\Microsoft SDKs\Windows\v7.0A\Bin;C:\Program Files (x86)\Graphviz 2.28\bin;C:\Windows\SYSTEM32\WINDOWSPOWERSHELL\V1.0\;C:\Apache24\bin;C:\Program Files (x86)\QuickTime\QTSystem;C:\Program Files\VanDyke Software\Clients;C:\Program Files (x86)\Intel\OpenCL SDK\2.0\bin\x86;C:\Program Files (x86)\Intel\OpenCL SDK\2.0\bin\x64;C:\Program Files\Intel\WiFi\bin;C:\Program Files\Common Files\Intel\WirelessCommon;C:\Program Files (x86)\WinSCP;C:\GnuPG\pub;C:\Program Files\VanDyke Software\Clients;C:\Program Files (x86)\WinSCP;C:\Program Files\VanDyke Software\Clients;C:\Program Files\VanDyke Software\Clients;C:\Program Files (x86)\QuickTime\QTSystem;C:\Pari;C:\Program Files\VanDyke Software\Clients;C:\Users\a00772a\AppData\Roaming\Python\Scripts;C:\Program Files (x86)\Nmap
PERL5LIB =
PERL5OPT =
PERL5_CPANPLUS_IS_RUNNING = 9144
PERL5_CPAN_IS_RUNNING = 9144
PROCESSOR_IDENTIFIER = Intel64 Family 6 Model 42 Stepping 7, GenuineIntel
TEMP = C:\Users\a00772a\AppData\Local\Temp
TERM = dumb
Perl special variables (and OS-specific diagnostics, for MSWin32):
$^X = C:\Perl\bin\perl.EXE
$UID/$EUID = 0 / 0
$GID = 0
$EGID = 0
Win32::GetOSName = Win7
Win32::GetOSVersion = Service Pack 1, 6, 1, 7601, 2, 1, 0, 256, 1
Win32::FsType = NTFS
Win32::IsAdminUser = 1
Perl module toolchain versions installed:
Module Have
------------------- --------
CPAN 2.05
CPAN::Meta 2.143240
Cwd 3.47
ExtUtils::CBuilder 0.280220
ExtUtils::Command 1.18
ExtUtils::Install 2.04
ExtUtils::MakeMaker 7.04
ExtUtils::Manifest 1.69
ExtUtils::ParseXS 3.24
File::Spec 3.47
JSON 2.90
JSON::PP 2.27300
Module::Build 0.4210
Module::Signature 0.73
Parse::CPAN::Meta 1.4414
Test::Harness 3.34
Test::More 1.001009
YAML 1.13
YAML::Syck 1.28
version 0.9909
--
Summary of my perl5 (revision 5 version 16 subversion 3) configuration:
Platform:
osname=MSWin32, osvers=5.2, archname=MSWin32-x86-multi-thread
uname=''
config_args='undef'
hint=recommended, useposix=true, d_sigaction=undef
useithreads=define, usemultiplicity=define
useperlio=define, d_sfio=undef, uselargefiles=define, usesocks=undef
use64bitint=undef, use64bitall=undef, uselongdouble=undef
usemymalloc=n, bincompat5005=undef
Compiler:
cc='cl', ccflags ='-nologo -GF -W3 -MD -Zi -DNDEBUG -O1 -DWIN32 -D_CONSOLE -DNO_STRICT -DPERL_TEXTMODE_SCRIPTS -DUSE_SITECUSTOMIZE -DPERL_IMPLICIT_CONTEXT -DPERL_IMPLICIT_SYS -DUSE_PERLIO -D_USE_32BIT_TIME_T',
optimize='-MD -Zi -DNDEBUG -O1',
cppflags='-DWIN32'
ccversion='16.0.40219', gccversion='', gccosandvers=''
intsize=4, longsize=4, ptrsize=4, doublesize=8, byteorder=1234
d_longlong=undef, longlongsize=8, d_longdbl=define, longdblsize=8
ivtype='long', ivsize=4, nvtype='double', nvsize=8, Off_t='__int64', lseeksize=8
alignbytes=8, prototype=define
Linker and Libraries:
ld='link', ldflags ='-nologo -nodefaultlib -debug -opt:ref,icf -libpath:"C:\Perl\lib\CORE" -machine:x86'
libpth=\lib
libs=oldnames.lib kernel32.lib user32.lib gdi32.lib winspool.lib comdlg32.lib advapi32.lib shell32.lib ole32.lib oleaut32.lib netapi32.lib uuid.lib ws2_32.lib mpr.lib winmm.lib version.lib odbc32.lib odbccp32.lib comctl32.lib msvcrt.lib
perllibs=oldnames.lib kernel32.lib user32.lib gdi32.lib winspool.lib comdlg32.lib advapi32.lib shell32.lib ole32.lib oleaut32.lib netapi32.lib uuid.lib ws2_32.lib mpr.lib winmm.lib version.lib odbc32.lib odbccp32.lib comctl32.lib msvcrt.lib
libc=msvcrt.lib, so=dll, useshrplib=true, libperl=perl516.lib
gnulibc_version=''
Dynamic Linking:
dlsrc=dl_win32.xs, dlext=dll, d_dlsymun=undef, ccdlflags=' '
cccdlflags=' ', lddlflags='-dll -nologo -nodefaultlib -debug -opt:ref,icf -libpath:"C:\Perl\lib\CORE" -machine:x86'
Characteristics of this binary (from libperl):
Compile-time options: HAS_TIMES HAVE_INTERP_INTERN MULTIPLICITY
PERLIO_LAYERS PERL_DONT_CREATE_GVSV
PERL_IMPLICIT_CONTEXT PERL_IMPLICIT_SYS
PERL_MALLOC_WRAP PERL_PRESERVE_IVUV PL_OP_SLAB_ALLOC
USE_ITHREADS USE_LARGE_FILES USE_LOCALE
USE_LOCALE_COLLATE USE_LOCALE_CTYPE
USE_LOCALE_NUMERIC USE_PERLIO USE_PERL_ATOF
USE_SITECUSTOMIZE
Locally applied patches:
ActivePerl Build 1604 [298023]
Built under MSWin32
Compiled at Apr 14 2014 14:32:20
%ENV:
PERL5_CPANPLUS_IS_RUNNING="9144"
PERL5_CPAN_IS_RUNNING="9144"
@INC:
C:/Perl/site/lib/MSWin32-x86-multi-thread
C:/Perl/site/lib
C:/Perl/lib
.