AnyEvent v7.17 Perl 5 v5.40.3 darwin-2level

Status
Pass
From
Dist
AnyEvent v7.17
Platform
Perl 5 v5.40.3 darwin-2level
Date
2025-08-03 19:13:25
ID
ee212fa2-709d-11f0-90cc-bef0ec0e12af
This distribution has been tested as part of the CPAN Testers
project, supporting the Perl programming language.  See
http://wiki.cpantesters.org/ for more information or email
questions to cpan-testers-discuss@perl.org


--
Dear MLEHMANN,

This is a computer-generated report for AnyEvent-7.17
on perl 5.40.3, created by App::cpanminus::reporter 0.22 (1.7048).

Thank you for uploading your work to CPAN.  Congratulations!
All tests were successful.

Sections of this report:

    * Tester comments
    * Program output
    * Prerequisites
    * Environment and other context

------------------------------
TESTER COMMENTS
------------------------------

Additional comments from tester:

none provided

------------------------------
PROGRAM OUTPUT
------------------------------

Output from '':

Building and testing AnyEvent-7.17
"/Volumes/chambord/Users/ether/perl5/perlbrew/perls/40.3/bin/perl" "-Iblib/arch" "-Iblib/lib" constants.pl.PL constants.pl 
"/Volumes/chambord/Users/ether/perl5/perlbrew/perls/40.3/bin/perl" "-Iblib/arch" "-Iblib/lib" constants.pl.PL constants.pl 
PERL_DL_NONLAZY=1 "/Volumes/chambord/Users/ether/perl5/perlbrew/perls/40.3/bin/perl" "-MExtUtils::Command::MM" "-MTest::Harness" "-e" "undef *Test::Harness::Switches; test_harness(0, 'blib/lib', 'blib/arch')" t/*.t t/handle/*.t
t/00_load.t ................ ok
t/02_signals.t ............. ok
t/04_condvar.t ............. ok
t/03_child.t ............... ok
t/06_socket.t .............. ok
t/08_idna.t ................ ok
t/11_io_perl.t ............. ok
t/05_dns.t ................. ok
t/10_loadall.t ............. ok
t/12_io_ioaio.t ............ skipped: AnyEvent::IO::IOAIO not loadable
t/61_fltk_01_basic.t ....... skipped: PERL_ANYEVENT_LOOP_TESTS not true
t/61_fltk_02_signals.t ..... skipped: PERL_ANYEVENT_LOOP_TESTS not true
t/61_fltk_03_child.t ....... skipped: PERL_ANYEVENT_LOOP_TESTS not true
t/61_fltk_04_condvar.t ..... skipped: PERL_ANYEVENT_LOOP_TESTS not true
t/61_fltk_05_dns.t ......... skipped: PERL_ANYEVENT_LOOP_TESTS not true
t/61_fltk_07_io.t .......... skipped: PERL_ANYEVENT_LOOP_TESTS not true
t/61_fltk_09_multi.t ....... skipped: PERL_ANYEVENT_LOOP_TESTS not true
t/62_cocoa_01_basic.t ...... skipped: PERL_ANYEVENT_LOOP_TESTS not true
t/62_cocoa_02_signals.t .... skipped: PERL_ANYEVENT_LOOP_TESTS not true
t/62_cocoa_03_child.t ...... skipped: PERL_ANYEVENT_LOOP_TESTS not true
t/62_cocoa_04_condvar.t .... skipped: PERL_ANYEVENT_LOOP_TESTS not true
t/62_cocoa_05_dns.t ........ skipped: PERL_ANYEVENT_LOOP_TESTS not true
t/62_cocoa_07_io.t ......... skipped: PERL_ANYEVENT_LOOP_TESTS not true
t/62_cocoa_09_multi.t ...... skipped: PERL_ANYEVENT_LOOP_TESTS not true
t/64_glib_01_basic.t ....... skipped: PERL_ANYEVENT_LOOP_TESTS not true
t/01_basic.t ............... ok
t/64_glib_02_signals.t ..... skipped: PERL_ANYEVENT_LOOP_TESTS not true
t/64_glib_04_condvar.t ..... skipped: PERL_ANYEVENT_LOOP_TESTS not true
t/64_glib_03_child.t ....... skipped: PERL_ANYEVENT_LOOP_TESTS not true
t/64_glib_05_dns.t ......... skipped: PERL_ANYEVENT_LOOP_TESTS not true
t/64_glib_07_io.t .......... skipped: PERL_ANYEVENT_LOOP_TESTS not true
t/64_glib_09_multi.t ....... skipped: PERL_ANYEVENT_LOOP_TESTS not true
t/65_event_01_basic.t ...... skipped: PERL_ANYEVENT_LOOP_TESTS not true
t/07_io.t .................. ok
t/65_event_02_signals.t .... skipped: PERL_ANYEVENT_LOOP_TESTS not true
t/65_event_04_condvar.t .... skipped: PERL_ANYEVENT_LOOP_TESTS not true
t/65_event_05_dns.t ........ skipped: PERL_ANYEVENT_LOOP_TESTS not true
t/65_event_03_child.t ...... skipped: PERL_ANYEVENT_LOOP_TESTS not true
t/65_event_07_io.t ......... skipped: PERL_ANYEVENT_LOOP_TESTS not true
t/66_ioasync_01_basic.t .... skipped: PERL_ANYEVENT_LOOP_TESTS not true
t/66_ioasync_02_signals.t .. skipped: PERL_ANYEVENT_LOOP_TESTS not true
t/65_event_09_multi.t ...... skipped: PERL_ANYEVENT_LOOP_TESTS not true
t/66_ioasync_04_condvar.t .. skipped: PERL_ANYEVENT_LOOP_TESTS not true
t/66_ioasync_03_child.t .... skipped: PERL_ANYEVENT_LOOP_TESTS not true
t/66_ioasync_05_dns.t ...... skipped: PERL_ANYEVENT_LOOP_TESTS not true
t/66_ioasync_07_io.t ....... skipped: PERL_ANYEVENT_LOOP_TESTS not true
t/67_tk_01_basic.t ......... skipped: PERL_ANYEVENT_LOOP_TESTS not true
t/66_ioasync_09_multi.t .... skipped: PERL_ANYEVENT_LOOP_TESTS not true
t/67_tk_02_signals.t ....... skipped: PERL_ANYEVENT_LOOP_TESTS not true
t/67_tk_03_child.t ......... skipped: PERL_ANYEVENT_LOOP_TESTS not true
t/67_tk_04_condvar.t ....... skipped: PERL_ANYEVENT_LOOP_TESTS not true
t/67_tk_05_dns.t ........... skipped: PERL_ANYEVENT_LOOP_TESTS not true
t/67_tk_07_io.t ............ skipped: PERL_ANYEVENT_LOOP_TESTS not true
t/68_poe_01_basic.t ........ skipped: PERL_ANYEVENT_LOOP_TESTS not true
t/68_poe_02_signals.t ...... skipped: PERL_ANYEVENT_LOOP_TESTS not true
t/67_tk_09_multi.t ......... skipped: PERL_ANYEVENT_LOOP_TESTS not true
t/68_poe_04_condvar.t ...... skipped: PERL_ANYEVENT_LOOP_TESTS not true
t/68_poe_03_child.t ........ skipped: PERL_ANYEVENT_LOOP_TESTS not true
t/68_poe_05_dns.t .......... skipped: PERL_ANYEVENT_LOOP_TESTS not true
t/68_poe_07_io.t ........... skipped: PERL_ANYEVENT_LOOP_TESTS not true
t/69_ev_01_basic.t ......... skipped: PERL_ANYEVENT_LOOP_TESTS not true
t/68_poe_09_multi.t ........ skipped: PERL_ANYEVENT_LOOP_TESTS not true
t/69_ev_02_signals.t ....... skipped: PERL_ANYEVENT_LOOP_TESTS not true
t/69_ev_04_condvar.t ....... skipped: PERL_ANYEVENT_LOOP_TESTS not true
t/69_ev_05_dns.t ........... skipped: PERL_ANYEVENT_LOOP_TESTS not true
t/69_ev_03_child.t ......... skipped: PERL_ANYEVENT_LOOP_TESTS not true
t/69_ev_07_io.t ............ skipped: PERL_ANYEVENT_LOOP_TESTS not true
t/70_uv_01_basic.t ......... skipped: PERL_ANYEVENT_LOOP_TESTS not true
t/69_ev_09_multi.t ......... skipped: PERL_ANYEVENT_LOOP_TESTS not true
t/70_uv_02_signals.t ....... skipped: PERL_ANYEVENT_LOOP_TESTS not true
t/70_uv_03_child.t ......... skipped: PERL_ANYEVENT_LOOP_TESTS not true
t/70_uv_04_condvar.t ....... skipped: PERL_ANYEVENT_LOOP_TESTS not true
t/70_uv_05_dns.t ........... skipped: PERL_ANYEVENT_LOOP_TESTS not true
t/70_uv_07_io.t ............ skipped: PERL_ANYEVENT_LOOP_TESTS not true
t/70_uv_09_multi.t ......... skipped: PERL_ANYEVENT_LOOP_TESTS not true
t/handle/02_write.t ........ ok
t/handle/01_readline.t ..... ok
t/handle/03_http_req.t ..... skipped: PERL_ANYEVENT_NET_TESTS environment variable not set
t/handle/04_listen.t ....... ok
t/80_ssltest.t ............. ok
t/81_hosts.t ............... ok
t/09_multi.t ............... ok
t/13_weaken.t .............. ok
All tests successful.
Files=83, Tests=672,  1 wallclock secs ( 0.06 usr  0.06 sys +  0.71 cusr  0.24 csys =  1.07 CPU)
Result: PASS

------------------------------
PREREQUISITES
------------------------------

Prerequisite modules loaded:

build:

    Module              Need Have
    ------------------- ---- ----
    ExtUtils::MakeMaker 0    7.70

configure:

    Module              Need Have
    ------------------- ---- ----
    Canary::Stability   0    2013
    ExtUtils::MakeMaker 6.52 7.70


------------------------------
ENVIRONMENT AND OTHER CONTEXT
------------------------------

Environment variables:

    HARNESS_OPTIONS = j6:c
    LANG = en_CA.UTF-8
    LC_ALL = en_CA.UTF-8
    LC_CTYPE = en_CA.UTF-8
    NO_NETWORK_TESTING = 1
    PATH = /Volumes/chambord/Users/ether/.perlbrew/libs/40.3@std/bin:/Volumes/chambord/Users/ether/perl5/perlbrew/bin:/Volumes/chambord/Users/ether/perl5/perlbrew/perls/40.3/bin:/Volumes/chambord/Users/ether/bin:/Volumes/chambord/Users/ether/git/misc/install/advocaat/bin:/Volumes/chambord/Users/ether/git/misc/install/generic/bin:/opt/local/bin:/opt/local/sbin:/Volumes/chambord/Users/ether/git/git-hub/lib:/usr/local/bin:/System/Cryptexes/App/usr/bin:/usr/bin:/bin:/usr/sbin:/sbin:/var/run/com.apple.security.cryptexd/codex.system/bootstrap/usr/local/bin:/var/run/com.apple.security.cryptexd/codex.system/bootstrap/usr/bin:/var/run/com.apple.security.cryptexd/codex.system/bootstrap/usr/appleinternal/bin:/Library/Apple/usr/bin:/opt/local/share/git-core/contrib/workdir
    PERL5LIB = /Volumes/chambord/Users/ether/.perlbrew/libs/40.3@std/lib/perl5
    PERLBREW_HOME = /Volumes/chambord/Users/ether/.perlbrew
    PERLBREW_LIB = std
    PERLBREW_MANPATH = /Volumes/chambord/Users/ether/.perlbrew/libs/40.3@std/man:/Volumes/chambord/Users/ether/perl5/perlbrew/perls/40.3/man
    PERLBREW_PATH = /Volumes/chambord/Users/ether/.perlbrew/libs/40.3@std/bin:/Volumes/chambord/Users/ether/perl5/perlbrew/bin:/Volumes/chambord/Users/ether/perl5/perlbrew/perls/40.3/bin
    PERLBREW_PERL = 40.3
    PERLBREW_ROOT = /Volumes/chambord/Users/ether/perl5/perlbrew
    PERLBREW_SHELLRC_VERSION = 1.01
    PERLBREW_VERSION = 1.01
    PERLDOC = -oansi
    PERLDOC_PAGER = less -sicMr
    PERL_AUTOINSTALL_PREFER_CPAN = 1
    PERL_INSTALL_QUIET = 1
    PERL_LOCAL_LIB_ROOT = /Volumes/chambord/Users/ether/.perlbrew/libs/40.3@std
    PERL_MB_OPT = --install_base /Volumes/chambord/Users/ether/.perlbrew/libs/40.3@std
    PERL_MM_OPT = INSTALL_BASE=/Volumes/chambord/Users/ether/.perlbrew/libs/40.3@std
    PERL_TEST_HARNESS_ASAP = 1
    PERL_USE_UNSAFE_INC = 0
    SHELL = /bin/bash
    TERM = xterm-color

Perl special variables (and OS-specific diagnostics, for MSWin32):

    EGID = 20 20 12 61 79 80 81 98 701 704 703 702 705 33 100 204 250
    EUID = 502
    EXECUTABLE_NAME = /Volumes/chambord/Users/ether/perl5/perlbrew/perls/40.3/bin/perl
    GID = 20 20 12 61 79 80 81 98 701 704 703 702 705 33 100 204 250
    UID = 502

Perl module toolchain versions installed:

    Module              Have    
    ------------------- --------
    CPAN                2.36    
    CPAN::Meta          2.150010
    Cwd                 3.91    
    ExtUtils::CBuilder  0.280240
    ExtUtils::Command   7.70    
    ExtUtils::Install   2.22    
    ExtUtils::MakeMaker 7.70    
    ExtUtils::Manifest  1.75    
    ExtUtils::ParseXS   3.51    
    File::Spec          3.91    
    JSON                4.10    
    JSON::PP            4.16    
    Module::Build       0.4234  
    Module::Signature   n/a     
    Parse::CPAN::Meta   2.150010
    Test::Harness       3.48    
    Test::More          1.302199
    YAML                n/a     
    YAML::Syck          n/a     
    version             0.9930  


--

Summary of my perl5 (revision 5 version 40 subversion 3) configuration:
   
  Platform:
    osname=darwin
    osvers=24.5.0
    archname=darwin-2level
    uname='darwin advocaat 24.5.0 darwin kernel version 24.5.0: tue apr 22 19:54:26 pdt 2025; root:xnu-11417.121.6~2release_arm64_t8112 arm64 '
    config_args='-Accflags=-DNO_LOCALE_COLLATE -Dusedevel -des'
    hint=previous
    useposix=true
    d_sigaction=define
    useithreads=undef
    usemultiplicity=undef
    use64bitint=define
    use64bitall=define
    uselongdouble=undef
    usemymalloc=n
    default_inc_excludes_dot=define
  Compiler:
    cc='cc'
    ccflags ='-fno-common -DPERL_DARWIN -mmacosx-version-min=15.5 -DNO_THREAD_SAFE_QUERYLOCALE -DNO_POSIX_2008_LOCALE -fno-strict-aliasing -pipe -fstack-protector-strong -I/opt/local/include -DNO_LOCALE_COLLATE'
    optimize='-O3'
    cppflags='-fno-common -DPERL_DARWIN -mmacosx-version-min=15.5 -DNO_THREAD_SAFE_QUERYLOCALE -DNO_POSIX_2008_LOCALE -fno-strict-aliasing -pipe -fstack-protector-strong -I/opt/local/include'
    ccversion=''
    gccversion='Apple LLVM 17.0.0 (clang-1700.0.13.5)'
    gccosandvers=''
    intsize=4
    longsize=8
    ptrsize=8
    doublesize=8
    byteorder=12345678
    doublekind=3
    d_longlong=define
    longlongsize=8
    d_longdbl=define
    longdblsize=8
    longdblkind=0
    ivtype='long'
    ivsize=8
    nvtype='double'
    nvsize=8
    Off_t='off_t'
    lseeksize=8
    alignbytes=8
    prototype=define
  Linker and Libraries:
    ld='cc'
    ldflags =' -mmacosx-version-min=15.5 -fstack-protector-strong -L/opt/local/lib'
    libpth=/Applications/Xcode.app/Contents/Developer/Toolchains/XcodeDefault.xctoolchain/usr/lib/clang/17/lib /Applications/Xcode.app/Contents/Developer/Platforms/MacOSX.platform/Developer/SDKs/MacOSX.sdk/usr/lib /Applications/Xcode.app/Contents/Developer/Toolchains/XcodeDefault.xctoolchain/usr/lib /opt/local/lib /usr/lib
    libs=-lgdbm
    perllibs=
    libc=
    so=dylib
    useshrplib=false
    libperl=libperl.a
    gnulibc_version=''
  Dynamic Linking:
    dlsrc=dl_dlopen.xs
    dlext=bundle
    d_dlsymun=undef
    ccdlflags=' '
    cccdlflags=' '
    lddlflags=' -mmacosx-version-min=15.5 -bundle -undefined dynamic_lookup -L/opt/local/lib -fstack-protector-strong'


Characteristics of this binary (from libperl): 
  Compile-time options:
    HAS_LONG_DOUBLE
    HAS_STRTOLD
    HAS_TIMES
    PERLIO_LAYERS
    PERL_COPY_ON_WRITE
    PERL_DONT_CREATE_GVSV
    PERL_HASH_FUNC_SIPHASH13
    PERL_HASH_USE_SBOX32
    PERL_MALLOC_WRAP
    PERL_OP_PARENT
    PERL_PRESERVE_IVUV
    PERL_USE_DEVEL
    PERL_USE_SAFE_PUTENV
    USE_64_BIT_ALL
    USE_64_BIT_INT
    USE_LARGE_FILES
    USE_LOCALE
    USE_LOCALE_CTYPE
    USE_LOCALE_NUMERIC
    USE_LOCALE_TIME
    USE_PERLIO
    USE_PERL_ATOF
  Built under darwin
  Compiled at Aug  3 2025 09:49:37
  %ENV:
    PERL5LIB="/Volumes/chambord/Users/ether/.perlbrew/libs/40.3@std/lib/perl5"
    PERLBREW_HOME="/Volumes/chambord/Users/ether/.perlbrew"
    PERLBREW_LIB="std"
    PERLBREW_MANPATH="/Volumes/chambord/Users/ether/.perlbrew/libs/40.3@std/man:/Volumes/chambord/Users/ether/perl5/perlbrew/perls/40.3/man"
    PERLBREW_PATH="/Volumes/chambord/Users/ether/.perlbrew/libs/40.3@std/bin:/Volumes/chambord/Users/ether/perl5/perlbrew/bin:/Volumes/chambord/Users/ether/perl5/perlbrew/perls/40.3/bin"
    PERLBREW_PERL="40.3"
    PERLBREW_ROOT="/Volumes/chambord/Users/ether/perl5/perlbrew"
    PERLBREW_SHELLRC_VERSION="1.01"
    PERLBREW_VERSION="1.01"
    PERLDOC="-oansi"
    PERLDOC_PAGER="less -sicMr"
    PERL_AUTOINSTALL_PREFER_CPAN="1"
    PERL_INSTALL_QUIET="1"
    PERL_LOCAL_LIB_ROOT="/Volumes/chambord/Users/ether/.perlbrew/libs/40.3@std"
    PERL_MB_OPT="--install_base /Volumes/chambord/Users/ether/.perlbrew/libs/40.3@std"
    PERL_MM_OPT="INSTALL_BASE=/Volumes/chambord/Users/ether/.perlbrew/libs/40.3@std"
    PERL_TEST_HARNESS_ASAP="1"
    PERL_USE_UNSAFE_INC="0"
  @INC:
    /Volumes/chambord/Users/ether/.perlbrew/libs/40.3@std/lib/perl5/darwin-2level
    /Volumes/chambord/Users/ether/.perlbrew/libs/40.3@std/lib/perl5
    /Volumes/chambord/Users/ether/perl5/perlbrew/perls/40.3/lib/site_perl/5.40.3/darwin-2level
    /Volumes/chambord/Users/ether/perl5/perlbrew/perls/40.3/lib/site_perl/5.40.3
    /Volumes/chambord/Users/ether/perl5/perlbrew/perls/40.3/lib/5.40.3/darwin-2level
    /Volumes/chambord/Users/ether/perl5/perlbrew/perls/40.3/lib/5.40.3