Test-CleanNamespaces v0.24 Perl 5 v5.31.0 amd64-netbsd-thread-multi

Status
Pass
From
Nigel Horne
Dist
Test-CleanNamespaces v0.24
Platform
Perl 5 v5.31.0 amd64-netbsd-thread-multi
Date
2019-06-27 00:03:02
ID
ee1a06ea-986e-11e9-8bf6-2b9f62b887d7
This distribution has been tested as part of the CPAN Testers
project, supporting the Perl programming language.  See
http://wiki.cpantesters.org/ for more information or email
questions to cpan-testers-discuss@perl.org


--
Dear Karen Etheridge,

This is a computer-generated report for Test-CleanNamespaces-0.24
on perl 5.31.0, created by CPAN-Reporter-1.2018.

Thank you for uploading your work to CPAN.  Congratulations!
All tests were successful.

Sections of this report:

    * Tester comments
    * Program output
    * Prerequisites
    * Environment and other context

------------------------------
TESTER COMMENTS
------------------------------

Additional comments from tester:

none provided

------------------------------
PROGRAM OUTPUT
------------------------------

Output from '/usr/bin/make test':

PERL_DL_NONLAZY=1 "/home/njh/perl5/perlbrew/perls/perl-5.31.0-thread/bin/perl5.31.0" "-MExtUtils::Command::MM" "-MTest::Harness" "-e" "undef *Test::Harness::Switches; test_harness(0, 'blib/lib', 'blib/arch')" t/*.t
# 
# Versions for all modules listed in MYMETA.json (including optional ones):
# 
# === Configure Requires ===
# 
#     Module                       Want     Have
#     ------------------------ -------- --------
#     CPAN::Meta::Requirements 2.120620    2.140
#     ExtUtils::MakeMaker           any     7.36
#     Module::Metadata              any 1.000036
# 
# === Build Requires ===
# 
#     Module              Want Have
#     ------------------- ---- ----
#     ExtUtils::MakeMaker  any 7.36
# 
# === Test Requires ===
# 
#     Module                 Want     Have
#     --------------------- ----- --------
#     ExtUtils::MakeMaker     any     7.36
#     File::Spec              any     3.78
#     File::Spec::Functions   any     3.78
#     File::pushd             any    1.016
#     Scalar::Util            any     1.50
#     Sub::Exporter           any    0.987
#     Test::Deep              any    1.128
#     Test::More             0.96 1.302162
#     Test::Needs             any 0.002006
#     Test::Tester            any 1.302162
#     Test::Warnings        0.009    0.026
#     constant                any     1.33
#     if                      any   0.0608
#     lib                     any     0.65
#     namespace::clean        any     0.27
#     overload                any     1.30
#     parent                  any    0.237
# 
# === Test Recommends ===
# 
#     Module         Want     Have
#     ---------- -------- --------
#     CPAN::Meta 2.120900 2.150010
# 
# === Test Suggests ===
# 
#     Module                          Want    Have
#     --------------------------- -------- -------
#     Class::MOP::Class                any missing
#     Moo                              any missing
#     Moo::Role                        any missing
#     Moose                            any missing
#     Moose::Exporter                  any missing
#     Moose::Role                      any missing
#     MooseX::Role::Parameterized      any missing
#     Mouse                            any missing
#     Mouse::Role                      any missing
#     Role::Tiny                  1.003000 missing
#     metaclass                        any missing
# 
# === Runtime Requires ===
# 
#     Module          Want     Have
#     --------------- ---- --------
#     Exporter        5.57     5.73
#     File::Find       any     1.36
#     File::Spec       any     3.78
#     Module::Runtime  any    0.016
#     Package::Stash  0.14     0.38
#     Sub::Identify    any     0.14
#     Test::Builder    any 1.302162
#     strict           any     1.11
#     warnings         any     1.44
# 
# === Runtime Recommends ===
# 
#     Module             Want Have
#     ------------------ ---- ----
#     Package::Stash::XS  any 0.29
# 
# === Runtime Suggests ===
# 
#     Module     Want    Have
#     ---------- ---- -------
#     Role::Tiny  any missing
# 
# === Other Modules ===
# 
#     Module            Have
#     --------------- ------
#     Encode            3.01
#     File::Temp      0.2309
#     JSON::PP          4.02
#     Module::Runtime  0.016
#     Pod::Coverage     0.23
#     Sub::Name         0.21
#     YAML              1.29
#     autodie           2.29
# 
t/00-report-prereqs.t ......... ok
t/basic.t ..................... ok
t/class_mop.t ................. skipped: skipping for regular installs, due to possible circular dependency issues
t/clean-namespaces.t .......... ok
t/find_modules.t .............. ok
t/moo.t ....................... skipped: Need Moo 1.000007
t/moose-parameterized-role.t .. skipped: skipping for regular installs, due to possible circular dependency issues
t/moose.t ..................... skipped: skipping for regular installs, due to possible circular dependency issues
t/mouse.t ..................... skipped: Need Mouse
t/overload.t .................. ok
t/role_tiny.t ................. skipped: Need Role::Tiny 1.003000
t/self.t ...................... ok
t/zzz-check-breaks.t .......... ok
All tests successful.
Files=13, Tests=86,  2 wallclock secs ( 0.05 usr  0.06 sys +  1.69 cusr  0.38 csys =  2.18 CPU)
Result: PASS

------------------------------
PREREQUISITES
------------------------------

Prerequisite modules loaded:

requires:

    Module                   Need     Have    
    ------------------------ -------- --------
    Exporter                 5.57     5.73    
    File::Find               0        1.36    
    File::Spec               0        3.78    
    Module::Runtime          0        0.016   
    Package::Stash           0.14     0.38    
    perl                     5.006    5.031000
    strict                   0        1.11    
    Sub::Identify            0        0.14    
    Test::Builder            0        1.302162
    warnings                 0        1.44    

build_requires:

    Module                   Need     Have    
    ------------------------ -------- --------
    constant                 0        1.33    
    ExtUtils::MakeMaker      0        7.36    
    File::pushd              0        1.016   
    File::Spec               0        3.78    
    File::Spec::Functions    0        3.78    
    if                       0        0.0608  
    lib                      0        0.65    
    namespace::clean         0        0.27    
    overload                 0        1.30    
    parent                   0        0.237   
    Scalar::Util             0        1.50    
    Sub::Exporter            0        0.987   
    Test::Deep               0        1.128   
    Test::More               0.96     1.302162
    Test::Needs              0        0.002006
    Test::Tester             0        1.302162
    Test::Warnings           0.009    0.026   

configure_requires:

    Module                   Need     Have    
    ------------------------ -------- --------
    CPAN::Meta::Requirements 2.120620 2.140   
    ExtUtils::MakeMaker      0        7.36    
    Module::Metadata         0        1.000036
    perl                     5.006    5.031000


------------------------------
ENVIRONMENT AND OTHER CONTEXT
------------------------------

Environment variables:

    NONINTERACTIVE_TESTING = 1
    PATH = /home/njh/perl5/perlbrew/bin:/home/njh/perl5/perlbrew/perls/perl-5.31.0-thread/bin:/usr/bin:/bin:/usr/pkg/bin:/usr/local/bin
    PERL5LIB = 
    PERL5OPT = 
    PERL5_CPANPLUS_IS_RUNNING = 17251
    PERL5_CPAN_IS_RUNNING = 17251
    PERLBREW_HOME = /home/njh/.perlbrew
    PERLBREW_MANPATH = /home/njh/perl5/perlbrew/perls/perl-5.31.0-thread/man
    PERLBREW_PATH = /home/njh/perl5/perlbrew/bin:/home/njh/perl5/perlbrew/perls/perl-5.31.0-thread/bin
    PERLBREW_PERL = perl-5.31.0-thread
    PERLBREW_ROOT = /home/njh/perl5/perlbrew
    PERLBREW_SHELLRC_VERSION = 0.82
    PERLBREW_VERSION = 0.82
    PERL_MM_USE_DEFAULT = 1
    PERL_USE_UNSAFE_INC = 1
    SHELL = /usr/pkg/bin/bash
    TERM = xterm-256color
    TMPDIR = /tmp

Perl special variables (and OS-specific diagnostics, for MSWin32):

    $^X = /home/njh/perl5/perlbrew/perls/perl-5.31.0-thread/bin/perl5.31.0
    $UID/$EUID = 1000 / 1000
    $GID = 100 100 0
    $EGID = 100 100 0

Perl module toolchain versions installed:

    Module              Have    
    ------------------- --------
    CPAN                2.26    
    CPAN::Meta          2.150010
    Cwd                 3.78    
    ExtUtils::CBuilder  0.280231
    ExtUtils::Command   7.36    
    ExtUtils::Install   2.14    
    ExtUtils::MakeMaker 7.36    
    ExtUtils::Manifest  1.72    
    ExtUtils::ParseXS   3.40    
    File::Spec          3.78    
    JSON                4.02    
    JSON::PP            4.02    
    Module::Build       0.4229  
    Module::Signature   n/a     
    Parse::CPAN::Meta   2.150010
    Test::Harness       3.42    
    Test::More          1.302162
    YAML                1.29    
    YAML::Syck          1.31    
    version             0.9924  


--

Summary of my perl5 (revision 5 version 31 subversion 0) configuration:
   
  Platform:
    osname=netbsd
    osvers=7.1.2
    archname=amd64-netbsd-thread-multi
    uname='netbsd vultr2.bandsman.co.uk 7.1.2 netbsd 7.1.2 (generic.201803151611z) amd64 '
    config_args='-de -Dprefix=/home/njh/perl5/perlbrew/perls/perl-5.31.0-thread -Dusedevel -Dusethreads -Dusedevel -Accflags=-O2 -W -Wformat=2 -Wswitch -Wshadow -Wwrite-strings -Wuninitialized -Wall -pipe -fomit-frame-pointer -pedantic -D_FORTIFY_SOURCE=2 -Wpointer-arith -Wstrict-prototypes -fstack-protector -Wstack-protector -Wextra -Wbad-function-cast -Wcast-align -Wcast-qual -Wdisabled-optimization -Wendif-labels -Wfloat-equal -Wformat-nonliteral -Winline -Wmissing-declarations -Wmissing-prototypes -Wnested-externs -Wpointer-arith -Wundef -Wformat-security -ftree-vectorize -mmmx -msse -mfpmath=sse -msse2 -msse3 -msse4.1 -msse4.2 -mtune=native -Aeval:scriptdir=/home/njh/perl5/perlbrew/perls/perl-5.31.0-thread/bin'
    hint=recommended
    useposix=true
    d_sigaction=define
    useithreads=define
    usemultiplicity=define
    use64bitint=define
    use64bitall=define
    uselongdouble=undef
    usemymalloc=n
    default_inc_excludes_dot=define
    bincompat5005=undef
  Compiler:
    cc='cc'
    ccflags ='-O2 -W -Wformat=2 -Wswitch -Wshadow -Wwrite-strings -Wuninitialized -Wall -pipe -fomit-frame-pointer -pedantic -D_FORTIFY_SOURCE=2 -Wpointer-arith -Wstrict-prototypes -fstack-protector -Wstack-protector -Wextra -Wbad-function-cast -Wcast-align -Wcast-qual -Wdisabled-optimization -Wendif-labels -Wfloat-equal -Wformat-nonliteral -Winline -Wmissing-declarations -Wmissing-prototypes -Wnested-externs -Wpointer-arith -Wundef -Wformat-security -ftree-vectorize -mmmx -msse -mfpmath=sse -msse2 -msse3 -msse4.1 -msse4.2 -mtune=native -fwrapv -fno-strict-aliasing -I/usr/pkg/include'
    optimize='-O'
    cppflags='-O2 -W -Wformat=2 -Wswitch -Wshadow -Wwrite-strings -Wuninitialized -Wall -pipe -fomit-frame-pointer -pedantic -D_FORTIFY_SOURCE=2 -Wpointer-arith -Wstrict-prototypes -fstack-protector -Wstack-protector -Wextra -Wbad-function-cast -Wcast-align -Wcast-qual -Wdisabled-optimization -Wendif-labels -Wfloat-equal -Wformat-nonliteral -Winline -Wmissing-declarations -Wmissing-prototypes -Wnested-externs -Wpointer-arith -Wundef -Wformat-security -ftree-vectorize -mmmx -msse -mfpmath=sse -msse2 -msse3 -msse4.1 -msse4.2 -mtune=native -fwrapv -fno-strict-aliasing -I/usr/pkg/include'
    ccversion=''
    gccversion='4.8.5'
    gccosandvers=''
    intsize=4
    longsize=8
    ptrsize=8
    doublesize=8
    byteorder=12345678
    doublekind=3
    d_longlong=define
    longlongsize=8
    d_longdbl=define
    longdblsize=16
    longdblkind=3
    ivtype='long'
    ivsize=8
    nvtype='double'
    nvsize=8
    Off_t='off_t'
    lseeksize=8
    alignbytes=8
    prototype=define
  Linker and Libraries:
    ld='cc'
    ldflags =' -Wl,-rpath,/usr/pkg/lib -Wl,-rpath,/usr/local/lib -fstack-protector -L/usr/pkg/lib'
    libpth=/usr/include/gcc-4.8 /usr/lib /usr/pkg/lib /lib
    libs=-lpthread -lm -lcrypt -lutil -lc -lposix
    perllibs=-lpthread -lm -lcrypt -lutil -lc -lposix
    libc=/lib/libc.so
    so=so
    useshrplib=false
    libperl=libperl.a
    gnulibc_version=''
  Dynamic Linking:
    dlsrc=dl_dlopen.xs
    dlext=so
    d_dlsymun=undef
    ccdlflags='-Wl,-E '
    cccdlflags='-DPIC -fPIC '
    lddlflags='-shared  -L/usr/pkg/lib -fstack-protector'


Characteristics of this binary (from libperl): 
  Compile-time options:
    HAS_TIMES
    MULTIPLICITY
    PERLIO_LAYERS
    PERL_COPY_ON_WRITE
    PERL_DONT_CREATE_GVSV
    PERL_IMPLICIT_CONTEXT
    PERL_MALLOC_WRAP
    PERL_OP_PARENT
    PERL_PRESERVE_IVUV
    PERL_USE_DEVEL
    USE_64_BIT_ALL
    USE_64_BIT_INT
    USE_ITHREADS
    USE_LARGE_FILES
    USE_LOCALE
    USE_LOCALE_COLLATE
    USE_LOCALE_CTYPE
    USE_LOCALE_NUMERIC
    USE_LOCALE_TIME
    USE_PERLIO
    USE_PERL_ATOF
    USE_REENTRANT_API
  Locally applied patches:
    Devel::PatchPerl 1.48
  Built under netbsd
  Compiled at Jun 21 2019 09:20:01
  %ENV:
    PERL5LIB=""
    PERL5OPT=""
    PERL5_CPANPLUS_IS_RUNNING="17251"
    PERL5_CPAN_IS_RUNNING="17251"
    PERLBREW_HOME="/home/njh/.perlbrew"
    PERLBREW_MANPATH="/home/njh/perl5/perlbrew/perls/perl-5.31.0-thread/man"
    PERLBREW_PATH="/home/njh/perl5/perlbrew/bin:/home/njh/perl5/perlbrew/perls/perl-5.31.0-thread/bin"
    PERLBREW_PERL="perl-5.31.0-thread"
    PERLBREW_ROOT="/home/njh/perl5/perlbrew"
    PERLBREW_SHELLRC_VERSION="0.82"
    PERLBREW_VERSION="0.82"
    PERL_MM_USE_DEFAULT="1"
    PERL_USE_UNSAFE_INC="1"
  @INC:
    /home/njh/perl5/perlbrew/perls/perl-5.31.0-thread/lib/site_perl/5.31.0/amd64-netbsd-thread-multi
    /home/njh/perl5/perlbrew/perls/perl-5.31.0-thread/lib/site_perl/5.31.0
    /home/njh/perl5/perlbrew/perls/perl-5.31.0-thread/lib/5.31.0/amd64-netbsd-thread-multi
    /home/njh/perl5/perlbrew/perls/perl-5.31.0-thread/lib/5.31.0
    .