Mail-Mbox-MessageParser v1.5111 Perl 5 v5.28.0 amd64-freebsd-thread-multi

Status
Pass
From
Nigel Horne
Dist
Mail-Mbox-MessageParser v1.5111
Platform
Perl 5 v5.28.0 amd64-freebsd-thread-multi
Date
2018-07-12 13:24:39
ID
ede62650-85d6-11e8-ad7e-b37db8d57a06
This distribution has been tested as part of the CPAN Testers
project, supporting the Perl programming language.  See
http://wiki.cpantesters.org/ for more information or email
questions to cpan-testers-discuss@perl.org


--
Dear David Coppit,

This is a computer-generated report for Mail-Mbox-MessageParser-1.5111
on perl 5.28.0, created by CPAN-Reporter-1.2018.

Thank you for uploading your work to CPAN.  Congratulations!
All tests were successful.

Sections of this report:

    * Tester comments
    * Program output
    * Prerequisites
    * Environment and other context

------------------------------
TESTER COMMENTS
------------------------------

Additional comments from tester:

this report is from an automated smoke testing program
and was not reviewed by a human for accuracy

------------------------------
PROGRAM OUTPUT
------------------------------

Output from '/usr/bin/make test':

PERL_DL_NONLAZY=1 "/usr/home/njh/perl5/perlbrew/perls/perl-5.28.0-thread/bin/perl" "-MExtUtils::Command::MM" "-MTest::Harness" "-e" "undef *Test::Harness::Switches; test_harness(1, 'blib/lib', 'blib/arch')" t/*.t
t/000_standard__compile.t ....... 
1..6
ok 1 - Compile test for blib/lib/Mail/Mbox/MessageParser.pm
ok 2 - Compile test for blib/lib/Mail/Mbox/MessageParser/Cache.pm
ok 3 - Compile test for blib/lib/Mail/Mbox/MessageParser/MetaInfo.pm
ok 4 - Compile test for blib/lib/Mail/Mbox/MessageParser/Perl.pm
ok 5 - Compile test for blib/lib/Mail/Mbox/MessageParser/Config.pm
ok 6 - Compile test for blib/lib/Mail/Mbox/MessageParser/Grep.pm
ok
t/000_standard__perl_critic.t ... skipped: Author test. Set $ENV{TEST_AUTHOR} to a true value to run.
t/000_standard__pod.t ........... 
1..6
ok 1 - POD test for blib/lib/Mail/Mbox/MessageParser.pm
ok 2 - POD test for blib/lib/Mail/Mbox/MessageParser/Cache.pm
ok 3 - POD test for blib/lib/Mail/Mbox/MessageParser/MetaInfo.pm
ok 4 - POD test for blib/lib/Mail/Mbox/MessageParser/Perl.pm
ok 5 - POD test for blib/lib/Mail/Mbox/MessageParser/Config.pm
ok 6 - POD test for blib/lib/Mail/Mbox/MessageParser/Grep.pm
ok
t/000_standard__pod_coverage.t .. 
1..6
ok 1 - Pod coverage on Mail::Mbox::MessageParser
ok 2 - Pod coverage on Mail::Mbox::MessageParser::Cache
ok 3 - Pod coverage on Mail::Mbox::MessageParser::MetaInfo
ok 4 - Pod coverage on Mail::Mbox::MessageParser::Perl
ok 5 - Pod coverage on Mail::Mbox::MessageParser::Config
ok 6 - Pod coverage on Mail::Mbox::MessageParser::Grep
ok
t/appended_mailbox.t ............ 
1..6
Testing modified mailbox with Perl implementation
Comparing /tmp/testwrapper.61979/vPv9U7phlF to t/mailboxes/mailarc-1.txt
Output /tmp/testwrapper.61979/vPv9U7phlF looks good.
ok 1 - Computing differences
Testing modified mailbox with Cache implementation
Comparing /tmp/testwrapper.61979/1HJRDceDSu to t/mailboxes/mailarc-1.txt
Output /tmp/testwrapper.61979/1HJRDceDSu looks good.
ok 2 - Computing differences
Testing modified mailbox with Grep implementation
ok 3 # skip GNU grep not available
Testing modified mailbox with Perl implementation
Comparing /tmp/testwrapper.61979/RI6BnW676n to t/mailboxes/mailarc-1.txt
Output /tmp/testwrapper.61979/RI6BnW676n looks good.
ok 4 - Computing differences
Testing modified mailbox with Cache implementation
Comparing /tmp/testwrapper.61979/Hso8ZTiYHN to t/mailboxes/mailarc-1.txt
Output /tmp/testwrapper.61979/Hso8ZTiYHN looks good.
ok 5 - Computing differences
Testing modified mailbox with Grep implementation
ok 6 # skip GNU grep not available
ok
t/bzip2.t ....................... 
1..1
Running test:
  "/bin/cat" "t/mailboxes/mailarc-2.txt.bz2" | "/usr/bin/bzip2" -cd
Comparing /tmp/testwrapper.61979/0tD1yPAAhG to t/results/mailarc-2.txt
Output /tmp/testwrapper.61979/0tD1yPAAhG looks good.
Comparing /tmp/testwrapper.61979/mKBM0hofEN to t/results/none
Output /tmp/testwrapper.61979/mKBM0hofEN looks good.
ok 1 - Computing differences
ok
t/endline.t ..................... 
1..8
Testing filename: t/mailboxes/mailarc-1-dos.txt
ok 1 - Dos endline expected
ok 2 - Dos endline expected
ok 3 - Dos endline expected
ok 4 # skip GNU grep not available
Testing filename: t/mailboxes/mailarc-1.txt
ok 5 - Unix endline expected
ok 6 - Unix endline expected
ok 7 - Unix endline expected
ok 8 # skip GNU grep not available
ok
t/filehandle_compressed.t ....... 
1..16
Testing filename: t/mailboxes/mailarc-2.txt.bz2
Comparing /tmp/testwrapper.61979/7q4ZuQnKPR to t/mailboxes/mailarc-2.txt
Output /tmp/testwrapper.61979/7q4ZuQnKPR looks good.
ok 1 - Computing differences
Comparing /tmp/testwrapper.61979/1vRDyveUMG to t/mailboxes/mailarc-2.txt
Output /tmp/testwrapper.61979/1vRDyveUMG looks good.
ok 2 - Computing differences
Comparing /tmp/testwrapper.61979/yO6rJw5HJ3 to t/mailboxes/mailarc-2.txt
Output /tmp/testwrapper.61979/yO6rJw5HJ3 looks good.
ok 3 - Computing differences
ok 4 # skip GNU grep not available
Testing filename: t/mailboxes/mailarc-2.txt.gz
Comparing /tmp/testwrapper.61979/uEztsJK8OT to t/mailboxes/mailarc-2.txt
Output /tmp/testwrapper.61979/uEztsJK8OT looks good.
ok 5 - Computing differences
Comparing /tmp/testwrapper.61979/_JZGNHV2VA to t/mailboxes/mailarc-2.txt
Output /tmp/testwrapper.61979/_JZGNHV2VA looks good.
ok 6 - Computing differences
Comparing /tmp/testwrapper.61979/J7o9ICAabc to t/mailboxes/mailarc-2.txt
Output /tmp/testwrapper.61979/J7o9ICAabc looks good.
ok 7 - Computing differences
ok 8 # skip GNU grep not available
Testing filename: t/mailboxes/mailarc-2.txt.lz
ok 9 # skip lzip not available
ok 10 # skip lzip not available
ok 11 # skip lzip not available
ok 12 # skip lzip not available
Testing filename: t/mailboxes/mailarc-2.txt.xz
Comparing /tmp/testwrapper.61979/6J3CITB6u8 to t/mailboxes/mailarc-2.txt
Output /tmp/testwrapper.61979/6J3CITB6u8 looks good.
ok 13 - Computing differences
Comparing /tmp/testwrapper.61979/fWhNMoPPei to t/mailboxes/mailarc-2.txt
Output /tmp/testwrapper.61979/fWhNMoPPei looks good.
ok 14 - Computing differences
Comparing /tmp/testwrapper.61979/ts2qU58jRR to t/mailboxes/mailarc-2.txt
Output /tmp/testwrapper.61979/ts2qU58jRR looks good.
ok 15 - Computing differences
ok 16 # skip GNU grep not available
ok
t/filehandle_noncompressed.t .... 
1..44
Testing filename: t/mailboxes/binary_body.txt
Comparing /tmp/testwrapper.61979/NFmZPRXYiF to t/mailboxes/binary_body.txt
Output /tmp/testwrapper.61979/NFmZPRXYiF looks good.
ok 1 - Computing differences
Comparing /tmp/testwrapper.61979/1ooxof7v_o to t/mailboxes/binary_body.txt
Output /tmp/testwrapper.61979/1ooxof7v_o looks good.
ok 2 - Computing differences
Comparing /tmp/testwrapper.61979/mxMEpPwp_W to t/mailboxes/binary_body.txt
Output /tmp/testwrapper.61979/mxMEpPwp_W looks good.
ok 3 - Computing differences
ok 4 # skip GNU grep not available
Testing filename: t/mailboxes/hessbug.txt
Comparing /tmp/testwrapper.61979/fCNmgfdnUt to t/mailboxes/hessbug.txt
Output /tmp/testwrapper.61979/fCNmgfdnUt looks good.
ok 5 - Computing differences
Comparing /tmp/testwrapper.61979/rd2EYAZp3h to t/mailboxes/hessbug.txt
Output /tmp/testwrapper.61979/rd2EYAZp3h looks good.
ok 6 - Computing differences
Comparing /tmp/testwrapper.61979/J43jBb5rAX to t/mailboxes/hessbug.txt
Output /tmp/testwrapper.61979/J43jBb5rAX looks good.
ok 7 - Computing differences
ok 8 # skip GNU grep not available
Testing filename: t/mailboxes/invalid-boundaries.txt
Comparing /tmp/testwrapper.61979/z1ta307kYD to t/mailboxes/invalid-boundaries.txt
Output /tmp/testwrapper.61979/z1ta307kYD looks good.
ok 9 - Computing differences
Comparing /tmp/testwrapper.61979/PQvBlmeUVd to t/mailboxes/invalid-boundaries.txt
Output /tmp/testwrapper.61979/PQvBlmeUVd looks good.
ok 10 - Computing differences
Comparing /tmp/testwrapper.61979/wqKMzZxhfo to t/mailboxes/invalid-boundaries.txt
Output /tmp/testwrapper.61979/wqKMzZxhfo looks good.
ok 11 - Computing differences
ok 12 # skip GNU grep not available
Testing filename: t/mailboxes/mailarc-1-dos.txt
Comparing /tmp/testwrapper.61979/yJz6YSK2OA to t/mailboxes/mailarc-1-dos.txt
Output /tmp/testwrapper.61979/yJz6YSK2OA looks good.
ok 13 - Computing differences
Comparing /tmp/testwrapper.61979/q024BY2BtO to t/mailboxes/mailarc-1-dos.txt
Output /tmp/testwrapper.61979/q024BY2BtO looks good.
ok 14 - Computing differences
Comparing /tmp/testwrapper.61979/bvS0odDBJT to t/mailboxes/mailarc-1-dos.txt
Output /tmp/testwrapper.61979/bvS0odDBJT looks good.
ok 15 - Computing differences
ok 16 # skip GNU grep not available
Testing filename: t/mailboxes/mailarc-1.txt
Comparing /tmp/testwrapper.61979/nitiB_huay to t/mailboxes/mailarc-1.txt
Output /tmp/testwrapper.61979/nitiB_huay looks good.
ok 17 - Computing differences
Comparing /tmp/testwrapper.61979/r52fhbmyFu to t/mailboxes/mailarc-1.txt
Output /tmp/testwrapper.61979/r52fhbmyFu looks good.
ok 18 - Computing differences
Comparing /tmp/testwrapper.61979/96rSVXYh5e to t/mailboxes/mailarc-1.txt
Output /tmp/testwrapper.61979/96rSVXYh5e looks good.
ok 19 - Computing differences
ok 20 # skip GNU grep not available
Testing filename: t/mailboxes/mailarc-2.txt
Comparing /tmp/testwrapper.61979/f7Uc3K4zhi to t/mailboxes/mailarc-2.txt
Output /tmp/testwrapper.61979/f7Uc3K4zhi looks good.
ok 21 - Computing differences
Comparing /tmp/testwrapper.61979/WzwSXxzp99 to t/mailboxes/mailarc-2.txt
Output /tmp/testwrapper.61979/WzwSXxzp99 looks good.
ok 22 - Computing differences
Comparing /tmp/testwrapper.61979/P2tlKG2Kax to t/mailboxes/mailarc-2.txt
Output /tmp/testwrapper.61979/P2tlKG2Kax looks good.
ok 23 - Computing differences
ok 24 # skip GNU grep not available
Testing filename: t/mailboxes/mailarc-3.txt
Comparing /tmp/testwrapper.61979/C8jl7zeKWs to t/mailboxes/mailarc-3.txt
Output /tmp/testwrapper.61979/C8jl7zeKWs looks good.
ok 25 - Computing differences
Comparing /tmp/testwrapper.61979/2Fg4ILtkWT to t/mailboxes/mailarc-3.txt
Output /tmp/testwrapper.61979/2Fg4ILtkWT looks good.
ok 26 - Computing differences
Comparing /tmp/testwrapper.61979/xZGV88sUpX to t/mailboxes/mailarc-3.txt
Output /tmp/testwrapper.61979/xZGV88sUpX looks good.
ok 27 - Computing differences
ok 28 # skip GNU grep not available
Testing filename: t/mailboxes/mailseparators.txt
Comparing /tmp/testwrapper.61979/vN_S8nwHUy to t/mailboxes/mailseparators.txt
Output /tmp/testwrapper.61979/vN_S8nwHUy looks good.
ok 29 - Computing differences
Comparing /tmp/testwrapper.61979/18PhMD8YBm to t/mailboxes/mailseparators.txt
Output /tmp/testwrapper.61979/18PhMD8YBm looks good.
ok 30 - Computing differences
Comparing /tmp/testwrapper.61979/l8ool5_cM_ to t/mailboxes/mailseparators.txt
Output /tmp/testwrapper.61979/l8ool5_cM_ looks good.
ok 31 - Computing differences
ok 32 # skip GNU grep not available
Testing filename: t/mailboxes/malformed.txt
Comparing /tmp/testwrapper.61979/EbMaoMo42P to t/mailboxes/malformed.txt
Output /tmp/testwrapper.61979/EbMaoMo42P looks good.
ok 33 - Computing differences
Comparing /tmp/testwrapper.61979/MpmM0LTNCa to t/mailboxes/malformed.txt
Output /tmp/testwrapper.61979/MpmM0LTNCa looks good.
ok 34 - Computing differences
Comparing /tmp/testwrapper.61979/CZ0WZCFVuk to t/mailboxes/malformed.txt
Output /tmp/testwrapper.61979/CZ0WZCFVuk looks good.
ok 35 - Computing differences
ok 36 # skip GNU grep not available
Testing filename: t/mailboxes/newlines_at_beginning.txt
Comparing /tmp/testwrapper.61979/Kvo3CDr_qz to t/mailboxes/newlines_at_beginning.txt
Output /tmp/testwrapper.61979/Kvo3CDr_qz looks good.
ok 37 - Computing differences
Comparing /tmp/testwrapper.61979/BHsfcQoF6P to t/mailboxes/newlines_at_beginning.txt
Output /tmp/testwrapper.61979/BHsfcQoF6P looks good.
ok 38 - Computing differences
Comparing /tmp/testwrapper.61979/S3up9IbUJh to t/mailboxes/newlines_at_beginning.txt
Output /tmp/testwrapper.61979/S3up9IbUJh looks good.
ok 39 - Computing differences
ok 40 # skip GNU grep not available
Testing filename: t/mailboxes/vm-emacs.txt
Comparing /tmp/testwrapper.61979/i3T8xJpOg4 to t/mailboxes/vm-emacs.txt
Output /tmp/testwrapper.61979/i3T8xJpOg4 looks good.
ok 41 - Computing differences
Comparing /tmp/testwrapper.61979/KaHs7YNp8W to t/mailboxes/vm-emacs.txt
Output /tmp/testwrapper.61979/KaHs7YNp8W looks good.
ok 42 - Computing differences
Comparing /tmp/testwrapper.61979/4O8P1u3H29 to t/mailboxes/vm-emacs.txt
Output /tmp/testwrapper.61979/4O8P1u3H29 looks good.
ok 43 - Computing differences
ok 44 # skip GNU grep not available
ok
t/filename_compressed.t ......... 
1..4
Testing filename: t/mailboxes/mailarc-2.txt.bz2
Comparing /tmp/testwrapper.61979/SEEkSiqKTi to t/mailboxes/mailarc-2.txt
Output /tmp/testwrapper.61979/SEEkSiqKTi looks good.
ok 1 - Computing differences
Testing filename: t/mailboxes/mailarc-2.txt.gz
Comparing /tmp/testwrapper.61979/i2d1YJuioU to t/mailboxes/mailarc-2.txt
Output /tmp/testwrapper.61979/i2d1YJuioU looks good.
ok 2 - Computing differences
Testing filename: t/mailboxes/mailarc-2.txt.lz
ok 3 # skip lzip not available
Testing filename: t/mailboxes/mailarc-2.txt.xz
Comparing /tmp/testwrapper.61979/uPgsz8vmeO to t/mailboxes/mailarc-2.txt
Output /tmp/testwrapper.61979/uPgsz8vmeO looks good.
ok 4 - Computing differences
ok
t/filename_noncompressed.t ...... 
1..11
Testing filename: t/mailboxes/binary_body.txt
Comparing /tmp/testwrapper.61979/IsK263t2aR to t/mailboxes/binary_body.txt
Output /tmp/testwrapper.61979/IsK263t2aR looks good.
ok 1 - Computing differences
Testing filename: t/mailboxes/hessbug.txt
Comparing /tmp/testwrapper.61979/nrvJzAgBqY to t/mailboxes/hessbug.txt
Output /tmp/testwrapper.61979/nrvJzAgBqY looks good.
ok 2 - Computing differences
Testing filename: t/mailboxes/invalid-boundaries.txt
Comparing /tmp/testwrapper.61979/KL9MztugsB to t/mailboxes/invalid-boundaries.txt
Output /tmp/testwrapper.61979/KL9MztugsB looks good.
ok 3 - Computing differences
Testing filename: t/mailboxes/mailarc-1-dos.txt
Comparing /tmp/testwrapper.61979/YGB4Bupc5B to t/mailboxes/mailarc-1-dos.txt
Output /tmp/testwrapper.61979/YGB4Bupc5B looks good.
ok 4 - Computing differences
Testing filename: t/mailboxes/mailarc-1.txt
Comparing /tmp/testwrapper.61979/aIBbDIkPyA to t/mailboxes/mailarc-1.txt
Output /tmp/testwrapper.61979/aIBbDIkPyA looks good.
ok 5 - Computing differences
Testing filename: t/mailboxes/mailarc-2.txt
Comparing /tmp/testwrapper.61979/MNxxIPzxkl to t/mailboxes/mailarc-2.txt
Output /tmp/testwrapper.61979/MNxxIPzxkl looks good.
ok 6 - Computing differences
Testing filename: t/mailboxes/mailarc-3.txt
Comparing /tmp/testwrapper.61979/iq1ALn2i8u to t/mailboxes/mailarc-3.txt
Output /tmp/testwrapper.61979/iq1ALn2i8u looks good.
ok 7 - Computing differences
Testing filename: t/mailboxes/mailseparators.txt
Comparing /tmp/testwrapper.61979/bWQ9CFe_qz to t/mailboxes/mailseparators.txt
Output /tmp/testwrapper.61979/bWQ9CFe_qz looks good.
ok 8 - Computing differences
Testing filename: t/mailboxes/malformed.txt
Comparing /tmp/testwrapper.61979/u64XtFahOn to t/mailboxes/malformed.txt
Output /tmp/testwrapper.61979/u64XtFahOn looks good.
ok 9 - Computing differences
Testing filename: t/mailboxes/newlines_at_beginning.txt
Comparing /tmp/testwrapper.61979/HmZNAcLCyj to t/mailboxes/newlines_at_beginning.txt
Output /tmp/testwrapper.61979/HmZNAcLCyj looks good.
ok 10 - Computing differences
Testing filename: t/mailboxes/vm-emacs.txt
Comparing /tmp/testwrapper.61979/t14JMvkwnw to t/mailboxes/vm-emacs.txt
Output /tmp/testwrapper.61979/t14JMvkwnw looks good.
ok 11 - Computing differences
ok
t/grep.t ........................ 
1..4
Running test:
  unset LC_ALL LC_COLLATE LANG LC_CTYPE LC_MESSAGES; grep --extended-regexp --line-number --byte-offset --binary-files=text "^From [^:]+(:[0-9][0-9]){1,2}(  *([A-Z]{2,6}|[+-]?[0-9]{4})){1,3}( remote from .*)?
?$" t/mailboxes/mailarc-1.txt
ok 1 # skip 1
Running test:
  unset LC_ALL LC_COLLATE LANG LC_CTYPE LC_MESSAGES; grep --extended-regexp --line-number --byte-offset --binary-files=text "^From [^:]+(:[0-9][0-9]){1,2}(  *([A-Z]{2,6}|[+-]?[0-9]{4})){1,3}( remote from .*)?
?$" t/mailboxes/mailarc-2.txt
ok 2 # skip 1
Running test:
  unset LC_ALL LC_COLLATE LANG LC_CTYPE LC_MESSAGES; grep --extended-regexp --line-number --byte-offset --binary-files=text "^From [^:]+(:[0-9][0-9]){1,2}(  *([A-Z]{2,6}|[+-]?[0-9]{4})){1,3}( remote from .*)?
?$" t/mailboxes/mailarc-3.txt
ok 3 # skip 1
Running test:
  unset LC_ALL LC_COLLATE LANG LC_CTYPE LC_MESSAGES; grep --extended-regexp --line-number --byte-offset --binary-files=text "^From [^:]+(:[0-9][0-9]){1,2}(  *([A-Z]{2,6}|[+-]?[0-9]{4})){1,3}( remote from .*)?
?$" t/mailboxes/mailseparators.txt
ok 4 # skip 1
ok
t/gzip.t ........................ 
1..1
Running test:
  "/bin/cat" "t/mailboxes/mailarc-2.txt.gz" | "/usr/bin/gzip" -cd
Comparing /tmp/testwrapper.61979/0kInnn9dqI to t/results/mailarc-2.txt
Output /tmp/testwrapper.61979/0kInnn9dqI looks good.
Comparing /tmp/testwrapper.61979/vBHr4N0dJp to t/results/none
Output /tmp/testwrapper.61979/vBHr4N0dJp looks good.
ok 1 - Computing differences
ok
t/length.t ...................... 
1..30
Testing filename: t/mailboxes/binary_body.txt
Comparing /tmp/testwrapper.61979/bpNDS_8u6W to t/results/length_binary_body.stdout
Output /tmp/testwrapper.61979/bpNDS_8u6W looks good.
ok 1 - Computing differences
Comparing /tmp/testwrapper.61979/fpq7RF3_wA to t/results/length_binary_body.stdout
Output /tmp/testwrapper.61979/fpq7RF3_wA looks good.
ok 2 - Computing differences
ok 3 # skip GNU grep not available
Testing filename: t/mailboxes/hessbug.txt
Comparing /tmp/testwrapper.61979/ybxoDGXz0_ to t/results/length_hessbug.stdout
Output /tmp/testwrapper.61979/ybxoDGXz0_ looks good.
ok 4 - Computing differences
Comparing /tmp/testwrapper.61979/kpmvdOfl83 to t/results/length_hessbug.stdout
Output /tmp/testwrapper.61979/kpmvdOfl83 looks good.
ok 5 - Computing differences
ok 6 # skip GNU grep not available
Testing filename: t/mailboxes/invalid-boundaries.txt
Comparing /tmp/testwrapper.61979/Pkuk_MZ5uD to t/results/length_invalid-boundaries.stdout
Output /tmp/testwrapper.61979/Pkuk_MZ5uD looks good.
ok 7 - Computing differences
Comparing /tmp/testwrapper.61979/zpHGk2ZnAI to t/results/length_invalid-boundaries.stdout
Output /tmp/testwrapper.61979/zpHGk2ZnAI looks good.
ok 8 - Computing differences
ok 9 # skip GNU grep not available
Testing filename: t/mailboxes/mailarc-1-dos.txt
Comparing /tmp/testwrapper.61979/WOUIhaystA to t/results/length_mailarc-1-dos.stdout
Output /tmp/testwrapper.61979/WOUIhaystA looks good.
ok 10 - Computing differences
Comparing /tmp/testwrapper.61979/iZKmi6e259 to t/results/length_mailarc-1-dos.stdout
Output /tmp/testwrapper.61979/iZKmi6e259 looks good.
ok 11 - Computing differences
ok 12 # skip GNU grep not available
Testing filename: t/mailboxes/mailarc-1.txt
Comparing /tmp/testwrapper.61979/JJK4nR_tA9 to t/results/length_mailarc-1.stdout
Output /tmp/testwrapper.61979/JJK4nR_tA9 looks good.
ok 13 - Computing differences
Comparing /tmp/testwrapper.61979/t8bJjsRB3L to t/results/length_mailarc-1.stdout
Output /tmp/testwrapper.61979/t8bJjsRB3L looks good.
ok 14 - Computing differences
ok 15 # skip GNU grep not available
Testing filename: t/mailboxes/mailarc-2.txt
Comparing /tmp/testwrapper.61979/lrhAoQe4y9 to t/results/length_mailarc-2.stdout
Output /tmp/testwrapper.61979/lrhAoQe4y9 looks good.
ok 16 - Computing differences
Comparing /tmp/testwrapper.61979/zJTEg5Nio4 to t/results/length_mailarc-2.stdout
Output /tmp/testwrapper.61979/zJTEg5Nio4 looks good.
ok 17 - Computing differences
ok 18 # skip GNU grep not available
Testing filename: t/mailboxes/mailarc-3.txt
Comparing /tmp/testwrapper.61979/bQFzQ5sKPm to t/results/length_mailarc-3.stdout
Output /tmp/testwrapper.61979/bQFzQ5sKPm looks good.
ok 19 - Computing differences
Comparing /tmp/testwrapper.61979/ejFbdHAeUc to t/results/length_mailarc-3.stdout
Output /tmp/testwrapper.61979/ejFbdHAeUc looks good.
ok 20 - Computing differences
ok 21 # skip GNU grep not available
Testing filename: t/mailboxes/mailseparators.txt
Comparing /tmp/testwrapper.61979/It2XrZekuX to t/results/length_mailseparators.stdout
Output /tmp/testwrapper.61979/It2XrZekuX looks good.
ok 22 - Computing differences
Comparing /tmp/testwrapper.61979/9VJ5ibxNws to t/results/length_mailseparators.stdout
Output /tmp/testwrapper.61979/9VJ5ibxNws looks good.
ok 23 - Computing differences
ok 24 # skip GNU grep not available
Testing filename: t/mailboxes/malformed.txt
Comparing /tmp/testwrapper.61979/5iKy5OZP_J to t/results/length_malformed.stdout
Output /tmp/testwrapper.61979/5iKy5OZP_J looks good.
ok 25 - Computing differences
Comparing /tmp/testwrapper.61979/hNE4lKkXdI to t/results/length_malformed.stdout
Output /tmp/testwrapper.61979/hNE4lKkXdI looks good.
ok 26 - Computing differences
ok 27 # skip GNU grep not available
Testing filename: t/mailboxes/newlines_at_beginning.txt
Comparing /tmp/testwrapper.61979/37UGLf8Cra to t/results/length_newlines_at_beginning.stdout
Output /tmp/testwrapper.61979/37UGLf8Cra looks good.
ok 28 - Computing differences
Comparing /tmp/testwrapper.61979/aBZn5EZYGV to t/results/length_newlines_at_beginning.stdout
Output /tmp/testwrapper.61979/aBZn5EZYGV looks good.
ok 29 - Computing differences
ok 30 # skip GNU grep not available
ok
t/line_number.t ................. 
1..30
Testing filename: t/mailboxes/binary_body.txt
Comparing /tmp/testwrapper.61979/d9OlMl6VFu to t/results/line_number_binary_body.stdout
Output /tmp/testwrapper.61979/d9OlMl6VFu looks good.
ok 1 - Computing differences
Comparing /tmp/testwrapper.61979/bMzzyEP9e4 to t/results/line_number_binary_body.stdout
Output /tmp/testwrapper.61979/bMzzyEP9e4 looks good.
ok 2 - Computing differences
ok 3 # skip GNU grep not available
Testing filename: t/mailboxes/hessbug.txt
Comparing /tmp/testwrapper.61979/wP1hBcqsbu to t/results/line_number_hessbug.stdout
Output /tmp/testwrapper.61979/wP1hBcqsbu looks good.
ok 4 - Computing differences
Comparing /tmp/testwrapper.61979/PDzElYHPzR to t/results/line_number_hessbug.stdout
Output /tmp/testwrapper.61979/PDzElYHPzR looks good.
ok 5 - Computing differences
ok 6 # skip GNU grep not available
Testing filename: t/mailboxes/invalid-boundaries.txt
Comparing /tmp/testwrapper.61979/Kg4o5XDTmt to t/results/line_number_invalid-boundaries.stdout
Output /tmp/testwrapper.61979/Kg4o5XDTmt looks good.
ok 7 - Computing differences
Comparing /tmp/testwrapper.61979/80IKLv8ntp to t/results/line_number_invalid-boundaries.stdout
Output /tmp/testwrapper.61979/80IKLv8ntp looks good.
ok 8 - Computing differences
ok 9 # skip GNU grep not available
Testing filename: t/mailboxes/mailarc-1-dos.txt
Comparing /tmp/testwrapper.61979/LxSDwHkT6i to t/results/line_number_mailarc-1-dos.stdout
Output /tmp/testwrapper.61979/LxSDwHkT6i looks good.
ok 10 - Computing differences
Comparing /tmp/testwrapper.61979/cfGOWymtdy to t/results/line_number_mailarc-1-dos.stdout
Output /tmp/testwrapper.61979/cfGOWymtdy looks good.
ok 11 - Computing differences
ok 12 # skip GNU grep not available
Testing filename: t/mailboxes/mailarc-1.txt
Comparing /tmp/testwrapper.61979/ow_g3LaMaG to t/results/line_number_mailarc-1.stdout
Output /tmp/testwrapper.61979/ow_g3LaMaG looks good.
ok 13 - Computing differences
Comparing /tmp/testwrapper.61979/bfuZKpnt97 to t/results/line_number_mailarc-1.stdout
Output /tmp/testwrapper.61979/bfuZKpnt97 looks good.
ok 14 - Computing differences
ok 15 # skip GNU grep not available
Testing filename: t/mailboxes/mailarc-2.txt
Comparing /tmp/testwrapper.61979/yjfP4nreRU to t/results/line_number_mailarc-2.stdout
Output /tmp/testwrapper.61979/yjfP4nreRU looks good.
ok 16 - Computing differences
Comparing /tmp/testwrapper.61979/gMf95pylWv to t/results/line_number_mailarc-2.stdout
Output /tmp/testwrapper.61979/gMf95pylWv looks good.
ok 17 - Computing differences
ok 18 # skip GNU grep not available
Testing filename: t/mailboxes/mailarc-3.txt
Comparing /tmp/testwrapper.61979/syG5xYGCZh to t/results/line_number_mailarc-3.stdout
Output /tmp/testwrapper.61979/syG5xYGCZh looks good.
ok 19 - Computing differences
Comparing /tmp/testwrapper.61979/9SXmVi_ixb to t/results/line_number_mailarc-3.stdout
Output /tmp/testwrapper.61979/9SXmVi_ixb looks good.
ok 20 - Computing differences
ok 21 # skip GNU grep not available
Testing filename: t/mailboxes/mailseparators.txt
Comparing /tmp/testwrapper.61979/w0GrLBOXRj to t/results/line_number_mailseparators.stdout
Output /tmp/testwrapper.61979/w0GrLBOXRj looks good.
ok 22 - Computing differences
Comparing /tmp/testwrapper.61979/Pr6PD2fM5T to t/results/line_number_mailseparators.stdout
Output /tmp/testwrapper.61979/Pr6PD2fM5T looks good.
ok 23 - Computing differences
ok 24 # skip GNU grep not available
Testing filename: t/mailboxes/malformed.txt
Comparing /tmp/testwrapper.61979/XhDGto2ds4 to t/results/line_number_malformed.stdout
Output /tmp/testwrapper.61979/XhDGto2ds4 looks good.
ok 25 - Computing differences
Comparing /tmp/testwrapper.61979/YzKIuT877B to t/results/line_number_malformed.stdout
Output /tmp/testwrapper.61979/YzKIuT877B looks good.
ok 26 - Computing differences
ok 27 # skip GNU grep not available
Testing filename: t/mailboxes/newlines_at_beginning.txt
Comparing /tmp/testwrapper.61979/qK5Mke1Z8k to t/results/line_number_newlines_at_beginning.stdout
Output /tmp/testwrapper.61979/qK5Mke1Z8k looks good.
ok 28 - Computing differences
Comparing /tmp/testwrapper.61979/QYQ6gsu4NX to t/results/line_number_newlines_at_beginning.stdout
Output /tmp/testwrapper.61979/QYQ6gsu4NX looks good.
ok 29 - Computing differences
ok 30 # skip GNU grep not available
ok
t/lzip.t ........................ 
1..1
Running test:
  "/bin/cat" "t/mailboxes/mailarc-2.txt.lz" | "lzip" -cd
ok 1 # skip lzip not available
ok
t/number.t ...................... 
1..30
Testing filename: t/mailboxes/binary_body.txt
Comparing /tmp/testwrapper.61979/lSXONbMgs0 to t/results/number_binary_body.stdout
Output /tmp/testwrapper.61979/lSXONbMgs0 looks good.
ok 1 - Computing differences
Comparing /tmp/testwrapper.61979/PBgUjtY7dC to t/results/number_binary_body.stdout
Output /tmp/testwrapper.61979/PBgUjtY7dC looks good.
ok 2 - Computing differences
ok 3 # skip GNU grep not available
Testing filename: t/mailboxes/hessbug.txt
Comparing /tmp/testwrapper.61979/dwBHawLqQo to t/results/number_hessbug.stdout
Output /tmp/testwrapper.61979/dwBHawLqQo looks good.
ok 4 - Computing differences
Comparing /tmp/testwrapper.61979/Snncp2PxgU to t/results/number_hessbug.stdout
Output /tmp/testwrapper.61979/Snncp2PxgU looks good.
ok 5 - Computing differences
ok 6 # skip GNU grep not available
Testing filename: t/mailboxes/invalid-boundaries.txt
Comparing /tmp/testwrapper.61979/3bMUf_911i to t/results/number_invalid-boundaries.stdout
Output /tmp/testwrapper.61979/3bMUf_911i looks good.
ok 7 - Computing differences
Comparing /tmp/testwrapper.61979/eIrufRSWkE to t/results/number_invalid-boundaries.stdout
Output /tmp/testwrapper.61979/eIrufRSWkE looks good.
ok 8 - Computing differences
ok 9 # skip GNU grep not available
Testing filename: t/mailboxes/mailarc-1-dos.txt
Comparing /tmp/testwrapper.61979/x4DyH2NjWG to t/results/number_mailarc-1-dos.stdout
Output /tmp/testwrapper.61979/x4DyH2NjWG looks good.
ok 10 - Computing differences
Comparing /tmp/testwrapper.61979/5SMcRM1eFE to t/results/number_mailarc-1-dos.stdout
Output /tmp/testwrapper.61979/5SMcRM1eFE looks good.
ok 11 - Computing differences
ok 12 # skip GNU grep not available
Testing filename: t/mailboxes/mailarc-1.txt
Comparing /tmp/testwrapper.61979/am_CFFh7b0 to t/results/number_mailarc-1.stdout
Output /tmp/testwrapper.61979/am_CFFh7b0 looks good.
ok 13 - Computing differences
Comparing /tmp/testwrapper.61979/aNsrf01RFR to t/results/number_mailarc-1.stdout
Output /tmp/testwrapper.61979/aNsrf01RFR looks good.
ok 14 - Computing differences
ok 15 # skip GNU grep not available
Testing filename: t/mailboxes/mailarc-2.txt
Comparing /tmp/testwrapper.61979/niMZmQo8OQ to t/results/number_mailarc-2.stdout
Output /tmp/testwrapper.61979/niMZmQo8OQ looks good.
ok 16 - Computing differences
Comparing /tmp/testwrapper.61979/22hLcSVHC2 to t/results/number_mailarc-2.stdout
Output /tmp/testwrapper.61979/22hLcSVHC2 looks good.
ok 17 - Computing differences
ok 18 # skip GNU grep not available
Testing filename: t/mailboxes/mailarc-3.txt
Comparing /tmp/testwrapper.61979/ubYqmQvYMV to t/results/number_mailarc-3.stdout
Output /tmp/testwrapper.61979/ubYqmQvYMV looks good.
ok 19 - Computing differences
Comparing /tmp/testwrapper.61979/UihGnr7d_V to t/results/number_mailarc-3.stdout
Output /tmp/testwrapper.61979/UihGnr7d_V looks good.
ok 20 - Computing differences
ok 21 # skip GNU grep not available
Testing filename: t/mailboxes/mailseparators.txt
Comparing /tmp/testwrapper.61979/PAIwTAvjYq to t/results/number_mailseparators.stdout
Output /tmp/testwrapper.61979/PAIwTAvjYq looks good.
ok 22 - Computing differences
Comparing /tmp/testwrapper.61979/u3BaarMvYN to t/results/number_mailseparators.stdout
Output /tmp/testwrapper.61979/u3BaarMvYN looks good.
ok 23 - Computing differences
ok 24 # skip GNU grep not available
Testing filename: t/mailboxes/malformed.txt
Comparing /tmp/testwrapper.61979/56u95gQ0Xn to t/results/number_malformed.stdout
Output /tmp/testwrapper.61979/56u95gQ0Xn looks good.
ok 25 - Computing differences
Comparing /tmp/testwrapper.61979/4Hgms4IKWR to t/results/number_malformed.stdout
Output /tmp/testwrapper.61979/4Hgms4IKWR looks good.
ok 26 - Computing differences
ok 27 # skip GNU grep not available
Testing filename: t/mailboxes/newlines_at_beginning.txt
Comparing /tmp/testwrapper.61979/qkP3gbWt1a to t/results/number_newlines_at_beginning.stdout
Output /tmp/testwrapper.61979/qkP3gbWt1a looks good.
ok 28 - Computing differences
Comparing /tmp/testwrapper.61979/t_GOf6mUmd to t/results/number_newlines_at_beginning.stdout
Output /tmp/testwrapper.61979/t_GOf6mUmd looks good.
ok 29 - Computing differences
ok 30 # skip GNU grep not available
ok
t/offset.t ...................... 
1..30
Testing filename: t/mailboxes/binary_body.txt
Comparing /tmp/testwrapper.61979/jhqiRxEgr2 to t/results/offset_binary_body.stdout
Output /tmp/testwrapper.61979/jhqiRxEgr2 looks good.
ok 1 - Computing differences
Comparing /tmp/testwrapper.61979/Lfh1vYvoR7 to t/results/offset_binary_body.stdout
Output /tmp/testwrapper.61979/Lfh1vYvoR7 looks good.
ok 2 - Computing differences
ok 3 # skip GNU grep not available
Testing filename: t/mailboxes/hessbug.txt
Comparing /tmp/testwrapper.61979/iN6tYHivdH to t/results/offset_hessbug.stdout
Output /tmp/testwrapper.61979/iN6tYHivdH looks good.
ok 4 - Computing differences
Comparing /tmp/testwrapper.61979/LF8tpN_4ns to t/results/offset_hessbug.stdout
Output /tmp/testwrapper.61979/LF8tpN_4ns looks good.
ok 5 - Computing differences
ok 6 # skip GNU grep not available
Testing filename: t/mailboxes/invalid-boundaries.txt
Comparing /tmp/testwrapper.61979/g1sMIGzGu7 to t/results/offset_invalid-boundaries.stdout
Output /tmp/testwrapper.61979/g1sMIGzGu7 looks good.
ok 7 - Computing differences
Comparing /tmp/testwrapper.61979/w6gdu6nhAz to t/results/offset_invalid-boundaries.stdout
Output /tmp/testwrapper.61979/w6gdu6nhAz looks good.
ok 8 - Computing differences
ok 9 # skip GNU grep not available
Testing filename: t/mailboxes/mailarc-1-dos.txt
Comparing /tmp/testwrapper.61979/9QJQa40iUM to t/results/offset_mailarc-1-dos.stdout
Output /tmp/testwrapper.61979/9QJQa40iUM looks good.
ok 10 - Computing differences
Comparing /tmp/testwrapper.61979/PTGeJSJ3HB to t/results/offset_mailarc-1-dos.stdout
Output /tmp/testwrapper.61979/PTGeJSJ3HB looks good.
ok 11 - Computing differences
ok 12 # skip GNU grep not available
Testing filename: t/mailboxes/mailarc-1.txt
Comparing /tmp/testwrapper.61979/0nLkyMhAkr to t/results/offset_mailarc-1.stdout
Output /tmp/testwrapper.61979/0nLkyMhAkr looks good.
ok 13 - Computing differences
Comparing /tmp/testwrapper.61979/ZQv92an5Sy to t/results/offset_mailarc-1.stdout
Output /tmp/testwrapper.61979/ZQv92an5Sy looks good.
ok 14 - Computing differences
ok 15 # skip GNU grep not available
Testing filename: t/mailboxes/mailarc-2.txt
Comparing /tmp/testwrapper.61979/2OwCg_myox to t/results/offset_mailarc-2.stdout
Output /tmp/testwrapper.61979/2OwCg_myox looks good.
ok 16 - Computing differences
Comparing /tmp/testwrapper.61979/k835nHiDru to t/results/offset_mailarc-2.stdout
Output /tmp/testwrapper.61979/k835nHiDru looks good.
ok 17 - Computing differences
ok 18 # skip GNU grep not available
Testing filename: t/mailboxes/mailarc-3.txt
Comparing /tmp/testwrapper.61979/_dWUHQMVT7 to t/results/offset_mailarc-3.stdout
Output /tmp/testwrapper.61979/_dWUHQMVT7 looks good.
ok 19 - Computing differences
Comparing /tmp/testwrapper.61979/FeTkbROiNj to t/results/offset_mailarc-3.stdout
Output /tmp/testwrapper.61979/FeTkbROiNj looks good.
ok 20 - Computing differences
ok 21 # skip GNU grep not available
Testing filename: t/mailboxes/mailseparators.txt
Comparing /tmp/testwrapper.61979/H_1B4ujH0h to t/results/offset_mailseparators.stdout
Output /tmp/testwrapper.61979/H_1B4ujH0h looks good.
ok 22 - Computing differences
Comparing /tmp/testwrapper.61979/0uyLz7nSoK to t/results/offset_mailseparators.stdout
Output /tmp/testwrapper.61979/0uyLz7nSoK looks good.
ok 23 - Computing differences
ok 24 # skip GNU grep not available
Testing filename: t/mailboxes/malformed.txt
Comparing /tmp/testwrapper.61979/uXI6xLb78F to t/results/offset_malformed.stdout
Output /tmp/testwrapper.61979/uXI6xLb78F looks good.
ok 25 - Computing differences
Comparing /tmp/testwrapper.61979/YD8Vd0vNsq to t/results/offset_malformed.stdout
Output /tmp/testwrapper.61979/YD8Vd0vNsq looks good.
ok 26 - Computing differences
ok 27 # skip GNU grep not available
Testing filename: t/mailboxes/newlines_at_beginning.txt
Comparing /tmp/testwrapper.61979/4A2XG1XQB9 to t/results/offset_newlines_at_beginning.stdout
Output /tmp/testwrapper.61979/4A2XG1XQB9 looks good.
ok 28 - Computing differences
Comparing /tmp/testwrapper.61979/M7XwXAeuWx to t/results/offset_newlines_at_beginning.stdout
Output /tmp/testwrapper.61979/M7XwXAeuWx looks good.
ok 29 - Computing differences
ok 30 # skip GNU grep not available
ok
t/prologue.t .................... 
1..33
Testing filename: t/mailboxes/binary_body.txt
Comparing /tmp/testwrapper.61979/bj1bM482wg to t/mailboxes/binary_body.txt
Output /tmp/testwrapper.61979/bj1bM482wg looks good.
ok 1 - Computing differences
Comparing /tmp/testwrapper.61979/0H3BIfA7ej to t/mailboxes/binary_body.txt
Output /tmp/testwrapper.61979/0H3BIfA7ej looks good.
ok 2 - Computing differences
ok 3 # skip GNU grep not available
Testing filename: t/mailboxes/hessbug.txt
Comparing /tmp/testwrapper.61979/BM1uOZqL_g to t/mailboxes/hessbug.txt
Output /tmp/testwrapper.61979/BM1uOZqL_g looks good.
ok 4 - Computing differences
Comparing /tmp/testwrapper.61979/G8DxdnpCX4 to t/mailboxes/hessbug.txt
Output /tmp/testwrapper.61979/G8DxdnpCX4 looks good.
ok 5 - Computing differences
ok 6 # skip GNU grep not available
Testing filename: t/mailboxes/invalid-boundaries.txt
Comparing /tmp/testwrapper.61979/XAYlH6Xb7H to t/mailboxes/invalid-boundaries.txt
Output /tmp/testwrapper.61979/XAYlH6Xb7H looks good.
ok 7 - Computing differences
Comparing /tmp/testwrapper.61979/8tMVo47GG1 to t/mailboxes/invalid-boundaries.txt
Output /tmp/testwrapper.61979/8tMVo47GG1 looks good.
ok 8 - Computing differences
ok 9 # skip GNU grep not available
Testing filename: t/mailboxes/mailarc-1-dos.txt
Comparing /tmp/testwrapper.61979/wwlfBG7X0C to t/mailboxes/mailarc-1-dos.txt
Output /tmp/testwrapper.61979/wwlfBG7X0C looks good.
ok 10 - Computing differences
Comparing /tmp/testwrapper.61979/khHW3gjXAX to t/mailboxes/mailarc-1-dos.txt
Output /tmp/testwrapper.61979/khHW3gjXAX looks good.
ok 11 - Computing differences
ok 12 # skip GNU grep not available
Testing filename: t/mailboxes/mailarc-1.txt
Comparing /tmp/testwrapper.61979/RgwU492m7l to t/mailboxes/mailarc-1.txt
Output /tmp/testwrapper.61979/RgwU492m7l looks good.
ok 13 - Computing differences
Comparing /tmp/testwrapper.61979/I0ReNXRfZF to t/mailboxes/mailarc-1.txt
Output /tmp/testwrapper.61979/I0ReNXRfZF looks good.
ok 14 - Computing differences
ok 15 # skip GNU grep not available
Testing filename: t/mailboxes/mailarc-2.txt
Comparing /tmp/testwrapper.61979/OerQ_jVm8m to t/mailboxes/mailarc-2.txt
Output /tmp/testwrapper.61979/OerQ_jVm8m looks good.
ok 16 - Computing differences
Comparing /tmp/testwrapper.61979/eiZvirZWKa to t/mailboxes/mailarc-2.txt
Output /tmp/testwrapper.61979/eiZvirZWKa looks good.
ok 17 - Computing differences
ok 18 # skip GNU grep not available
Testing filename: t/mailboxes/mailarc-3.txt
Comparing /tmp/testwrapper.61979/mStKKNN1DI to t/mailboxes/mailarc-3.txt
Output /tmp/testwrapper.61979/mStKKNN1DI looks good.
ok 19 - Computing differences
Comparing /tmp/testwrapper.61979/Kh0jMlTdaS to t/mailboxes/mailarc-3.txt
Output /tmp/testwrapper.61979/Kh0jMlTdaS looks good.
ok 20 - Computing differences
ok 21 # skip GNU grep not available
Testing filename: t/mailboxes/mailseparators.txt
Comparing /tmp/testwrapper.61979/FUvz1EJQnh to t/mailboxes/mailseparators.txt
Output /tmp/testwrapper.61979/FUvz1EJQnh looks good.
ok 22 - Computing differences
Comparing /tmp/testwrapper.61979/jOd1VayqH1 to t/mailboxes/mailseparators.txt
Output /tmp/testwrapper.61979/jOd1VayqH1 looks good.
ok 23 - Computing differences
ok 24 # skip GNU grep not available
Testing filename: t/mailboxes/malformed.txt
Comparing /tmp/testwrapper.61979/iqeGlHS2j1 to t/mailboxes/malformed.txt
Output /tmp/testwrapper.61979/iqeGlHS2j1 looks good.
ok 25 - Computing differences
Comparing /tmp/testwrapper.61979/p856oalkyW to t/mailboxes/malformed.txt
Output /tmp/testwrapper.61979/p856oalkyW looks good.
ok 26 - Computing differences
ok 27 # skip GNU grep not available
Testing filename: t/mailboxes/newlines_at_beginning.txt
Comparing /tmp/testwrapper.61979/VKHWXT2sTz to t/mailboxes/newlines_at_beginning.txt
Output /tmp/testwrapper.61979/VKHWXT2sTz looks good.
ok 28 - Computing differences
Comparing /tmp/testwrapper.61979/wcBxit17aH to t/mailboxes/newlines_at_beginning.txt
Output /tmp/testwrapper.61979/wcBxit17aH looks good.
ok 29 - Computing differences
ok 30 # skip GNU grep not available
Testing filename: t/mailboxes/vm-emacs.txt
Comparing /tmp/testwrapper.61979/ooW9zK2mmb to t/mailboxes/vm-emacs.txt
Output /tmp/testwrapper.61979/ooW9zK2mmb looks good.
ok 31 - Computing differences
Comparing /tmp/testwrapper.61979/QmYROHS_uc to t/mailboxes/vm-emacs.txt
Output /tmp/testwrapper.61979/QmYROHS_uc looks good.
ok 32 - Computing differences
ok 33 # skip GNU grep not available
ok
t/reset.t ....................... 
1..60
Testing filename: t/mailboxes/binary_body.txt
Testing partial mailbox reset with Perl implementation
Comparing /tmp/testwrapper.61979/SvT2SwE5gB to t/results/reset_binary_body.stdout
Output /tmp/testwrapper.61979/SvT2SwE5gB looks good.
ok 1 - Computing differences
Testing partial mailbox reset with Cache implementation
Comparing /tmp/testwrapper.61979/i8QDZt2l5W to t/results/reset_binary_body.stdout
Output /tmp/testwrapper.61979/i8QDZt2l5W looks good.
ok 2 - Computing differences
Testing partial mailbox reset with Grep implementation
ok 3 # skip GNU grep not available
Testing full mailbox reset with Perl implementation
Comparing /tmp/testwrapper.61979/yKS9vEj_ZY to t/results/reset_binary_body.stdout
Output /tmp/testwrapper.61979/yKS9vEj_ZY looks good.
ok 4 - Computing differences
Testing full mailbox reset with Cache implementation
Comparing /tmp/testwrapper.61979/54iVGfJIwh to t/results/reset_binary_body.stdout
Output /tmp/testwrapper.61979/54iVGfJIwh looks good.
ok 5 - Computing differences
Testing full mailbox reset with Grep implementation
ok 6 # skip GNU grep not available
Testing filename: t/mailboxes/hessbug.txt
Testing partial mailbox reset with Perl implementation
Comparing /tmp/testwrapper.61979/7FOJS564et to t/results/reset_hessbug.stdout
Output /tmp/testwrapper.61979/7FOJS564et looks good.
ok 7 - Computing differences
Testing partial mailbox reset with Cache implementation
Comparing /tmp/testwrapper.61979/08jigzhynp to t/results/reset_hessbug.stdout
Output /tmp/testwrapper.61979/08jigzhynp looks good.
ok 8 - Computing differences
Testing partial mailbox reset with Grep implementation
ok 9 # skip GNU grep not available
Testing full mailbox reset with Perl implementation
Comparing /tmp/testwrapper.61979/ZcE1G0qhmS to t/results/reset_hessbug.stdout
Output /tmp/testwrapper.61979/ZcE1G0qhmS looks good.
ok 10 - Computing differences
Testing full mailbox reset with Cache implementation
Comparing /tmp/testwrapper.61979/ZEPam45PP_ to t/results/reset_hessbug.stdout
Output /tmp/testwrapper.61979/ZEPam45PP_ looks good.
ok 11 - Computing differences
Testing full mailbox reset with Grep implementation
ok 12 # skip GNU grep not available
Testing filename: t/mailboxes/invalid-boundaries.txt
Testing partial mailbox reset with Perl implementation
Comparing /tmp/testwrapper.61979/TgZ5hkHyEl to t/results/reset_invalid-boundaries.stdout
Output /tmp/testwrapper.61979/TgZ5hkHyEl looks good.
ok 13 - Computing differences
Testing partial mailbox reset with Cache implementation
Comparing /tmp/testwrapper.61979/XSGV6dQ4FZ to t/results/reset_invalid-boundaries.stdout
Output /tmp/testwrapper.61979/XSGV6dQ4FZ looks good.
ok 14 - Computing differences
Testing partial mailbox reset with Grep implementation
ok 15 # skip GNU grep not available
Testing full mailbox reset with Perl implementation
Comparing /tmp/testwrapper.61979/AkLLYtgEL9 to t/results/reset_invalid-boundaries.stdout
Output /tmp/testwrapper.61979/AkLLYtgEL9 looks good.
ok 16 - Computing differences
Testing full mailbox reset with Cache implementation
Comparing /tmp/testwrapper.61979/oLBPu40f6f to t/results/reset_invalid-boundaries.stdout
Output /tmp/testwrapper.61979/oLBPu40f6f looks good.
ok 17 - Computing differences
Testing full mailbox reset with Grep implementation
ok 18 # skip GNU grep not available
Testing filename: t/mailboxes/mailarc-1-dos.txt
Testing partial mailbox reset with Perl implementation
Comparing /tmp/testwrapper.61979/zpWBFTFpn7 to t/results/reset_mailarc-1-dos.stdout
Output /tmp/testwrapper.61979/zpWBFTFpn7 looks good.
ok 19 - Computing differences
Testing partial mailbox reset with Cache implementation
Comparing /tmp/testwrapper.61979/FRjA9gCgIk to t/results/reset_mailarc-1-dos.stdout
Output /tmp/testwrapper.61979/FRjA9gCgIk looks good.
ok 20 - Computing differences
Testing partial mailbox reset with Grep implementation
ok 21 # skip GNU grep not available
Testing full mailbox reset with Perl implementation
Comparing /tmp/testwrapper.61979/JvaOSUIwh5 to t/results/reset_mailarc-1-dos.stdout
Output /tmp/testwrapper.61979/JvaOSUIwh5 looks good.
ok 22 - Computing differences
Testing full mailbox reset with Cache implementation
Comparing /tmp/testwrapper.61979/bD794hZuIf to t/results/reset_mailarc-1-dos.stdout
Output /tmp/testwrapper.61979/bD794hZuIf looks good.
ok 23 - Computing differences
Testing full mailbox reset with Grep implementation
ok 24 # skip GNU grep not available
Testing filename: t/mailboxes/mailarc-1.txt
Testing partial mailbox reset with Perl implementation
Comparing /tmp/testwrapper.61979/jLLUUDve7T to t/results/reset_mailarc-1.stdout
Output /tmp/testwrapper.61979/jLLUUDve7T looks good.
ok 25 - Computing differences
Testing partial mailbox reset with Cache implementation
Comparing /tmp/testwrapper.61979/3UPNDYoh6r to t/results/reset_mailarc-1.stdout
Output /tmp/testwrapper.61979/3UPNDYoh6r looks good.
ok 26 - Computing differences
Testing partial mailbox reset with Grep implementation
ok 27 # skip GNU grep not available
Testing full mailbox reset with Perl implementation
Comparing /tmp/testwrapper.61979/Fe7qOPgHOI to t/results/reset_mailarc-1.stdout
Output /tmp/testwrapper.61979/Fe7qOPgHOI looks good.
ok 28 - Computing differences
Testing full mailbox reset with Cache implementation
Comparing /tmp/testwrapper.61979/j2AQ1anPqR to t/results/reset_mailarc-1.stdout
Output /tmp/testwrapper.61979/j2AQ1anPqR looks good.
ok 29 - Computing differences
Testing full mailbox reset with Grep implementation
ok 30 # skip GNU grep not available
Testing filename: t/mailboxes/mailarc-2.txt
Testing partial mailbox reset with Perl implementation
Comparing /tmp/testwrapper.61979/_PFDv6LWGR to t/results/reset_mailarc-2.stdout
Output /tmp/testwrapper.61979/_PFDv6LWGR looks good.
ok 31 - Computing differences
Testing partial mailbox reset with Cache implementation
Comparing /tmp/testwrapper.61979/9ZpqtRGX3J to t/results/reset_mailarc-2.stdout
Output /tmp/testwrapper.61979/9ZpqtRGX3J looks good.
ok 32 - Computing differences
Testing partial mailbox reset with Grep implementation
ok 33 # skip GNU grep not available
Testing full mailbox reset with Perl implementation
Comparing /tmp/testwrapper.61979/3SQ5z2R5Fp to t/results/reset_mailarc-2.stdout
Output /tmp/testwrapper.61979/3SQ5z2R5Fp looks good.
ok 34 - Computing differences
Testing full mailbox reset with Cache implementation
Comparing /tmp/testwrapper.61979/TqMCWZzIbV to t/results/reset_mailarc-2.stdout
Output /tmp/testwrapper.61979/TqMCWZzIbV looks good.
ok 35 - Computing differences
Testing full mailbox reset with Grep implementation
ok 36 # skip GNU grep not available
Testing filename: t/mailboxes/mailarc-3.txt
Testing partial mailbox reset with Perl implementation
Comparing /tmp/testwrapper.61979/lZg2FjLuWN to t/results/reset_mailarc-3.stdout
Output /tmp/testwrapper.61979/lZg2FjLuWN looks good.
ok 37 - Computing differences
Testing partial mailbox reset with Cache implementation
Comparing /tmp/testwrapper.61979/o64E4CnFY1 to t/results/reset_mailarc-3.stdout
Output /tmp/testwrapper.61979/o64E4CnFY1 looks good.
ok 38 - Computing differences
Testing partial mailbox reset with Grep implementation
ok 39 # skip GNU grep not available
Testing full mailbox reset with Perl implementation
Comparing /tmp/testwrapper.61979/czXEhsSbch to t/results/reset_mailarc-3.stdout
Output /tmp/testwrapper.61979/czXEhsSbch looks good.
ok 40 - Computing differences
Testing full mailbox reset with Cache implementation
Comparing /tmp/testwrapper.61979/QiZ2bwVk1E to t/results/reset_mailarc-3.stdout
Output /tmp/testwrapper.61979/QiZ2bwVk1E looks good.
ok 41 - Computing differences
Testing full mailbox reset with Grep implementation
ok 42 # skip GNU grep not available
Testing filename: t/mailboxes/mailseparators.txt
Testing partial mailbox reset with Perl implementation
Comparing /tmp/testwrapper.61979/IklNkoXF_k to t/results/reset_mailseparators.stdout
Output /tmp/testwrapper.61979/IklNkoXF_k looks good.
ok 43 - Computing differences
Testing partial mailbox reset with Cache implementation
Comparing /tmp/testwrapper.61979/WSmGAahBJY to t/results/reset_mailseparators.stdout
Output /tmp/testwrapper.61979/WSmGAahBJY looks good.
ok 44 - Computing differences
Testing partial mailbox reset with Grep implementation
ok 45 # skip GNU grep not available
Testing full mailbox reset with Perl implementation
Comparing /tmp/testwrapper.61979/LmI_sIu7gy to t/results/reset_mailseparators.stdout
Output /tmp/testwrapper.61979/LmI_sIu7gy looks good.
ok 46 - Computing differences
Testing full mailbox reset with Cache implementation
Comparing /tmp/testwrapper.61979/Kx7CfLhPRF to t/results/reset_mailseparators.stdout
Output /tmp/testwrapper.61979/Kx7CfLhPRF looks good.
ok 47 - Computing differences
Testing full mailbox reset with Grep implementation
ok 48 # skip GNU grep not available
Testing filename: t/mailboxes/malformed.txt
Testing partial mailbox reset with Perl implementation
Comparing /tmp/testwrapper.61979/hbu7Ym2uJj to t/results/reset_malformed.stdout
Output /tmp/testwrapper.61979/hbu7Ym2uJj looks good.
ok 49 - Computing differences
Testing partial mailbox reset with Cache implementation
Comparing /tmp/testwrapper.61979/t_1Fsmqc9E to t/results/reset_malformed.stdout
Output /tmp/testwrapper.61979/t_1Fsmqc9E looks good.
ok 50 - Computing differences
Testing partial mailbox reset with Grep implementation
ok 51 # skip GNU grep not available
Testing full mailbox reset with Perl implementation
Comparing /tmp/testwrapper.61979/aXflurJm8v to t/results/reset_malformed.stdout
Output /tmp/testwrapper.61979/aXflurJm8v looks good.
ok 52 - Computing differences
Testing full mailbox reset with Cache implementation
Comparing /tmp/testwrapper.61979/L0mFpWF7Fp to t/results/reset_malformed.stdout
Output /tmp/testwrapper.61979/L0mFpWF7Fp looks good.
ok 53 - Computing differences
Testing full mailbox reset with Grep implementation
ok 54 # skip GNU grep not available
Testing filename: t/mailboxes/newlines_at_beginning.txt
Testing partial mailbox reset with Perl implementation
Comparing /tmp/testwrapper.61979/ackIaxelJ1 to t/results/reset_newlines_at_beginning.stdout
Output /tmp/testwrapper.61979/ackIaxelJ1 looks good.
ok 55 - Computing differences
Testing partial mailbox reset with Cache implementation
Comparing /tmp/testwrapper.61979/aBGzPgp8CR to t/results/reset_newlines_at_beginning.stdout
Output /tmp/testwrapper.61979/aBGzPgp8CR looks good.
ok 56 - Computing differences
Testing partial mailbox reset with Grep implementation
ok 57 # skip GNU grep not available
Testing full mailbox reset with Perl implementation
Comparing /tmp/testwrapper.61979/ysQoL7AuO7 to t/results/reset_newlines_at_beginning.stdout
Output /tmp/testwrapper.61979/ysQoL7AuO7 looks good.
ok 58 - Computing differences
Testing full mailbox reset with Cache implementation
Comparing /tmp/testwrapper.61979/eX3kFqetE3 to t/results/reset_newlines_at_beginning.stdout
Output /tmp/testwrapper.61979/eX3kFqetE3 looks good.
ok 59 - Computing differences
Testing full mailbox reset with Grep implementation
ok 60 # skip GNU grep not available
ok
t/separators.t .................. 
1..6
Testing filename: t/mailboxes/separators2.sep
ok 1 - Number of emails in t/mailboxes/separators2.sep
ok 2 - Number of emails in t/mailboxes/separators2.sep
ok 3 # skip GNU grep not available
Testing filename: t/mailboxes/separators1.sep
ok 4 - Number of emails in t/mailboxes/separators1.sep
ok 5 - Number of emails in t/mailboxes/separators1.sep
ok 6 # skip GNU grep not available
ok
t/stdin_compressed.t ............ 
1..4
Testing filename: t/mailboxes/mailarc-2.txt.bz2
Comparing /tmp/testwrapper.61979/k7IXtcVRA5 to t/mailboxes/mailarc-2.txt
Output /tmp/testwrapper.61979/k7IXtcVRA5 looks good.
ok 1 - Computing differences
Testing filename: t/mailboxes/mailarc-2.txt.gz
Comparing /tmp/testwrapper.61979/mdfPuGdfa3 to t/mailboxes/mailarc-2.txt
Output /tmp/testwrapper.61979/mdfPuGdfa3 looks good.
ok 2 - Computing differences
Testing filename: t/mailboxes/mailarc-2.txt.lz
ok 3 # skip lzip not available
Testing filename: t/mailboxes/mailarc-2.txt.xz
Comparing /tmp/testwrapper.61979/Jvbammdr5B to t/mailboxes/mailarc-2.txt
Output /tmp/testwrapper.61979/Jvbammdr5B looks good.
ok 4 - Computing differences
ok
t/stdin_uncompressed.t .......... 
1..11
Testing filename: t/mailboxes/binary_body.txt
Comparing /tmp/testwrapper.61979/BCduLucoG7 to t/mailboxes/binary_body.txt
Output /tmp/testwrapper.61979/BCduLucoG7 looks good.
ok 1 - Computing differences
Testing filename: t/mailboxes/hessbug.txt
Comparing /tmp/testwrapper.61979/2xLKC59_lN to t/mailboxes/hessbug.txt
Output /tmp/testwrapper.61979/2xLKC59_lN looks good.
ok 2 - Computing differences
Testing filename: t/mailboxes/invalid-boundaries.txt
Comparing /tmp/testwrapper.61979/RvQJDgiDhp to t/mailboxes/invalid-boundaries.txt
Output /tmp/testwrapper.61979/RvQJDgiDhp looks good.
ok 3 - Computing differences
Testing filename: t/mailboxes/mailarc-1-dos.txt
Comparing /tmp/testwrapper.61979/EmM923NqL5 to t/mailboxes/mailarc-1-dos.txt
Output /tmp/testwrapper.61979/EmM923NqL5 looks good.
ok 4 - Computing differences
Testing filename: t/mailboxes/mailarc-1.txt
Comparing /tmp/testwrapper.61979/JLxO_Uvgui to t/mailboxes/mailarc-1.txt
Output /tmp/testwrapper.61979/JLxO_Uvgui looks good.
ok 5 - Computing differences
Testing filename: t/mailboxes/mailarc-2.txt
Comparing /tmp/testwrapper.61979/exX_9geMs3 to t/mailboxes/mailarc-2.txt
Output /tmp/testwrapper.61979/exX_9geMs3 looks good.
ok 6 - Computing differences
Testing filename: t/mailboxes/mailarc-3.txt
Comparing /tmp/testwrapper.61979/Kz2l4iuzQA to t/mailboxes/mailarc-3.txt
Output /tmp/testwrapper.61979/Kz2l4iuzQA looks good.
ok 7 - Computing differences
Testing filename: t/mailboxes/mailseparators.txt
Comparing /tmp/testwrapper.61979/kE9GYv9Wsp to t/mailboxes/mailseparators.txt
Output /tmp/testwrapper.61979/kE9GYv9Wsp looks good.
ok 8 - Computing differences
Testing filename: t/mailboxes/malformed.txt
Comparing /tmp/testwrapper.61979/cQHSE08WrZ to t/mailboxes/malformed.txt
Output /tmp/testwrapper.61979/cQHSE08WrZ looks good.
ok 9 - Computing differences
Testing filename: t/mailboxes/newlines_at_beginning.txt
Comparing /tmp/testwrapper.61979/1QcpXeeJ7n to t/mailboxes/newlines_at_beginning.txt
Output /tmp/testwrapper.61979/1QcpXeeJ7n looks good.
ok 10 - Computing differences
Testing filename: t/mailboxes/vm-emacs.txt
Comparing /tmp/testwrapper.61979/IclNy1KrCG to t/mailboxes/vm-emacs.txt
Output /tmp/testwrapper.61979/IclNy1KrCG looks good.
ok 11 - Computing differences
ok
t/undef_return_value.t .......... 
1..33
Testing Perl 
Comparing /tmp/testwrapper.61979/H9TsSpEe5f to t/mailboxes/binary_body.txt
Output /tmp/testwrapper.61979/H9TsSpEe5f looks good.
ok 1 - Computing differences
Testing Cache implementation
Comparing /tmp/testwrapper.61979/akLw1ArBNw to t/mailboxes/binary_body.txt
Output /tmp/testwrapper.61979/akLw1ArBNw looks good.
ok 2 - Computing differences
ok 3 # skip GNU grep not available
Testing Perl 
Comparing /tmp/testwrapper.61979/x0J9QyOYYh to t/mailboxes/hessbug.txt
Output /tmp/testwrapper.61979/x0J9QyOYYh looks good.
ok 4 - Computing differences
Testing Cache implementation
Comparing /tmp/testwrapper.61979/DChZ3QIb3L to t/mailboxes/hessbug.txt
Output /tmp/testwrapper.61979/DChZ3QIb3L looks good.
ok 5 - Computing differences
ok 6 # skip GNU grep not available
Testing Perl 
Comparing /tmp/testwrapper.61979/B8j7l7FkJ2 to t/mailboxes/invalid-boundaries.txt
Output /tmp/testwrapper.61979/B8j7l7FkJ2 looks good.
ok 7 - Computing differences
Testing Cache implementation
Comparing /tmp/testwrapper.61979/8SBZzxNCNV to t/mailboxes/invalid-boundaries.txt
Output /tmp/testwrapper.61979/8SBZzxNCNV looks good.
ok 8 - Computing differences
ok 9 # skip GNU grep not available
Testing Perl 
Comparing /tmp/testwrapper.61979/jSFI7jWuAI to t/mailboxes/mailarc-1-dos.txt
Output /tmp/testwrapper.61979/jSFI7jWuAI looks good.
ok 10 - Computing differences
Testing Cache implementation
Comparing /tmp/testwrapper.61979/dNHJmKXdlR to t/mailboxes/mailarc-1-dos.txt
Output /tmp/testwrapper.61979/dNHJmKXdlR looks good.
ok 11 - Computing differences
ok 12 # skip GNU grep not available
Testing Perl 
Comparing /tmp/testwrapper.61979/CIs1AQqy4o to t/mailboxes/mailarc-1.txt
Output /tmp/testwrapper.61979/CIs1AQqy4o looks good.
ok 13 - Computing differences
Testing Cache implementation
Comparing /tmp/testwrapper.61979/a_VHJ5hRsF to t/mailboxes/mailarc-1.txt
Output /tmp/testwrapper.61979/a_VHJ5hRsF looks good.
ok 14 - Computing differences
ok 15 # skip GNU grep not available
Testing Perl 
Comparing /tmp/testwrapper.61979/jUMi6rqBBI to t/mailboxes/mailarc-2.txt
Output /tmp/testwrapper.61979/jUMi6rqBBI looks good.
ok 16 - Computing differences
Testing Cache implementation
Comparing /tmp/testwrapper.61979/UVg1icFhQr to t/mailboxes/mailarc-2.txt
Output /tmp/testwrapper.61979/UVg1icFhQr looks good.
ok 17 - Computing differences
ok 18 # skip GNU grep not available
Testing Perl 
Comparing /tmp/testwrapper.61979/zPRuOVxtUR to t/mailboxes/mailarc-3.txt
Output /tmp/testwrapper.61979/zPRuOVxtUR looks good.
ok 19 - Computing differences
Testing Cache implementation
Comparing /tmp/testwrapper.61979/arWGu2huiI to t/mailboxes/mailarc-3.txt
Output /tmp/testwrapper.61979/arWGu2huiI looks good.
ok 20 - Computing differences
ok 21 # skip GNU grep not available
Testing Perl 
Comparing /tmp/testwrapper.61979/f8JGJ8_NjB to t/mailboxes/mailseparators.txt
Output /tmp/testwrapper.61979/f8JGJ8_NjB looks good.
ok 22 - Computing differences
Testing Cache implementation
Comparing /tmp/testwrapper.61979/uXg5gBxBqj to t/mailboxes/mailseparators.txt
Output /tmp/testwrapper.61979/uXg5gBxBqj looks good.
ok 23 - Computing differences
ok 24 # skip GNU grep not available
Testing Perl 
Comparing /tmp/testwrapper.61979/PYSrQWqweN to t/mailboxes/malformed.txt
Output /tmp/testwrapper.61979/PYSrQWqweN looks good.
ok 25 - Computing differences
Testing Cache implementation
Comparing /tmp/testwrapper.61979/YQiRzEZfoM to t/mailboxes/malformed.txt
Output /tmp/testwrapper.61979/YQiRzEZfoM looks good.
ok 26 - Computing differences
ok 27 # skip GNU grep not available
Testing Perl 
Comparing /tmp/testwrapper.61979/tpQttHaXtb to t/mailboxes/newlines_at_beginning.txt
Output /tmp/testwrapper.61979/tpQttHaXtb looks good.
ok 28 - Computing differences
Testing Cache implementation
Comparing /tmp/testwrapper.61979/0K6yMoekP4 to t/mailboxes/newlines_at_beginning.txt
Output /tmp/testwrapper.61979/0K6yMoekP4 looks good.
ok 29 - Computing differences
ok 30 # skip GNU grep not available
Testing Perl 
Comparing /tmp/testwrapper.61979/3LooBXYN9S to t/mailboxes/vm-emacs.txt
Output /tmp/testwrapper.61979/3LooBXYN9S looks good.
ok 31 - Computing differences
Testing Cache implementation
Comparing /tmp/testwrapper.61979/gl7Ju772dy to t/mailboxes/vm-emacs.txt
Output /tmp/testwrapper.61979/gl7Ju772dy looks good.
ok 32 - Computing differences
ok 33 # skip GNU grep not available
ok
t/xz.t .......................... 
1..1
Running test:
  "/bin/cat" "t/mailboxes/mailarc-2.txt.xz" | "/usr/bin/xz" -cd
Comparing /tmp/testwrapper.61979/Uxl3fgATtn to t/results/mailarc-2.txt
Output /tmp/testwrapper.61979/Uxl3fgATtn looks good.
Comparing /tmp/testwrapper.61979/EM5s0z0p7Q to t/results/none
Output /tmp/testwrapper.61979/EM5s0z0p7Q looks good.
ok 1 - Computing differences
ok
All tests successful.
Files=25, Tests=382,  7 wallclock secs ( 0.20 usr  0.04 sys +  4.40 cusr  2.65 csys =  7.29 CPU)
Result: PASS

------------------------------
PREREQUISITES
------------------------------

Prerequisite modules loaded:

requires:

    Module              Need  Have    
    ------------------- ----- --------
    FileHandle::Unget   0     0.1634  
    perl                5.005 5.028000
    Storable            0     3.11    

build_requires:

    Module              Need  Have    
    ------------------- ----- --------
    ExtUtils::MakeMaker 6.36  7.34    
    File::Path          2.08  2.15    
    File::Slurper       0     0.012   
    Test::Compile       0     v1.3.0  
    Test::More          0     1.302136
    Text::Diff          0     1.45    
    UNIVERSAL::require  0     0.18    
    URI::Escape         0     3.31    

configure_requires:

    Module              Need  Have    
    ------------------- ----- --------
    ExtUtils::MakeMaker 6.36  7.34    
    URI::Escape         0     3.31    


------------------------------
ENVIRONMENT AND OTHER CONTEXT
------------------------------

Environment variables:

    AUTOMATED_TESTING = 1
    PATH = /home/njh/perl5/perlbrew/bin:/home/njh/perl5/perlbrew/perls/perl-5.28.0-thread/bin:/home/njh/src/njh/smoker/bin:/sbin:/bin:/usr/sbin:/usr/bin:/usr/local/sbin:/usr/local/bin
    PERL5LIB = /home/njh/.cpan/build/Getargs-Long-1.1012-0/blib/arch:/home/njh/.cpan/build/Getargs-Long-1.1012-0/blib/lib:/home/njh/.cpan/build/Log-Agent-1.003-0/blib/arch:/home/njh/.cpan/build/Log-Agent-1.003-0/blib/lib:/home/njh/.cpan/build/FileHandle-Unget-0.1634-0/blib/arch:/home/njh/.cpan/build/FileHandle-Unget-0.1634-0/blib/lib:/home/njh/.cpan/build/CGI-Cache-1.4213-0/blib/arch:/home/njh/.cpan/build/CGI-Cache-1.4213-0/blib/lib:/home/njh/.cpan/build/Tie-Restore-0.11-0/blib/arch:/home/njh/.cpan/build/Tie-Restore-0.11-0/blib/lib:/home/njh/.cpan/build/Cache-Cache-1.08-0/blib/arch:/home/njh/.cpan/build/Cache-Cache-1.08-0/blib/lib:/home/njh/.cpan/build/Error-0.17026-0/blib/arch:/home/njh/.cpan/build/Error-0.17026-0/blib/lib:/home/njh/.cpan/build/Digest-SHA1-2.13-0/blib/arch:/home/njh/.cpan/build/Digest-SHA1-2.13-0/blib/lib:/home/njh/.cpan/build/Benchmark-Timer-0.7112-0/blib/arch:/home/njh/.cpan/build/Benchmark-Timer-0.7112-0/blib/lib:/home/njh/.cpan/build/XSConfig-6.27-0/blib/arch:/home/njh/.cpan/build/XSConfig-6.27-0/blib/lib:/home/njh/.cpan/build/OSPF-LSDB-1.08-0/blib/arch:/home/njh/.cpan/build/OSPF-LSDB-1.08-0/blib/lib:/home/njh/.cpan/build/Regexp-IPv6-0.03-0/blib/arch:/home/njh/.cpan/build/Regexp-IPv6-0.03-0/blib/lib:/home/njh/.cpan/build/Data-Validate-Struct-0.1-0/blib/arch:/home/njh/.cpan/build/Data-Validate-Struct-0.1-0/blib/lib:/home/njh/.cpan/build/Regexp-Common-2017060201-0/blib/arch:/home/njh/.cpan/build/Regexp-Common-2017060201-0/blib/lib:/home/njh/.cpan/build/Data-Validate-IP-0.27-0/blib/arch:/home/njh/.cpan/build/Data-Validate-IP-0.27-0/blib/lib:/home/njh/.cpan/build/NetAddr-IP-4.079-0/blib/arch:/home/njh/.cpan/build/NetAddr-IP-4.079-0/blib/lib:/home/njh/.cpan/build/Data-Validate-0.09-0/blib/arch:/home/njh/.cpan/build/Data-Validate-0.09-0/blib/lib
    PERL5OPT = 
    PERL5_CPANPLUS_IS_RUNNING = 61990
    PERL5_CPAN_IS_RUNNING = 61990
    PERLBREW_HOME = /home/njh/.perlbrew
    PERLBREW_MANPATH = /home/njh/perl5/perlbrew/perls/perl-5.28.0-thread/man
    PERLBREW_PATH = /home/njh/perl5/perlbrew/bin:/home/njh/perl5/perlbrew/perls/perl-5.28.0-thread/bin
    PERLBREW_PERL = perl-5.28.0-thread
    PERLBREW_ROOT = /home/njh/perl5/perlbrew
    PERLBREW_SHELLRC_VERSION = 0.83
    PERLBREW_VERSION = 0.83
    PERL_USE_UNSAFE_INC = 1
    SHELL = /bin/sh
    TMPDIR = /tmp/testwrapper.61979

Perl special variables (and OS-specific diagnostics, for MSWin32):

    $^X = /usr/home/njh/perl5/perlbrew/perls/perl-5.28.0-thread/bin/perl
    $UID/$EUID = 1000 / 1000
    $GID = 1000 1000 0
    $EGID = 1000 1000 0

Perl module toolchain versions installed:

    Module              Have    
    ------------------- --------
    CPAN                2.20    
    CPAN::Meta          2.150010
    Cwd                 3.74    
    ExtUtils::CBuilder  0.280230
    ExtUtils::Command   7.34    
    ExtUtils::Install   2.14    
    ExtUtils::MakeMaker 7.34    
    ExtUtils::Manifest  1.71    
    ExtUtils::ParseXS   3.39    
    File::Spec          3.74    
    JSON                2.97001 
    JSON::PP            2.97001 
    Module::Build       0.4224  
    Module::Signature   n/a     
    Parse::CPAN::Meta   2.150010
    Test::Harness       3.42    
    Test::More          1.302136
    YAML                1.26    
    YAML::Syck          1.30    
    version             0.9924  


--

Summary of my perl5 (revision 5 version 28 subversion 0) configuration:
   
  Platform:
    osname=freebsd
    osvers=11.1-release-p4
    archname=amd64-freebsd-thread-multi
    uname='freebsd njh3.vultr.com 11.1-release-p4 freebsd 11.1-release-p4 #0: tue nov 14 06:12:40 utc 2017 root@amd64-builder.daemonology.net:usrobjusrsrcsysgeneric amd64 '
    config_args='-de -Dprefix=/home/njh/perl5/perlbrew/perls/perl-5.28.0-thread -Dusethreads -Accflags=-O2 -W -Wformat=2 -Wswitch -Wshadow -Wwrite-strings -Wuninitialized -Wall -pipe -fomit-frame-pointer -pedantic -D_FORTIFY_SOURCE=2 -Wpointer-arith -Wstrict-prototypes -fstack-protector -Wstack-protector -Wextra -Wbad-function-cast -Wcast-align -Wcast-qual -Wdisabled-optimization -Wendif-labels -Wfloat-equal -Wformat-nonliteral -Winline -Wmissing-declarations -Wmissing-prototypes -Wnested-externs -Wpointer-arith -Wundef -Wformat-security -ftree-vectorize -mmmx -msse -mfpmath=sse -msse2 -msse3 -msse4.1 -msse4.2 -fdiagnostics-color=auto -mtune=native -march=native -Aeval:scriptdir=/home/njh/perl5/perlbrew/perls/perl-5.28.0-thread/bin'
    hint=recommended
    useposix=true
    d_sigaction=define
    useithreads=define
    usemultiplicity=define
    use64bitint=define
    use64bitall=define
    uselongdouble=undef
    usemymalloc=n
    default_inc_excludes_dot=define
    bincompat5005=undef
  Compiler:
    cc='cc'
    ccflags ='-DHAS_FPSETMASK -DHAS_FLOATINGPOINT_H -O2 -W -Wformat=2 -Wswitch -Wshadow -Wwrite-strings -Wuninitialized -Wall -pipe -fomit-frame-pointer -pedantic -D_FORTIFY_SOURCE=2 -Wpointer-arith -Wstrict-prototypes -fstack-protector -Wstack-protector -Wextra -Wbad-function-cast -Wcast-align -Wcast-qual -Wdisabled-optimization -Wendif-labels -Wfloat-equal -Wformat-nonliteral -Winline -Wmissing-declarations -Wmissing-prototypes -Wnested-externs -Wpointer-arith -Wundef -Wformat-security -ftree-vectorize -mmmx -msse -mfpmath=sse -msse2 -msse3 -msse4.1 -msse4.2 -fdiagnostics-color=auto -mtune=native -march=native -fno-strict-aliasing -fstack-protector-strong -I/usr/local/include'
    optimize='-O'
    cppflags='-DHAS_FPSETMASK -DHAS_FLOATINGPOINT_H -O2 -W -Wformat=2 -Wswitch -Wshadow -Wwrite-strings -Wuninitialized -Wall -pipe -fomit-frame-pointer -pedantic -D_FORTIFY_SOURCE=2 -Wpointer-arith -Wstrict-prototypes -fstack-protector -Wstack-protector -Wextra -Wbad-function-cast -Wcast-align -Wcast-qual -Wdisabled-optimization -Wendif-labels -Wfloat-equal -Wformat-nonliteral -Winline -Wmissing-declarations -Wmissing-prototypes -Wnested-externs -Wpointer-arith -Wundef -Wformat-security -ftree-vectorize -mmmx -msse -mfpmath=sse -msse2 -msse3 -msse4.1 -msse4.2 -fdiagnostics-color=auto -mtune=native -march=native -fno-strict-aliasing -fstack-protector-strong -I/usr/local/include'
    ccversion=''
    gccversion='4.2.1 Compatible FreeBSD Clang 4.0.0 (tags/RELEASE_400/final 297347)'
    gccosandvers=''
    intsize=4
    longsize=8
    ptrsize=8
    doublesize=8
    byteorder=12345678
    doublekind=3
    d_longlong=define
    longlongsize=8
    d_longdbl=define
    longdblsize=16
    longdblkind=3
    ivtype='long'
    ivsize=8
    nvtype='double'
    nvsize=8
    Off_t='off_t'
    lseeksize=8
    alignbytes=8
    prototype=define
  Linker and Libraries:
    ld='cc'
    ldflags ='-pthread -Wl,-E  -fstack-protector-strong -L/usr/local/lib'
    libpth=/usr/lib /usr/local/lib /usr/bin/../lib/clang/4.0.0/lib /usr/lib
    libs=-lpthread -lm -lcrypt -lutil
    perllibs=-lpthread -lm -lcrypt -lutil
    libc=
    so=so
    useshrplib=false
    libperl=libperl.a
    gnulibc_version=''
  Dynamic Linking:
    dlsrc=dl_dlopen.xs
    dlext=so
    d_dlsymun=undef
    ccdlflags=' '
    cccdlflags='-DPIC -fPIC'
    lddlflags='-shared  -L/usr/local/lib -fstack-protector-strong'


Characteristics of this binary (from libperl): 
  Compile-time options:
    HAS_TIMES
    MULTIPLICITY
    PERLIO_LAYERS
    PERL_COPY_ON_WRITE
    PERL_DONT_CREATE_GVSV
    PERL_IMPLICIT_CONTEXT
    PERL_MALLOC_WRAP
    PERL_OP_PARENT
    PERL_PRESERVE_IVUV
    USE_64_BIT_ALL
    USE_64_BIT_INT
    USE_ITHREADS
    USE_LARGE_FILES
    USE_LOCALE
    USE_LOCALE_COLLATE
    USE_LOCALE_CTYPE
    USE_LOCALE_NUMERIC
    USE_LOCALE_TIME
    USE_PERLIO
    USE_PERL_ATOF
    USE_REENTRANT_API
  Locally applied patches:
    Devel::PatchPerl 1.48
  Built under freebsd
  Compiled at Jun 25 2018 09:44:43
  %ENV:
    PERL5LIB="/home/njh/.cpan/build/Getargs-Long-1.1012-0/blib/arch:/home/njh/.cpan/build/Getargs-Long-1.1012-0/blib/lib:/home/njh/.cpan/build/Log-Agent-1.003-0/blib/arch:/home/njh/.cpan/build/Log-Agent-1.003-0/blib/lib:/home/njh/.cpan/build/FileHandle-Unget-0.1634-0/blib/arch:/home/njh/.cpan/build/FileHandle-Unget-0.1634-0/blib/lib:/home/njh/.cpan/build/CGI-Cache-1.4213-0/blib/arch:/home/njh/.cpan/build/CGI-Cache-1.4213-0/blib/lib:/home/njh/.cpan/build/Tie-Restore-0.11-0/blib/arch:/home/njh/.cpan/build/Tie-Restore-0.11-0/blib/lib:/home/njh/.cpan/build/Cache-Cache-1.08-0/blib/arch:/home/njh/.cpan/build/Cache-Cache-1.08-0/blib/lib:/home/njh/.cpan/build/Error-0.17026-0/blib/arch:/home/njh/.cpan/build/Error-0.17026-0/blib/lib:/home/njh/.cpan/build/Digest-SHA1-2.13-0/blib/arch:/home/njh/.cpan/build/Digest-SHA1-2.13-0/blib/lib:/home/njh/.cpan/build/Benchmark-Timer-0.7112-0/blib/arch:/home/njh/.cpan/build/Benchmark-Timer-0.7112-0/blib/lib:/home/njh/.cpan/build/XSConfig-6.27-0/blib/arch:/home/njh/.cpan/build/XSConfig-6.27-0/blib/lib:/home/njh/.cpan/build/OSPF-LSDB-1.08-0/blib/arch:/home/njh/.cpan/build/OSPF-LSDB-1.08-0/blib/lib:/home/njh/.cpan/build/Regexp-IPv6-0.03-0/blib/arch:/home/njh/.cpan/build/Regexp-IPv6-0.03-0/blib/lib:/home/njh/.cpan/build/Data-Validate-Struct-0.1-0/blib/arch:/home/njh/.cpan/build/Data-Validate-Struct-0.1-0/blib/lib:/home/njh/.cpan/build/Regexp-Common-2017060201-0/blib/arch:/home/njh/.cpan/build/Regexp-Common-2017060201-0/blib/lib:/home/njh/.cpan/build/Data-Validate-IP-0.27-0/blib/arch:/home/njh/.cpan/build/Data-Validate-IP-0.27-0/blib/lib:/home/njh/.cpan/build/NetAddr-IP-4.079-0/blib/arch:/home/njh/.cpan/build/NetAddr-IP-4.079-0/blib/lib:/home/njh/.cpan/build/Data-Validate-0.09-0/blib/arch:/home/njh/.cpan/build/Data-Validate-0.09-0/blib/lib"
    PERL5OPT=""
    PERL5_CPANPLUS_IS_RUNNING="61990"
    PERL5_CPAN_IS_RUNNING="61990"
    PERLBREW_HOME="/home/njh/.perlbrew"
    PERLBREW_MANPATH="/home/njh/perl5/perlbrew/perls/perl-5.28.0-thread/man"
    PERLBREW_PATH="/home/njh/perl5/perlbrew/bin:/home/njh/perl5/perlbrew/perls/perl-5.28.0-thread/bin"
    PERLBREW_PERL="perl-5.28.0-thread"
    PERLBREW_ROOT="/home/njh/perl5/perlbrew"
    PERLBREW_SHELLRC_VERSION="0.83"
    PERLBREW_VERSION="0.83"
    PERL_USE_UNSAFE_INC="1"
  @INC:
    /home/njh/.cpan/build/Getargs-Long-1.1012-0/blib/arch
    /home/njh/.cpan/build/Getargs-Long-1.1012-0/blib/lib
    /home/njh/.cpan/build/Log-Agent-1.003-0/blib/arch
    /home/njh/.cpan/build/Log-Agent-1.003-0/blib/lib
    /home/njh/.cpan/build/FileHandle-Unget-0.1634-0/blib/arch
    /home/njh/.cpan/build/FileHandle-Unget-0.1634-0/blib/lib
    /home/njh/.cpan/build/CGI-Cache-1.4213-0/blib/arch
    /home/njh/.cpan/build/CGI-Cache-1.4213-0/blib/lib
    /home/njh/.cpan/build/Tie-Restore-0.11-0/blib/arch
    /home/njh/.cpan/build/Tie-Restore-0.11-0/blib/lib
    /home/njh/.cpan/build/Cache-Cache-1.08-0/blib/arch
    /home/njh/.cpan/build/Cache-Cache-1.08-0/blib/lib
    /home/njh/.cpan/build/Error-0.17026-0/blib/arch
    /home/njh/.cpan/build/Error-0.17026-0/blib/lib
    /home/njh/.cpan/build/Digest-SHA1-2.13-0/blib/arch
    /home/njh/.cpan/build/Digest-SHA1-2.13-0/blib/lib
    /home/njh/.cpan/build/Benchmark-Timer-0.7112-0/blib/arch
    /home/njh/.cpan/build/Benchmark-Timer-0.7112-0/blib/lib
    /home/njh/.cpan/build/XSConfig-6.27-0/blib/arch
    /home/njh/.cpan/build/XSConfig-6.27-0/blib/lib
    /home/njh/.cpan/build/OSPF-LSDB-1.08-0/blib/arch
    /home/njh/.cpan/build/OSPF-LSDB-1.08-0/blib/lib
    /home/njh/.cpan/build/Regexp-IPv6-0.03-0/blib/arch
    /home/njh/.cpan/build/Regexp-IPv6-0.03-0/blib/lib
    /home/njh/.cpan/build/Data-Validate-Struct-0.1-0/blib/arch
    /home/njh/.cpan/build/Data-Validate-Struct-0.1-0/blib/lib
    /home/njh/.cpan/build/Regexp-Common-2017060201-0/blib/arch
    /home/njh/.cpan/build/Regexp-Common-2017060201-0/blib/lib
    /home/njh/.cpan/build/Data-Validate-IP-0.27-0/blib/arch
    /home/njh/.cpan/build/Data-Validate-IP-0.27-0/blib/lib
    /home/njh/.cpan/build/NetAddr-IP-4.079-0/blib/arch
    /home/njh/.cpan/build/NetAddr-IP-4.079-0/blib/lib
    /home/njh/.cpan/build/Data-Validate-0.09-0/blib/arch
    /home/njh/.cpan/build/Data-Validate-0.09-0/blib/lib
    /home/njh/perl5/perlbrew/perls/perl-5.28.0-thread/lib/site_perl/5.28.0/amd64-freebsd-thread-multi
    /home/njh/perl5/perlbrew/perls/perl-5.28.0-thread/lib/site_perl/5.28.0
    /home/njh/perl5/perlbrew/perls/perl-5.28.0-thread/lib/5.28.0/amd64-freebsd-thread-multi
    /home/njh/perl5/perlbrew/perls/perl-5.28.0-thread/lib/5.28.0
    .