Report for Module-Build-Deprecated-0.4210

Back
From: metabase:user:8b72b3ee-8904-11e4-ac9a-2e09b77a8ce4
Subject: PASS Module-Build-Deprecated-0.4210 v5.20.0 GNU/Linux
Date: 2014-12-21T12:50:23Z

This distribution has been tested as part of the CPAN Testers
project, supporting the Perl programming language.  See
http://wiki.cpantesters.org/ for more information or email
questions to cpan-testers-discuss@perl.org


--
Dear Leon Timmermans,

This is a computer-generated report for Module-Build-Deprecated-0.4210
on perl 5.20.0, created by CPAN-Reporter-1.2011.

Thank you for uploading your work to CPAN.  Congratulations!
All tests were successful.

Sections of this report:

    * Tester comments
    * Program output
    * Prerequisites
    * Environment and other context

------------------------------
TESTER COMMENTS
------------------------------

Additional comments from tester:

none provided

------------------------------
PROGRAM OUTPUT
------------------------------

Output from './Build test':

t/00-compile.t ............ ok
t/release-pod-coverage.t .. skipped: these tests are for release candidate testing
t/release-pod-syntax.t .... skipped: these tests are for release candidate testing
All tests successful.
Files=3, Tests=4,  0 wallclock secs ( 0.03 usr  0.01 sys +  0.12 cusr  0.04 csys =  0.20 CPU)
Result: PASS

------------------------------
PREREQUISITES
------------------------------

Prerequisite modules loaded:

requires:

    Module           Need   Have    
    ---------------- ------ --------
    base             0      2.22    
    CPAN::Meta::YAML 0.002  0.012   
    Module::Metadata 0      1.000024
    parent           0      0.228   
    perl             5.006  5.020000
    strict           0      1.08    
    version          0.87   0.9909  
    warnings         0      1.23    

build_requires:

    Module           Need   Have    
    ---------------- ------ --------
    File::Spec       0      3.47    
    IO::Handle       0      1.35    
    IPC::Open3       0      1.16    
    Module::Build    0.3601 0.4210  
    perl             5.006  5.020000
    Test::More       0      1.001011

configure_requires:

    Module           Need   Have    
    ---------------- ------ --------
    Module::Build    0.3601 0.4210  


------------------------------
ENVIRONMENT AND OTHER CONTEXT
------------------------------

Environment variables:

    LANG = en_US.UTF-8
    PATH = /home/johanna/sw/bin:/home/johanna/perl/bin:/usr/lib64/qt-3.3/bin:/usr/lib64/ccache:/usr/local/bin:/bin:/usr/bin:/usr/local/sbin:/usr/sbin:/sbin:/home/johanna/.local/bin:/home/johanna/bin
    PERL5LIB = 
    PERL5OPT = 
    PERL5_CPANPLUS_IS_RUNNING = 17940
    PERL5_CPAN_IS_RUNNING = 17940
    SHELL = /bin/bash
    TERM = screen

Perl special variables (and OS-specific diagnostics, for MSWin32):

    $^X = /home/johanna/sw/bin/perl
    $UID/$EUID = 50119 / 50119
    $GID = 50119 50119 50170
    $EGID = 50119 50119 50170

Perl module toolchain versions installed:

    Module              Have    
    ------------------- --------
    CPAN                2.05    
    CPAN::Meta          2.143240
    Cwd                 3.47    
    ExtUtils::CBuilder  0.280220
    ExtUtils::Command   1.18    
    ExtUtils::Install   2.04    
    ExtUtils::MakeMaker 7.04    
    ExtUtils::Manifest  1.69    
    ExtUtils::ParseXS   3.24    
    File::Spec          3.47    
    JSON                2.90    
    JSON::PP            2.27300 
    Module::Build       0.4210  
    Module::Signature   0.73    
    Parse::CPAN::Meta   1.4414  
    Test::Harness       3.34    
    Test::More          1.001011
    YAML                n/a     
    YAML::Syck          n/a     
    version             0.9909  


--

Summary of my perl5 (revision 5 version 20 subversion 0) configuration:
   
  Platform:
    osname=linux, osvers=2.6.41.1-1.fc15.x86_64, archname=x86_64-linux
    uname='linux ashcloud.icir.org 2.6.41.1-1.fc15.x86_64 #1 smp fri nov 11 21:36:28 utc 2011 x86_64 x86_64 x86_64 gnulinux '
    config_args='-des -Dprefix=/home/johanna/sw'
    hint=recommended, useposix=true, d_sigaction=define
    useithreads=undef, usemultiplicity=undef
    use64bitint=define, use64bitall=define, uselongdouble=undef
    usemymalloc=n, bincompat5005=undef
  Compiler:
    cc='cc', ccflags ='-fwrapv -fno-strict-aliasing -pipe -fstack-protector -I/usr/local/include -D_LARGEFILE_SOURCE -D_FILE_OFFSET_BITS=64',
    optimize='-O2',
    cppflags='-fwrapv -fno-strict-aliasing -pipe -fstack-protector -I/usr/local/include'
    ccversion='', gccversion='4.6.1 20110908 (Red Hat 4.6.1-9)', gccosandvers=''
    intsize=4, longsize=8, ptrsize=8, doublesize=8, byteorder=12345678
    d_longlong=define, longlongsize=8, d_longdbl=define, longdblsize=16
    ivtype='long', ivsize=8, nvtype='double', nvsize=8, Off_t='off_t', lseeksize=8
    alignbytes=8, prototype=define
  Linker and Libraries:
    ld='cc', ldflags =' -fstack-protector -L/usr/local/lib'
    libpth=/usr/local/lib /usr/lib /lib/../lib64 /usr/lib/../lib64 /lib /lib64 /usr/lib64 /usr/local/lib64
    libs=-lnsl -lgdbm -ldb -ldl -lm -lcrypt -lutil -lc -lgdbm_compat
    perllibs=-lnsl -ldl -lm -lcrypt -lutil -lc
    libc=libc-2.14.so, so=so, useshrplib=false, libperl=libperl.a
    gnulibc_version='2.14'
  Dynamic Linking:
    dlsrc=dl_dlopen.xs, dlext=so, d_dlsymun=undef, ccdlflags='-Wl,-E'
    cccdlflags='-fPIC', lddlflags='-shared -O2 -L/usr/local/lib -fstack-protector'


Characteristics of this binary (from libperl): 
  Compile-time options: HAS_TIMES PERLIO_LAYERS PERL_DONT_CREATE_GVSV
                        PERL_HASH_FUNC_ONE_AT_A_TIME_HARD PERL_MALLOC_WRAP
                        PERL_NEW_COPY_ON_WRITE PERL_PRESERVE_IVUV
                        USE_64_BIT_ALL USE_64_BIT_INT USE_LARGE_FILES
                        USE_LOCALE USE_LOCALE_COLLATE USE_LOCALE_CTYPE
                        USE_LOCALE_NUMERIC USE_PERLIO USE_PERL_ATOF
  Built under linux
  Compiled at Jun 27 2014 14:32:49
  %ENV:
    PERL5LIB=""
    PERL5OPT=""
    PERL5_CPANPLUS_IS_RUNNING="17940"
    PERL5_CPAN_IS_RUNNING="17940"
  @INC:
    /home/johanna/sw/lib/perl5/site_perl/5.20.0/x86_64-linux
    /home/johanna/sw/lib/perl5/site_perl/5.20.0
    /home/johanna/sw/lib/perl5/5.20.0/x86_64-linux
    /home/johanna/sw/lib/perl5/5.20.0
    .