Mail-Mbox-MessageParser v1.5111 Perl 5 v5.20.0 amd64-netbsd
- Status
- Pass
- From
- Chris Williams (BINGOS)
- Dist
-
Mail-Mbox-MessageParser v1.5111
- Platform
- Perl 5 v5.20.0 amd64-netbsd
- Date
- 2018-07-16 07:50:37
- ID
- eda4c5b8-88cc-11e8-bed3-aefc88cf513b
This distribution has been tested as part of the CPAN Testers
project, supporting the Perl programming language. See
http://wiki.cpantesters.org/ for more information or email
questions to cpan-testers-discuss@perl.org
--
Dear DCOPPIT,
This is a computer-generated error report created automatically by
CPANPLUS, version 0.9174. Testers personal comments may appear
at the end of this report.
Thank you for uploading your work to CPAN. Congratulations!
All tests were successful.
TEST RESULTS:
Below is the error stack from stage 'make test':
PERL_DL_NONLAZY=1 "/home/cpan/pit/bare/perl-5.20.0/bin/perl" "-MExtUtils::Command::MM" "-MTest::Harness" "-e" "undef *Test::Harness::Switches; test_harness(1, 'blib/lib', 'blib/arch')" t/*.t
t/000_standard__compile.t .......
1..6
ok 1 - Compile test for blib/lib/Mail/Mbox/MessageParser.pm
ok 2 - Compile test for blib/lib/Mail/Mbox/MessageParser/Grep.pm
ok 3 - Compile test for blib/lib/Mail/Mbox/MessageParser/Config.pm
ok 4 - Compile test for blib/lib/Mail/Mbox/MessageParser/Cache.pm
ok 5 - Compile test for blib/lib/Mail/Mbox/MessageParser/MetaInfo.pm
ok 6 - Compile test for blib/lib/Mail/Mbox/MessageParser/Perl.pm
ok
t/000_standard__perl_critic.t ... skipped: Author test. Set $ENV{TEST_AUTHOR} to a true value to run.
t/000_standard__pod.t ........... skipped: Test::Pod required for testing POD
t/000_standard__pod_coverage.t .. skipped: Test::Pod::Coverage required for testing POD coverage
t/appended_mailbox.t ............
1..6
Testing modified mailbox with Perl implementation
Comparing /tmp/L_mOVI1BeA to t/mailboxes/mailarc-1.txt
Output /tmp/L_mOVI1BeA looks good.
ok 1 - Computing differences
Testing modified mailbox with Cache implementation
Comparing /tmp/b_4G1eUFkV to t/mailboxes/mailarc-1.txt
Output /tmp/b_4G1eUFkV looks good.
ok 2 - Computing differences
Testing modified mailbox with Grep implementation
ok 3 # skip GNU grep not available
Testing modified mailbox with Perl implementation
Comparing /tmp/RhvOkvyGO0 to t/mailboxes/mailarc-1.txt
Output /tmp/RhvOkvyGO0 looks good.
ok 4 - Computing differences
Testing modified mailbox with Cache implementation
Comparing /tmp/dJjW0s8rNj to t/mailboxes/mailarc-1.txt
Output /tmp/dJjW0s8rNj looks good.
ok 5 - Computing differences
Testing modified mailbox with Grep implementation
ok 6 # skip GNU grep not available
ok
t/bzip2.t .......................
1..1
Running test:
"/bin/cat" "t/mailboxes/mailarc-2.txt.bz2" | "/usr/bin/bzip2" -cd
Comparing /tmp/Vg5R3n6wFL to t/results/mailarc-2.txt
Output /tmp/Vg5R3n6wFL looks good.
Comparing /tmp/YsZ30wxJiX to t/results/none
Output /tmp/YsZ30wxJiX looks good.
ok 1 - Computing differences
ok
t/endline.t .....................
1..8
Testing filename: t/mailboxes/mailarc-1-dos.txt
ok 1 - Dos endline expected
ok 2 - Dos endline expected
ok 3 - Dos endline expected
ok 4 # skip GNU grep not available
Testing filename: t/mailboxes/mailarc-1.txt
ok 5 - Unix endline expected
ok 6 - Unix endline expected
ok 7 - Unix endline expected
ok 8 # skip GNU grep not available
ok
t/filehandle_compressed.t .......
1..16
Testing filename: t/mailboxes/mailarc-2.txt.bz2
Comparing /tmp/nXG9yUebt6 to t/mailboxes/mailarc-2.txt
Output /tmp/nXG9yUebt6 looks good.
ok 1 - Computing differences
Comparing /tmp/VQvjpLuXfw to t/mailboxes/mailarc-2.txt
Output /tmp/VQvjpLuXfw looks good.
ok 2 - Computing differences
Comparing /tmp/2rQqvVqDS6 to t/mailboxes/mailarc-2.txt
Output /tmp/2rQqvVqDS6 looks good.
ok 3 - Computing differences
ok 4 # skip GNU grep not available
Testing filename: t/mailboxes/mailarc-2.txt.gz
Comparing /tmp/58wyU1McHh to t/mailboxes/mailarc-2.txt
Output /tmp/58wyU1McHh looks good.
ok 5 - Computing differences
Comparing /tmp/9QURX1Ll_n to t/mailboxes/mailarc-2.txt
Output /tmp/9QURX1Ll_n looks good.
ok 6 - Computing differences
Comparing /tmp/X0dshQabo6 to t/mailboxes/mailarc-2.txt
Output /tmp/X0dshQabo6 looks good.
ok 7 - Computing differences
ok 8 # skip GNU grep not available
Testing filename: t/mailboxes/mailarc-2.txt.lz
ok 9 # skip lzip not available
ok 10 # skip lzip not available
ok 11 # skip lzip not available
ok 12 # skip lzip not available
Testing filename: t/mailboxes/mailarc-2.txt.xz
Comparing /tmp/AUkfiFhOdk to t/mailboxes/mailarc-2.txt
Output /tmp/AUkfiFhOdk looks good.
ok 13 - Computing differences
Comparing /tmp/w8Mxqrg8EX to t/mailboxes/mailarc-2.txt
Output /tmp/w8Mxqrg8EX looks good.
ok 14 - Computing differences
Comparing /tmp/A_eVkoqdDa to t/mailboxes/mailarc-2.txt
Output /tmp/A_eVkoqdDa looks good.
ok 15 - Computing differences
ok 16 # skip GNU grep not available
ok
t/filehandle_noncompressed.t ....
1..44
Testing filename: t/mailboxes/binary_body.txt
Comparing /tmp/fsfMI3iHna to t/mailboxes/binary_body.txt
Output /tmp/fsfMI3iHna looks good.
ok 1 - Computing differences
Comparing /tmp/InYMmwbvfL to t/mailboxes/binary_body.txt
Output /tmp/InYMmwbvfL looks good.
ok 2 - Computing differences
Comparing /tmp/RLDX2GJkm1 to t/mailboxes/binary_body.txt
Output /tmp/RLDX2GJkm1 looks good.
ok 3 - Computing differences
ok 4 # skip GNU grep not available
Testing filename: t/mailboxes/hessbug.txt
Comparing /tmp/Nt6qWpyHil to t/mailboxes/hessbug.txt
Output /tmp/Nt6qWpyHil looks good.
ok 5 - Computing differences
Comparing /tmp/jDhVy71uN1 to t/mailboxes/hessbug.txt
Output /tmp/jDhVy71uN1 looks good.
ok 6 - Computing differences
Comparing /tmp/2EcSJipKuY to t/mailboxes/hessbug.txt
Output /tmp/2EcSJipKuY looks good.
ok 7 - Computing differences
ok 8 # skip GNU grep not available
Testing filename: t/mailboxes/invalid-boundaries.txt
Comparing /tmp/pYpI70DJlW to t/mailboxes/invalid-boundaries.txt
Output /tmp/pYpI70DJlW looks good.
ok 9 - Computing differences
Comparing /tmp/qFjwLQ2jBi to t/mailboxes/invalid-boundaries.txt
Output /tmp/qFjwLQ2jBi looks good.
ok 10 - Computing differences
Comparing /tmp/34EABUdB_L to t/mailboxes/invalid-boundaries.txt
Output /tmp/34EABUdB_L looks good.
ok 11 - Computing differences
ok 12 # skip GNU grep not available
Testing filename: t/mailboxes/mailarc-1-dos.txt
Comparing /tmp/B1igcMfQfV to t/mailboxes/mailarc-1-dos.txt
Output /tmp/B1igcMfQfV looks good.
ok 13 - Computing differences
Comparing /tmp/e7XdPGZsyv to t/mailboxes/mailarc-1-dos.txt
Output /tmp/e7XdPGZsyv looks good.
ok 14 - Computing differences
Comparing /tmp/0jHuLuLlKx to t/mailboxes/mailarc-1-dos.txt
Output /tmp/0jHuLuLlKx looks good.
ok 15 - Computing differences
ok 16 # skip GNU grep not available
Testing filename: t/mailboxes/mailarc-1.txt
Comparing /tmp/sd95ZsFn72 to t/mailboxes/mailarc-1.txt
Output /tmp/sd95ZsFn72 looks good.
ok 17 - Computing differences
Comparing /tmp/nfNKE1Prh1 to t/mailboxes/mailarc-1.txt
Output /tmp/nfNKE1Prh1 looks good.
ok 18 - Computing differences
Comparing /tmp/Lf50AdDUWf to t/mailboxes/mailarc-1.txt
Output /tmp/Lf50AdDUWf looks good.
ok 19 - Computing differences
ok 20 # skip GNU grep not available
Testing filename: t/mailboxes/mailarc-2.txt
Comparing /tmp/rDEwFNBaQc to t/mailboxes/mailarc-2.txt
Output /tmp/rDEwFNBaQc looks good.
ok 21 - Computing differences
Comparing /tmp/GsyV21BylR to t/mailboxes/mailarc-2.txt
Output /tmp/GsyV21BylR looks good.
ok 22 - Computing differences
Comparing /tmp/1YwSz3D7C4 to t/mailboxes/mailarc-2.txt
Output /tmp/1YwSz3D7C4 looks good.
ok 23 - Computing differences
ok 24 # skip GNU grep not available
Testing filename: t/mailboxes/mailarc-3.txt
Comparing /tmp/_nZmUH7CnQ to t/mailboxes/mailarc-3.txt
Output /tmp/_nZmUH7CnQ looks good.
ok 25 - Computing differences
Comparing /tmp/Sa_MHFZQPG to t/mailboxes/mailarc-3.txt
Output /tmp/Sa_MHFZQPG looks good.
ok 26 - Computing differences
Comparing /tmp/jpWmoP0d7d to t/mailboxes/mailarc-3.txt
Output /tmp/jpWmoP0d7d looks good.
ok 27 - Computing differences
ok 28 # skip GNU grep not available
Testing filename: t/mailboxes/mailseparators.txt
Comparing /tmp/N_zjtCgvlA to t/mailboxes/mailseparators.txt
Output /tmp/N_zjtCgvlA looks good.
ok 29 - Computing differences
Comparing /tmp/Ihkolqt0ZU to t/mailboxes/mailseparators.txt
Output /tmp/Ihkolqt0ZU looks good.
ok 30 - Computing differences
Comparing /tmp/VIiPljs0PK to t/mailboxes/mailseparators.txt
Output /tmp/VIiPljs0PK looks good.
ok 31 - Computing differences
ok 32 # skip GNU grep not available
Testing filename: t/mailboxes/malformed.txt
Comparing /tmp/wVwEUj6mO1 to t/mailboxes/malformed.txt
Output /tmp/wVwEUj6mO1 looks good.
ok 33 - Computing differences
Comparing /tmp/e5tTYYdB4x to t/mailboxes/malformed.txt
Output /tmp/e5tTYYdB4x looks good.
ok 34 - Computing differences
Comparing /tmp/xLpCNfcxFk to t/mailboxes/malformed.txt
Output /tmp/xLpCNfcxFk looks good.
ok 35 - Computing differences
ok 36 # skip GNU grep not available
Testing filename: t/mailboxes/newlines_at_beginning.txt
Comparing /tmp/_NaaP6geAg to t/mailboxes/newlines_at_beginning.txt
Output /tmp/_NaaP6geAg looks good.
ok 37 - Computing differences
Comparing /tmp/00BhJKpx4j to t/mailboxes/newlines_at_beginning.txt
Output /tmp/00BhJKpx4j looks good.
ok 38 - Computing differences
Comparing /tmp/vReb9d9nDL to t/mailboxes/newlines_at_beginning.txt
Output /tmp/vReb9d9nDL looks good.
ok 39 - Computing differences
ok 40 # skip GNU grep not available
Testing filename: t/mailboxes/vm-emacs.txt
Comparing /tmp/tC6TibniEm to t/mailboxes/vm-emacs.txt
Output /tmp/tC6TibniEm looks good.
ok 41 - Computing differences
Comparing /tmp/ng4hRefsX9 to t/mailboxes/vm-emacs.txt
Output /tmp/ng4hRefsX9 looks good.
ok 42 - Computing differences
Comparing /tmp/HifwXvCBUG to t/mailboxes/vm-emacs.txt
Output /tmp/HifwXvCBUG looks good.
ok 43 - Computing differences
ok 44 # skip GNU grep not available
ok
t/filename_compressed.t .........
1..4
Testing filename: t/mailboxes/mailarc-2.txt.bz2
Comparing /tmp/BxhpGdZyAP to t/mailboxes/mailarc-2.txt
Output /tmp/BxhpGdZyAP looks good.
ok 1 - Computing differences
Testing filename: t/mailboxes/mailarc-2.txt.gz
Comparing /tmp/sf7naDqxQ7 to t/mailboxes/mailarc-2.txt
Output /tmp/sf7naDqxQ7 looks good.
ok 2 - Computing differences
Testing filename: t/mailboxes/mailarc-2.txt.lz
ok 3 # skip lzip not available
Testing filename: t/mailboxes/mailarc-2.txt.xz
Comparing /tmp/rt26w2JmMv to t/mailboxes/mailarc-2.txt
Output /tmp/rt26w2JmMv looks good.
ok 4 - Computing differences
ok
t/filename_noncompressed.t ......
1..11
Testing filename: t/mailboxes/binary_body.txt
Comparing /tmp/4JDn359xEz to t/mailboxes/binary_body.txt
Output /tmp/4JDn359xEz looks good.
ok 1 - Computing differences
Testing filename: t/mailboxes/hessbug.txt
Comparing /tmp/mihoaL1cFl to t/mailboxes/hessbug.txt
Output /tmp/mihoaL1cFl looks good.
ok 2 - Computing differences
Testing filename: t/mailboxes/invalid-boundaries.txt
Comparing /tmp/pE4g89DKfp to t/mailboxes/invalid-boundaries.txt
Output /tmp/pE4g89DKfp looks good.
ok 3 - Computing differences
Testing filename: t/mailboxes/mailarc-1-dos.txt
Comparing /tmp/D5v_LKRiQU to t/mailboxes/mailarc-1-dos.txt
Output /tmp/D5v_LKRiQU looks good.
ok 4 - Computing differences
Testing filename: t/mailboxes/mailarc-1.txt
Comparing /tmp/iCIzoNuW9j to t/mailboxes/mailarc-1.txt
Output /tmp/iCIzoNuW9j looks good.
ok 5 - Computing differences
Testing filename: t/mailboxes/mailarc-2.txt
Comparing /tmp/LhAG8wIhgA to t/mailboxes/mailarc-2.txt
Output /tmp/LhAG8wIhgA looks good.
ok 6 - Computing differences
Testing filename: t/mailboxes/mailarc-3.txt
Comparing /tmp/VWg8Jr8USc to t/mailboxes/mailarc-3.txt
Output /tmp/VWg8Jr8USc looks good.
ok 7 - Computing differences
Testing filename: t/mailboxes/mailseparators.txt
Comparing /tmp/GmyP06kjUe to t/mailboxes/mailseparators.txt
Output /tmp/GmyP06kjUe looks good.
ok 8 - Computing differences
Testing filename: t/mailboxes/malformed.txt
Comparing /tmp/ubtvHqJKkL to t/mailboxes/malformed.txt
Output /tmp/ubtvHqJKkL looks good.
ok 9 - Computing differences
Testing filename: t/mailboxes/newlines_at_beginning.txt
Comparing /tmp/QxrZdjzBaJ to t/mailboxes/newlines_at_beginning.txt
Output /tmp/QxrZdjzBaJ looks good.
ok 10 - Computing differences
Testing filename: t/mailboxes/vm-emacs.txt
Comparing /tmp/6KRWBB1nZY to t/mailboxes/vm-emacs.txt
Output /tmp/6KRWBB1nZY looks good.
ok 11 - Computing differences
ok
t/grep.t ........................
1..4
Running test:
unset LC_ALL LC_COLLATE LANG LC_CTYPE LC_MESSAGES; grep --extended-regexp --line-number --byte-offset --binary-files=text "^From [^:]+(:[0-9][0-9]){1,2}( *([A-Z]{2,6}|[+-]?[0-9]{4})){1,3}( remote from .*)?
?$" t/mailboxes/mailarc-1.txt
ok 1 # skip 1
Running test:
unset LC_ALL LC_COLLATE LANG LC_CTYPE LC_MESSAGES; grep --extended-regexp --line-number --byte-offset --binary-files=text "^From [^:]+(:[0-9][0-9]){1,2}( *([A-Z]{2,6}|[+-]?[0-9]{4})){1,3}( remote from .*)?
?$" t/mailboxes/mailarc-2.txt
ok 2 # skip 1
Running test:
unset LC_ALL LC_COLLATE LANG LC_CTYPE LC_MESSAGES; grep --extended-regexp --line-number --byte-offset --binary-files=text "^From [^:]+(:[0-9][0-9]){1,2}( *([A-Z]{2,6}|[+-]?[0-9]{4})){1,3}( remote from .*)?
?$" t/mailboxes/mailarc-3.txt
ok 3 # skip 1
Running test:
unset LC_ALL LC_COLLATE LANG LC_CTYPE LC_MESSAGES; grep --extended-regexp --line-number --byte-offset --binary-files=text "^From [^:]+(:[0-9][0-9]){1,2}( *([A-Z]{2,6}|[+-]?[0-9]{4})){1,3}( remote from .*)?
?$" t/mailboxes/mailseparators.txt
ok 4 # skip 1
ok
t/gzip.t ........................
1..1
Running test:
"/bin/cat" "t/mailboxes/mailarc-2.txt.gz" | "/usr/bin/gzip" -cd
Comparing /tmp/eXJDrNcoel to t/results/mailarc-2.txt
Output /tmp/eXJDrNcoel looks good.
Comparing /tmp/NR7W2chE_e to t/results/none
Output /tmp/NR7W2chE_e looks good.
ok 1 - Computing differences
ok
t/length.t ......................
1..30
Testing filename: t/mailboxes/binary_body.txt
Comparing /tmp/fZn_ZyrIy1 to t/results/length_binary_body.stdout
Output /tmp/fZn_ZyrIy1 looks good.
ok 1 - Computing differences
Comparing /tmp/7GoVuLr_UQ to t/results/length_binary_body.stdout
Output /tmp/7GoVuLr_UQ looks good.
ok 2 - Computing differences
ok 3 # skip GNU grep not available
Testing filename: t/mailboxes/hessbug.txt
Comparing /tmp/gOZnQLLOnK to t/results/length_hessbug.stdout
Output /tmp/gOZnQLLOnK looks good.
ok 4 - Computing differences
Comparing /tmp/JGRngxhP8E to t/results/length_hessbug.stdout
Output /tmp/JGRngxhP8E looks good.
ok 5 - Computing differences
ok 6 # skip GNU grep not available
Testing filename: t/mailboxes/invalid-boundaries.txt
Comparing /tmp/FLZxk_C1j5 to t/results/length_invalid-boundaries.stdout
Output /tmp/FLZxk_C1j5 looks good.
ok 7 - Computing differences
Comparing /tmp/fPCbMKCZEL to t/results/length_invalid-boundaries.stdout
Output /tmp/fPCbMKCZEL looks good.
ok 8 - Computing differences
ok 9 # skip GNU grep not available
Testing filename: t/mailboxes/mailarc-1-dos.txt
Comparing /tmp/oBl3YxE1d7 to t/results/length_mailarc-1-dos.stdout
Output /tmp/oBl3YxE1d7 looks good.
ok 10 - Computing differences
Comparing /tmp/1wf3zm9Gqb to t/results/length_mailarc-1-dos.stdout
Output /tmp/1wf3zm9Gqb looks good.
ok 11 - Computing differences
ok 12 # skip GNU grep not available
Testing filename: t/mailboxes/mailarc-1.txt
Comparing /tmp/zW95V6fPlv to t/results/length_mailarc-1.stdout
Output /tmp/zW95V6fPlv looks good.
ok 13 - Computing differences
Comparing /tmp/rOUFZ7ioP4 to t/results/length_mailarc-1.stdout
Output /tmp/rOUFZ7ioP4 looks good.
ok 14 - Computing differences
ok 15 # skip GNU grep not available
Testing filename: t/mailboxes/mailarc-2.txt
Comparing /tmp/WoKGt5SJYP to t/results/length_mailarc-2.stdout
Output /tmp/WoKGt5SJYP looks good.
ok 16 - Computing differences
Comparing /tmp/PtVcR8Xuws to t/results/length_mailarc-2.stdout
Output /tmp/PtVcR8Xuws looks good.
ok 17 - Computing differences
ok 18 # skip GNU grep not available
Testing filename: t/mailboxes/mailarc-3.txt
Comparing /tmp/5A9WEupuwa to t/results/length_mailarc-3.stdout
Output /tmp/5A9WEupuwa looks good.
ok 19 - Computing differences
Comparing /tmp/xEPsA7Prsx to t/results/length_mailarc-3.stdout
Output /tmp/xEPsA7Prsx looks good.
ok 20 - Computing differences
ok 21 # skip GNU grep not available
Testing filename: t/mailboxes/mailseparators.txt
Comparing /tmp/UwnIeJcjdH to t/results/length_mailseparators.stdout
Output /tmp/UwnIeJcjdH looks good.
ok 22 - Computing differences
Comparing /tmp/Qb1rPv_DBY to t/results/length_mailseparators.stdout
Output /tmp/Qb1rPv_DBY looks good.
ok 23 - Computing differences
ok 24 # skip GNU grep not available
Testing filename: t/mailboxes/malformed.txt
Comparing /tmp/sCfupjOIZg to t/results/length_malformed.stdout
Output /tmp/sCfupjOIZg looks good.
ok 25 - Computing differences
Comparing /tmp/TdwQtfS4V1 to t/results/length_malformed.stdout
Output /tmp/TdwQtfS4V1 looks good.
ok 26 - Computing differences
ok 27 # skip GNU grep not available
Testing filename: t/mailboxes/newlines_at_beginning.txt
Comparing /tmp/4sJXZLQqa2 to t/results/length_newlines_at_beginning.stdout
Output /tmp/4sJXZLQqa2 looks good.
ok 28 - Computing differences
Comparing /tmp/fsLW7SiDAY to t/results/length_newlines_at_beginning.stdout
Output /tmp/fsLW7SiDAY looks good.
ok 29 - Computing differences
ok 30 # skip GNU grep not available
ok
t/line_number.t .................
1..30
Testing filename: t/mailboxes/binary_body.txt
Comparing /tmp/Vrr9lef764 to t/results/line_number_binary_body.stdout
Output /tmp/Vrr9lef764 looks good.
ok 1 - Computing differences
Comparing /tmp/75n9jqeYmE to t/results/line_number_binary_body.stdout
Output /tmp/75n9jqeYmE looks good.
ok 2 - Computing differences
ok 3 # skip GNU grep not available
Testing filename: t/mailboxes/hessbug.txt
Comparing /tmp/d4uqT1ILMQ to t/results/line_number_hessbug.stdout
Output /tmp/d4uqT1ILMQ looks good.
ok 4 - Computing differences
Comparing /tmp/tQ20Ahh86O to t/results/line_number_hessbug.stdout
Output /tmp/tQ20Ahh86O looks good.
ok 5 - Computing differences
ok 6 # skip GNU grep not available
Testing filename: t/mailboxes/invalid-boundaries.txt
Comparing /tmp/XfLV6QiLtB to t/results/line_number_invalid-boundaries.stdout
Output /tmp/XfLV6QiLtB looks good.
ok 7 - Computing differences
Comparing /tmp/azImYAy1IQ to t/results/line_number_invalid-boundaries.stdout
Output /tmp/azImYAy1IQ looks good.
ok 8 - Computing differences
ok 9 # skip GNU grep not available
Testing filename: t/mailboxes/mailarc-1-dos.txt
Comparing /tmp/k7Vm6nTIj6 to t/results/line_number_mailarc-1-dos.stdout
Output /tmp/k7Vm6nTIj6 looks good.
ok 10 - Computing differences
Comparing /tmp/6tDhimqp37 to t/results/line_number_mailarc-1-dos.stdout
Output /tmp/6tDhimqp37 looks good.
ok 11 - Computing differences
ok 12 # skip GNU grep not available
Testing filename: t/mailboxes/mailarc-1.txt
Comparing /tmp/ns29FxhfLl to t/results/line_number_mailarc-1.stdout
Output /tmp/ns29FxhfLl looks good.
ok 13 - Computing differences
Comparing /tmp/18JfMYuzy9 to t/results/line_number_mailarc-1.stdout
Output /tmp/18JfMYuzy9 looks good.
ok 14 - Computing differences
ok 15 # skip GNU grep not available
Testing filename: t/mailboxes/mailarc-2.txt
Comparing /tmp/E36No0I5xl to t/results/line_number_mailarc-2.stdout
Output /tmp/E36No0I5xl looks good.
ok 16 - Computing differences
Comparing /tmp/sWxY1r5aSh to t/results/line_number_mailarc-2.stdout
Output /tmp/sWxY1r5aSh looks good.
ok 17 - Computing differences
ok 18 # skip GNU grep not available
Testing filename: t/mailboxes/mailarc-3.txt
Comparing /tmp/rW6Lw2m0qp to t/results/line_number_mailarc-3.stdout
Output /tmp/rW6Lw2m0qp looks good.
ok 19 - Computing differences
Comparing /tmp/SXRjwQ0dut to t/results/line_number_mailarc-3.stdout
Output /tmp/SXRjwQ0dut looks good.
ok 20 - Computing differences
ok 21 # skip GNU grep not available
Testing filename: t/mailboxes/mailseparators.txt
Comparing /tmp/43ajKRd493 to t/results/line_number_mailseparators.stdout
Output /tmp/43ajKRd493 looks good.
ok 22 - Computing differences
Comparing /tmp/Rf95Ok1oTn to t/results/line_number_mailseparators.stdout
Output /tmp/Rf95Ok1oTn looks good.
ok 23 - Computing differences
ok 24 # skip GNU grep not available
Testing filename: t/mailboxes/malformed.txt
Comparing /tmp/N78XuDlFMs to t/results/line_number_malformed.stdout
Output /tmp/N78XuDlFMs looks good.
ok 25 - Computing differences
Comparing /tmp/KCbPpSehYF to t/results/line_number_malformed.stdout
Output /tmp/KCbPpSehYF looks good.
ok 26 - Computing differences
ok 27 # skip GNU grep not available
Testing filename: t/mailboxes/newlines_at_beginning.txt
Comparing /tmp/2it9i3KiS7 to t/results/line_number_newlines_at_beginning.stdout
Output /tmp/2it9i3KiS7 looks good.
ok 28 - Computing differences
Comparing /tmp/vS8YtEdNY5 to t/results/line_number_newlines_at_beginning.stdout
Output /tmp/vS8YtEdNY5 looks good.
ok 29 - Computing differences
ok 30 # skip GNU grep not available
ok
t/lzip.t ........................
1..1
Running test:
"/bin/cat" "t/mailboxes/mailarc-2.txt.lz" | "lzip" -cd
ok 1 # skip lzip not available
ok
t/number.t ......................
1..30
Testing filename: t/mailboxes/binary_body.txt
Comparing /tmp/4cc4qV0j0E to t/results/number_binary_body.stdout
Output /tmp/4cc4qV0j0E looks good.
ok 1 - Computing differences
Comparing /tmp/5t3AHhawmT to t/results/number_binary_body.stdout
Output /tmp/5t3AHhawmT looks good.
ok 2 - Computing differences
ok 3 # skip GNU grep not available
Testing filename: t/mailboxes/hessbug.txt
Comparing /tmp/Acez1JGQN8 to t/results/number_hessbug.stdout
Output /tmp/Acez1JGQN8 looks good.
ok 4 - Computing differences
Comparing /tmp/PImGrLwnxB to t/results/number_hessbug.stdout
Output /tmp/PImGrLwnxB looks good.
ok 5 - Computing differences
ok 6 # skip GNU grep not available
Testing filename: t/mailboxes/invalid-boundaries.txt
Comparing /tmp/omark7z3Rl to t/results/number_invalid-boundaries.stdout
Output /tmp/omark7z3Rl looks good.
ok 7 - Computing differences
Comparing /tmp/WgxY7Kgqhy to t/results/number_invalid-boundaries.stdout
Output /tmp/WgxY7Kgqhy looks good.
ok 8 - Computing differences
ok 9 # skip GNU grep not available
Testing filename: t/mailboxes/mailarc-1-dos.txt
Comparing /tmp/DO0faZs65R to t/results/number_mailarc-1-dos.stdout
Output /tmp/DO0faZs65R looks good.
ok 10 - Computing differences
Comparing /tmp/S4tDclWI80 to t/results/number_mailarc-1-dos.stdout
Output /tmp/S4tDclWI80 looks good.
ok 11 - Computing differences
ok 12 # skip GNU grep not available
Testing filename: t/mailboxes/mailarc-1.txt
Comparing /tmp/w3qumpxw0C to t/results/number_mailarc-1.stdout
Output /tmp/w3qumpxw0C looks good.
ok 13 - Computing differences
Comparing /tmp/6Wq_sZDd65 to t/results/number_mailarc-1.stdout
Output /tmp/6Wq_sZDd65 looks good.
ok 14 - Computing differences
ok 15 # skip GNU grep not available
Testing filename: t/mailboxes/mailarc-2.txt
Comparing /tmp/_eOAD0yhE4 to t/results/number_mailarc-2.stdout
Output /tmp/_eOAD0yhE4 looks good.
ok 16 - Computing differences
Comparing /tmp/urVusvnu3Z to t/results/number_mailarc-2.stdout
Output /tmp/urVusvnu3Z looks good.
ok 17 - Computing differences
ok 18 # skip GNU grep not available
Testing filename: t/mailboxes/mailarc-3.txt
Comparing /tmp/7memL6AZQD to t/results/number_mailarc-3.stdout
Output /tmp/7memL6AZQD looks good.
ok 19 - Computing differences
Comparing /tmp/00eLPomxyF to t/results/number_mailarc-3.stdout
Output /tmp/00eLPomxyF looks good.
ok 20 - Computing differences
ok 21 # skip GNU grep not available
Testing filename: t/mailboxes/mailseparators.txt
Comparing /tmp/MhT56xPq8o to t/results/number_mailseparators.stdout
Output /tmp/MhT56xPq8o looks good.
ok 22 - Computing differences
Comparing /tmp/koUlaXoEoR to t/results/number_mailseparators.stdout
Output /tmp/koUlaXoEoR looks good.
ok 23 - Computing differences
ok 24 # skip GNU grep not available
Testing filename: t/mailboxes/malformed.txt
Comparing /tmp/wvaSaKw5oQ to t/results/number_malformed.stdout
Output /tmp/wvaSaKw5oQ looks good.
ok 25 - Computing differences
Comparing /tmp/Ckftj3MU2V to t/results/number_malformed.stdout
Output /tmp/Ckftj3MU2V looks good.
ok 26 - Computing differences
ok 27 # skip GNU grep not available
Testing filename: t/mailboxes/newlines_at_beginning.txt
Comparing /tmp/GL2Mp5f85I to t/results/number_newlines_at_beginning.stdout
Output /tmp/GL2Mp5f85I looks good.
ok 28 - Computing differences
Comparing /tmp/lweeEVyoZc to t/results/number_newlines_at_beginning.stdout
Output /tmp/lweeEVyoZc looks good.
ok 29 - Computing differences
ok 30 # skip GNU grep not available
ok
t/offset.t ......................
1..30
Testing filename: t/mailboxes/binary_body.txt
Comparing /tmp/CvMfbKIDp0 to t/results/offset_binary_body.stdout
Output /tmp/CvMfbKIDp0 looks good.
ok 1 - Computing differences
Comparing /tmp/gybytH1f3U to t/results/offset_binary_body.stdout
Output /tmp/gybytH1f3U looks good.
ok 2 - Computing differences
ok 3 # skip GNU grep not available
Testing filename: t/mailboxes/hessbug.txt
Comparing /tmp/lU1ENiXQ9a to t/results/offset_hessbug.stdout
Output /tmp/lU1ENiXQ9a looks good.
ok 4 - Computing differences
Comparing /tmp/XDqEKrKETu to t/results/offset_hessbug.stdout
Output /tmp/XDqEKrKETu looks good.
ok 5 - Computing differences
ok 6 # skip GNU grep not available
Testing filename: t/mailboxes/invalid-boundaries.txt
Comparing /tmp/LTBwGgt20_ to t/results/offset_invalid-boundaries.stdout
Output /tmp/LTBwGgt20_ looks good.
ok 7 - Computing differences
Comparing /tmp/J8rdU34acP to t/results/offset_invalid-boundaries.stdout
Output /tmp/J8rdU34acP looks good.
ok 8 - Computing differences
ok 9 # skip GNU grep not available
Testing filename: t/mailboxes/mailarc-1-dos.txt
Comparing /tmp/PMA8WKZNp1 to t/results/offset_mailarc-1-dos.stdout
Output /tmp/PMA8WKZNp1 looks good.
ok 10 - Computing differences
Comparing /tmp/Q2eoXMBEiV to t/results/offset_mailarc-1-dos.stdout
Output /tmp/Q2eoXMBEiV looks good.
ok 11 - Computing differences
ok 12 # skip GNU grep not available
Testing filename: t/mailboxes/mailarc-1.txt
Comparing /tmp/WJqJiFWoCn to t/results/offset_mailarc-1.stdout
Output /tmp/WJqJiFWoCn looks good.
ok 13 - Computing differences
Comparing /tmp/jVx3mog3H8 to t/results/offset_mailarc-1.stdout
Output /tmp/jVx3mog3H8 looks good.
ok 14 - Computing differences
ok 15 # skip GNU grep not available
Testing filename: t/mailboxes/mailarc-2.txt
Comparing /tmp/zim1Z5WNcy to t/results/offset_mailarc-2.stdout
Output /tmp/zim1Z5WNcy looks good.
ok 16 - Computing differences
Comparing /tmp/39YrVlnwna to t/results/offset_mailarc-2.stdout
Output /tmp/39YrVlnwna looks good.
ok 17 - Computing differences
ok 18 # skip GNU grep not available
Testing filename: t/mailboxes/mailarc-3.txt
Comparing /tmp/dygTjLUp3f to t/results/offset_mailarc-3.stdout
Output /tmp/dygTjLUp3f looks good.
ok 19 - Computing differences
Comparing /tmp/AqMMm3M9ZS to t/results/offset_mailarc-3.stdout
Output /tmp/AqMMm3M9ZS looks good.
ok 20 - Computing differences
ok 21 # skip GNU grep not available
Testing filename: t/mailboxes/mailseparators.txt
Comparing /tmp/SvfKRREIjr to t/results/offset_mailseparators.stdout
Output /tmp/SvfKRREIjr looks good.
ok 22 - Computing differences
Comparing /tmp/GaUA7tWQuY to t/results/offset_mailseparators.stdout
Output /tmp/GaUA7tWQuY looks good.
ok 23 - Computing differences
ok 24 # skip GNU grep not available
Testing filename: t/mailboxes/malformed.txt
Comparing /tmp/50LjCXqMSL to t/results/offset_malformed.stdout
Output /tmp/50LjCXqMSL looks good.
ok 25 - Computing differences
Comparing /tmp/65h5qgXpaU to t/results/offset_malformed.stdout
Output /tmp/65h5qgXpaU looks good.
ok 26 - Computing differences
ok 27 # skip GNU grep not available
Testing filename: t/mailboxes/newlines_at_beginning.txt
Comparing /tmp/2jMfHrRa8P to t/results/offset_newlines_at_beginning.stdout
Output /tmp/2jMfHrRa8P looks good.
ok 28 - Computing differences
Comparing /tmp/brXXJ931eP to t/results/offset_newlines_at_beginning.stdout
Output /tmp/brXXJ931eP looks good.
ok 29 - Computing differences
ok 30 # skip GNU grep not available
ok
t/prologue.t ....................
1..33
Testing filename: t/mailboxes/binary_body.txt
Comparing /tmp/UYOTr2YpIE to t/mailboxes/binary_body.txt
Output /tmp/UYOTr2YpIE looks good.
ok 1 - Computing differences
Comparing /tmp/jSY_kBMt_z to t/mailboxes/binary_body.txt
Output /tmp/jSY_kBMt_z looks good.
ok 2 - Computing differences
ok 3 # skip GNU grep not available
Testing filename: t/mailboxes/hessbug.txt
Comparing /tmp/38Xusyjuht to t/mailboxes/hessbug.txt
Output /tmp/38Xusyjuht looks good.
ok 4 - Computing differences
Comparing /tmp/Ant59BIXGz to t/mailboxes/hessbug.txt
Output /tmp/Ant59BIXGz looks good.
ok 5 - Computing differences
ok 6 # skip GNU grep not available
Testing filename: t/mailboxes/invalid-boundaries.txt
Comparing /tmp/L_tpYjRxUz to t/mailboxes/invalid-boundaries.txt
Output /tmp/L_tpYjRxUz looks good.
ok 7 - Computing differences
Comparing /tmp/v9vBDLlXAF to t/mailboxes/invalid-boundaries.txt
Output /tmp/v9vBDLlXAF looks good.
ok 8 - Computing differences
ok 9 # skip GNU grep not available
Testing filename: t/mailboxes/mailarc-1-dos.txt
Comparing /tmp/zwDR3giHr2 to t/mailboxes/mailarc-1-dos.txt
Output /tmp/zwDR3giHr2 looks good.
ok 10 - Computing differences
Comparing /tmp/9E564tkGhX to t/mailboxes/mailarc-1-dos.txt
Output /tmp/9E564tkGhX looks good.
ok 11 - Computing differences
ok 12 # skip GNU grep not available
Testing filename: t/mailboxes/mailarc-1.txt
Comparing /tmp/EsTGNExyXx to t/mailboxes/mailarc-1.txt
Output /tmp/EsTGNExyXx looks good.
ok 13 - Computing differences
Comparing /tmp/l3nkXYulpO to t/mailboxes/mailarc-1.txt
Output /tmp/l3nkXYulpO looks good.
ok 14 - Computing differences
ok 15 # skip GNU grep not available
Testing filename: t/mailboxes/mailarc-2.txt
Comparing /tmp/6NxbPc2vUZ to t/mailboxes/mailarc-2.txt
Output /tmp/6NxbPc2vUZ looks good.
ok 16 - Computing differences
Comparing /tmp/4cVd2IcY4o to t/mailboxes/mailarc-2.txt
Output /tmp/4cVd2IcY4o looks good.
ok 17 - Computing differences
ok 18 # skip GNU grep not available
Testing filename: t/mailboxes/mailarc-3.txt
Comparing /tmp/mdOb8F02ji to t/mailboxes/mailarc-3.txt
Output /tmp/mdOb8F02ji looks good.
ok 19 - Computing differences
Comparing /tmp/DzNCPjKpD1 to t/mailboxes/mailarc-3.txt
Output /tmp/DzNCPjKpD1 looks good.
ok 20 - Computing differences
ok 21 # skip GNU grep not available
Testing filename: t/mailboxes/mailseparators.txt
Comparing /tmp/dHWfMti9sG to t/mailboxes/mailseparators.txt
Output /tmp/dHWfMti9sG looks good.
ok 22 - Computing differences
Comparing /tmp/i473hu1eCI to t/mailboxes/mailseparators.txt
Output /tmp/i473hu1eCI looks good.
ok 23 - Computing differences
ok 24 # skip GNU grep not available
Testing filename: t/mailboxes/malformed.txt
Comparing /tmp/TRhk18iCmW to t/mailboxes/malformed.txt
Output /tmp/TRhk18iCmW looks good.
ok 25 - Computing differences
Comparing /tmp/_syjWVCbVX to t/mailboxes/malformed.txt
Output /tmp/_syjWVCbVX looks good.
ok 26 - Computing differences
ok 27 # skip GNU grep not available
Testing filename: t/mailboxes/newlines_at_beginning.txt
Comparing /tmp/7diOWmtJrg to t/mailboxes/newlines_at_beginning.txt
Output /tmp/7diOWmtJrg looks good.
ok 28 - Computing differences
Comparing /tmp/voghFlsMaZ to t/mailboxes/newlines_at_beginning.txt
Output /tmp/voghFlsMaZ looks good.
ok 29 - Computing differences
ok 30 # skip GNU grep not available
Testing filename: t/mailboxes/vm-emacs.txt
Comparing /tmp/3afzGKpJdo to t/mailboxes/vm-emacs.txt
Output /tmp/3afzGKpJdo looks good.
ok 31 - Computing differences
Comparing /tmp/GrGwBBeeaO to t/mailboxes/vm-emacs.txt
Output /tmp/GrGwBBeeaO looks good.
ok 32 - Computing differences
ok 33 # skip GNU grep not available
ok
t/reset.t .......................
1..60
Testing filename: t/mailboxes/binary_body.txt
Testing partial mailbox reset with Perl implementation
Comparing /tmp/nOhMrsBPrI to t/results/reset_binary_body.stdout
Output /tmp/nOhMrsBPrI looks good.
ok 1 - Computing differences
Testing partial mailbox reset with Cache implementation
Comparing /tmp/w06XZqiPjR to t/results/reset_binary_body.stdout
Output /tmp/w06XZqiPjR looks good.
ok 2 - Computing differences
Testing partial mailbox reset with Grep implementation
ok 3 # skip GNU grep not available
Testing full mailbox reset with Perl implementation
Comparing /tmp/kiOM4abj2x to t/results/reset_binary_body.stdout
Output /tmp/kiOM4abj2x looks good.
ok 4 - Computing differences
Testing full mailbox reset with Cache implementation
Comparing /tmp/I0iAqNFKHM to t/results/reset_binary_body.stdout
Output /tmp/I0iAqNFKHM looks good.
ok 5 - Computing differences
Testing full mailbox reset with Grep implementation
ok 6 # skip GNU grep not available
Testing filename: t/mailboxes/hessbug.txt
Testing partial mailbox reset with Perl implementation
Comparing /tmp/s7GKK_OEUL to t/results/reset_hessbug.stdout
Output /tmp/s7GKK_OEUL looks good.
ok 7 - Computing differences
Testing partial mailbox reset with Cache implementation
Comparing /tmp/FA_xsMihVz to t/results/reset_hessbug.stdout
Output /tmp/FA_xsMihVz looks good.
ok 8 - Computing differences
Testing partial mailbox reset with Grep implementation
ok 9 # skip GNU grep not available
Testing full mailbox reset with Perl implementation
Comparing /tmp/CzZdaULfL_ to t/results/reset_hessbug.stdout
Output /tmp/CzZdaULfL_ looks good.
ok 10 - Computing differences
Testing full mailbox reset with Cache implementation
Comparing /tmp/CrEqr1bW7d to t/results/reset_hessbug.stdout
Output /tmp/CrEqr1bW7d looks good.
ok 11 - Computing differences
Testing full mailbox reset with Grep implementation
ok 12 # skip GNU grep not available
Testing filename: t/mailboxes/invalid-boundaries.txt
Testing partial mailbox reset with Perl implementation
Comparing /tmp/OxasNiBldH to t/results/reset_invalid-boundaries.stdout
Output /tmp/OxasNiBldH looks good.
ok 13 - Computing differences
Testing partial mailbox reset with Cache implementation
Comparing /tmp/emw4z7Us5z to t/results/reset_invalid-boundaries.stdout
Output /tmp/emw4z7Us5z looks good.
ok 14 - Computing differences
Testing partial mailbox reset with Grep implementation
ok 15 # skip GNU grep not available
Testing full mailbox reset with Perl implementation
Comparing /tmp/m0Kj5pFHUq to t/results/reset_invalid-boundaries.stdout
Output /tmp/m0Kj5pFHUq looks good.
ok 16 - Computing differences
Testing full mailbox reset with Cache implementation
Comparing /tmp/XGch_lHrnI to t/results/reset_invalid-boundaries.stdout
Output /tmp/XGch_lHrnI looks good.
ok 17 - Computing differences
Testing full mailbox reset with Grep implementation
ok 18 # skip GNU grep not available
Testing filename: t/mailboxes/mailarc-1-dos.txt
Testing partial mailbox reset with Perl implementation
Comparing /tmp/RcPhnD4Jb5 to t/results/reset_mailarc-1-dos.stdout
Output /tmp/RcPhnD4Jb5 looks good.
ok 19 - Computing differences
Testing partial mailbox reset with Cache implementation
Comparing /tmp/ux8p84H5PG to t/results/reset_mailarc-1-dos.stdout
Output /tmp/ux8p84H5PG looks good.
ok 20 - Computing differences
Testing partial mailbox reset with Grep implementation
ok 21 # skip GNU grep not available
Testing full mailbox reset with Perl implementation
Comparing /tmp/oZXFxE8tnS to t/results/reset_mailarc-1-dos.stdout
Output /tmp/oZXFxE8tnS looks good.
ok 22 - Computing differences
Testing full mailbox reset with Cache implementation
Comparing /tmp/bPBiXbAU2t to t/results/reset_mailarc-1-dos.stdout
Output /tmp/bPBiXbAU2t looks good.
ok 23 - Computing differences
Testing full mailbox reset with Grep implementation
ok 24 # skip GNU grep not available
Testing filename: t/mailboxes/mailarc-1.txt
Testing partial mailbox reset with Perl implementation
Comparing /tmp/siVHVP_hlL to t/results/reset_mailarc-1.stdout
Output /tmp/siVHVP_hlL looks good.
ok 25 - Computing differences
Testing partial mailbox reset with Cache implementation
Comparing /tmp/hgMqDCAx7O to t/results/reset_mailarc-1.stdout
Output /tmp/hgMqDCAx7O looks good.
ok 26 - Computing differences
Testing partial mailbox reset with Grep implementation
ok 27 # skip GNU grep not available
Testing full mailbox reset with Perl implementation
Comparing /tmp/zHPWncRBqx to t/results/reset_mailarc-1.stdout
Output /tmp/zHPWncRBqx looks good.
ok 28 - Computing differences
Testing full mailbox reset with Cache implementation
Comparing /tmp/vt2J94_ltP to t/results/reset_mailarc-1.stdout
Output /tmp/vt2J94_ltP looks good.
ok 29 - Computing differences
Testing full mailbox reset with Grep implementation
ok 30 # skip GNU grep not available
Testing filename: t/mailboxes/mailarc-2.txt
Testing partial mailbox reset with Perl implementation
Comparing /tmp/xHKITs3MOA to t/results/reset_mailarc-2.stdout
Output /tmp/xHKITs3MOA looks good.
ok 31 - Computing differences
Testing partial mailbox reset with Cache implementation
Comparing /tmp/p7eGuhQ4Py to t/results/reset_mailarc-2.stdout
Output /tmp/p7eGuhQ4Py looks good.
ok 32 - Computing differences
Testing partial mailbox reset with Grep implementation
ok 33 # skip GNU grep not available
Testing full mailbox reset with Perl implementation
Comparing /tmp/Q6Yxhl3EaA to t/results/reset_mailarc-2.stdout
Output /tmp/Q6Yxhl3EaA looks good.
ok 34 - Computing differences
Testing full mailbox reset with Cache implementation
Comparing /tmp/ySsMInxePn to t/results/reset_mailarc-2.stdout
Output /tmp/ySsMInxePn looks good.
ok 35 - Computing differences
Testing full mailbox reset with Grep implementation
ok 36 # skip GNU grep not available
Testing filename: t/mailboxes/mailarc-3.txt
Testing partial mailbox reset with Perl implementation
Comparing /tmp/BgvcgNCgYq to t/results/reset_mailarc-3.stdout
Output /tmp/BgvcgNCgYq looks good.
ok 37 - Computing differences
Testing partial mailbox reset with Cache implementation
Comparing /tmp/2XsqrnWotC to t/results/reset_mailarc-3.stdout
Output /tmp/2XsqrnWotC looks good.
ok 38 - Computing differences
Testing partial mailbox reset with Grep implementation
ok 39 # skip GNU grep not available
Testing full mailbox reset with Perl implementation
Comparing /tmp/hXxqzmjeZu to t/results/reset_mailarc-3.stdout
Output /tmp/hXxqzmjeZu looks good.
ok 40 - Computing differences
Testing full mailbox reset with Cache implementation
Comparing /tmp/s25IholzyR to t/results/reset_mailarc-3.stdout
Output /tmp/s25IholzyR looks good.
ok 41 - Computing differences
Testing full mailbox reset with Grep implementation
ok 42 # skip GNU grep not available
Testing filename: t/mailboxes/mailseparators.txt
Testing partial mailbox reset with Perl implementation
Comparing /tmp/OXciYPEax9 to t/results/reset_mailseparators.stdout
Output /tmp/OXciYPEax9 looks good.
ok 43 - Computing differences
Testing partial mailbox reset with Cache implementation
Comparing /tmp/8uenq5zEmH to t/results/reset_mailseparators.stdout
Output /tmp/8uenq5zEmH looks good.
ok 44 - Computing differences
Testing partial mailbox reset with Grep implementation
ok 45 # skip GNU grep not available
Testing full mailbox reset with Perl implementation
Comparing /tmp/SRVcBqP0Mt to t/results/reset_mailseparators.stdout
Output /tmp/SRVcBqP0Mt looks good.
ok 46 - Computing differences
Testing full mailbox reset with Cache implementation
Comparing /tmp/CuFOUSGtnn to t/results/reset_mailseparators.stdout
Output /tmp/CuFOUSGtnn looks good.
ok 47 - Computing differences
Testing full mailbox reset with Grep implementation
ok 48 # skip GNU grep not available
Testing filename: t/mailboxes/malformed.txt
Testing partial mailbox reset with Perl implementation
Comparing /tmp/iARFGuPNk1 to t/results/reset_malformed.stdout
Output /tmp/iARFGuPNk1 looks good.
ok 49 - Computing differences
Testing partial mailbox reset with Cache implementation
Comparing /tmp/tvGZRyrdmB to t/results/reset_malformed.stdout
Output /tmp/tvGZRyrdmB looks good.
ok 50 - Computing differences
Testing partial mailbox reset with Grep implementation
ok 51 # skip GNU grep not available
Testing full mailbox reset with Perl implementation
Comparing /tmp/sHA2HM2t6y to t/results/reset_malformed.stdout
Output /tmp/sHA2HM2t6y looks good.
ok 52 - Computing differences
Testing full mailbox reset with Cache implementation
Comparing /tmp/Qf9Bh1zSwU to t/results/reset_malformed.stdout
Output /tmp/Qf9Bh1zSwU looks good.
ok 53 - Computing differences
Testing full mailbox reset with Grep implementation
ok 54 # skip GNU grep not available
Testing filename: t/mailboxes/newlines_at_beginning.txt
Testing partial mailbox reset with Perl implementation
Comparing /tmp/1bBxaLzYuK to t/results/reset_newlines_at_beginning.stdout
Output /tmp/1bBxaLzYuK looks good.
ok 55 - Computing differences
Testing partial mailbox reset with Cache implementation
Comparing /tmp/3RgdT4xpIC to t/results/reset_newlines_at_beginning.stdout
Output /tmp/3RgdT4xpIC looks good.
ok 56 - Computing differences
Testing partial mailbox reset with Grep implementation
ok 57 # skip GNU grep not available
Testing full mailbox reset with Perl implementation
Comparing /tmp/7mm1k8E5mG to t/results/reset_newlines_at_beginning.stdout
Output /tmp/7mm1k8E5mG looks good.
ok 58 - Computing differences
Testing full mailbox reset with Cache implementation
Comparing /tmp/GOuHRLhnlj to t/results/reset_newlines_at_beginning.stdout
Output /tmp/GOuHRLhnlj looks good.
ok 59 - Computing differences
Testing full mailbox reset with Grep implementation
ok 60 # skip GNU grep not available
ok
t/separators.t ..................
1..6
Testing filename: t/mailboxes/separators2.sep
ok 1 - Number of emails in t/mailboxes/separators2.sep
ok 2 - Number of emails in t/mailboxes/separators2.sep
ok 3 # skip GNU grep not available
Testing filename: t/mailboxes/separators1.sep
ok 4 - Number of emails in t/mailboxes/separators1.sep
ok 5 - Number of emails in t/mailboxes/separators1.sep
ok 6 # skip GNU grep not available
ok
t/stdin_compressed.t ............
1..4
Testing filename: t/mailboxes/mailarc-2.txt.bz2
Comparing /tmp/g4BvAZwzOn to t/mailboxes/mailarc-2.txt
Output /tmp/g4BvAZwzOn looks good.
ok 1 - Computing differences
Testing filename: t/mailboxes/mailarc-2.txt.gz
Comparing /tmp/tRFs4vUya4 to t/mailboxes/mailarc-2.txt
Output /tmp/tRFs4vUya4 looks good.
ok 2 - Computing differences
Testing filename: t/mailboxes/mailarc-2.txt.lz
ok 3 # skip lzip not available
Testing filename: t/mailboxes/mailarc-2.txt.xz
Comparing /tmp/gkg_2Xj0sr to t/mailboxes/mailarc-2.txt
Output /tmp/gkg_2Xj0sr looks good.
ok 4 - Computing differences
ok
t/stdin_uncompressed.t ..........
1..11
Testing filename: t/mailboxes/binary_body.txt
Comparing /tmp/DNzAdBmSZo to t/mailboxes/binary_body.txt
Output /tmp/DNzAdBmSZo looks good.
ok 1 - Computing differences
Testing filename: t/mailboxes/hessbug.txt
Comparing /tmp/C6lirMN4r7 to t/mailboxes/hessbug.txt
Output /tmp/C6lirMN4r7 looks good.
ok 2 - Computing differences
Testing filename: t/mailboxes/invalid-boundaries.txt
Comparing /tmp/5oAMccJhDk to t/mailboxes/invalid-boundaries.txt
Output /tmp/5oAMccJhDk looks good.
ok 3 - Computing differences
Testing filename: t/mailboxes/mailarc-1-dos.txt
Comparing /tmp/OvUzhtMTzf to t/mailboxes/mailarc-1-dos.txt
Output /tmp/OvUzhtMTzf looks good.
ok 4 - Computing differences
Testing filename: t/mailboxes/mailarc-1.txt
Comparing /tmp/Cn5Y2vq8me to t/mailboxes/mailarc-1.txt
Output /tmp/Cn5Y2vq8me looks good.
ok 5 - Computing differences
Testing filename: t/mailboxes/mailarc-2.txt
Comparing /tmp/y8xjDGRwSW to t/mailboxes/mailarc-2.txt
Output /tmp/y8xjDGRwSW looks good.
ok 6 - Computing differences
Testing filename: t/mailboxes/mailarc-3.txt
Comparing /tmp/YLPzqeyxW6 to t/mailboxes/mailarc-3.txt
Output /tmp/YLPzqeyxW6 looks good.
ok 7 - Computing differences
Testing filename: t/mailboxes/mailseparators.txt
Comparing /tmp/03iwgtmsC8 to t/mailboxes/mailseparators.txt
Output /tmp/03iwgtmsC8 looks good.
ok 8 - Computing differences
Testing filename: t/mailboxes/malformed.txt
Comparing /tmp/DrzAktuGqN to t/mailboxes/malformed.txt
Output /tmp/DrzAktuGqN looks good.
ok 9 - Computing differences
Testing filename: t/mailboxes/newlines_at_beginning.txt
Comparing /tmp/dQJxpUxM0x to t/mailboxes/newlines_at_beginning.txt
Output /tmp/dQJxpUxM0x looks good.
ok 10 - Computing differences
Testing filename: t/mailboxes/vm-emacs.txt
Comparing /tmp/y8Ovn17dy3 to t/mailboxes/vm-emacs.txt
Output /tmp/y8Ovn17dy3 looks good.
ok 11 - Computing differences
ok
t/undef_return_value.t ..........
1..33
Testing Perl
Comparing /tmp/yXWLprzckg to t/mailboxes/binary_body.txt
Output /tmp/yXWLprzckg looks good.
ok 1 - Computing differences
Testing Cache implementation
Comparing /tmp/TakH99iqVM to t/mailboxes/binary_body.txt
Output /tmp/TakH99iqVM looks good.
ok 2 - Computing differences
ok 3 # skip GNU grep not available
Testing Perl
Comparing /tmp/B6uigYcleQ to t/mailboxes/hessbug.txt
Output /tmp/B6uigYcleQ looks good.
ok 4 - Computing differences
Testing Cache implementation
Comparing /tmp/eMd5I06iQz to t/mailboxes/hessbug.txt
Output /tmp/eMd5I06iQz looks good.
ok 5 - Computing differences
ok 6 # skip GNU grep not available
Testing Perl
Comparing /tmp/tP5gkZAxCH to t/mailboxes/invalid-boundaries.txt
Output /tmp/tP5gkZAxCH looks good.
ok 7 - Computing differences
Testing Cache implementation
Comparing /tmp/RPVwolfXzl to t/mailboxes/invalid-boundaries.txt
Output /tmp/RPVwolfXzl looks good.
ok 8 - Computing differences
ok 9 # skip GNU grep not available
Testing Perl
Comparing /tmp/uG9ObDdjcb to t/mailboxes/mailarc-1-dos.txt
Output /tmp/uG9ObDdjcb looks good.
ok 10 - Computing differences
Testing Cache implementation
Comparing /tmp/JQtYsXCGiz to t/mailboxes/mailarc-1-dos.txt
Output /tmp/JQtYsXCGiz looks good.
ok 11 - Computing differences
ok 12 # skip GNU grep not available
Testing Perl
Comparing /tmp/4dRKKNuHr7 to t/mailboxes/mailarc-1.txt
Output /tmp/4dRKKNuHr7 looks good.
ok 13 - Computing differences
Testing Cache implementation
Comparing /tmp/Hr2g9HLh_q to t/mailboxes/mailarc-1.txt
Output /tmp/Hr2g9HLh_q looks good.
ok 14 - Computing differences
ok 15 # skip GNU grep not available
Testing Perl
Comparing /tmp/vCV3HQULCB to t/mailboxes/mailarc-2.txt
Output /tmp/vCV3HQULCB looks good.
ok 16 - Computing differences
Testing Cache implementation
Comparing /tmp/qdHWpntGfu to t/mailboxes/mailarc-2.txt
Output /tmp/qdHWpntGfu looks good.
ok 17 - Computing differences
ok 18 # skip GNU grep not available
Testing Perl
Comparing /tmp/JwsdR9ECQ4 to t/mailboxes/mailarc-3.txt
Output /tmp/JwsdR9ECQ4 looks good.
ok 19 - Computing differences
Testing Cache implementation
Comparing /tmp/7w9eXlrNBK to t/mailboxes/mailarc-3.txt
Output /tmp/7w9eXlrNBK looks good.
ok 20 - Computing differences
ok 21 # skip GNU grep not available
Testing Perl
Comparing /tmp/XziggS8CqF to t/mailboxes/mailseparators.txt
Output /tmp/XziggS8CqF looks good.
ok 22 - Computing differences
Testing Cache implementation
Comparing /tmp/FOq4oTe2_4 to t/mailboxes/mailseparators.txt
Output /tmp/FOq4oTe2_4 looks good.
ok 23 - Computing differences
ok 24 # skip GNU grep not available
Testing Perl
Comparing /tmp/_roeR5ZHaU to t/mailboxes/malformed.txt
Output /tmp/_roeR5ZHaU looks good.
ok 25 - Computing differences
Testing Cache implementation
Comparing /tmp/JlD412DAJ2 to t/mailboxes/malformed.txt
Output /tmp/JlD412DAJ2 looks good.
ok 26 - Computing differences
ok 27 # skip GNU grep not available
Testing Perl
Comparing /tmp/LAwyE2qo85 to t/mailboxes/newlines_at_beginning.txt
Output /tmp/LAwyE2qo85 looks good.
ok 28 - Computing differences
Testing Cache implementation
Comparing /tmp/HryMpdC8pd to t/mailboxes/newlines_at_beginning.txt
Output /tmp/HryMpdC8pd looks good.
ok 29 - Computing differences
ok 30 # skip GNU grep not available
Testing Perl
Comparing /tmp/V7Vg7aLGtx to t/mailboxes/vm-emacs.txt
Output /tmp/V7Vg7aLGtx looks good.
ok 31 - Computing differences
Testing Cache implementation
Comparing /tmp/ptjLGwphm3 to t/mailboxes/vm-emacs.txt
Output /tmp/ptjLGwphm3 looks good.
ok 32 - Computing differences
ok 33 # skip GNU grep not available
ok
t/xz.t ..........................
1..1
Running test:
"/bin/cat" "t/mailboxes/mailarc-2.txt.xz" | "/usr/bin/xz" -cd
Comparing /tmp/p_C_g7CCYN to t/results/mailarc-2.txt
Output /tmp/p_C_g7CCYN looks good.
Comparing /tmp/QsDsk0khSe to t/results/none
Output /tmp/QsDsk0khSe looks good.
ok 1 - Computing differences
ok
All tests successful.
Files=25, Tests=370, 8 wallclock secs ( 0.15 usr 0.07 sys + 5.14 cusr 1.95 csys = 7.31 CPU)
Result: PASS
PREREQUISITES:
Here is a list of prerequisites you specified and versions we
managed to load:
Module Name Have Want
ExtUtils::MakeMaker 7.34 6.36
File::Path 2.15 2.08
File::Slurper 0.012 0
FileHandle::Unget 0.1634 0
Storable 3.11 0
Test::Compile v1.3.0 0
Test::More 1.302136 0
Text::Diff 1.45 0
UNIVERSAL::require 0.18 0
URI::Escape 3.31 0
Perl module toolchain versions installed:
Module Name Have
CPANPLUS 0.9174
CPANPLUS::Dist::Build 0.88
Cwd 3.74
ExtUtils::CBuilder 0.280230
ExtUtils::Command 7.34
ExtUtils::Install 2.14
ExtUtils::MakeMaker 7.34
ExtUtils::Manifest 1.71
ExtUtils::ParseXS 3.35
File::Spec 3.74
Module::Build 0.4224
Pod::Parser 1.62
Pod::Simple 3.28
Test2 1.302136
Test::Harness 3.42
Test::More 1.302136
version 0.9924
******************************** NOTE ********************************
The comments above are created mechanically, possibly without manual
checking by the sender. As there are many people performing automatic
tests on each upload to CPAN, it is likely that you will receive
identical messages about the same problem.
If you believe that the message is mistaken, please reply to the first
one with correction and/or additional informations, and do not take
it personally. We appreciate your patience. :)
**********************************************************************
Additional comments:
This report was machine-generated by CPANPLUS::Dist::YACSmoke 1.02.
Powered by minismokebox version 0.68
------------------------------
ENVIRONMENT AND OTHER CONTEXT
------------------------------
Environment variables:
AUTOMATED_TESTING = 1
NONINTERACTIVE_TESTING = 1
PATH = /home/cpan/bin:/bin:/sbin:/usr/bin:/usr/sbin:/usr/X11R7/bin:/usr/X11R6/bin:/usr/pkg/bin:/usr/pkg/sbin:/usr/games:/usr/local/bin:/usr/local/sbin
PERL5LIB = :/home/cpan/pit/bare/conf/perl-5.20.0/.cpanplus/5.20.0/build/hN3FOQmPYk/Test-Needs-0.002005/blib/lib:/home/cpan/pit/bare/conf/perl-5.20.0/.cpanplus/5.20.0/build/hN3FOQmPYk/Test-Needs-0.002005/blib/arch:/home/cpan/pit/bare/conf/perl-5.20.0/.cpanplus/5.20.0/build/LozU_K1diX/URI-1.74/blib/lib:/home/cpan/pit/bare/conf/perl-5.20.0/.cpanplus/5.20.0/build/LozU_K1diX/URI-1.74/blib/arch:/home/cpan/pit/bare/conf/perl-5.20.0/.cpanplus/5.20.0/build/TeHqxGO2JK/Test-Warnings-0.026/blib/lib:/home/cpan/pit/bare/conf/perl-5.20.0/.cpanplus/5.20.0/build/TeHqxGO2JK/Test-Warnings-0.026/blib/arch:/home/cpan/pit/bare/conf/perl-5.20.0/.cpanplus/5.20.0/build/2fVBZk1jXp/File-Slurper-0.012/blib/lib:/home/cpan/pit/bare/conf/perl-5.20.0/.cpanplus/5.20.0/build/2fVBZk1jXp/File-Slurper-0.012/blib/arch:/home/cpan/pit/bare/conf/perl-5.20.0/.cpanplus/5.20.0/build/k4OSXmHmcy/UNIVERSAL-require-0.18/blib/lib:/home/cpan/pit/bare/conf/perl-5.20.0/.cpanplus/5.20.0/build/k4OSXmHmcy/UNIVERSAL-require-0.18/blib/arch:/home/cpan/pit/bare/conf/perl-5.20.0/.cpanplus/5.20.0/build/Sf_yF1iVsk/Test-Compile-v1.3.0/blib/lib:/home/cpan/pit/bare/conf/perl-5.20.0/.cpanplus/5.20.0/build/Sf_yF1iVsk/Test-Compile-v1.3.0/blib/arch:/home/cpan/pit/bare/conf/perl-5.20.0/.cpanplus/5.20.0/build/CBvHpH_OYv/FileHandle-Unget-0.1634/blib/lib:/home/cpan/pit/bare/conf/perl-5.20.0/.cpanplus/5.20.0/build/CBvHpH_OYv/FileHandle-Unget-0.1634/blib/arch:/home/cpan/pit/bare/conf/perl-5.20.0/.cpanplus/5.20.0/build/7BI5g2CTOX/Algorithm-Diff-1.1903/blib/lib:/home/cpan/pit/bare/conf/perl-5.20.0/.cpanplus/5.20.0/build/7BI5g2CTOX/Algorithm-Diff-1.1903/blib/arch:/home/cpan/pit/bare/conf/perl-5.20.0/.cpanplus/5.20.0/build/Mmquc71vXJ/Text-Diff-1.45/blib/lib:/home/cpan/pit/bare/conf/perl-5.20.0/.cpanplus/5.20.0/build/Mmquc71vXJ/Text-Diff-1.45/blib/arch:/home/cpan/pit/bare/conf/perl-5.20.0/.cpanplus/5.20.0/build/qr04B9oQBM/Mail-Mbox-MessageParser-1.5111/blib/lib:/home/cpan/pit/bare/conf/perl-5.20.0/.cpanplus/5.20.0/build/qr04B9oQBM/Mail-Mbox-MessageParser-1.5111/blib/arch
PERL5_CPANPLUS_IS_RUNNING = 29752
PERL5_CPANPLUS_IS_VERSION = 0.9174
PERL5_MINISMOKEBOX = 0.68
PERL5_YACSMOKE_BASE = /home/cpan/pit/bare/conf/perl-5.20.0
PERL_EXTUTILS_AUTOINSTALL = --defaultdeps
PERL_MM_USE_DEFAULT = 1
SHELL = /usr/pkg/bin/bash
TERM = screen
Perl special variables (and OS-specific diagnostics, for MSWin32):
Perl: $^X = /home/cpan/pit/bare/perl-5.20.0/bin/perl
UID: $< = 1002
EUID: $> = 1002
GID: $( = 100 100
EGID: $) = 100 100
-------------------------------
--
Summary of my perl5 (revision 5 version 20 subversion 0) configuration:
Platform:
osname=netbsd, osvers=6.1.4, archname=amd64-netbsd
uname='netbsd naboo.bingosnet.co.uk 6.1.4 netbsd 6.1.4 (generic) amd64 '
config_args='-des -Dprefix=/home/cpan/pit/bare/perl-5.20.0'
hint=recommended, useposix=true, d_sigaction=define
useithreads=undef, usemultiplicity=undef
use64bitint=define, use64bitall=define, uselongdouble=undef
usemymalloc=n, bincompat5005=undef
Compiler:
cc='cc', ccflags ='-fwrapv -fno-strict-aliasing -pipe -fstack-protector -I/usr/pkg/include',
optimize='-O',
cppflags='-fwrapv -fno-strict-aliasing -pipe -fstack-protector -I/usr/pkg/include'
ccversion='', gccversion='4.5.3', gccosandvers=''
intsize=4, longsize=8, ptrsize=8, doublesize=8, byteorder=12345678
d_longlong=define, longlongsize=8, d_longdbl=define, longdblsize=16
ivtype='long', ivsize=8, nvtype='double', nvsize=8, Off_t='off_t', lseeksize=8
alignbytes=8, prototype=define
Linker and Libraries:
ld='cc', ldflags =' -Wl,-rpath,/usr/pkg/lib -Wl,-rpath,/usr/local/lib -fstack-protector -L/usr/pkg/lib'
libpth=/usr/include/gcc-4.5 /usr/lib /usr/pkg/lib /lib
libs=-lgdbm -lm -lcrypt -lutil -lc -lposix
perllibs=-lm -lcrypt -lutil -lc -lposix
libc=/lib/libc.so, so=so, useshrplib=false, libperl=libperl.a
gnulibc_version=''
Dynamic Linking:
dlsrc=dl_dlopen.xs, dlext=so, d_dlsymun=undef, ccdlflags='-Wl,-E '
cccdlflags='-DPIC -fPIC ', lddlflags='--whole-archive -shared -L/usr/pkg/lib -fstack-protector'
Characteristics of this binary (from libperl):
Compile-time options: HAS_TIMES PERLIO_LAYERS PERL_DONT_CREATE_GVSV
PERL_HASH_FUNC_ONE_AT_A_TIME_HARD PERL_MALLOC_WRAP
PERL_NEW_COPY_ON_WRITE PERL_PRESERVE_IVUV
USE_64_BIT_ALL USE_64_BIT_INT USE_LARGE_FILES
USE_LOCALE USE_LOCALE_COLLATE USE_LOCALE_CTYPE
USE_LOCALE_NUMERIC USE_PERLIO USE_PERL_ATOF
Built under netbsd
Compiled at May 28 2014 17:30:48
%ENV:
PERL5LIB=":/home/cpan/pit/bare/conf/perl-5.20.0/.cpanplus/5.20.0/build/hN3FOQmPYk/Test-Needs-0.002005/blib/lib:/home/cpan/pit/bare/conf/perl-5.20.0/.cpanplus/5.20.0/build/hN3FOQmPYk/Test-Needs-0.002005/blib/arch:/home/cpan/pit/bare/conf/perl-5.20.0/.cpanplus/5.20.0/build/LozU_K1diX/URI-1.74/blib/lib:/home/cpan/pit/bare/conf/perl-5.20.0/.cpanplus/5.20.0/build/LozU_K1diX/URI-1.74/blib/arch:/home/cpan/pit/bare/conf/perl-5.20.0/.cpanplus/5.20.0/build/TeHqxGO2JK/Test-Warnings-0.026/blib/lib:/home/cpan/pit/bare/conf/perl-5.20.0/.cpanplus/5.20.0/build/TeHqxGO2JK/Test-Warnings-0.026/blib/arch:/home/cpan/pit/bare/conf/perl-5.20.0/.cpanplus/5.20.0/build/2fVBZk1jXp/File-Slurper-0.012/blib/lib:/home/cpan/pit/bare/conf/perl-5.20.0/.cpanplus/5.20.0/build/2fVBZk1jXp/File-Slurper-0.012/blib/arch:/home/cpan/pit/bare/conf/perl-5.20.0/.cpanplus/5.20.0/build/k4OSXmHmcy/UNIVERSAL-require-0.18/blib/lib:/home/cpan/pit/bare/conf/perl-5.20.0/.cpanplus/5.20.0/build/k4OSXmHmcy/UNIVERSAL-require-0.18/blib/arch:/home/cpan/pit/bare/conf/perl-5.20.0/.cpanplus/5.20.0/build/Sf_yF1iVsk/Test-Compile-v1.3.0/blib/lib:/home/cpan/pit/bare/conf/perl-5.20.0/.cpanplus/5.20.0/build/Sf_yF1iVsk/Test-Compile-v1.3.0/blib/arch:/home/cpan/pit/bare/conf/perl-5.20.0/.cpanplus/5.20.0/build/CBvHpH_OYv/FileHandle-Unget-0.1634/blib/lib:/home/cpan/pit/bare/conf/perl-5.20.0/.cpanplus/5.20.0/build/CBvHpH_OYv/FileHandle-Unget-0.1634/blib/arch:/home/cpan/pit/bare/conf/perl-5.20.0/.cpanplus/5.20.0/build/7BI5g2CTOX/Algorithm-Diff-1.1903/blib/lib:/home/cpan/pit/bare/conf/perl-5.20.0/.cpanplus/5.20.0/build/7BI5g2CTOX/Algorithm-Diff-1.1903/blib/arch:/home/cpan/pit/bare/conf/perl-5.20.0/.cpanplus/5.20.0/build/Mmquc71vXJ/Text-Diff-1.45/blib/lib:/home/cpan/pit/bare/conf/perl-5.20.0/.cpanplus/5.20.0/build/Mmquc71vXJ/Text-Diff-1.45/blib/arch:/home/cpan/pit/bare/conf/perl-5.20.0/.cpanplus/5.20.0/build/qr04B9oQBM/Mail-Mbox-MessageParser-1.5111/blib/lib:/home/cpan/pit/bare/conf/perl-5.20.0/.cpanplus/5.20.0/build/qr04B9oQBM/Mail-Mbox-MessageParser-1.5111/blib/arch"
PERL5_CPANPLUS_IS_RUNNING="29752"
PERL5_CPANPLUS_IS_VERSION="0.9174"
PERL5_MINISMOKEBOX="0.68"
PERL5_YACSMOKE_BASE="/home/cpan/pit/bare/conf/perl-5.20.0"
PERL_EXTUTILS_AUTOINSTALL="--defaultdeps"
PERL_MM_USE_DEFAULT="1"
@INC:
/home/cpan/pit/bare/conf/perl-5.20.0/.cpanplus/5.20.0/build/hN3FOQmPYk/Test-Needs-0.002005/blib/lib
/home/cpan/pit/bare/conf/perl-5.20.0/.cpanplus/5.20.0/build/hN3FOQmPYk/Test-Needs-0.002005/blib/arch
/home/cpan/pit/bare/conf/perl-5.20.0/.cpanplus/5.20.0/build/LozU_K1diX/URI-1.74/blib/lib
/home/cpan/pit/bare/conf/perl-5.20.0/.cpanplus/5.20.0/build/LozU_K1diX/URI-1.74/blib/arch
/home/cpan/pit/bare/conf/perl-5.20.0/.cpanplus/5.20.0/build/TeHqxGO2JK/Test-Warnings-0.026/blib/lib
/home/cpan/pit/bare/conf/perl-5.20.0/.cpanplus/5.20.0/build/TeHqxGO2JK/Test-Warnings-0.026/blib/arch
/home/cpan/pit/bare/conf/perl-5.20.0/.cpanplus/5.20.0/build/2fVBZk1jXp/File-Slurper-0.012/blib/lib
/home/cpan/pit/bare/conf/perl-5.20.0/.cpanplus/5.20.0/build/2fVBZk1jXp/File-Slurper-0.012/blib/arch
/home/cpan/pit/bare/conf/perl-5.20.0/.cpanplus/5.20.0/build/k4OSXmHmcy/UNIVERSAL-require-0.18/blib/lib
/home/cpan/pit/bare/conf/perl-5.20.0/.cpanplus/5.20.0/build/k4OSXmHmcy/UNIVERSAL-require-0.18/blib/arch
/home/cpan/pit/bare/conf/perl-5.20.0/.cpanplus/5.20.0/build/Sf_yF1iVsk/Test-Compile-v1.3.0/blib/lib
/home/cpan/pit/bare/conf/perl-5.20.0/.cpanplus/5.20.0/build/Sf_yF1iVsk/Test-Compile-v1.3.0/blib/arch
/home/cpan/pit/bare/conf/perl-5.20.0/.cpanplus/5.20.0/build/CBvHpH_OYv/FileHandle-Unget-0.1634/blib/lib
/home/cpan/pit/bare/conf/perl-5.20.0/.cpanplus/5.20.0/build/CBvHpH_OYv/FileHandle-Unget-0.1634/blib/arch
/home/cpan/pit/bare/conf/perl-5.20.0/.cpanplus/5.20.0/build/7BI5g2CTOX/Algorithm-Diff-1.1903/blib/lib
/home/cpan/pit/bare/conf/perl-5.20.0/.cpanplus/5.20.0/build/7BI5g2CTOX/Algorithm-Diff-1.1903/blib/arch
/home/cpan/pit/bare/conf/perl-5.20.0/.cpanplus/5.20.0/build/Mmquc71vXJ/Text-Diff-1.45/blib/lib
/home/cpan/pit/bare/conf/perl-5.20.0/.cpanplus/5.20.0/build/Mmquc71vXJ/Text-Diff-1.45/blib/arch
/home/cpan/pit/bare/conf/perl-5.20.0/.cpanplus/5.20.0/build/qr04B9oQBM/Mail-Mbox-MessageParser-1.5111/blib/lib
/home/cpan/pit/bare/conf/perl-5.20.0/.cpanplus/5.20.0/build/qr04B9oQBM/Mail-Mbox-MessageParser-1.5111/blib/arch
/home/cpan/pit/bare/perl-5.20.0/lib/site_perl/5.20.0/amd64-netbsd
/home/cpan/pit/bare/perl-5.20.0/lib/site_perl/5.20.0
/home/cpan/pit/bare/perl-5.20.0/lib/5.20.0/amd64-netbsd
/home/cpan/pit/bare/perl-5.20.0/lib/5.20.0
.