Module-Install v1.21 Perl 5 v5.41.3 x86_64-linux

Status
Pass
From
Carlos Guevara
Dist
Module-Install v1.21
Platform
Perl 5 v5.41.3 x86_64-linux
Date
2024-08-05 02:46:34
ID
eda1a698-52d4-11ef-b35c-ecbeb35e4fa0
This distribution has been tested as part of the CPAN Testers
project, supporting the Perl programming language.  See
http://wiki.cpantesters.org/ for more information or email
questions to cpan-testers-discuss@perl.org


--
Dear Karen Etheridge,

This is a computer-generated report for Module-Install-1.21
on perl 5.41.3, created by CPAN-Reporter-1.2019.

Thank you for uploading your work to CPAN.  Congratulations!
All tests were successful.

Sections of this report:

    * Tester comments
    * Program output
    * Prerequisites
    * Environment and other context

------------------------------
TESTER COMMENTS
------------------------------

Additional comments from tester:

this report is from an automated smoke testing program
and was not reviewed by a human for accuracy

------------------------------
PROGRAM OUTPUT
------------------------------

Output from '/usr/bin/make test':

PERL_DL_NONLAZY=1 "/home/cpan/bin/perl/bin/perl5.41.3" "-MExtUtils::Command::MM" "-MTest::Harness" "-e" "undef *Test::Harness::Switches; test_harness(0, 'inc', 'blib/lib', 'blib/arch')" t/*.t t/recursive/*.t
t/01_compile.t .......................... ok
t/02_mymeta.t ........................... skipped: New EU::MM has own MYMETA support
t/03_autoinstall.t ...................... skipped: Skipping dangerous test
t/04_version.t .......................... ok
t/05_share.t ............................ ok
t/06_ppport.t ........................... ok
t/07_perl_version.t ..................... ok
t/09_read.t ............................. ok
t/10_test.t ............................. ok
t/11_extraction.t ....................... ok
t/12_eumm_params.t ...................... ok
t/13_author_tests.t ..................... ok
t/13_author_tests_ext.t ................. skipped: requires Module::Install::AuthorTests
t/13_author_tests_ext2.t ................ skipped: requires Module::Install::ExtraTests 0.007
t/14_auto_include_deps_with_version.t ... skipped: your perl is new enough to have File::Spec 3.30 in core
t/15_wrong_usage.t ...................... ok
t/16_require.t .......................... ok
t/17_sign.t ............................. ok
t/18_all_from.t ......................... ok
t/19_authors.t .......................... ok
t/20_authors_with_special_characters.t .. ok
t/21_makemaker_args.t ................... ok
Use of uninitialized value $cmd in substitution (s///) at /home/cpan/bin/perl/lib/site_perl/5.41.3/ExtUtils/MM_Any.pm line 347.
Use of uninitialized value $mandir in pattern match (m//) at /home/cpan/bin/perl/lib/site_perl/5.41.3/ExtUtils/MM_Unix.pm line 1530.
Use of uninitialized value $mandir in pattern match (m//) at /home/cpan/bin/perl/lib/site_perl/5.41.3/ExtUtils/MM_Unix.pm line 1530.
Use of uninitialized value $mandir in pattern match (m//) at /home/cpan/bin/perl/lib/site_perl/5.41.3/ExtUtils/MM_Unix.pm line 1530.
Use of uninitialized value $mandir in pattern match (m//) at /home/cpan/bin/perl/lib/site_perl/5.41.3/ExtUtils/MM_Unix.pm line 1530.
Use of uninitialized value $mandir in pattern match (m//) at /home/cpan/bin/perl/lib/site_perl/5.41.3/ExtUtils/MM_Unix.pm line 1530.
Use of uninitialized value $mandir in pattern match (m//) at /home/cpan/bin/perl/lib/site_perl/5.41.3/ExtUtils/MM_Unix.pm line 1530.
Use of uninitialized value $mandir in pattern match (m//) at /home/cpan/bin/perl/lib/site_perl/5.41.3/ExtUtils/MM_Unix.pm line 1530.
Use of uninitialized value $mandir in pattern match (m//) at /home/cpan/bin/perl/lib/site_perl/5.41.3/ExtUtils/MM_Unix.pm line 1530.
Use of uninitialized value $mandir in pattern match (m//) at /home/cpan/bin/perl/lib/site_perl/5.41.3/ExtUtils/MM_Unix.pm line 1530.
Use of uninitialized value $cmd in substitution (s///) at /home/cpan/bin/perl/lib/site_perl/5.41.3/ExtUtils/MM_Any.pm line 347.
Use of uninitialized value $mandir in pattern match (m//) at /home/cpan/bin/perl/lib/site_perl/5.41.3/ExtUtils/MM_Unix.pm line 1530.
Use of uninitialized value $mandir in pattern match (m//) at /home/cpan/bin/perl/lib/site_perl/5.41.3/ExtUtils/MM_Unix.pm line 1530.
Use of uninitialized value $mandir in pattern match (m//) at /home/cpan/bin/perl/lib/site_perl/5.41.3/ExtUtils/MM_Unix.pm line 1530.
Use of uninitialized value $mandir in pattern match (m//) at /home/cpan/bin/perl/lib/site_perl/5.41.3/ExtUtils/MM_Unix.pm line 1530.
Use of uninitialized value $mandir in pattern match (m//) at /home/cpan/bin/perl/lib/site_perl/5.41.3/ExtUtils/MM_Unix.pm line 1530.
Use of uninitialized value $mandir in pattern match (m//) at /home/cpan/bin/perl/lib/site_perl/5.41.3/ExtUtils/MM_Unix.pm line 1530.
Use of uninitialized value $mandir in pattern match (m//) at /home/cpan/bin/perl/lib/site_perl/5.41.3/ExtUtils/MM_Unix.pm line 1530.
Use of uninitialized value $mandir in pattern match (m//) at /home/cpan/bin/perl/lib/site_perl/5.41.3/ExtUtils/MM_Unix.pm line 1530.
Use of uninitialized value $mandir in pattern match (m//) at /home/cpan/bin/perl/lib/site_perl/5.41.3/ExtUtils/MM_Unix.pm line 1530.
Use of uninitialized value $cmd in substitution (s///) at /home/cpan/bin/perl/lib/site_perl/5.41.3/ExtUtils/MM_Any.pm line 347.
Use of uninitialized value $mandir in pattern match (m//) at /home/cpan/bin/perl/lib/site_perl/5.41.3/ExtUtils/MM_Unix.pm line 1530.
Use of uninitialized value $mandir in pattern match (m//) at /home/cpan/bin/perl/lib/site_perl/5.41.3/ExtUtils/MM_Unix.pm line 1530.
Use of uninitialized value $mandir in pattern match (m//) at /home/cpan/bin/perl/lib/site_perl/5.41.3/ExtUtils/MM_Unix.pm line 1530.
Use of uninitialized value $mandir in pattern match (m//) at /home/cpan/bin/perl/lib/site_perl/5.41.3/ExtUtils/MM_Unix.pm line 1530.
Use of uninitialized value $mandir in pattern match (m//) at /home/cpan/bin/perl/lib/site_perl/5.41.3/ExtUtils/MM_Unix.pm line 1530.
Use of uninitialized value $mandir in pattern match (m//) at /home/cpan/bin/perl/lib/site_perl/5.41.3/ExtUtils/MM_Unix.pm line 1530.
Use of uninitialized value $mandir in pattern match (m//) at /home/cpan/bin/perl/lib/site_perl/5.41.3/ExtUtils/MM_Unix.pm line 1530.
Use of uninitialized value $mandir in pattern match (m//) at /home/cpan/bin/perl/lib/site_perl/5.41.3/ExtUtils/MM_Unix.pm line 1530.
Use of uninitialized value $mandir in pattern match (m//) at /home/cpan/bin/perl/lib/site_perl/5.41.3/ExtUtils/MM_Unix.pm line 1530.
Use of uninitialized value $cmd in substitution (s///) at /home/cpan/bin/perl/lib/site_perl/5.41.3/ExtUtils/MM_Any.pm line 347.
Use of uninitialized value $mandir in pattern match (m//) at /home/cpan/bin/perl/lib/site_perl/5.41.3/ExtUtils/MM_Unix.pm line 1530.
Use of uninitialized value $mandir in pattern match (m//) at /home/cpan/bin/perl/lib/site_perl/5.41.3/ExtUtils/MM_Unix.pm line 1530.
Use of uninitialized value $mandir in pattern match (m//) at /home/cpan/bin/perl/lib/site_perl/5.41.3/ExtUtils/MM_Unix.pm line 1530.
Use of uninitialized value $mandir in pattern match (m//) at /home/cpan/bin/perl/lib/site_perl/5.41.3/ExtUtils/MM_Unix.pm line 1530.
Use of uninitialized value $mandir in pattern match (m//) at /home/cpan/bin/perl/lib/site_perl/5.41.3/ExtUtils/MM_Unix.pm line 1530.
Use of uninitialized value $mandir in pattern match (m//) at /home/cpan/bin/perl/lib/site_perl/5.41.3/ExtUtils/MM_Unix.pm line 1530.
Use of uninitialized value $mandir in pattern match (m//) at /home/cpan/bin/perl/lib/site_perl/5.41.3/ExtUtils/MM_Unix.pm line 1530.
Use of uninitialized value $mandir in pattern match (m//) at /home/cpan/bin/perl/lib/site_perl/5.41.3/ExtUtils/MM_Unix.pm line 1530.
Use of uninitialized value $mandir in pattern match (m//) at /home/cpan/bin/perl/lib/site_perl/5.41.3/ExtUtils/MM_Unix.pm line 1530.
old INSTALLDIRS (probably set by makemaker_args) is overriden by installdirs
Use of uninitialized value $cmd in substitution (s///) at /home/cpan/bin/perl/lib/site_perl/5.41.3/ExtUtils/MM_Any.pm line 347.
Use of uninitialized value $mandir in pattern match (m//) at /home/cpan/bin/perl/lib/site_perl/5.41.3/ExtUtils/MM_Unix.pm line 1530.
Use of uninitialized value $mandir in pattern match (m//) at /home/cpan/bin/perl/lib/site_perl/5.41.3/ExtUtils/MM_Unix.pm line 1530.
Use of uninitialized value $mandir in pattern match (m//) at /home/cpan/bin/perl/lib/site_perl/5.41.3/ExtUtils/MM_Unix.pm line 1530.
Use of uninitialized value $mandir in pattern match (m//) at /home/cpan/bin/perl/lib/site_perl/5.41.3/ExtUtils/MM_Unix.pm line 1530.
Use of uninitialized value $mandir in pattern match (m//) at /home/cpan/bin/perl/lib/site_perl/5.41.3/ExtUtils/MM_Unix.pm line 1530.
Use of uninitialized value $mandir in pattern match (m//) at /home/cpan/bin/perl/lib/site_perl/5.41.3/ExtUtils/MM_Unix.pm line 1530.
Use of uninitialized value $mandir in pattern match (m//) at /home/cpan/bin/perl/lib/site_perl/5.41.3/ExtUtils/MM_Unix.pm line 1530.
Use of uninitialized value $mandir in pattern match (m//) at /home/cpan/bin/perl/lib/site_perl/5.41.3/ExtUtils/MM_Unix.pm line 1530.
Use of uninitialized value $mandir in pattern match (m//) at /home/cpan/bin/perl/lib/site_perl/5.41.3/ExtUtils/MM_Unix.pm line 1530.
Use of uninitialized value $cmd in substitution (s///) at /home/cpan/bin/perl/lib/site_perl/5.41.3/ExtUtils/MM_Any.pm line 347.
Use of uninitialized value $mandir in pattern match (m//) at /home/cpan/bin/perl/lib/site_perl/5.41.3/ExtUtils/MM_Unix.pm line 1530.
Use of uninitialized value $mandir in pattern match (m//) at /home/cpan/bin/perl/lib/site_perl/5.41.3/ExtUtils/MM_Unix.pm line 1530.
Use of uninitialized value $mandir in pattern match (m//) at /home/cpan/bin/perl/lib/site_perl/5.41.3/ExtUtils/MM_Unix.pm line 1530.
Use of uninitialized value $mandir in pattern match (m//) at /home/cpan/bin/perl/lib/site_perl/5.41.3/ExtUtils/MM_Unix.pm line 1530.
Use of uninitialized value $mandir in pattern match (m//) at /home/cpan/bin/perl/lib/site_perl/5.41.3/ExtUtils/MM_Unix.pm line 1530.
Use of uninitialized value $mandir in pattern match (m//) at /home/cpan/bin/perl/lib/site_perl/5.41.3/ExtUtils/MM_Unix.pm line 1530.
Use of uninitialized value $mandir in pattern match (m//) at /home/cpan/bin/perl/lib/site_perl/5.41.3/ExtUtils/MM_Unix.pm line 1530.
Use of uninitialized value $mandir in pattern match (m//) at /home/cpan/bin/perl/lib/site_perl/5.41.3/ExtUtils/MM_Unix.pm line 1530.
Use of uninitialized value $mandir in pattern match (m//) at /home/cpan/bin/perl/lib/site_perl/5.41.3/ExtUtils/MM_Unix.pm line 1530.
t/22_installdirs.t ...................... ok
t/23_pl_files.t ......................... ok
t/24_multiple_license_blocks.t .......... ok
t/25_perl_version_from.t ................ ok
t/26_unknown_func.t ..................... ok
Warning: prerequisite Test::More 9999 not found. We have 1.302200.
t/27_build_requires_and_include.t ....... ok
t/28_makemaker_args.t ................... ok
t/29_requires_from.t .................... ok
t/30_build_subdirs.t .................... ok
t/31_add_metadata.t ..................... ok
t/32_module_name.t ...................... ok
t/33_copy.t ............................. ok
t/34_readwrite.t ........................ ok
t/recursive/test.t ...................... ok
All tests successful.
Files=36, Tests=547, 12 wallclock secs ( 0.13 usr  0.02 sys + 10.34 cusr  1.97 csys = 12.46 CPU)
Result: PASS

------------------------------
PREREQUISITES
------------------------------

Prerequisite modules loaded:

requires:

    Module              Need   Have      
    ------------------- ------ ----------
    Devel::PPPort       3.16   3.73      
    ExtUtils::Install   1.52   2.22      
    ExtUtils::MakeMaker 6.59   7.70      
    ExtUtils::ParseXS   2.19   3.53      
    File::Path          0      2.18      
    File::Remove        1.42   1.61      
    File::Spec          3.28   3.92      
    Module::Build       0.29   0.4234    
    Module::CoreList    2.17   5.20240820
    Module::ScanDeps    1.09   1.35      
    Parse::CPAN::Meta   1.4413 2.150010  
    perl                5.006  5.041003  
    YAML::Tiny          1.38   1.74      

build_requires:

    Module              Need   Have      
    ------------------- ------ ----------
    autodie             0      2.37      
    ExtUtils::MakeMaker 6.59   7.70      
    Test::Harness       3.13   3.48_01   
    Test::More          0.86   1.302200  
    YAML::Tiny          1.33   1.74      

configure_requires:

    Module              Need   Have      
    ------------------- ------ ----------
    ExtUtils::MakeMaker 6.59   7.70      
    YAML::Tiny          1.33   1.74      


------------------------------
ENVIRONMENT AND OTHER CONTEXT
------------------------------

Environment variables:

    AUTOMATED_TESTING = 1
    DATE_MANIP_TEST_DM5 = 1
    LANG = en_US.UTF-8
    LC_ALL = C
    NONINTERACTIVE_TESTING = 1
    NO_NETWORK_TESTING = 1
    PATH = /home/cpan/bin/perl/bin:/home/cpan/bin:/usr/share/Modules/bin:/home/cpan/bin:/usr/local/bin:/usr/bin:/usr/local/sbin:/usr/sbin
    PERL5LIB = 
    PERL5OPT = 
    PERL5_CPANPLUS_IS_RUNNING = 198258
    PERL5_CPAN_IS_RUNNING = 198258
    PERL_MM_USE_DEFAULT = 1
    PERL_USE_UNSAFE_INC = 1
    SHELL = /bin/bash
    TERM = screen
    TMPDIR = /home/cpan/tmp

Perl special variables (and OS-specific diagnostics, for MSWin32):

    $^X = /home/cpan/bin/perl/bin/perl5.41.3
    $UID/$EUID = 1001 / 1001
    $GID = 1001 1001
    $EGID = 1001 1001

Perl module toolchain versions installed:

    Module              Have    
    ------------------- --------
    CPAN                2.36    
    CPAN::Meta          2.150010
    Cwd                 3.92    
    ExtUtils::CBuilder  0.280240
    ExtUtils::Command   7.70    
    ExtUtils::Install   2.22    
    ExtUtils::MakeMaker 7.70    
    ExtUtils::Manifest  1.75    
    ExtUtils::ParseXS   3.53    
    File::Spec          3.92    
    JSON                n/a     
    JSON::PP            4.16    
    Module::Build       0.4234  
    Module::Signature   n/a     
    Parse::CPAN::Meta   2.150010
    Test2               1.302200
    Test::Harness       3.48_01 
    Test::More          1.302200
    YAML                1.31    
    YAML::Syck          1.34    
    version             0.9930  


--

Summary of my perl5 (revision 5 version 41 subversion 3) configuration:
  Commit id: 7cc2957820110635c6919aeb3be993108b9ed7bd
  Platform:
    osname=linux
    osvers=5.14.0-427.28.1.el9_4.x86_64
    archname=x86_64-linux
    uname='linux cjg-rhel9 5.14.0-427.28.1.el9_4.x86_64 #1 smp preempt_dynamic fri jul 19 14:40:47 edt 2024 x86_64 x86_64 x86_64 gnulinux '
    config_args='-des -Dprefix=/home/cpan/bin/perl -Dscriptdir=/home/cpan/bin/perl/bin -Dusedevel -Duse64bitall'
    hint=recommended
    useposix=true
    d_sigaction=define
    useithreads=undef
    usemultiplicity=undef
    use64bitint=define
    use64bitall=define
    uselongdouble=undef
    usemymalloc=n
    default_inc_excludes_dot=define
  Compiler:
    cc='cc'
    ccflags ='-fwrapv -fno-strict-aliasing -pipe -fstack-protector-strong -I/usr/local/include -D_LARGEFILE_SOURCE -D_FILE_OFFSET_BITS=64 -D_FORTIFY_SOURCE=2'
    optimize='-O2'
    cppflags='-fwrapv -fno-strict-aliasing -pipe -fstack-protector-strong -I/usr/local/include'
    ccversion=''
    gccversion='11.4.1 20231218 (Red Hat 11.4.1-3)'
    gccosandvers=''
    intsize=4
    longsize=8
    ptrsize=8
    doublesize=8
    byteorder=12345678
    doublekind=3
    d_longlong=define
    longlongsize=8
    d_longdbl=define
    longdblsize=16
    longdblkind=3
    ivtype='long'
    ivsize=8
    nvtype='double'
    nvsize=8
    Off_t='off_t'
    lseeksize=8
    alignbytes=8
    prototype=define
  Linker and Libraries:
    ld='cc'
    ldflags =' -fstack-protector-strong -L/usr/local/lib'
    libpth=/usr/local/lib /usr/lib /usr/lib64 /usr/local/lib64
    libs=-lpthread -ldb -ldl -lm -lcrypt -lutil -lc
    perllibs=-lpthread -ldl -lm -lcrypt -lutil -lc
    libc=/lib/../lib64/libc.so.6
    so=so
    useshrplib=false
    libperl=libperl.a
    gnulibc_version='2.34'
  Dynamic Linking:
    dlsrc=dl_dlopen.xs
    dlext=so
    d_dlsymun=undef
    ccdlflags='-Wl,-E'
    cccdlflags='-fPIC'
    lddlflags='-shared -O2 -L/usr/local/lib -fstack-protector-strong'


Characteristics of this binary (from libperl): 
  Compile-time options:
    HAS_LONG_DOUBLE
    HAS_STRTOLD
    HAS_TIMES
    PERLIO_LAYERS
    PERL_COPY_ON_WRITE
    PERL_DONT_CREATE_GVSV
    PERL_HASH_FUNC_SIPHASH13
    PERL_HASH_USE_SBOX32
    PERL_MALLOC_WRAP
    PERL_OP_PARENT
    PERL_PRESERVE_IVUV
    PERL_USE_DEVEL
    PERL_USE_SAFE_PUTENV
    USE_64_BIT_ALL
    USE_64_BIT_INT
    USE_LARGE_FILES
    USE_LOCALE
    USE_LOCALE_COLLATE
    USE_LOCALE_CTYPE
    USE_LOCALE_NUMERIC
    USE_LOCALE_TIME
    USE_PERLIO
    USE_PERL_ATOF
  Built under linux
  Compiled at Aug  4 2024 21:09:24
  %ENV:
    PERL5LIB=""
    PERL5OPT=""
    PERL5_CPANPLUS_IS_RUNNING="198258"
    PERL5_CPAN_IS_RUNNING="198258"
    PERL_MM_USE_DEFAULT="1"
    PERL_USE_UNSAFE_INC="1"
  @INC:
    /home/cpan/bin/perl/lib/site_perl/5.41.3/x86_64-linux
    /home/cpan/bin/perl/lib/site_perl/5.41.3
    /home/cpan/bin/perl/lib/5.41.3/x86_64-linux
    /home/cpan/bin/perl/lib/5.41.3
    .