Test-CleanNamespaces v0.24 Perl 5 v5.12.5 x86_64-linux-thread-multi
- Status
- Pass
- From
- David Cantrell (DCANTRELL)
- Dist
-
Test-CleanNamespaces v0.24
- Platform
- Perl 5 v5.12.5 x86_64-linux-thread-multi
- Date
- 2020-12-02 22:44:25
- ID
- ed993a28-34ef-11eb-a7cc-d9b7549a4123
This distribution has been tested as part of the CPAN Testers
project, supporting the Perl programming language. See
http://wiki.cpantesters.org/ for more information or email
questions to cpan-testers-discuss@perl.org
--
Dear Karen Etheridge,
This is a computer-generated report for Test-CleanNamespaces-0.24
on perl 5.12.5, created by CPAN-Reporter-1.2018.
Thank you for uploading your work to CPAN. Congratulations!
All tests were successful.
Sections of this report:
* Tester comments
* Program output
* Prerequisites
* Environment and other context
------------------------------
TESTER COMMENTS
------------------------------
Additional comments from tester:
this report is from an automated smoke testing program
and was not reviewed by a human for accuracy
------------------------------
PROGRAM OUTPUT
------------------------------
Output from '/usr/bin/make test':
PERL_DL_NONLAZY=1 "/home/david/cpantesting/perl-5.12.5/bin/perl" "-MExtUtils::Command::MM" "-MTest::Harness" "-e" "undef *Test::Harness::Switches; test_harness(0, 'blib/lib', 'blib/arch')" t/*.t
#
# Versions for all modules listed in MYMETA.json (including optional ones):
#
# === Configure Requires ===
#
# Module Want Have
# ------------------------ -------- --------
# CPAN::Meta::Requirements 2.120620 2.131
# ExtUtils::MakeMaker any 7.34
# Module::Metadata any 1.000036
#
# === Build Requires ===
#
# Module Want Have
# ------------------- ---- ----
# ExtUtils::MakeMaker any 7.34
#
# === Test Requires ===
#
# Module Want Have
# --------------------- ----- --------
# ExtUtils::MakeMaker any 7.34
# File::Spec any 3.31_01
# File::Spec::Functions any 3.30
# File::pushd any 1.016
# Scalar::Util any 1.55
# Sub::Exporter any 0.987
# Test::Deep any 1.128
# Test::More 0.96 1.302162
# Test::Needs any 0.002006
# Test::Tester any 1.302162
# Test::Warnings 0.009 0.026
# constant any 1.20
# if any 0.05
# lib any 0.62
# namespace::clean any 0.27
# overload any 1.10
# parent any 0.223
#
# === Test Recommends ===
#
# Module Want Have
# ---------- -------- --------
# CPAN::Meta 2.120900 2.143240
#
# === Test Suggests ===
#
# Module Want Have
# --------------------------- -------- --------
# Class::MOP::Class any missing
# Moo any 2.004004
# Moo::Role any 2.004004
# Moose any missing
# Moose::Exporter any missing
# Moose::Role any missing
# MooseX::Role::Parameterized any missing
# Mouse any missing
# Mouse::Role any missing
# Role::Tiny 1.003000 2.001004
# metaclass any missing
#
# === Runtime Requires ===
#
# Module Want Have
# --------------- -------- --------
# Exporter 5.57 5.64_01
# File::Find any 1.15
# File::Spec any 3.31_01
# Module::Runtime any 0.016
# Package::Stash 0.14 0.39
# Role::Tiny 1.003000 2.001004
# Sub::Identify any 0.14
# Test::Builder any 1.302162
# strict any 1.04
# warnings any 1.09
#
# === Runtime Recommends ===
#
# Module Want Have
# ------------------ ---- ----
# Package::Stash::XS any 0.29
#
# === Runtime Suggests ===
#
# Module Want Have
# ---------- ---- --------
# Role::Tiny any 2.001004
#
# === Other Modules ===
#
# Module Have
# --------------- -------
# Encode 2.39_01
# File::Temp 0.22
# JSON::PP 4.02
# Module::Runtime 0.016
# Pod::Coverage missing
# Sub::Name missing
# YAML missing
# autodie 2.06_01
#
t/00-report-prereqs.t ......... ok
t/basic.t ..................... ok
t/class_mop.t ................. skipped: Need Class::MOP
t/clean-namespaces.t .......... ok
t/find_modules.t .............. ok
t/moo.t ....................... ok
t/moose-parameterized-role.t .. skipped: Need Moose, MooseX::Role::Parameterized
t/moose.t ..................... skipped: Need Moose
t/mouse.t ..................... skipped: Need Mouse
t/overload.t .................. ok
t/role_tiny.t ................. ok
t/self.t ...................... ok
t/zzz-check-breaks.t .......... ok
All tests successful.
Files=13, Tests=134, 3 wallclock secs ( 0.02 usr 0.02 sys + 0.58 cusr 0.09 csys = 0.71 CPU)
Result: PASS
------------------------------
PREREQUISITES
------------------------------
Prerequisite modules loaded:
requires:
Module Need Have
------------------------ -------- --------
Exporter 5.57 5.64_01
File::Find 0 1.15
File::Spec 0 3.31_01
Module::Runtime 0 0.016
Package::Stash 0.14 0.39
perl 5.006 5.012005
Role::Tiny 1.003000 2.001004
strict 0 1.04
Sub::Identify 0 0.14
Test::Builder 0 1.302162
warnings 0 1.09
build_requires:
Module Need Have
------------------------ -------- --------
constant 0 1.20
ExtUtils::MakeMaker 0 7.34
File::pushd 0 1.016
File::Spec 0 3.31_01
File::Spec::Functions 0 3.30
if 0 0.05
lib 0 0.62
namespace::clean 0 0.27
overload 0 1.10
parent 0 0.223
Scalar::Util 0 1.55
Sub::Exporter 0 0.987
Test::Deep 0 1.128
Test::More 0.96 1.302162
Test::Needs 0 0.002006
Test::Tester 0 1.302162
Test::Warnings 0.009 0.026
configure_requires:
Module Need Have
------------------------ -------- --------
CPAN::Meta::Requirements 2.120620 2.131
ExtUtils::MakeMaker 0 7.34
Module::Metadata 0 1.000036
perl 5.006 5.012005
------------------------------
ENVIRONMENT AND OTHER CONTEXT
------------------------------
Environment variables:
AUTOMATED_TESTING = 1
LANG = en_GB.UTF-8
LANGUAGE = en_GB:en
LC_TERMINAL = iTerm2
LC_TERMINAL_VERSION = 3.4.2
NONINTERACTIVE_TESTING = 1
PATH = /usr/local/bin:/usr/bin:/bin:/usr/local/games:/usr/games
PERL = 5.12.5
PERL5LIB =
PERL5OPT =
PERL5_CPANPLUS_IS_RUNNING = 4586
PERL5_CPAN_IS_RUNNING = 4586
PERLVER = 5.12.5
PERL_INLINE_DIRECTORY = /home/david/.Inline-5.12.5
PERL_MM_USE_DEFAULT = 1
PERL_USE_UNSAFE_INC = 0
SHELL = /bin/bash
TERM = screen
Perl special variables (and OS-specific diagnostics, for MSWin32):
$^X = /home/david/cpantesting/perl-5.12.5/bin/perl
$UID/$EUID = 1000 / 1000
$GID = 1000 24 25 27 29 30 44 46 109 1000
$EGID = 1000 24 25 27 29 30 44 46 109 1000
Perl module toolchain versions installed:
Module Have
------------------- --------
CPAN 1.94_56
CPAN::Meta 2.143240
Cwd 3.31
ExtUtils::CBuilder 0.27
ExtUtils::Command 7.34
ExtUtils::Install 2.06
ExtUtils::MakeMaker 7.34
ExtUtils::Manifest 1.70
ExtUtils::ParseXS 2.21
File::Spec 3.31_01
JSON n/a
JSON::PP 4.02
Module::Build 0.4231
Module::Signature n/a
Parse::CPAN::Meta 1.4414
Test::Harness 3.42
Test::More 1.302162
YAML n/a
YAML::Syck n/a
version 0.9924
--
Summary of my perl5 (revision 5 version 12 subversion 5) configuration:
Platform:
osname=linux, osvers=4.9.0-8-amd64, archname=x86_64-linux-thread-multi
uname='linux pigsty 4.9.0-8-amd64 #1 smp debian 4.9.144-3 (2019-02-02) x86_64 gnulinux '
config_args='-de -Duse64bitall -Dusethreads -Dprefix=/home/david/cpantesting/perl-5.12.5 -A ccflags=-fwrapv'
hint=previous, useposix=true, d_sigaction=define
useithreads=define, usemultiplicity=define
useperlio=define, d_sfio=undef, uselargefiles=define, usesocks=undef
use64bitint=define, use64bitall=define, uselongdouble=undef
usemymalloc=n, bincompat5005=undef
Compiler:
cc='cc', ccflags ='-D_REENTRANT -D_GNU_SOURCE -fno-strict-aliasing -pipe -fstack-protector -I/usr/local/include -D_LARGEFILE_SOURCE -D_FILE_OFFSET_BITS=64 -fwrapv',
optimize='-O2',
cppflags='-D_REENTRANT -D_GNU_SOURCE -fno-strict-aliasing -pipe -fstack-protector -I/usr/local/include -D_REENTRANT -D_GNU_SOURCE -fno-strict-aliasing -pipe -fstack-protector -I/usr/local/include -D_LARGEFILE_SOURCE -D_FILE_OFFSET_BITS=64 -fwrapv'
ccversion='', gccversion='6.3.0 20170516', gccosandvers=''
intsize=4, longsize=8, ptrsize=8, doublesize=8, byteorder=12345678
d_longlong=define, longlongsize=8, d_longdbl=define, longdblsize=16
ivtype='long', ivsize=8, nvtype='double', nvsize=8, Off_t='off_t', lseeksize=8
alignbytes=8, prototype=define
Linker and Libraries:
ld='cc', ldflags =' -fstack-protector -L/usr/local/lib'
libpth=/usr/local/lib /lib/x86_64-linux-gnu /lib/../lib /usr/lib/x86_64-linux-gnu /usr/lib/../lib /lib /usr/lib
libs=-lnsl -ldb -ldl -lm -lcrypt -lutil -lpthread -lc
perllibs=-lnsl -ldl -lm -lcrypt -lutil -lpthread -lc
libc=libc-2.24.so, so=so, useshrplib=false, libperl=libperl.a
gnulibc_version='2.24'
Dynamic Linking:
dlsrc=dl_dlopen.xs, dlext=so, d_dlsymun=undef, ccdlflags='-Wl,-E'
cccdlflags='-fPIC', lddlflags='-shared -O2 -L/usr/local/lib -fstack-protector'
Characteristics of this binary (from libperl):
Compile-time options: MULTIPLICITY PERL_DONT_CREATE_GVSV
PERL_IMPLICIT_CONTEXT PERL_MALLOC_WRAP USE_64_BIT_ALL
USE_64_BIT_INT USE_ITHREADS USE_LARGE_FILES
USE_PERLIO USE_PERL_ATOF USE_REENTRANT_API
Locally applied patches:
Devel::PatchPerl 1.56
Built under linux
Compiled at Apr 25 2019 17:06:45
%ENV:
PERL="5.12.5"
PERL5LIB=""
PERL5OPT=""
PERL5_CPANPLUS_IS_RUNNING="4586"
PERL5_CPAN_IS_RUNNING="4586"
PERLVER="5.12.5"
PERL_INLINE_DIRECTORY="/home/david/.Inline-5.12.5"
PERL_MM_USE_DEFAULT="1"
PERL_USE_UNSAFE_INC="0"
@INC:
/home/david/cpantesting/perl-5.12.5/lib/site_perl/5.12.5/x86_64-linux-thread-multi
/home/david/cpantesting/perl-5.12.5/lib/site_perl/5.12.5
/home/david/cpantesting/perl-5.12.5/lib/5.12.5/x86_64-linux-thread-multi
/home/david/cpantesting/perl-5.12.5/lib/5.12.5
.