FormValidator-Simple v0.29 Perl 5 v5.41.10 amd64-freebsd-thread-multi

Status
Pass
From
Carlos Guevara
Dist
FormValidator-Simple v0.29
Platform
Perl 5 v5.41.10 amd64-freebsd-thread-multi
Date
2025-03-15 13:46:42
ID
ed8d91a2-01a3-11f0-a60f-ac89b243cbf0
This distribution has been tested as part of the CPAN Testers
project, supporting the Perl programming language.  See
http://wiki.cpantesters.org/ for more information or email
questions to cpan-testers-discuss@perl.org


--
Dear Lyo Kato,

This is a computer-generated report for FormValidator-Simple-0.29
on perl 5.41.10, created by CPAN-Reporter-1.2020.

Thank you for uploading your work to CPAN.  Congratulations!
All tests were successful.

Sections of this report:

    * Tester comments
    * Program output
    * Prerequisites
    * Environment and other context

------------------------------
TESTER COMMENTS
------------------------------

Additional comments from tester:

this report is from an automated smoke testing program
and was not reviewed by a human for accuracy

------------------------------
PROGRAM OUTPUT
------------------------------

Output from '/usr/bin/make test':

PERL_DL_NONLAZY=1 "/home/cpan/bin/perl/bin/perl5.41.10" "-MExtUtils::Command::MM" "-MTest::Harness" "-e" "undef *Test::Harness::Switches; test_harness(0, 'inc', 'blib/lib', 'blib/arch')" t/00_compile.t t/01_constraint.t t/02_constraints.t t/03_profile.t t/04_result.t t/05_results.t t/06_data.t t/07_simple.t t/08_length.t t/09_ascii.t t/10_int.t t/11_space.t t/12_duplication.t t/13_datetime.t t/14_regex.t t/15_any.t t/16_plugin.t t/17_pod.t t/18_invalids.t t/19_url.t t/20_numeric_cmp.t t/21_decimal.t t/22_messages.t t/23_messages_yaml.t t/24_options.t t/25_all.t t/26_inarray.t t/27_set_invalid.t t/28_decode.t
t/00_compile.t ........ ok
t/01_constraint.t ..... ok
t/02_constraints.t .... ok
t/03_profile.t ........ ok
t/04_result.t ......... ok
t/05_results.t ........ ok
CGI::param called in list context from /home/cpan/.cpan/build/FormValidator-Simple-0.29-0/blib/lib/FormValidator/Simple/Data.pm line 23, this can lead to vulnerabilities. See the warning in "Fetching the value or values of a single named parameter" at /home/cpan/bin/perl/lib/site_perl/5.41.10/CGI.pm line 416.
t/06_data.t ........... ok
CGI::param called in list context from /home/cpan/.cpan/build/FormValidator-Simple-0.29-0/blib/lib/FormValidator/Simple/Data.pm line 23, this can lead to vulnerabilities. See the warning in "Fetching the value or values of a single named parameter" at /home/cpan/bin/perl/lib/site_perl/5.41.10/CGI.pm line 416.
t/07_simple.t ......... ok
CGI::param called in list context from /home/cpan/.cpan/build/FormValidator-Simple-0.29-0/blib/lib/FormValidator/Simple/Data.pm line 23, this can lead to vulnerabilities. See the warning in "Fetching the value or values of a single named parameter" at /home/cpan/bin/perl/lib/site_perl/5.41.10/CGI.pm line 416.
t/08_length.t ......... ok
CGI::param called in list context from /home/cpan/.cpan/build/FormValidator-Simple-0.29-0/blib/lib/FormValidator/Simple/Data.pm line 23, this can lead to vulnerabilities. See the warning in "Fetching the value or values of a single named parameter" at /home/cpan/bin/perl/lib/site_perl/5.41.10/CGI.pm line 416.
t/09_ascii.t .......... ok
CGI::param called in list context from /home/cpan/.cpan/build/FormValidator-Simple-0.29-0/blib/lib/FormValidator/Simple/Data.pm line 23, this can lead to vulnerabilities. See the warning in "Fetching the value or values of a single named parameter" at /home/cpan/bin/perl/lib/site_perl/5.41.10/CGI.pm line 416.
t/10_int.t ............ ok
CGI::param called in list context from /home/cpan/.cpan/build/FormValidator-Simple-0.29-0/blib/lib/FormValidator/Simple/Data.pm line 23, this can lead to vulnerabilities. See the warning in "Fetching the value or values of a single named parameter" at /home/cpan/bin/perl/lib/site_perl/5.41.10/CGI.pm line 416.
t/11_space.t .......... ok
CGI::param called in list context from /home/cpan/.cpan/build/FormValidator-Simple-0.29-0/blib/lib/FormValidator/Simple/Data.pm line 23, this can lead to vulnerabilities. See the warning in "Fetching the value or values of a single named parameter" at /home/cpan/bin/perl/lib/site_perl/5.41.10/CGI.pm line 416.
t/12_duplication.t .... ok
CGI::param called in list context from /home/cpan/.cpan/build/FormValidator-Simple-0.29-0/blib/lib/FormValidator/Simple/Data.pm line 23, this can lead to vulnerabilities. See the warning in "Fetching the value or values of a single named parameter" at /home/cpan/bin/perl/lib/site_perl/5.41.10/CGI.pm line 416.
t/13_datetime.t ....... ok
CGI::param called in list context from /home/cpan/.cpan/build/FormValidator-Simple-0.29-0/blib/lib/FormValidator/Simple/Data.pm line 23, this can lead to vulnerabilities. See the warning in "Fetching the value or values of a single named parameter" at /home/cpan/bin/perl/lib/site_perl/5.41.10/CGI.pm line 416.
t/14_regex.t .......... ok
CGI::param called in list context from /home/cpan/.cpan/build/FormValidator-Simple-0.29-0/blib/lib/FormValidator/Simple/Data.pm line 23, this can lead to vulnerabilities. See the warning in "Fetching the value or values of a single named parameter" at /home/cpan/bin/perl/lib/site_perl/5.41.10/CGI.pm line 416.
t/15_any.t ............ ok
CGI::param called in list context from /home/cpan/.cpan/build/FormValidator-Simple-0.29-0/blib/lib/FormValidator/Simple/Data.pm line 23, this can lead to vulnerabilities. See the warning in "Fetching the value or values of a single named parameter" at /home/cpan/bin/perl/lib/site_perl/5.41.10/CGI.pm line 416.
t/16_plugin.t ......... ok
t/17_pod.t ............ skipped: set TEST_POD to enable this test
CGI::param called in list context from /home/cpan/.cpan/build/FormValidator-Simple-0.29-0/blib/lib/FormValidator/Simple/Data.pm line 23, this can lead to vulnerabilities. See the warning in "Fetching the value or values of a single named parameter" at /home/cpan/bin/perl/lib/site_perl/5.41.10/CGI.pm line 416.
t/18_invalids.t ....... ok
CGI::param called in list context from /home/cpan/.cpan/build/FormValidator-Simple-0.29-0/blib/lib/FormValidator/Simple/Data.pm line 23, this can lead to vulnerabilities. See the warning in "Fetching the value or values of a single named parameter" at /home/cpan/bin/perl/lib/site_perl/5.41.10/CGI.pm line 416.
t/19_url.t ............ ok
CGI::param called in list context from /home/cpan/.cpan/build/FormValidator-Simple-0.29-0/blib/lib/FormValidator/Simple/Data.pm line 23, this can lead to vulnerabilities. See the warning in "Fetching the value or values of a single named parameter" at /home/cpan/bin/perl/lib/site_perl/5.41.10/CGI.pm line 416.
t/20_numeric_cmp.t .... ok
CGI::param called in list context from /home/cpan/.cpan/build/FormValidator-Simple-0.29-0/blib/lib/FormValidator/Simple/Data.pm line 23, this can lead to vulnerabilities. See the warning in "Fetching the value or values of a single named parameter" at /home/cpan/bin/perl/lib/site_perl/5.41.10/CGI.pm line 416.
t/21_decimal.t ........ ok
CGI::param called in list context from /home/cpan/.cpan/build/FormValidator-Simple-0.29-0/blib/lib/FormValidator/Simple/Data.pm line 23, this can lead to vulnerabilities. See the warning in "Fetching the value or values of a single named parameter" at /home/cpan/bin/perl/lib/site_perl/5.41.10/CGI.pm line 416.
t/22_messages.t ....... ok
CGI::param called in list context from /home/cpan/.cpan/build/FormValidator-Simple-0.29-0/blib/lib/FormValidator/Simple/Data.pm line 23, this can lead to vulnerabilities. See the warning in "Fetching the value or values of a single named parameter" at /home/cpan/bin/perl/lib/site_perl/5.41.10/CGI.pm line 416.
t/23_messages_yaml.t .. ok
t/24_options.t ........ ok
CGI::param called in list context from /home/cpan/.cpan/build/FormValidator-Simple-0.29-0/blib/lib/FormValidator/Simple/Data.pm line 23, this can lead to vulnerabilities. See the warning in "Fetching the value or values of a single named parameter" at /home/cpan/bin/perl/lib/site_perl/5.41.10/CGI.pm line 416.
t/25_all.t ............ ok
CGI::param called in list context from /home/cpan/.cpan/build/FormValidator-Simple-0.29-0/blib/lib/FormValidator/Simple/Data.pm line 23, this can lead to vulnerabilities. See the warning in "Fetching the value or values of a single named parameter" at /home/cpan/bin/perl/lib/site_perl/5.41.10/CGI.pm line 416.
t/26_inarray.t ........ ok
CGI::param called in list context from /home/cpan/.cpan/build/FormValidator-Simple-0.29-0/blib/lib/FormValidator/Simple/Data.pm line 23, this can lead to vulnerabilities. See the warning in "Fetching the value or values of a single named parameter" at /home/cpan/bin/perl/lib/site_perl/5.41.10/CGI.pm line 416.
t/27_set_invalid.t .... ok
CGI::param called in list context from /home/cpan/.cpan/build/FormValidator-Simple-0.29-0/blib/lib/FormValidator/Simple/Data.pm line 23, this can lead to vulnerabilities. See the warning in "Fetching the value or values of a single named parameter" at /home/cpan/bin/perl/lib/site_perl/5.41.10/CGI.pm line 416.
t/28_decode.t ......... ok
All tests successful.
Files=29, Tests=319,  5 wallclock secs ( 0.07 usr  0.02 sys +  4.83 cusr  0.77 csys =  5.69 CPU)
Result: PASS

------------------------------
PREREQUISITES
------------------------------

Prerequisite modules loaded:

requires:

    Module                     Need Have   
    -------------------------- ---- -------
    Class::Accessor            0.22 0.51   
    Class::Data::Accessor      0.03 0.04004
    Class::Data::Inheritable   0.04 0.10   
    Class::Inspector           1.13 1.36   
    Date::Calc                 5.4  6.4    
    DateTime::Format::Strptime 1.07 1.79   
    Email::Valid               0.15 1.204  
    Email::Valid::Loose        0.04 0.05   
    List::MoreUtils            0.16 0.430  
    Mail::Address              0    2.22   
    Scalar::Util               0    1.68_01
    Tie::IxHash                1.21 1.23   
    UNIVERSAL::require         0.1  0.19   
    YAML                       0.39 1.31   

build_requires:

    Module                     Need Have   
    -------------------------- ---- -------
    ExtUtils::MakeMaker        6.42 7.72   

configure_requires:

    Module                     Need Have   
    -------------------------- ---- -------
    ExtUtils::MakeMaker        6.42 7.72   


------------------------------
ENVIRONMENT AND OTHER CONTEXT
------------------------------

Environment variables:

    AUTOMATED_TESTING = 1
    DATE_MANIP_TEST_DM5 = 1
    LANG = C.UTF-8
    LC_ALL = C
    NONINTERACTIVE_TESTING = 1
    NO_NETWORK_TESTING = 1
    PATH = /home/cpan/bin/perl/bin:/home/cpan/bin:/sbin:/bin:/usr/sbin:/usr/bin:/usr/local/sbin:/usr/local/bin:/home/cpan/bin
    PERL5LIB = 
    PERL5OPT = 
    PERL5_CPANPLUS_IS_RUNNING = 46152
    PERL5_CPAN_IS_RUNNING = 46152
    PERL_MM_USE_DEFAULT = 1
    PERL_USE_UNSAFE_INC = 1
    SHELL = /usr/local/bin/bash
    TERM = screen
    TMPDIR = /home/cpan/tmp

Perl special variables (and OS-specific diagnostics, for MSWin32):

    $^X = /home/cpan/bin/perl/bin/perl5.41.10
    $UID/$EUID = 1002 / 1002
    $GID = 1002 1002
    $EGID = 1002 1002

Perl module toolchain versions installed:

    Module              Have    
    ------------------- --------
    CPAN                2.38    
    CPAN::Meta          2.150010
    Cwd                 3.92    
    ExtUtils::CBuilder  0.280240
    ExtUtils::Command   7.72    
    ExtUtils::Install   2.22    
    ExtUtils::MakeMaker 7.72    
    ExtUtils::Manifest  1.75    
    ExtUtils::ParseXS   3.57    
    File::Spec          3.93    
    JSON                4.10    
    JSON::PP            4.16    
    Module::Build       0.4234  
    Module::Signature   0.89    
    Parse::CPAN::Meta   2.150010
    Test2               1.302209
    Test::Harness       3.50    
    Test::More          1.302209
    YAML                1.31    
    YAML::Syck          1.34    
    version             0.9933  


--

Summary of my perl5 (revision 5 version 41 subversion 10) configuration:
  Commit id: eb3dc27884c0efa40c20b9a88e94aefd785439b2
  Platform:
    osname=freebsd
    osvers=14.2-release-p1
    archname=amd64-freebsd-thread-multi
    uname='freebsd cjg-freebsd14 14.2-release-p1 freebsd 14.2-release-p1 generic amd64 '
    config_args='-des -Dprefix=/home/cpan/bin/perl -Dscriptdir=/home/cpan/bin/perl/bin -Dusedevel -Duse64bitall -Duseithreads'
    hint=recommended
    useposix=true
    d_sigaction=define
    useithreads=define
    usemultiplicity=define
    use64bitint=define
    use64bitall=define
    uselongdouble=undef
    usemymalloc=n
    default_inc_excludes_dot=define
  Compiler:
    cc='cc'
    ccflags ='-DHAS_FPSETMASK -DHAS_FLOATINGPOINT_H -DNO_POSIX_2008_LOCALE -fno-strict-aliasing -pipe -fstack-protector-strong -I/usr/local/include'
    optimize='-O2'
    cppflags='-DHAS_FPSETMASK -DHAS_FLOATINGPOINT_H -DNO_POSIX_2008_LOCALE -fno-strict-aliasing -pipe -fstack-protector-strong -I/usr/local/include'
    ccversion=''
    gccversion='FreeBSD Clang 18.1.6 (https://github.com/llvm/llvm-project.git llvmorg-18.1.6-0-g1118c2e05e67)'
    gccosandvers=''
    intsize=4
    longsize=8
    ptrsize=8
    doublesize=8
    byteorder=12345678
    doublekind=3
    d_longlong=define
    longlongsize=8
    d_longdbl=define
    longdblsize=16
    longdblkind=3
    ivtype='long'
    ivsize=8
    nvtype='double'
    nvsize=8
    Off_t='off_t'
    lseeksize=8
    alignbytes=8
    prototype=define
  Linker and Libraries:
    ld='cc'
    ldflags ='-pthread -Wl,-E  -fstack-protector-strong -L/usr/local/lib'
    libpth=/usr/lib /usr/local/lib /usr/lib/clang/18/lib
    libs=-lpthread -lgdbm -ldl -lm -lcrypt -lutil
    perllibs=-lpthread -ldl -lm -lcrypt -lutil
    libc=
    so=so
    useshrplib=false
    libperl=libperl.a
    gnulibc_version=''
  Dynamic Linking:
    dlsrc=dl_dlopen.xs
    dlext=so
    d_dlsymun=undef
    ccdlflags=' '
    cccdlflags='-DPIC -fPIC'
    lddlflags='-shared  -L/usr/local/lib -fstack-protector-strong'


Characteristics of this binary (from libperl): 
  Compile-time options:
    HAS_LONG_DOUBLE
    HAS_STRTOLD
    HAS_TIMES
    MULTIPLICITY
    PERLIO_LAYERS
    PERL_COPY_ON_WRITE
    PERL_DONT_CREATE_GVSV
    PERL_HASH_FUNC_SIPHASH13
    PERL_HASH_USE_SBOX32
    PERL_MALLOC_WRAP
    PERL_OP_PARENT
    PERL_PRESERVE_IVUV
    PERL_USE_DEVEL
    PERL_USE_SAFE_PUTENV
    USE_64_BIT_ALL
    USE_64_BIT_INT
    USE_ITHREADS
    USE_LARGE_FILES
    USE_LOCALE
    USE_LOCALE_COLLATE
    USE_LOCALE_CTYPE
    USE_LOCALE_NUMERIC
    USE_LOCALE_TIME
    USE_PERLIO
    USE_PERL_ATOF
    USE_REENTRANT_API
  Built under freebsd
  Compiled at Mar 15 2025 01:41:16
  %ENV:
    PERL5LIB=""
    PERL5OPT=""
    PERL5_CPANPLUS_IS_RUNNING="46152"
    PERL5_CPAN_IS_RUNNING="46152"
    PERL_MM_USE_DEFAULT="1"
    PERL_USE_UNSAFE_INC="1"
  @INC:
    /home/cpan/bin/perl/lib/site_perl/5.41.10/amd64-freebsd-thread-multi
    /home/cpan/bin/perl/lib/site_perl/5.41.10
    /home/cpan/bin/perl/lib/5.41.10/amd64-freebsd-thread-multi
    /home/cpan/bin/perl/lib/5.41.10
    .