Test-Pod-LinkCheck v0.008 Perl 5 v5.18.2 OpenBSD.amd64-openbsd
- Status
- Pass
- From
- Nigel Horne
- Dist
-
Test-Pod-LinkCheck v0.008
- Platform
- Perl 5 v5.18.2 OpenBSD.amd64-openbsd
- Date
- 2019-12-02 07:18:24
- ID
- ed5f9b34-14d3-11ea-80e7-b93663a9c918
This distribution has been tested as part of the CPAN Testers
project, supporting the Perl programming language. See
http://wiki.cpantesters.org/ for more information or email
questions to cpan-testers-discuss@perl.org
--
Dear Apocalypse,
This is a computer-generated report for Test-Pod-LinkCheck-0.008
on perl 5.18.2, created by CPAN-Reporter-1.2018.
Thank you for uploading your work to CPAN. Congratulations!
All tests were successful.
Sections of this report:
* Tester comments
* Program output
* Prerequisites
* Environment and other context
------------------------------
TESTER COMMENTS
------------------------------
Additional comments from tester:
none provided
------------------------------
PROGRAM OUTPUT
------------------------------
Output from './Build test':
t/00-compile.t ................ ok
#
You should load Test::Tester before Test::Builder (or anything that loads Test::Builder) at /home/njh/perl5/perlbrew/perls/perl-5.18.2/lib/site_perl/5.18.2/Test/Tester.pm line 9.
#
# Generated by Dist::Zilla::Plugin::ReportVersions::Tiny v1.10
# perl: 5.018002 (wanted 5.006) on openbsd from /home/njh/perl5/perlbrew/perls/perl-5.18.2/bin/perl
#
# App::PodLinkCheck::ParseLinks => 15 (want 4)
# App::PodLinkCheck::ParseSections => 15 (want any version)
# Capture::Tiny => 0.48 (want any version)
# Exporter => 5.68 (want any version)
# ExtUtils::MakeMaker => 7.34 (want any version)
# File::Spec => 3.75 (want any version)
# File::Temp => 0.23 (want any version)
# IO::Handle => 1.34 (want any version)
# IPC::Open3 => 1.13 (want any version)
# Module::Build::Tiny => 0.039 (want 0.039)
# Moose => 2.2011 (want 1.01)
# Moose::Util::TypeConstraints => 2.2011 (want 1.01)
# Pod::Find => 1.60 (want any version)
# Test::Builder => 1.302136 (want 0.94)
# Test::More => 1.302136 (want 0.88)
# Test::Pod => 1.52 (want 1.44)
# Test::Tester => 1.302136 (want any version)
# parent => 0.225 (want any version)
# strict => 1.07 (want any version)
# warnings => 1.18 (want any version)
#
# Thanks for using my code. I hope it works for you.
# If not, please try and include this output in the bug report.
# That will help me reproduce the issue and solve your problem.
#
t/000-report-versions-tiny.t .. ok
t/apocalypse.t ................ skipped: Test::Apocalypse required for validating the distribution
t/cpan_backend.t .............. ok
t/functions.t ................. ok
t/simple.t .................... ok
All tests successful.
Test Summary Report
-------------------
t/cpan_backend.t (Wstat: 0 Tests: 24 Failed: 0)
TODO passed: 3-12, 21-24
Files=6, Tests=130, 46 wallclock secs ( 0.21 usr 0.15 sys + 30.60 cusr 9.81 csys = 40.77 CPU)
Result: PASS
------------------------------
PREREQUISITES
------------------------------
Prerequisite modules loaded:
requires:
Module Need Have
-------------------------------- ----- --------
App::PodLinkCheck::ParseLinks 4 15
App::PodLinkCheck::ParseSections 0 15
Capture::Tiny 0 0.48
Exporter 0 5.68
File::Spec 0 3.75
Moose 1.01 2.2011
Moose::Util::TypeConstraints 1.01 2.2011
parent 0 0.225
perl 5.006 5.018002
Pod::Find 0 1.60
strict 0 1.07
Test::Builder 0.94 1.302136
Test::Pod 1.44 1.52
warnings 0 1.18
build_requires:
Module Need Have
-------------------------------- ----- --------
File::Spec 0 3.75
File::Temp 0 0.23
IO::Handle 0 1.34
IPC::Open3 0 1.13
perl 5.006 5.018002
Test::More 0.88 1.302136
Test::Tester 0 1.302136
configure_requires:
Module Need Have
-------------------------------- ----- --------
ExtUtils::MakeMaker 0 7.34
Module::Build::Tiny 0.039 0.039
perl 5.006 5.018002
------------------------------
ENVIRONMENT AND OTHER CONTEXT
------------------------------
Environment variables:
NONINTERACTIVE_TESTING = 1
PATH = /home/njh/perl5/perlbrew/bin:/home/njh/perl5/perlbrew/perls/perl-5.18.2/bin:/usr/bin:/bin:/usr/sbin:/sbin:/usr/X11R6/bin:/usr/local/bin:/usr/local/sbin
PERL5LIB =
PERL5OPT =
PERL5_CPANPLUS_IS_RUNNING = 82510
PERL5_CPAN_IS_RUNNING = 82510
PERLBREW_HOME = /home/njh/.perlbrew
PERLBREW_MANPATH = /home/njh/perl5/perlbrew/perls/perl-5.18.2/man
PERLBREW_PATH = /home/njh/perl5/perlbrew/bin:/home/njh/perl5/perlbrew/perls/perl-5.18.2/bin
PERLBREW_PERL = perl-5.18.2
PERLBREW_ROOT = /home/njh/perl5/perlbrew
PERLBREW_SHELLRC_VERSION = 0.84
PERLBREW_VERSION = 0.84
PERL_MM_USE_DEFAULT = 1
PERL_USE_UNSAFE_INC = 1
SHELL = /bin/sh
TMPDIR = /tmp
Perl special variables (and OS-specific diagnostics, for MSWin32):
$^X = /home/njh/perl5/perlbrew/perls/perl-5.18.2/bin/perl
$UID/$EUID = 1000 / 1000
$GID = 1000 1000 0
$EGID = 1000 1000 0
Perl module toolchain versions installed:
Module Have
------------------- --------
CPAN 2.27
CPAN::Meta 2.143240
Cwd 3.75
ExtUtils::CBuilder 0.280210
ExtUtils::Command 7.34
ExtUtils::Install 2.06
ExtUtils::MakeMaker 7.34
ExtUtils::Manifest 1.70
ExtUtils::ParseXS 3.35
File::Spec 3.75
JSON 4.02
JSON::PP 4.04
Module::Build 0.4224
Module::Signature n/a
Parse::CPAN::Meta 1.4414
Test::Harness 3.42
Test::More 1.302136
YAML 1.29
YAML::Syck 1.31
version 0.9902
--
Summary of my perl5 (revision 5 version 18 subversion 2) configuration:
Platform:
osname=openbsd, osvers=6.2, archname=OpenBSD.amd64-openbsd
uname='openbsd netgate1.bandsman.co.uk 6.2 generic.mp#7 amd64 '
config_args='-de -Dprefix=/home/njh/perl5/perlbrew/perls/perl-5.18.2 -Aeval:scriptdir=/home/njh/perl5/perlbrew/perls/perl-5.18.2/bin'
hint=recommended, useposix=true, d_sigaction=define
useithreads=undef, usemultiplicity=undef
useperlio=define, d_sfio=undef, uselargefiles=define, usesocks=undef
use64bitint=define, use64bitall=define, uselongdouble=undef
usemymalloc=n, bincompat5005=undef
Compiler:
cc='cc', ccflags ='-fno-strict-aliasing -pipe -fstack-protector -I/usr/local/include',
optimize='-O2',
cppflags='-fno-strict-aliasing -pipe -fstack-protector -I/usr/local/include'
ccversion='', gccversion='4.2.1 Compatible OpenBSD Clang 4.0.0 (tags/RELEASE_400/final)', gccosandvers=''
intsize=4, longsize=8, ptrsize=8, doublesize=8, byteorder=12345678
d_longlong=define, longlongsize=8, d_longdbl=define, longdblsize=16
ivtype='long', ivsize=8, nvtype='double', nvsize=8, Off_t='off_t', lseeksize=8
alignbytes=8, prototype=define
Linker and Libraries:
ld='cc', ldflags ='-Wl,-E -fstack-protector -L/usr/local/lib'
libpth=/usr/local/lib /usr/lib
libs=-lm -lutil -lc
perllibs=-lm -lutil -lc
libc=/usr/lib/libc.so.90.0, so=so, useshrplib=false, libperl=libperl.a
gnulibc_version=''
Dynamic Linking:
dlsrc=dl_dlopen.xs, dlext=so, d_dlsymun=undef, ccdlflags=' '
cccdlflags='-DPIC -fPIC ', lddlflags='-shared -fPIC -L/usr/local/lib -fstack-protector'
Characteristics of this binary (from libperl):
Compile-time options: HAS_TIMES PERLIO_LAYERS PERL_DONT_CREATE_GVSV
PERL_HASH_FUNC_ONE_AT_A_TIME_HARD PERL_MALLOC_WRAP
PERL_PRESERVE_IVUV PERL_SAWAMPERSAND USE_64_BIT_ALL
USE_64_BIT_INT USE_LARGE_FILES USE_LOCALE
USE_LOCALE_COLLATE USE_LOCALE_CTYPE
USE_LOCALE_NUMERIC USE_PERLIO USE_PERL_ATOF
Locally applied patches:
Devel::PatchPerl 1.48
Built under openbsd
Compiled at May 4 2018 02:03:47
%ENV:
PERL5LIB=""
PERL5OPT=""
PERL5_CPANPLUS_IS_RUNNING="82510"
PERL5_CPAN_IS_RUNNING="82510"
PERLBREW_HOME="/home/njh/.perlbrew"
PERLBREW_MANPATH="/home/njh/perl5/perlbrew/perls/perl-5.18.2/man"
PERLBREW_PATH="/home/njh/perl5/perlbrew/bin:/home/njh/perl5/perlbrew/perls/perl-5.18.2/bin"
PERLBREW_PERL="perl-5.18.2"
PERLBREW_ROOT="/home/njh/perl5/perlbrew"
PERLBREW_SHELLRC_VERSION="0.84"
PERLBREW_VERSION="0.84"
PERL_MM_USE_DEFAULT="1"
PERL_USE_UNSAFE_INC="1"
@INC:
/home/njh/perl5/perlbrew/perls/perl-5.18.2/lib/site_perl/5.18.2/OpenBSD.amd64-openbsd
/home/njh/perl5/perlbrew/perls/perl-5.18.2/lib/site_perl/5.18.2
/home/njh/perl5/perlbrew/perls/perl-5.18.2/lib/5.18.2/OpenBSD.amd64-openbsd
/home/njh/perl5/perlbrew/perls/perl-5.18.2/lib/5.18.2
.