HTML-Formatter v2.16 Perl 5 v5.24.0 MSWin32-x64-multi-thread

Status
Pass
From
Nigel Horne
Dist
HTML-Formatter v2.16
Platform
Perl 5 v5.24.0 MSWin32-x64-multi-thread
Date
2018-03-30 14:56:27
ID
ed40e52b-6ed8-1014-b84f-daf40e77e76d
This distribution has been tested as part of the CPAN Testers
project, supporting the Perl programming language.  See
http://wiki.cpantesters.org/ for more information or email
questions to cpan-testers-discuss@perl.org


--
Dear Nigel Metheringham,

This is a computer-generated report for HTML-Formatter-2.16
on perl 5.24.0, created by CPAN-Reporter-1.2018.

Thank you for uploading your work to CPAN.  Congratulations!
All tests were successful.

Sections of this report:

    * Tester comments
    * Program output
    * Prerequisites
    * Environment and other context

------------------------------
TESTER COMMENTS
------------------------------

Additional comments from tester:

none provided

------------------------------
PROGRAM OUTPUT
------------------------------

Output from 'C:\Apps\Admin_Installs\Perl64\site\lib\auto\MinGW\bin\dmake.exe test':

"C:\Apps\Admin_Installs\Perl64\bin\perl.exe" "-MExtUtils::Command::MM" "-MTest::Harness" "-e" "undef *Test::Harness::Switches; test_harness(0, 'blib\lib', 'blib\arch')" t/*.t
t/00-compile.t ............... ok
# 
# Versions for all modules listed in MYMETA.json (including optional ones):
# 
# === Configure Requires ===
# 
#     Module              Want Have
#     ------------------- ---- ----
#     ExtUtils::MakeMaker  any 7.16
# 
# === Build Requires ===
# 
#     Module              Want Have
#     ------------------- ---- ----
#     ExtUtils::MakeMaker  any 7.16
# 
# === Test Requires ===
# 
#     Module              Want     Have
#     ------------------- ---- --------
#     ExtUtils::MakeMaker  any     7.16
#     File::Slurper        any    0.012
#     File::Spec           any     3.63
#     FindBin              any     1.51
#     IO::Handle           any     1.36
#     IPC::Open3           any     1.20
#     Test::More          0.96 1.302133
#     Test::Warnings       any    0.026
#     blib                1.01     1.06
#     bytes                any     1.05
#     lib                  any     0.63
# 
# === Test Recommends ===
# 
#     Module         Want     Have
#     ---------- -------- --------
#     CPAN::Meta 2.120900 2.150010
# 
# === Runtime Requires ===
# 
#     Module                              Want  Have
#     ----------------------------------- ---- -----
#     Carp                                 any  1.40
#     Data::Dumper                         any 2.161
#     Encode                               any  2.97
#     Font::Metrics::Courier               any undef
#     Font::Metrics::CourierBold           any undef
#     Font::Metrics::CourierBoldOblique    any undef
#     Font::Metrics::CourierOblique        any undef
#     Font::Metrics::Helvetica             any undef
#     Font::Metrics::HelveticaBold         any undef
#     Font::Metrics::HelveticaBoldOblique  any undef
#     Font::Metrics::HelveticaOblique      any undef
#     Font::Metrics::TimesBold             any undef
#     Font::Metrics::TimesBoldItalic       any undef
#     Font::Metrics::TimesItalic           any undef
#     Font::Metrics::TimesRoman            any undef
#     HTML::Element                       3.15  5.07
#     HTML::TreeBuilder                    any  5.07
#     IO::File                             any  1.16
#     base                                 any  2.23
#     integer                              any  1.01
#     parent                               any 0.234
#     strict                               any  1.11
#     utf8                                 any  1.19
#     warnings                             any  1.36
# 
t/00-report-prereqs.t ........ ok
t/01_ps.t .................... ok
t/02_rtf.t ................... ok
t/03_text.t .................. ok
t/04_md.t .................... ok
t/author-critic.t ............ skipped: these tests are for testing by the author
t/author-eol.t ............... skipped: these tests are for testing by the author
t/author-no-tabs.t ........... skipped: these tests are for testing by the author
t/author-pod-spell.t ......... skipped: these tests are for testing by the author
t/author-pod-syntax.t ........ skipped: these tests are for testing by the author
t/author-portability.t ....... skipped: these tests are for testing by the author
t/author-synopsis.t .......... skipped: these tests are for testing by the author
t/release-dist-manifest.t .... skipped: these tests are for release candidate testing
t/release-distmeta.t ......... skipped: these tests are for release candidate testing
t/release-has-version.t ...... skipped: these tests are for release candidate testing
t/release-minimum-version.t .. skipped: these tests are for release candidate testing
t/release-unused-vars.t ...... skipped: these tests are for release candidate testing
t/rt111783.t ................. ok
t/rt69426.t .................. ok
All tests successful.
Files=20, Tests=94, 12 wallclock secs ( 0.22 usr +  0.27 sys =  0.48 CPU)
Result: PASS

------------------------------
PREREQUISITES
------------------------------

Prerequisite modules loaded:

requires:

    Module                              Need     Have    
    ----------------------------------- -------- --------
    base                                0        2.23    
    Carp                                0        1.40    
    Data::Dumper                        0        2.161   
    Encode                              0        2.97    
    Font::Metrics::Courier              0        0       
    Font::Metrics::CourierBold          0        0       
    Font::Metrics::CourierBoldOblique   0        0       
    Font::Metrics::CourierOblique       0        0       
    Font::Metrics::Helvetica            0        0       
    Font::Metrics::HelveticaBold        0        0       
    Font::Metrics::HelveticaBoldOblique 0        0       
    Font::Metrics::HelveticaOblique     0        0       
    Font::Metrics::TimesBold            0        0       
    Font::Metrics::TimesBoldItalic      0        0       
    Font::Metrics::TimesItalic          0        0       
    Font::Metrics::TimesRoman           0        0       
    HTML::Element                       3.15     5.07    
    HTML::TreeBuilder                   0        5.07    
    integer                             0        1.01    
    IO::File                            0        1.16    
    parent                              0        0.234   
    perl                                5.008    5.024000
    strict                              0        1.11    
    utf8                                0        1.19    
    warnings                            0        1.36    

build_requires:

    Module                              Need     Have    
    ----------------------------------- -------- --------
    blib                                1.01     1.06    
    bytes                               0        1.05    
    ExtUtils::MakeMaker                 0        7.16    
    File::Slurper                       0        0.012   
    File::Spec                          0        3.63    
    FindBin                             0        1.51    
    IO::Handle                          0        1.36    
    IPC::Open3                          0        1.20    
    lib                                 0        0.63    
    Test::More                          0.96     1.302133
    Test::Warnings                      0        0.026   

configure_requires:

    Module                              Need     Have    
    ----------------------------------- -------- --------
    ExtUtils::MakeMaker                 0        7.16    

opt_build_requires:

    Module                              Need     Have    
    ----------------------------------- -------- --------
    CPAN::Meta                          2.120900 2.150010


------------------------------
ENVIRONMENT AND OTHER CONTEXT
------------------------------

Environment variables:

    COMSPEC = C:\WINDOWS\system32\cmd.exe
    NUMBER_OF_PROCESSORS = 32
    PATH = C:\ProgramData\Oracle\Java\javapath;C:\Program Files\VanDyke Software\Clients\;C:\Program Files (x86)\MEGA6;C:\Apps\Admin_Installs\Perl64\site\bin;C:\Apps\Admin_Installs\Perl64\bin;C:\Program Files (x86)\CollabNet\Subversion Client;C:\WINDOWS\system32;C:\WINDOWS;C:\WINDOWS\System32\Wbem;C:\WINDOWS\System32\WindowsPowerShell\v1.0\;C:\Program Files\TortoiseSVN\bin;C:\Program Files\Microsoft SQL Server\Client SDK\ODBC\110\Tools\Binn\;C:\Program Files (x86)\Microsoft SQL Server\120\Tools\Binn\ManagementStudio\;C:\Program Files (x86)\Microsoft SQL Server\120\Tools\Binn\;C:\Program Files\Microsoft SQL Server\120\Tools\Binn\;C:\Program Files (x86)\Microsoft SQL Server\120\DTS\Binn\;C:\Program Files\Microsoft SQL Server\120\DTS\Binn\;C:\Program Files (x86)\Windows Kits\8.1\Windows Performance Toolkit\;C:\Program Files (x86)\Microsoft SDKs\TypeScript\1.0\;C:\WINDOWS\idmu\common;C:\Program Files (x86)\Microsoft SQL Server\Client SDK\ODBC\130\Tools\Binn\;C:\Program Files (x86)\Microsoft SQL Server\140\Tools\Binn\;C:\Program Files (x86)\Microsoft SQL Server\140\DTS\Binn\;C:\Program Files (x86)\Microsoft SQL Server\140\Tools\Binn\ManagementStudio\;C:\Program Files\PuTTY\
    PERL5LIB = C:\Users\hornenj\Perl64\cpan\build\Digest-SHA-6.01-2NjB5R/blib/arch;C:\Users\hornenj\Perl64\cpan\build\Digest-SHA-6.01-2NjB5R/blib/lib;C:\Users\hornenj\Perl64\cpan\build\Devel-NYTProf-6.05-xKLI_Z/blib/arch;C:\Users\hornenj\Perl64\cpan\build\Devel-NYTProf-6.05-xKLI_Z/blib/lib;C:\Users\hornenj\Perl64\cpan\build\DBI-1.641-QvYI2y/blib/arch;C:\Users\hornenj\Perl64\cpan\build\DBI-1.641-QvYI2y/blib/lib;C:\Users\hornenj\Perl64\cpan\build\Encode-2.97-aHA4bb/blib/arch;C:\Users\hornenj\Perl64\cpan\build\Encode-2.97-aHA4bb/blib/lib;C:\Users\hornenj\Perl64\cpan\build\CPAN-2.16-yab_VU/blib/arch;C:\Users\hornenj\Perl64\cpan\build\CPAN-2.16-yab_VU/blib/lib;C:\Users\hornenj\Perl64\cpan\build\Archive-Tar-2.26-oiTWsR/blib/arch;C:\Users\hornenj\Perl64\cpan\build\Archive-Tar-2.26-oiTWsR/blib/lib
    PERL5OPT = 
    PERL5_CPANPLUS_IS_RUNNING = 42520
    PERL5_CPAN_IS_RUNNING = 42520
    PROCESSOR_IDENTIFIER = Intel64 Family 6 Model 62 Stepping 4, GenuineIntel
    TEMP = C:\Users\hornenj\AppData\Local\Temp\50

Perl special variables (and OS-specific diagnostics, for MSWin32):

    $^X = C:\Apps\Admin_Installs\Perl64\bin\perl.exe
    $UID/$EUID = 0 / 0
    $GID = 0
    $EGID = 0
    Win32::GetOSName = Win2012
    Win32::GetOSVersion = , 6, 3, 9600, 2, 0, 0, 144, 3
    Win32::FsType = NTFS
    Win32::IsAdminUser = 0

Perl module toolchain versions installed:

    Module              Have    
    ------------------- --------
    CPAN                2.16    
    CPAN::Meta          2.150010
    Cwd                 3.63    
    ExtUtils::CBuilder  0.280230
    ExtUtils::Command   7.16    
    ExtUtils::Install   2.14    
    ExtUtils::MakeMaker 7.16    
    ExtUtils::Manifest  1.70    
    ExtUtils::ParseXS   3.35    
    File::Spec          3.63    
    JSON                2.90    
    JSON::PP            2.27300 
    Module::Build       0.4220  
    Module::Signature   n/a     
    Parse::CPAN::Meta   2.150010
    Test::Harness       3.36    
    Test::More          1.302133
    YAML                1.24    
    YAML::Syck          1.30    
    version             0.9916  


--

Summary of my perl5 (revision 5 version 24 subversion 0) configuration:
   
  Platform:
    osname=MSWin32, osvers=6.1, archname=MSWin32-x64-multi-thread
    uname=''
    config_args='undef'
    hint=recommended, useposix=true, d_sigaction=undef
    useithreads=define, usemultiplicity=define
    use64bitint=define, use64bitall=undef, uselongdouble=undef
    usemymalloc=n, bincompat5005=undef
  Compiler:
    cc='C:\Apps\ADMIN_~1\Perl64\site\bin\gcc.exe', ccflags =' -s -O2 -DWIN32 -DWIN64 -DCONSERVATIVE -DPERL_TEXTMODE_SCRIPTS -DUSE_SITECUSTOMIZE -DPERL_IMPLICIT_CONTEXT -DPERL_IMPLICIT_SYS -fwrapv -fno-strict-aliasing -mms-bitfields',
    optimize='-s -O2',
    cppflags='-DWIN32'
    ccversion='', gccversion='4.6.3', gccosandvers=''
    intsize=4, longsize=4, ptrsize=8, doublesize=8, byteorder=12345678, doublekind=3
    d_longlong=define, longlongsize=8, d_longdbl=define, longdblsize=16, longdblkind=3
    ivtype='long long', ivsize=8, nvtype='double', nvsize=8, Off_t='long long', lseeksize=8
    alignbytes=8, prototype=define
  Linker and Libraries:
    ld='C:\Apps\ADMIN_~1\Perl64\site\bin\g++.exe', ldflags ='-s -static-libgcc -static-libstdc++ -L"C:\Apps\Admin_Installs\Perl64\lib\CORE" -L"C:\MinGW\x86_64-w64-mingw32\lib"'
    libpth=C:\MinGW\x86_64-w64-mingw32\lib
    libs=-lmoldname -lkernel32 -luser32 -lgdi32 -lwinspool -lcomdlg32 -ladvapi32 -lshell32 -lole32 -loleaut32 -lnetapi32 -luuid -lws2_32 -lmpr -lwinmm -lversion -lodbc32 -lodbccp32 -lcomctl32
    perllibs=-lmoldname -lkernel32 -luser32 -lgdi32 -lwinspool -lcomdlg32 -ladvapi32 -lshell32 -lole32 -loleaut32 -lnetapi32 -luuid -lws2_32 -lmpr -lwinmm -lversion -lodbc32 -lodbccp32 -lcomctl32
    libc=, so=dll, useshrplib=true, libperl=libperl524.a
    gnulibc_version=''
  Dynamic Linking:
    dlsrc=dl_win32.xs, dlext=dll, d_dlsymun=undef, ccdlflags=' '
    cccdlflags=' ', lddlflags='-mdll -s -static-libgcc -static-libstdc++ -L"C:\Apps\Admin_Installs\Perl64\lib\CORE" -L"C:\MinGW\x86_64-w64-mingw32\lib"'


Characteristics of this binary (from libperl): 
  Compile-time options: HAS_TIMES HAVE_INTERP_INTERN MULTIPLICITY
                        PERLIO_LAYERS PERL_COPY_ON_WRITE
                        PERL_DONT_CREATE_GVSV
                        PERL_HASH_FUNC_ONE_AT_A_TIME_HARD
                        PERL_IMPLICIT_CONTEXT PERL_IMPLICIT_SYS
                        PERL_MALLOC_WRAP PERL_PRESERVE_IVUV USE_64_BIT_INT
                        USE_ITHREADS USE_LARGE_FILES USE_LOCALE
                        USE_LOCALE_COLLATE USE_LOCALE_CTYPE
                        USE_LOCALE_NUMERIC USE_LOCALE_TIME USE_PERLIO
                        USE_PERL_ATOF USE_SITECUSTOMIZE
  Locally applied patches:
	ActivePerl Build 2400 [300558]
  Built under MSWin32
  Compiled at Jun  9 2016 21:44:59
  %ENV:
    PERL5LIB="C:\Users\hornenj\Perl64\cpan\build\Digest-SHA-6.01-2NjB5R/blib/arch;C:\Users\hornenj\Perl64\cpan\build\Digest-SHA-6.01-2NjB5R/blib/lib;C:\Users\hornenj\Perl64\cpan\build\Devel-NYTProf-6.05-xKLI_Z/blib/arch;C:\Users\hornenj\Perl64\cpan\build\Devel-NYTProf-6.05-xKLI_Z/blib/lib;C:\Users\hornenj\Perl64\cpan\build\DBI-1.641-QvYI2y/blib/arch;C:\Users\hornenj\Perl64\cpan\build\DBI-1.641-QvYI2y/blib/lib;C:\Users\hornenj\Perl64\cpan\build\Encode-2.97-aHA4bb/blib/arch;C:\Users\hornenj\Perl64\cpan\build\Encode-2.97-aHA4bb/blib/lib;C:\Users\hornenj\Perl64\cpan\build\CPAN-2.16-yab_VU/blib/arch;C:\Users\hornenj\Perl64\cpan\build\CPAN-2.16-yab_VU/blib/lib;C:\Users\hornenj\Perl64\cpan\build\Archive-Tar-2.26-oiTWsR/blib/arch;C:\Users\hornenj\Perl64\cpan\build\Archive-Tar-2.26-oiTWsR/blib/lib"
    PERL5_CPANPLUS_IS_RUNNING="42520"
    PERL5_CPAN_IS_RUNNING="42520"
  @INC:
    C:\Users\hornenj\Perl64\cpan\build\Digest-SHA-6.01-2NjB5R/blib/arch
    C:\Users\hornenj\Perl64\cpan\build\Digest-SHA-6.01-2NjB5R/blib/lib
    C:\Users\hornenj\Perl64\cpan\build\Devel-NYTProf-6.05-xKLI_Z/blib/arch
    C:\Users\hornenj\Perl64\cpan\build\Devel-NYTProf-6.05-xKLI_Z/blib/lib
    C:\Users\hornenj\Perl64\cpan\build\DBI-1.641-QvYI2y/blib/arch
    C:\Users\hornenj\Perl64\cpan\build\DBI-1.641-QvYI2y/blib/lib
    C:\Users\hornenj\Perl64\cpan\build\Encode-2.97-aHA4bb/blib/arch
    C:\Users\hornenj\Perl64\cpan\build\Encode-2.97-aHA4bb/blib/lib
    C:\Users\hornenj\Perl64\cpan\build\CPAN-2.16-yab_VU/blib/arch
    C:\Users\hornenj\Perl64\cpan\build\CPAN-2.16-yab_VU/blib/lib
    C:\Users\hornenj\Perl64\cpan\build\Archive-Tar-2.26-oiTWsR/blib/arch
    C:\Users\hornenj\Perl64\cpan\build\Archive-Tar-2.26-oiTWsR/blib/lib
    C:/Apps/Admin_Installs/Perl64/site/lib
    C:/Apps/Admin_Installs/Perl64/lib
    .