Back
From: metabase:user:320bfe00-2aae-11df-837a-5e0a49663a4f
Subject: PASS Class-AutoClass-1.55 v5.16.2 GNU/Linux
Date: 2012-11-25T15:22:29Z
This distribution has been tested as part of the CPAN Testers
project, supporting the Perl programming language. See
http://wiki.cpantesters.org/ for more information or email
questions to cpan-testers-discuss@perl.org
--
Dear Nathan Goodman,
This is a computer-generated report for Class-AutoClass-1.55
on perl 5.16.2, created by CPAN-Reporter-1.2006.
Thank you for uploading your work to CPAN. Congratulations!
All tests were successful.
Sections of this report:
* Tester comments
* Program output
* Prerequisites
* Environment and other context
------------------------------
TESTER COMMENTS
------------------------------
Additional comments from tester:
this report is from an automated smoke testing program
and was not reviewed by a human for accuracy
------------------------------
PROGRAM OUTPUT
------------------------------
Output from './Build test':
# Testing Class::AutoClass 1.55, Perl 5.016002, /home/sand/src/perl/repoperls/installed-perls/perl/v5.16.2/165a/bin/perl
t/autoclass.000.code_exists.t ........ ok
t/autoclass.001.boilerplate.t ........ ok
t/autoclass.002.pod.t ................ ok
t/autoclass.010.basics.t ............. ok
t/autoclass.011.class_attributes.t ... ok
t/autoclass.011.inconsistent.t ....... ok
t/autoclass.011.nullify.t ............ ok
t/autoclass.011.override.t ........... ok
t/autoclass.020.attributes.t ......... ok
t/autoclass.025.root.t ............... ok
t/autoclass.030._ref_.t .............. ok
t/autoclass.030.init_self.t .......... ok
t/autoclass.031._ref_.t .............. ok
t/autoclass.031.super_new.t .......... ok
t/autoclass.032._ref_.t .............. ok
t/autoclass.032.init_self_ac.t ....... ok
t/autoclass.033._ref_.t .............. ok
t/autoclass.033.super_new_ac.t ....... ok
t/autoclass.034._ref_.t .............. ok
t/autoclass.034.external_one.t ....... ok
t/autoclass.035._ref_.t .............. ok
t/autoclass.035.external_all.t ....... ok
t/autoclass.036._ref_.t .............. ok
t/autoclass.036.declare.t ............ ok
t/autoclass.037._ref_.t .............. ok
t/autoclass.037.declare_pkg.t ........ ok
t/autoclass.038._ref_.t .............. ok
t/autoclass.038.init_self_inherit.t .. ok
t/autoclass.039._ref_.t .............. ok
t/autoclass.039.attribute_order.t .... ok
t/autoclass.099.docs.t ............... ok
t/autoclass.100.no_autoclass.t ....... ok
t/autoclass.101.no_use_parent.t ...... ok
t/autoclass.102.use_order.t .......... ok
t/autoclass.103.defaults.t ........... ok
t/autoclass.104.syn_defaults.t ....... ok
t/autoclass.105.synonyms.t ........... ok
t/autoclass.106.synonyms.t ........... ok
t/autoclass.107.code_refs.t .......... ok
t/autoclass.108.override.t ........... ok
All tests successful.
Files=40, Tests=772, 4 wallclock secs ( 0.16 usr 0.03 sys + 2.29 cusr 0.37 csys = 2.85 CPU)
Result: PASS
------------------------------
PREREQUISITES
------------------------------
Prerequisite modules loaded:
requires:
Module Need Have
-------------------- ----- ------
Carp 0 1.26
Hash::AutoHash::Args 1.1 1.15
Storable 2.16 2.34
build_requires:
Module Need Have
-------------------- ----- ------
Exporter 0 5.66
IO::Scalar 2.1 2.110
Scalar::Util 1.01 1.25
Test::Deep 0.098 0.110
Test::More 0.88 0.98
configure_requires:
Module Need Have
-------------------- ----- ------
Module::Build 0.4 0.4003
------------------------------
ENVIRONMENT AND OTHER CONTEXT
------------------------------
Environment variables:
AUTOMATED_TESTING = 1
LANG = en_US.UTF-8
LANGUAGE = en_US:en
PATH = /home/sand/bin:/usr/local/bin:/usr/bin:/bin:/usr/bin/X11:/usr/games:/usr/local/perl/bin:/usr/X11/bin:/sbin:/usr/sbin
PERL5LIB =
PERL5OPT =
PERL5_CPANPLUS_IS_RUNNING = 2431
PERL5_CPAN_IS_RUNNING = 2431
PERL_MM_USE_DEFAULT = 1
SHELL = /usr/bin/zsh
TERM = screen
Perl special variables (and OS-specific diagnostics, for MSWin32):
$^X = /home/sand/src/perl/repoperls/installed-perls/perl/v5.16.2/165a/bin/perl
$UID/$EUID = 1005 / 1005
$GID = 1005 1005
$EGID = 1005 1005
Perl module toolchain versions installed:
Module Have
------------------- --------
CPAN 1.9800
CPAN::Meta 2.120921
Cwd 3.39_02
ExtUtils::CBuilder 0.280206
ExtUtils::Command 1.17
ExtUtils::Install 1.58
ExtUtils::MakeMaker 6.63_04
ExtUtils::Manifest 1.61
ExtUtils::ParseXS 3.18
File::Spec 3.39_02
JSON 2.53
JSON::PP 2.27200
Module::Build 0.4003
Module::Signature 0.69
Parse::CPAN::Meta 1.4404
Test::Harness 3.25
Test::More 0.98
YAML 0.84
YAML::Syck 1.21
version 0.9901
--
Summary of my perl5 (revision 5 version 16 subversion 2) configuration:
Commit id: db7f29e888f2e6d75a806a11ebc6caa6acd84577
Platform:
osname=linux, osvers=3.2.0-4-amd64, archname=x86_64-linux
uname='linux k83 3.2.0-4-amd64 #1 smp debian 3.2.32-1 x86_64 gnulinux '
config_args='-Dprefix=/home/src/perl/repoperls/installed-perls/perl/v5.16.2/165a -Dmyhostname=k83 -Dinstallusrbinperl=n -Uversiononly -Dusedevel -des -Ui_db -Uuseithreads -Uuselongdouble -DDEBUGGING=-g'
hint=recommended, useposix=true, d_sigaction=define
useithreads=undef, usemultiplicity=undef
useperlio=define, d_sfio=undef, uselargefiles=define, usesocks=undef
use64bitint=define, use64bitall=define, uselongdouble=undef
usemymalloc=n, bincompat5005=undef
Compiler:
cc='cc', ccflags ='-fno-strict-aliasing -pipe -fstack-protector -I/usr/local/include -D_LARGEFILE_SOURCE -D_FILE_OFFSET_BITS=64',
optimize='-O2 -g',
cppflags='-fno-strict-aliasing -pipe -fstack-protector -I/usr/local/include'
ccversion='', gccversion='4.7.2', gccosandvers=''
intsize=4, longsize=8, ptrsize=8, doublesize=8, byteorder=12345678
d_longlong=define, longlongsize=8, d_longdbl=define, longdblsize=16
ivtype='long', ivsize=8, nvtype='double', nvsize=8, Off_t='off_t', lseeksize=8
alignbytes=8, prototype=define
Linker and Libraries:
ld='cc', ldflags =' -fstack-protector -L/usr/local/lib'
libpth=/usr/local/lib /lib/x86_64-linux-gnu /lib/../lib /usr/lib/x86_64-linux-gnu /usr/lib/../lib /lib /usr/lib
libs=-lnsl -ldb -ldl -lm -lcrypt -lutil -lc
perllibs=-lnsl -ldl -lm -lcrypt -lutil -lc
libc=, so=so, useshrplib=false, libperl=libperl.a
gnulibc_version='2.13'
Dynamic Linking:
dlsrc=dl_dlopen.xs, dlext=so, d_dlsymun=undef, ccdlflags='-Wl,-E'
cccdlflags='-fPIC', lddlflags='-shared -O2 -g -L/usr/local/lib -fstack-protector'
Characteristics of this binary (from libperl):
Compile-time options: HAS_TIMES PERLIO_LAYERS PERL_DONT_CREATE_GVSV
PERL_MALLOC_WRAP PERL_PRESERVE_IVUV PERL_USE_DEVEL
USE_64_BIT_ALL USE_64_BIT_INT USE_LARGE_FILES
USE_LOCALE USE_LOCALE_COLLATE USE_LOCALE_CTYPE
USE_LOCALE_NUMERIC USE_PERLIO USE_PERL_ATOF
Built under linux
Compiled at Nov 4 2012 05:55:39
%ENV:
PERL5LIB=""
PERL5OPT=""
PERL5_CPANPLUS_IS_RUNNING="2431"
PERL5_CPAN_IS_RUNNING="2431"
PERL_MM_USE_DEFAULT="1"
@INC:
/home/src/perl/repoperls/installed-perls/perl/v5.16.2/165a/lib/site_perl/5.16.2/x86_64-linux
/home/src/perl/repoperls/installed-perls/perl/v5.16.2/165a/lib/site_perl/5.16.2
/home/src/perl/repoperls/installed-perls/perl/v5.16.2/165a/lib/5.16.2/x86_64-linux
/home/src/perl/repoperls/installed-perls/perl/v5.16.2/165a/lib/5.16.2
.