Back
From: metabase:user:9c36dc84-a30f-11e0-a9fc-0a18abbd4f2f
Subject: PASS XML-Rabbit-0.4.1 v5.24.0
Date: 2017-01-09T18:17:48Z
This distribution has been tested as part of the CPAN Testers
project, supporting the Perl programming language. See
http://wiki.cpantesters.org/ for more information or email
questions to cpan-testers-discuss@perl.org
--
Dear Robin Smidsrod,
This is a computer-generated report for XML-Rabbit-0.4.1
on perl 5.24.0, created by CPAN-Reporter-1.2018.
Thank you for uploading your work to CPAN. Congratulations!
All tests were successful.
Sections of this report:
* Tester comments
* Program output
* Prerequisites
* Environment and other context
------------------------------
TESTER COMMENTS
------------------------------
Additional comments from tester:
none provided
------------------------------
PROGRAM OUTPUT
------------------------------
Output from 'C:\STRAWB~1\c\bin\dmake.exe test':
"C:\Strawberry\perl\bin\perl.exe" "-MExtUtils::Command::MM" "-MTest::Harness" "-e" "undef *Test::Harness::Switches; test_harness(0, 'blib\lib', 'blib\arch')" t/*.t t/regression/*.t
# Testing XML::Rabbit 0.4.1, Perl 5.024000, C:\Strawberry\perl\bin\perl.exe
t/00_load.t ........................... ok
# Detected libxml2 version: 20903
t/01_libxml_version.t ................. ok
t/10_parse_xhtml_fh.t ................. ok
t/10_parse_xhtml_file.t ............... ok
t/10_parse_xhtml_string.t ............. ok
t/11_parse_imsqti.t ................... ok
t/12_xpath_value_map.t ................ ok
t/13_xpath_object_map.t ............... ok
t/14_sugar_parse_xhtml_file.t ......... ok
t/15_sugar_parse_imsqti.t ............. ok
t/16_sugar_xpath_value_map.t .......... ok
t/17_sugar_xpath_object_map.t ......... ok
t/18_dump_xml.t ....................... ok
t/19_RT_71815.t ....................... ok
t/20_RT_81519.t ....................... ok
t/author-critic.t ..................... skipped: these tests are for testing by the author
t/regression/node_attribute_traits.t .. ok
t/release-eol.t ....................... skipped: these tests are for release candidate testing
t/release-kwalitee.t .................. skipped: these tests are for release candidate testing
t/release-no-tabs.t ................... skipped: these tests are for release candidate testing
t/release-pod-coverage.t .............. skipped: these tests are for release candidate testing
t/release-pod-syntax.t ................ skipped: these tests are for release candidate testing
All tests successful.
Files=22, Tests=165, 13 wallclock secs ( 0.08 usr + 0.05 sys = 0.13 CPU)
Result: PASS
------------------------------
PREREQUISITES
------------------------------
Prerequisite modules loaded:
requires:
Module Need Have
---------------------------- ---- --------
Carp 0 1.40
Class::Load 0 0.23
Encode 0 2.84
Moose 0.89 2.1807
Moose::Exporter 0 2.1807
Moose::Role 0 2.1807
Moose::Util::TypeConstraints 0 2.1807
MooseX::Role::Parameterized 0 1.08
namespace::autoclean 0 0.28
Perl6::Junction 0 1.60000
Scalar::Util 0 1.45
strict 0 1.11
warnings 0 1.36
XML::LibXML 1.70 2.0124
build_requires:
Module Need Have
---------------------------- ---- --------
lib 0 0.63
Test::Exception 0 0.43
Test::More 0 1.302073
utf8 0 1.19
configure_requires:
Module Need Have
---------------------------- ---- --------
ExtUtils::MakeMaker 6.30 7.24
XML::LibXML 1.70 2.0124
------------------------------
ENVIRONMENT AND OTHER CONTEXT
------------------------------
Environment variables:
COMSPEC = C:\Windows\system32\cmd.exe
NUMBER_OF_PROCESSORS = 2
PATH = C:\Windows\system32;C:\Windows;C:\Windows\System32\Wbem;C:\Windows\System32\WindowsPowerShell\v1.0\;C:\Strawberry\c\bin;C:\Strawberry\perl\site\bin;C:\Strawberry\perl\bin
PERL5LIB =
PERL5OPT =
PERL5_CPANPLUS_IS_RUNNING = 3616
PERL5_CPAN_IS_RUNNING = 3616
PROCESSOR_IDENTIFIER = x86 Family 6 Model 37 Stepping 5, GenuineIntel
TEMP = C:\Users\alceu\AppData\Local\Temp
Perl special variables (and OS-specific diagnostics, for MSWin32):
$^X = C:\Strawberry\perl\bin\perl.exe
$UID/$EUID = 0 / 0
$GID = 0
$EGID = 0
Win32::GetOSName = Win7
Win32::GetOSVersion = Service Pack 1, 6, 1, 7601, 2, 1, 0, 256, 1
Win32::FsType = NTFS
Win32::IsAdminUser = 0
Perl module toolchain versions installed:
Module Have
------------------- --------
CPAN 2.11
CPAN::Meta 2.150005
Cwd 3.63
ExtUtils::CBuilder 0.280225
ExtUtils::Command 7.24
ExtUtils::Install 2.04
ExtUtils::MakeMaker 7.24
ExtUtils::Manifest 1.70
ExtUtils::ParseXS 3.31
File::Spec 3.63
JSON 2.90
JSON::PP 2.27400
Module::Build 0.4220
Module::Signature n/a
Parse::CPAN::Meta 1.4417
Test::Harness 3.36
Test::More 1.302073
YAML 1.15
YAML::Syck n/a
version 0.9916
--
Summary of my perl5 (revision 5 version 24 subversion 0) configuration:
Platform:
osname=MSWin32, osvers=6.3, archname=MSWin32-x86-multi-thread-64int
uname='Win32 strawberry-perl 5.24.0.1 #1 Tue May 10 17:10:11 2016 i386'
config_args='undef'
hint=recommended, useposix=true, d_sigaction=undef
useithreads=define, usemultiplicity=define
use64bitint=define, use64bitall=undef, uselongdouble=undef
usemymalloc=n, bincompat5005=undef
Compiler:
cc='gcc', ccflags =' -s -O2 -DWIN32 -DPERL_TEXTMODE_SCRIPTS -DPERL_IMPLICIT_CONTEXT -DPERL_IMPLICIT_SYS -fwrapv -fno-strict-aliasing -mms-bitfields',
optimize='-s -O2',
cppflags='-DWIN32'
ccversion='', gccversion='4.9.2', gccosandvers=''
intsize=4, longsize=4, ptrsize=4, doublesize=8, byteorder=12345678, doublekind=3
d_longlong=define, longlongsize=8, d_longdbl=define, longdblsize=12, longdblkind=3
ivtype='long long', ivsize=8, nvtype='double', nvsize=8, Off_t='long long', lseeksize=8
alignbytes=8, prototype=define
Linker and Libraries:
ld='g++', ldflags ='-s -L"C:\STRAWB~1\perl\lib\CORE" -L"C:\STRAWB~1\c\lib"'
libpth=C:\STRAWB~1\c\lib C:\STRAWB~1\c\i686-w64-mingw32\lib C:\STRAWB~1\c\lib\gcc\i686-w64-mingw32\4.9.2
libs=-lmoldname -lkernel32 -luser32 -lgdi32 -lwinspool -lcomdlg32 -ladvapi32 -lshell32 -lole32 -loleaut32 -lnetapi32 -luuid -lws2_32 -lmpr -lwinmm -lversion -lodbc32 -lodbccp32 -lcomctl32
perllibs=-lmoldname -lkernel32 -luser32 -lgdi32 -lwinspool -lcomdlg32 -ladvapi32 -lshell32 -lole32 -loleaut32 -lnetapi32 -luuid -lws2_32 -lmpr -lwinmm -lversion -lodbc32 -lodbccp32 -lcomctl32
libc=, so=dll, useshrplib=true, libperl=libperl524.a
gnulibc_version=''
Dynamic Linking:
dlsrc=dl_win32.xs, dlext=xs.dll, d_dlsymun=undef, ccdlflags=' '
cccdlflags=' ', lddlflags='-mdll -s -L"C:\STRAWB~1\perl\lib\CORE" -L"C:\STRAWB~1\c\lib"'
Characteristics of this binary (from libperl):
Compile-time options: HAS_TIMES HAVE_INTERP_INTERN MULTIPLICITY
PERLIO_LAYERS PERL_COPY_ON_WRITE
PERL_DONT_CREATE_GVSV
PERL_HASH_FUNC_ONE_AT_A_TIME_HARD
PERL_IMPLICIT_CONTEXT PERL_IMPLICIT_SYS
PERL_MALLOC_WRAP PERL_PRESERVE_IVUV USE_64_BIT_INT
USE_ITHREADS USE_LARGE_FILES USE_LOCALE
USE_LOCALE_COLLATE USE_LOCALE_CTYPE
USE_LOCALE_NUMERIC USE_LOCALE_TIME USE_PERLIO
USE_PERL_ATOF
Built under MSWin32
Compiled at May 10 2016 17:20:50
%ENV:
PERL5_CPANPLUS_IS_RUNNING="3616"
PERL5_CPAN_IS_RUNNING="3616"
@INC:
C:/Strawberry/perl/site/lib/MSWin32-x86-multi-thread-64int
C:/Strawberry/perl/site/lib
C:/Strawberry/perl/vendor/lib
C:/Strawberry/perl/lib
.