Report for Net-Jabber-1.30

Back
From: metabase:user:d2c9f356-b46f-11df-9a90-20a83c0b7757
Subject: PASS Net-Jabber-1.30 v5.12.3 SunOS/Solaris
Date: 2011-02-03T18:17:57Z

This distribution has been tested as part of the CPAN Testers
project, supporting the Perl programming language.  See
http://wiki.cpantesters.org/ for more information or email
questions to cpan-testers-discuss@perl.org


--
Dear Ryan Eatmon,

This is a computer-generated report for Net-Jabber-1.30
on perl 5.12.3, created by CPAN-Reporter-1.1902.

Thank you for uploading your work to CPAN.  Congratulations!
All tests were successful.

Sections of this report:

    * Tester comments
    * Program output
    * Prerequisites
    * Environment and other context

------------------------------
TESTER COMMENTS
------------------------------

Additional comments from tester:

this report is from an automated smoke testing program
and was not reviewed by a human for accuracy

------------------------------
PROGRAM OUTPUT
------------------------------

Output from '/usr/bin/make test':

PERL_DL_NONLAZY=1 /export/home/cpant3/perl5/bin/perl5.12.3 "-MExtUtils::Command::MM" "-e" "test_harness(0, 'blib/lib', 'blib/arch')" t/*.t
Use of uninitialized value $args{"file"} in lc at /export/home/cpant3/.cpan/build/Net-Jabber-1.30-r7ccQ4/blib/lib/Net/Jabber/Debug.pm line 157.
t/1_load.t .................... ok
Use of uninitialized value $args{"file"} in lc at /export/home/cpant3/.cpan/build/Net-Jabber-1.30-r7ccQ4/blib/lib/Net/Jabber/Debug.pm line 157.
t/2_client.t .................. ok
Use of uninitialized value $args{"file"} in lc at /export/home/cpant3/.cpan/build/Net-Jabber-1.30-r7ccQ4/blib/lib/Net/Jabber/Debug.pm line 157.
t/iq.t ........................ ok
Use of uninitialized value $args{"file"} in lc at /export/home/cpant3/.cpan/build/Net-Jabber-1.30-r7ccQ4/blib/lib/Net/Jabber/Debug.pm line 157.
t/jid.t ....................... ok
Use of uninitialized value $args{"file"} in lc at /export/home/cpant3/.cpan/build/Net-Jabber-1.30-r7ccQ4/blib/lib/Net/Jabber/Debug.pm line 157.
t/message.t ................... ok
Use of uninitialized value $args{"file"} in lc at /export/home/cpant3/.cpan/build/Net-Jabber-1.30-r7ccQ4/blib/lib/Net/Jabber/Debug.pm line 157.
t/parse_x_data.t .............. ok
Use of uninitialized value $args{"file"} in lc at /export/home/cpant3/.cpan/build/Net-Jabber-1.30-r7ccQ4/blib/lib/Net/Jabber/Debug.pm line 157.
t/parse_x_delay.t ............. ok
Use of uninitialized value $args{"file"} in lc at /export/home/cpant3/.cpan/build/Net-Jabber-1.30-r7ccQ4/blib/lib/Net/Jabber/Debug.pm line 157.
t/presence.t .................. ok
Use of uninitialized value $args{"file"} in lc at /export/home/cpant3/.cpan/build/Net-Jabber-1.30-r7ccQ4/blib/lib/Net/Jabber/Debug.pm line 157.
t/protocol_definenamespace.t .. ok
Use of uninitialized value $args{"file"} in lc at /export/home/cpant3/.cpan/build/Net-Jabber-1.30-r7ccQ4/blib/lib/Net/Jabber/Debug.pm line 157.
t/protocol_muc.t .............. ok
Use of uninitialized value $args{"file"} in lc at /export/home/cpant3/.cpan/build/Net-Jabber-1.30-r7ccQ4/blib/lib/Net/Jabber/Debug.pm line 157.
t/protocol_rpc.t .............. ok
Use of uninitialized value $args{"file"} in lc at /export/home/cpant3/.cpan/build/Net-Jabber-1.30-r7ccQ4/blib/lib/Net/Jabber/Debug.pm line 157.
t/query_agent.t ............... ok
Use of uninitialized value $args{"file"} in lc at /export/home/cpant3/.cpan/build/Net-Jabber-1.30-r7ccQ4/blib/lib/Net/Jabber/Debug.pm line 157.
t/query_agents.t .............. ok
Use of uninitialized value $args{"file"} in lc at /export/home/cpant3/.cpan/build/Net-Jabber-1.30-r7ccQ4/blib/lib/Net/Jabber/Debug.pm line 157.
t/query_auth.t ................ ok
Use of uninitialized value $args{"file"} in lc at /export/home/cpant3/.cpan/build/Net-Jabber-1.30-r7ccQ4/blib/lib/Net/Jabber/Debug.pm line 157.
t/query_autoupdate.t .......... ok
Use of uninitialized value $args{"file"} in lc at /export/home/cpant3/.cpan/build/Net-Jabber-1.30-r7ccQ4/blib/lib/Net/Jabber/Debug.pm line 157.
t/query_browse.t .............. ok
Use of uninitialized value $args{"file"} in lc at /export/home/cpant3/.cpan/build/Net-Jabber-1.30-r7ccQ4/blib/lib/Net/Jabber/Debug.pm line 157.
t/query_bytestreams.t ......... ok
Use of uninitialized value $args{"file"} in lc at /export/home/cpant3/.cpan/build/Net-Jabber-1.30-r7ccQ4/blib/lib/Net/Jabber/Debug.pm line 157.
t/query_commands.t ............ ok
Use of uninitialized value $args{"file"} in lc at /export/home/cpant3/.cpan/build/Net-Jabber-1.30-r7ccQ4/blib/lib/Net/Jabber/Debug.pm line 157.
t/query_conference.t .......... ok
Use of uninitialized value $args{"file"} in lc at /export/home/cpant3/.cpan/build/Net-Jabber-1.30-r7ccQ4/blib/lib/Net/Jabber/Debug.pm line 157.
t/query_disco_info.t .......... ok
Use of uninitialized value $args{"file"} in lc at /export/home/cpant3/.cpan/build/Net-Jabber-1.30-r7ccQ4/blib/lib/Net/Jabber/Debug.pm line 157.
t/query_disco_items.t ......... ok
Use of uninitialized value $args{"file"} in lc at /export/home/cpant3/.cpan/build/Net-Jabber-1.30-r7ccQ4/blib/lib/Net/Jabber/Debug.pm line 157.
t/query_featureneg.t .......... ok
Use of uninitialized value $args{"file"} in lc at /export/home/cpant3/.cpan/build/Net-Jabber-1.30-r7ccQ4/blib/lib/Net/Jabber/Debug.pm line 157.
t/query_filter.t .............. ok
Use of uninitialized value $args{"file"} in lc at /export/home/cpant3/.cpan/build/Net-Jabber-1.30-r7ccQ4/blib/lib/Net/Jabber/Debug.pm line 157.
t/query_gateway.t ............. ok
Use of uninitialized value $args{"file"} in lc at /export/home/cpant3/.cpan/build/Net-Jabber-1.30-r7ccQ4/blib/lib/Net/Jabber/Debug.pm line 157.
t/query_last.t ................ ok
Use of uninitialized value $args{"file"} in lc at /export/home/cpant3/.cpan/build/Net-Jabber-1.30-r7ccQ4/blib/lib/Net/Jabber/Debug.pm line 157.
t/query_muc_admin.t ........... ok
Use of uninitialized value $args{"file"} in lc at /export/home/cpant3/.cpan/build/Net-Jabber-1.30-r7ccQ4/blib/lib/Net/Jabber/Debug.pm line 157.
t/query_oob.t ................. ok
Use of uninitialized value $args{"file"} in lc at /export/home/cpant3/.cpan/build/Net-Jabber-1.30-r7ccQ4/blib/lib/Net/Jabber/Debug.pm line 157.
t/query_pass.t ................ ok
Use of uninitialized value $args{"file"} in lc at /export/home/cpant3/.cpan/build/Net-Jabber-1.30-r7ccQ4/blib/lib/Net/Jabber/Debug.pm line 157.
t/query_pubsub.t .............. ok
Use of uninitialized value $args{"file"} in lc at /export/home/cpant3/.cpan/build/Net-Jabber-1.30-r7ccQ4/blib/lib/Net/Jabber/Debug.pm line 157.
t/query_pubsub_event.t ........ ok
Use of uninitialized value $args{"file"} in lc at /export/home/cpant3/.cpan/build/Net-Jabber-1.30-r7ccQ4/blib/lib/Net/Jabber/Debug.pm line 157.
t/query_pubsub_owner.t ........ ok
Use of uninitialized value $args{"file"} in lc at /export/home/cpant3/.cpan/build/Net-Jabber-1.30-r7ccQ4/blib/lib/Net/Jabber/Debug.pm line 157.
t/query_register.t ............ ok
Use of uninitialized value $args{"file"} in lc at /export/home/cpant3/.cpan/build/Net-Jabber-1.30-r7ccQ4/blib/lib/Net/Jabber/Debug.pm line 157.
t/query_roster.t .............. ok
Use of uninitialized value $args{"file"} in lc at /export/home/cpant3/.cpan/build/Net-Jabber-1.30-r7ccQ4/blib/lib/Net/Jabber/Debug.pm line 157.
t/query_rpc.t ................. ok
Use of uninitialized value $args{"file"} in lc at /export/home/cpant3/.cpan/build/Net-Jabber-1.30-r7ccQ4/blib/lib/Net/Jabber/Debug.pm line 157.
t/query_search.t .............. ok
Use of uninitialized value $args{"file"} in lc at /export/home/cpant3/.cpan/build/Net-Jabber-1.30-r7ccQ4/blib/lib/Net/Jabber/Debug.pm line 157.
t/query_si.t .................. ok
Use of uninitialized value $args{"file"} in lc at /export/home/cpant3/.cpan/build/Net-Jabber-1.30-r7ccQ4/blib/lib/Net/Jabber/Debug.pm line 157.
t/query_si_filetrans.t ........ ok
Use of uninitialized value $args{"file"} in lc at /export/home/cpant3/.cpan/build/Net-Jabber-1.30-r7ccQ4/blib/lib/Net/Jabber/Debug.pm line 157.
t/query_soap.t ................ ok
Use of uninitialized value $args{"file"} in lc at /export/home/cpant3/.cpan/build/Net-Jabber-1.30-r7ccQ4/blib/lib/Net/Jabber/Debug.pm line 157.
t/query_time.t ................ ok
Use of uninitialized value $args{"file"} in lc at /export/home/cpant3/.cpan/build/Net-Jabber-1.30-r7ccQ4/blib/lib/Net/Jabber/Debug.pm line 157.
t/query_version.t ............. ok
Use of uninitialized value $args{"file"} in lc at /export/home/cpant3/.cpan/build/Net-Jabber-1.30-r7ccQ4/blib/lib/Net/Jabber/Debug.pm line 157.
t/rawxml.t .................... ok
Use of uninitialized value $args{"file"} in lc at /export/home/cpant3/.cpan/build/Net-Jabber-1.30-r7ccQ4/blib/lib/Net/Jabber/Debug.pm line 157.
t/x_autoupdate.t .............. ok
Use of uninitialized value $args{"file"} in lc at /export/home/cpant3/.cpan/build/Net-Jabber-1.30-r7ccQ4/blib/lib/Net/Jabber/Debug.pm line 157.
t/x_conference.t .............. ok
Use of uninitialized value $args{"file"} in lc at /export/home/cpant3/.cpan/build/Net-Jabber-1.30-r7ccQ4/blib/lib/Net/Jabber/Debug.pm line 157.
t/x_data.t .................... ok
Use of uninitialized value $args{"file"} in lc at /export/home/cpant3/.cpan/build/Net-Jabber-1.30-r7ccQ4/blib/lib/Net/Jabber/Debug.pm line 157.
t/x_delay.t ................... ok
Use of uninitialized value $args{"file"} in lc at /export/home/cpant3/.cpan/build/Net-Jabber-1.30-r7ccQ4/blib/lib/Net/Jabber/Debug.pm line 157.
t/x_encrypted.t ............... ok
Use of uninitialized value $args{"file"} in lc at /export/home/cpant3/.cpan/build/Net-Jabber-1.30-r7ccQ4/blib/lib/Net/Jabber/Debug.pm line 157.
t/x_expire.t .................. ok
Use of uninitialized value $args{"file"} in lc at /export/home/cpant3/.cpan/build/Net-Jabber-1.30-r7ccQ4/blib/lib/Net/Jabber/Debug.pm line 157.
t/x_muc.t ..................... ok
Use of uninitialized value $args{"file"} in lc at /export/home/cpant3/.cpan/build/Net-Jabber-1.30-r7ccQ4/blib/lib/Net/Jabber/Debug.pm line 157.
t/x_muc_user.t ................ ok
Use of uninitialized value $args{"file"} in lc at /export/home/cpant3/.cpan/build/Net-Jabber-1.30-r7ccQ4/blib/lib/Net/Jabber/Debug.pm line 157.
t/x_oob.t ..................... ok
Use of uninitialized value $args{"file"} in lc at /export/home/cpant3/.cpan/build/Net-Jabber-1.30-r7ccQ4/blib/lib/Net/Jabber/Debug.pm line 157.
t/x_roster.t .................. ok
Use of uninitialized value $args{"file"} in lc at /export/home/cpant3/.cpan/build/Net-Jabber-1.30-r7ccQ4/blib/lib/Net/Jabber/Debug.pm line 157.
t/x_signed.t .................. ok
All tests successful.
Files=52, Tests=3243, 13 wallclock secs ( 0.45 usr  0.16 sys +  6.99 cusr  1.56 csys =  9.16 CPU)
Result: PASS

------------------------------
PREREQUISITES
------------------------------

Prerequisite modules loaded:

requires:

    Module       Need Have
    ------------ ---- ----
    Digest::SHA1 1.02 2.13
    XML::Stream  1.17 1.23


------------------------------
ENVIRONMENT AND OTHER CONTEXT
------------------------------

Environment variables:

    AUTOMATED_TESTING = 1
    LANG = en_US.UTF-8
    PATH = /export/home/cpant3/perl5/bin:/usr/bin
    PERL5LIB = /export/home/cpant3/.cpan/build/XML-Stream-1.23-2jPl0V/blib/arch:/export/home/cpant3/.cpan/build/XML-Stream-1.23-2jPl0V/blib/lib
    PERL5OPT = 
    PERL5_CPANPLUS_IS_RUNNING = 29371
    PERL5_CPAN_IS_RUNNING = 29371
    PERL5_CPAN_IS_RUNNING_IN_RECURSION = 22325,29371
    PERL_CR_SMOKER_CURRENT = Net-Jabber-1.30
    PERL_CR_SMOKER_RUNONCE = 1
    PERL_EXTUTILS_AUTOINSTALL = --defaultdeps
    PERL_MM_USE_DEFAULT = 1
    SHELL = /bin/bash
    TERM = xterm

Perl special variables (and OS-specific diagnostics, for MSWin32):

    $^X = /export/home/cpant3/perl5/bin/perl5.12.3
    $UID/$EUID = 103 / 103
    $GID = 1 1
    $EGID = 1 1

Perl module toolchain versions installed:

    Module              Have    
    ------------------- --------
    CPAN                1.94_56 
    Cwd                 3.33    
    ExtUtils::CBuilder  0.280202
    ExtUtils::Command   1.16    
    ExtUtils::Install   1.55    
    ExtUtils::MakeMaker 6.56    
    ExtUtils::Manifest  1.58    
    ExtUtils::ParseXS   2.2206  
    File::Spec          3.33    
    Module::Build       0.3624  
    Module::Signature   n/a     
    Test::Harness       3.22    
    Test::More          0.96    
    YAML                0.72    
    YAML::Syck          1.17    
    version             0.88    


--

Summary of my perl5 (revision 5 version 12 subversion 3) configuration:
   
  Platform:
    osname=solaris, osvers=2.11, archname=i86pc-solaris-64int
    uname='sunos open-solaris-noc 5.11 snv_95 i86pc i386 i86pc '
    config_args='-Dcc=gcc -Dprefix=~/perl5 -Duse64bitint -Dusedevel -d'
    hint=recommended, useposix=true, d_sigaction=define
    useithreads=undef, usemultiplicity=undef
    useperlio=define, d_sfio=undef, uselargefiles=define, usesocks=undef
    use64bitint=define, use64bitall=undef, uselongdouble=undef
    usemymalloc=n, bincompat5005=undef
  Compiler:
    cc='gcc', ccflags ='-DPTR_IS_LONG -fno-strict-aliasing -pipe -D_LARGEFILE_SOURCE -D_FILE_OFFSET_BITS=64 -DPERL_USE_SAFE_PUTENV',
    optimize='-O',
    cppflags='-DPTR_IS_LONG -fno-strict-aliasing -pipe'
    ccversion='', gccversion='3.4.3 (csl-sol210-3_4-20050802)', gccosandvers='solaris2.11'
    intsize=4, longsize=4, ptrsize=4, doublesize=8, byteorder=12345678
    d_longlong=define, longlongsize=8, d_longdbl=define, longdblsize=12
    ivtype='long long', ivsize=8, nvtype='double', nvsize=8, Off_t='off_t', lseeksize=8
    alignbytes=4, prototype=define
  Linker and Libraries:
    ld='gcc', ldflags =' '
    libpth=/usr/lib /usr/ccs/lib
    libs=-lsocket -lnsl -ldl -lm -lc
    perllibs=-lsocket -lnsl -ldl -lm -lc
    libc=/lib/libc.so, so=so, useshrplib=false, libperl=libperl.a
    gnulibc_version=''
  Dynamic Linking:
    dlsrc=dl_dlopen.xs, dlext=so, d_dlsymun=undef, ccdlflags=' '
    cccdlflags='-fPIC', lddlflags='-G'


Characteristics of this binary (from libperl): 
  Compile-time options: PERL_DONT_CREATE_GVSV PERL_MALLOC_WRAP PERL_USE_DEVEL
                        PERL_USE_SAFE_PUTENV USE_64_BIT_INT USE_LARGE_FILES
                        USE_PERLIO USE_PERL_ATOF
  Built under solaris
  Compiled at Jan 26 2011 09:10:26
  %ENV:
    PERL5LIB="/export/home/cpant3/.cpan/build/XML-Stream-1.23-2jPl0V/blib/arch:/export/home/cpant3/.cpan/build/XML-Stream-1.23-2jPl0V/blib/lib"
    PERL5OPT=""
    PERL5_CPANPLUS_IS_RUNNING="29371"
    PERL5_CPAN_IS_RUNNING="29371"
    PERL5_CPAN_IS_RUNNING_IN_RECURSION="22325,29371"
    PERL_CR_SMOKER_CURRENT="Net-Jabber-1.30"
    PERL_CR_SMOKER_RUNONCE="1"
    PERL_EXTUTILS_AUTOINSTALL="--defaultdeps"
    PERL_MM_USE_DEFAULT="1"
  @INC:
    /export/home/cpant3/.cpan/build/XML-Stream-1.23-2jPl0V/blib/arch
    /export/home/cpant3/.cpan/build/XML-Stream-1.23-2jPl0V/blib/lib
    /export/home/cpant3/perl5/lib/site_perl/5.12.3/i86pc-solaris-64int
    /export/home/cpant3/perl5/lib/site_perl/5.12.3
    /export/home/cpant3/perl5/lib/5.12.3/i86pc-solaris-64int
    /export/home/cpant3/perl5/lib/5.12.3
    /export/home/cpant3/perl5/lib/site_perl
    .