Report for Net-Google-DataAPI-0.2805

Back
From: metabase:user:30ae4450-2aae-11df-837a-5e0a49663a4f
Subject: PASS Net-Google-DataAPI-0.2805 v5.12.2 
Date: 2014-08-05T21:07:15Z

This distribution has been tested as part of the CPAN Testers
project, supporting the Perl programming language.  See
http://wiki.cpantesters.org/ for more information or email
questions to cpan-testers-discuss@perl.org


--
Dear Nobuo Danjou,

This is a computer-generated report for Net-Google-DataAPI-0.2805
on perl 5.12.2, created by CPAN-Reporter-1.2011.

Thank you for uploading your work to CPAN.  Congratulations!
All tests were successful.

Sections of this report:

    * Tester comments
    * Program output
    * Prerequisites
    * Environment and other context

------------------------------
TESTER COMMENTS
------------------------------

Additional comments from tester:

this report is from an automated smoke testing program
and was not reviewed by a human for accuracy

------------------------------
PROGRAM OUTPUT
------------------------------

Output from 'C:\strawberry\c\bin\dmake.EXE test':

C:\strawberry\perl\bin\perl.exe "-MExtUtils::Command::MM" "-MTest::Harness" "-e" "undef *Test::Harness::Switches; test_harness(0, 'inc', 'blib\lib', 'blib\arch')" t/*.t t/01_role/01_service/*.t t/01_role/02_entry/*.t t/01_role/03_has_content/*.t t/02_feedurl/*.t t/03_entry_has/*.t t/04_auth/*.t
t/00_compile.t ......................................... ok
t/01_role/01_service/01_instanciate.t .................. ok
t/01_role/01_service/02_namespace.t .................... ok
t/01_role/01_service/03_request.t ...................... ok
t/01_role/01_service/04_methods.t ...................... ok
t/01_role/01_service/05_debug.t ........................ ok
t/01_role/01_service/06_pass_through.t ................. ok
t/01_role/01_service/07_max_line_length.t .............. ok
t/01_role/01_service/08_max_line_length_custom_size.t .. ok
t/01_role/02_entry/01_instanciate.t .................... ok
t/01_role/02_entry/02_update.t ......................... ok
t/01_role/03_has_content/01_basic.t .................... ok
t/02_feedurl/01_basic.t ................................ ok
t/02_feedurl/02_add.t .................................. ok
t/02_feedurl/03_list.t ................................. ok
t/02_feedurl/04_delete.t ............................... ok
t/02_feedurl/05_error.t ................................ ok
t/03_entry_has/01_basic.t .............................. ok
t/03_entry_has/02_error.t .............................. ok
t/04_auth/01_authsub.t ................................. ok
t/04_auth/02_oauth.t ................................... ok
t/04_auth/03_multiple.t ................................ ok
t/04_auth/04_oauth2.t .................................. ok
t/05_types.t ........................................... ok
All tests successful.
Files=24, Tests=423,  7 wallclock secs ( 0.08 usr +  0.22 sys =  0.30 CPU)
Result: PASS

------------------------------
PREREQUISITES
------------------------------

Prerequisite modules loaded:

requires:

    Module                      Need     Have      
    --------------------------- -------- ----------
    Any::Moose                  0.04     0.24      
    Carp                        0        1.3301    
    Digest::SHA1                0        2.13      
    Lingua::EN::Inflect::Number 0        1.11      
    LWP::Protocol::https        0        6.04      
    LWP::UserAgent              0        6.06      
    Mouse                       0.51     2.3.0     
    Net::Google::AuthSub        0.5      0.5       
    Net::OAuth                  0        0.28      
    Net::OAuth2                 0.60     0.61      
    perl                        5.008001 5.012002  
    Text::Glob                  0        0.08      
    URI                         0        1.64      
    XML::Atom                   0        0.41      
    XML::LibXML                 0        2.0116    

build_requires:

    Module                      Need     Have      
    --------------------------- -------- ----------
    ExtUtils::MakeMaker         6.59     6.98      
    Test::Exception             0        0.32      
    Test::MockModule            0        0.05      
    Test::MockObject            0        1.20140408
    Test::More                  0.88     1.001003  
    Test::Warn                  0        0.30      
    UNIVERSAL::can              0        1.20140328
    UNIVERSAL::isa              0        1.20120726

configure_requires:

    Module                      Need     Have      
    --------------------------- -------- ----------
    ExtUtils::MakeMaker         6.59     6.98      


------------------------------
ENVIRONMENT AND OTHER CONTEXT
------------------------------

Environment variables:

    AUTOMATED_TESTING = 1
    COMSPEC = C:\WINDOWS\system32\cmd.exe
    NUMBER_OF_PROCESSORS = 1
    PATH = C:\Program Files\Far Manager\;c:\Windows\system32;%c:\Windows\;c:\Windows\System32\Wbem;C:\Git\cmd;C:\strawberry\c\bin;C:\strawberry\perl\site\bin;C:\strawberry\perl\bin
    PERL5LIB = C:\strawberry\cpan\build\Net-OAuth2-0.61-OPEyPz/blib/arch;C:\strawberry\cpan\build\Net-OAuth2-0.61-OPEyPz/blib/lib;C:\strawberry\cpan\build\Net-Google-AuthSub-0.5-aMyZCV/blib/arch;C:\strawberry\cpan\build\Net-Google-AuthSub-0.5-aMyZCV/blib/lib
    PERL5OPT = 
    PERL5_CPANPLUS_IS_RUNNING = 1524
    PERL5_CPAN_IS_RUNNING = 1524
    PERL5_CPAN_IS_RUNNING_IN_RECURSION = 440,1524
    PERL_CR_SMOKER_CURRENT = Net::Google::DataAPI
    PERL_EXTUTILS_AUTOINSTALL = --defaultdeps
    PERL_MM_USE_DEFAULT = 1
    PROCESSOR_IDENTIFIER = x86 Family 16 Model 5 Stepping 3, AuthenticAMD
    TEMP = C:\DOCUME~1\c\LOCALS~1\Temp
    TERM = dumb

Perl special variables (and OS-specific diagnostics, for MSWin32):

    $^X = C:\strawberry\perl\bin\perl.exe
    $UID/$EUID = 0 / 0
    $GID = 0
    $EGID = 0
    Win32::GetOSName = WinXP/.Net
    Win32::GetOSVersion = Service Pack 3, 5, 1, 2600, 2, 3, 0, 256, 1
    Win32::FsType = NTFS
    Win32::IsAdminUser = 1

Perl module toolchain versions installed:

    Module              Have    
    ------------------- --------
    CPAN                2.00    
    CPAN::Meta          2.141520
    Cwd                 3.47    
    ExtUtils::CBuilder  0.280216
    ExtUtils::Command   1.16    
    ExtUtils::Install   1.55    
    ExtUtils::MakeMaker 6.98    
    ExtUtils::Manifest  1.60    
    ExtUtils::ParseXS   3.24    
    File::Spec          3.47    
    JSON                2.90    
    JSON::PP            2.27203 
    Module::Build       0.4206  
    Module::Signature   0.66    
    Parse::CPAN::Meta   1.4414  
    Test::Harness       3.32    
    Test::More          1.001003
    YAML                0.98    
    YAML::Syck          1.27    
    version             0.9908  


--

Summary of my perl5 (revision 5 version 12 subversion 2) configuration:
   
  Platform:
    osname=MSWin32, osvers=5.1, archname=MSWin32-x86-multi-thread
    uname='Win32 strawberryperl 5.12.2.0 #1 Fri Nov  5 05:17:27 2010 i386'
    config_args='undef'
    hint=recommended, useposix=true, d_sigaction=undef
    useithreads=define, usemultiplicity=define
    useperlio=define, d_sfio=undef, uselargefiles=define, usesocks=undef
    use64bitint=undef, use64bitall=undef, uselongdouble=undef
    usemymalloc=n, bincompat5005=undef
  Compiler:
    cc='gcc', ccflags =' -s -O2 -DWIN32 -DHAVE_DES_FCRYPT  -DUSE_SITECUSTOMIZE -DPERL_IMPLICIT_CONTEXT -DPERL_IMPLICIT_SYS -fno-strict-aliasing -mms-bitfields -DPERL_MSVCRT_READFIX',
    optimize='-s -O2',
    cppflags='-DWIN32'
    ccversion='', gccversion='4.4.3', gccosandvers=''
    intsize=4, longsize=4, ptrsize=4, doublesize=8, byteorder=1234
    d_longlong=undef, longlongsize=8, d_longdbl=define, longdblsize=12
    ivtype='long', ivsize=4, nvtype='double', nvsize=8, Off_t='long long', lseeksize=8
    alignbytes=8, prototype=define
  Linker and Libraries:
    ld='g++', ldflags ='-s -L"C:\strawberry\perl\lib\CORE" -L"C:\strawberry\c\lib"'
    libpth=C:\strawberry\c\lib C:\strawberry\c\i686-w64-mingw32\lib
    libs=-lmoldname -lkernel32 -luser32 -lgdi32 -lwinspool -lcomdlg32 -ladvapi32 -lshell32 -lole32 -loleaut32 -lnetapi32 -luuid -lws2_32 -lmpr -lwinmm -lversion -lodbc32 -lodbccp32 -lcomctl32
    perllibs=-lmoldname -lkernel32 -luser32 -lgdi32 -lwinspool -lcomdlg32 -ladvapi32 -lshell32 -lole32 -loleaut32 -lnetapi32 -luuid -lws2_32 -lmpr -lwinmm -lversion -lodbc32 -lodbccp32 -lcomctl32
    libc=, so=dll, useshrplib=true, libperl=libperl512.a
    gnulibc_version=''
  Dynamic Linking:
    dlsrc=dl_win32.xs, dlext=dll, d_dlsymun=undef, ccdlflags=' '
    cccdlflags=' ', lddlflags='-mdll -s -L"C:\strawberry\perl\lib\CORE" -L"C:\strawberry\c\lib"'


Characteristics of this binary (from libperl): 
  Compile-time options: MULTIPLICITY PERL_DONT_CREATE_GVSV
                        PERL_IMPLICIT_CONTEXT PERL_IMPLICIT_SYS
                        PERL_MALLOC_WRAP PL_OP_SLAB_ALLOC USE_ITHREADS
                        USE_LARGE_FILES USE_PERLIO USE_PERL_ATOF
                        USE_SITECUSTOMIZE
  Built under MSWin32
  Compiled at Nov  5 2010 08:39:08
  %ENV:
    PERL5LIB="C:\strawberry\cpan\build\Net-OAuth2-0.61-OPEyPz/blib/arch;C:\strawberry\cpan\build\Net-OAuth2-0.61-OPEyPz/blib/lib;C:\strawberry\cpan\build\Net-Google-AuthSub-0.5-aMyZCV/blib/arch;C:\strawberry\cpan\build\Net-Google-AuthSub-0.5-aMyZCV/blib/lib"
    PERL5_CPANPLUS_IS_RUNNING="1524"
    PERL5_CPAN_IS_RUNNING="1524"
    PERL5_CPAN_IS_RUNNING_IN_RECURSION="440,1524"
    PERL_CR_SMOKER_CURRENT="Net::Google::DataAPI"
    PERL_EXTUTILS_AUTOINSTALL="--defaultdeps"
    PERL_MM_USE_DEFAULT="1"
  @INC:
    C:\strawberry\cpan\build\Net-OAuth2-0.61-OPEyPz/blib/arch
    C:\strawberry\cpan\build\Net-OAuth2-0.61-OPEyPz/blib/lib
    C:\strawberry\cpan\build\Net-Google-AuthSub-0.5-aMyZCV/blib/arch
    C:\strawberry\cpan\build\Net-Google-AuthSub-0.5-aMyZCV/blib/lib
    C:/strawberry/perl/site/lib
    C:/strawberry/perl/vendor/lib
    C:/strawberry/perl/lib
    .