Test-DBIx-Class v0.52 Perl 5 v5.27.3 x86_64-linux

Status
Pass
From
Andreas J. König (ANDK)
Dist
Test-DBIx-Class v0.52
Platform
Perl 5 v5.27.3 x86_64-linux
Date
2017-10-17 22:17:12
ID
ece71b90-b388-11e7-96ad-c8529f3bb17c
This distribution has been tested as part of the CPAN Testers
project, supporting the Perl programming language.  See
http://wiki.cpantesters.org/ for more information or email
questions to cpan-testers-discuss@perl.org


--
Dear Colin Newell,

This is a computer-generated report for Test-DBIx-Class-0.52
on perl 5.27.3, created by CPAN-Reporter-1.2018.

Thank you for uploading your work to CPAN.  Congratulations!
All tests were successful.

Sections of this report:

    * Tester comments
    * Program output
    * Prerequisites
    * Environment and other context

------------------------------
TESTER COMMENTS
------------------------------

Additional comments from tester:

this report is from an automated smoke testing program
and was not reviewed by a human for accuracy

------------------------------
PROGRAM OUTPUT
------------------------------

Output from '/usr/bin/make test':

PERL_DL_NONLAZY=1 "/home/sand/src/perl/repoperls/installed-perls/host/k93msid/v5.27.3/d2d1/bin/perl" "-MExtUtils::Command::MM" "-MTest::Harness" "-e" "undef *Test::Harness::Switches; test_harness(0, 'blib/lib', 'blib/arch')" t/*.t t/stress_replication/*.t
t/00-basic.t .................................. ok
# 
# Versions for all modules listed in MYMETA.json (including optional ones):
# 
# === Configure Requires ===
# 
#     Module              Want Have
#     ------------------- ---- ----
#     ExtUtils::MakeMaker  any 7.30
# 
# === Build Requires ===
# 
#     Module              Want Have
#     ------------------- ---- ----
#     ExtUtils::MakeMaker  any 7.30
# 
# === Test Requires ===
# 
#     Module              Want     Have
#     ------------------- ---- --------
#     ExtUtils::MakeMaker  any     7.30
#     File::Spec           any     3.68
#     Test::More          0.94 1.302103
# 
# === Test Recommends ===
# 
#     Module         Want     Have
#     ---------- -------- --------
#     CPAN::Meta 2.120900 2.150010
# 
# === Runtime Requires ===
# 
#     Module                               Want        Have
#     --------------------------------- ------- -----------
#     Config::Any                          0.19        0.32
#     DBIx::Class                       0.08123 0.082899_15
#     DBIx::Class::Schema::PopulateMore    0.16        0.19
#     DBIx::Class::TimeStamp               0.13        0.14
#     DBIx::Class::UUIDColumns          0.02005     0.02006
#     Data::UUID                          1.215       1.221
#     Data::Visitor                        0.27        0.30
#     Digest::MD5                          2.39        2.55
#     File::Path                            any        2.14
#     File::Temp                            any      0.2304
#     Hash::Merge                          0.11   0.200_002
#     List::MoreUtils                      0.22       0.426
#     Module::Runtime                     0.013       0.015
#     Moose                                1.10      2.2006
#     MooseX::Attribute::ENV               0.01        0.02
#     MooseX::Types                        0.23        0.50
#     Path::Class                          0.21        0.37
#     SQL::Translator                   0.11006     0.11021
#     Scalar::Util                         1.23        1.48
#     Sub::Exporter                       0.982       0.987
#     Test::Builder                        0.96    1.302103
#     Test::Deep                          0.106       1.127
# 
t/00-report-prereqs.t ......................... ok
t/01-normalize-options.t ...................... ok

t/02-initialize-schema.t: Schema Test::DBIx::Class::Example::Schema=HASH(0x556268c044c8) failed the 'valid_c3_composition' sanity check: Class 'Test::DBIx::Class::Example::Schema::Result::CD' was originally using the 'dfs' MRO affecting the lookup order of the following method(s): delete(), update(). You MUST add the following line to 'Test::DBIx::Class::Example::Schema::Result::CD' right after strict/warnings:
  use mro 'c3';


t/02-initialize-schema.t: Schema Test::DBIx::Class::Example::Schema=HASH(0x556268c044c8) failed the 'valid_c3_composition' sanity check: Class 'Test::DBIx::Class::Example::Schema::Result::CD::Artist' was originally using the 'dfs' MRO affecting the lookup order of the following method(s): delete(), update(). You MUST add the following line to 'Test::DBIx::Class::Example::Schema::Result::CD::Artist' right after strict/warnings:
  use mro 'c3';


t/02-initialize-schema.t: Schema Test::DBIx::Class::Example::Schema=HASH(0x556268c044c8) failed the 'valid_c3_composition' sanity check: Class 'Test::DBIx::Class::Example::Schema::Result::CD::Track' was originally using the 'dfs' MRO affecting the lookup order of the following method(s): delete(), update(). You MUST add the following line to 'Test::DBIx::Class::Example::Schema::Result::CD::Track' right after strict/warnings:
  use mro 'c3';


t/02-initialize-schema.t: Schema Test::DBIx::Class::Example::Schema=HASH(0x556268c044c8) failed the 'valid_c3_composition' sanity check: Class 'Test::DBIx::Class::Example::Schema::Result::Company' was originally using the 'dfs' MRO affecting the lookup order of the following method(s): delete(), update(). You MUST add the following line to 'Test::DBIx::Class::Example::Schema::Result::Company' right after strict/warnings:
  use mro 'c3';


t/02-initialize-schema.t: Schema Test::DBIx::Class::Example::Schema=HASH(0x556268c044c8) failed the 'valid_c3_composition' sanity check: Class 'Test::DBIx::Class::Example::Schema::Result::Company::Employee' was originally using the 'dfs' MRO affecting the lookup order of the following method(s): delete(), update(). You MUST add the following line to 'Test::DBIx::Class::Example::Schema::Result::Company::Employee' right after strict/warnings:
  use mro 'c3';


t/02-initialize-schema.t: Schema Test::DBIx::Class::Example::Schema=HASH(0x556268c044c8) failed the 'valid_c3_composition' sanity check: Class 'Test::DBIx::Class::Example::Schema::Result::GermanPhone' was originally using the 'dfs' MRO affecting the lookup order of the following method(s): delete(), update(). You MUST add the following line to 'Test::DBIx::Class::Example::Schema::Result::GermanPhone' right after strict/warnings:
  use mro 'c3';


t/02-initialize-schema.t: Schema Test::DBIx::Class::Example::Schema=HASH(0x556268c044c8) failed the 'valid_c3_composition' sanity check: Class 'Test::DBIx::Class::Example::Schema::Result::Job' was originally using the 'dfs' MRO affecting the lookup order of the following method(s): delete(), update(). You MUST add the following line to 'Test::DBIx::Class::Example::Schema::Result::Job' right after strict/warnings:
  use mro 'c3';


t/02-initialize-schema.t: Schema Test::DBIx::Class::Example::Schema=HASH(0x556268c044c8) failed the 'valid_c3_composition' sanity check: Class 'Test::DBIx::Class::Example::Schema::Result::Person' was originally using the 'dfs' MRO affecting the lookup order of the following method(s): delete(), update(). You MUST add the following line to 'Test::DBIx::Class::Example::Schema::Result::Person' right after strict/warnings:
  use mro 'c3';


t/02-initialize-schema.t: Schema Test::DBIx::Class::Example::Schema=HASH(0x556268c044c8) failed the 'valid_c3_composition' sanity check: Class 'Test::DBIx::Class::Example::Schema::Result::Person::Artist' was originally using the 'dfs' MRO affecting the lookup order of the following method(s): delete(), update(). You MUST add the following line to 'Test::DBIx::Class::Example::Schema::Result::Person::Artist' right after strict/warnings:
  use mro 'c3';


t/02-initialize-schema.t: Schema Test::DBIx::Class::Example::Schema=HASH(0x556268c044c8) failed the 'valid_c3_composition' sanity check: Class 'Test::DBIx::Class::Example::Schema::Result::Person::Employee' was originally using the 'dfs' MRO affecting the lookup order of the following method(s): delete(), update(). You MUST add the following line to 'Test::DBIx::Class::Example::Schema::Result::Person::Employee' right after strict/warnings:
  use mro 'c3';


t/02-initialize-schema.t: Schema Test::DBIx::Class::Example::Schema=HASH(0x556268c044c8) failed the 'valid_c3_composition' sanity check: Class 'Test::DBIx::Class::Example::Schema::Result::Phone' was originally using the 'dfs' MRO affecting the lookup order of the following method(s): delete(), update(). You MUST add the following line to 'Test::DBIx::Class::Example::Schema::Result::Phone' right after strict/warnings:
  use mro 'c3';


t/02-initialize-schema.t: Schema Test::DBIx::Class::Example::Schema=HASH(0x556268c044c8) failed the 'valid_c3_composition' sanity check: Class 'Test::DBIx::Class::Example::Schema::Result::RussianPhone' was originally using the 'dfs' MRO affecting the lookup order of the following method(s): delete(), update(). You MUST add the following line to 'Test::DBIx::Class::Example::Schema::Result::RussianPhone' right after strict/warnings:
  use mro 'c3';

t/02-initialize-schema.t ...................... ok
t/03-merge-configs.t .......................... ok
t/04-load-fixtures.t .......................... ok

t/05-example-schema.t: Schema Test::DBIx::Class::Example::Schema=HASH(0x5598ff20e158) failed the 'valid_c3_composition' sanity check: Class 'Test::DBIx::Class::Example::Schema::Result::CD' was originally using the 'dfs' MRO affecting the lookup order of the following method(s): delete(), update(). You MUST add the following line to 'Test::DBIx::Class::Example::Schema::Result::CD' right after strict/warnings:
  use mro 'c3';


t/05-example-schema.t: Schema Test::DBIx::Class::Example::Schema=HASH(0x5598ff20e158) failed the 'valid_c3_composition' sanity check: Class 'Test::DBIx::Class::Example::Schema::Result::CD::Artist' was originally using the 'dfs' MRO affecting the lookup order of the following method(s): delete(), update(). You MUST add the following line to 'Test::DBIx::Class::Example::Schema::Result::CD::Artist' right after strict/warnings:
  use mro 'c3';


t/05-example-schema.t: Schema Test::DBIx::Class::Example::Schema=HASH(0x5598ff20e158) failed the 'valid_c3_composition' sanity check: Class 'Test::DBIx::Class::Example::Schema::Result::CD::Track' was originally using the 'dfs' MRO affecting the lookup order of the following method(s): delete(), update(). You MUST add the following line to 'Test::DBIx::Class::Example::Schema::Result::CD::Track' right after strict/warnings:
  use mro 'c3';


t/05-example-schema.t: Schema Test::DBIx::Class::Example::Schema=HASH(0x5598ff20e158) failed the 'valid_c3_composition' sanity check: Class 'Test::DBIx::Class::Example::Schema::Result::Company' was originally using the 'dfs' MRO affecting the lookup order of the following method(s): delete(), update(). You MUST add the following line to 'Test::DBIx::Class::Example::Schema::Result::Company' right after strict/warnings:
  use mro 'c3';


t/05-example-schema.t: Schema Test::DBIx::Class::Example::Schema=HASH(0x5598ff20e158) failed the 'valid_c3_composition' sanity check: Class 'Test::DBIx::Class::Example::Schema::Result::Company::Employee' was originally using the 'dfs' MRO affecting the lookup order of the following method(s): delete(), update(). You MUST add the following line to 'Test::DBIx::Class::Example::Schema::Result::Company::Employee' right after strict/warnings:
  use mro 'c3';


t/05-example-schema.t: Schema Test::DBIx::Class::Example::Schema=HASH(0x5598ff20e158) failed the 'valid_c3_composition' sanity check: Class 'Test::DBIx::Class::Example::Schema::Result::GermanPhone' was originally using the 'dfs' MRO affecting the lookup order of the following method(s): delete(), update(). You MUST add the following line to 'Test::DBIx::Class::Example::Schema::Result::GermanPhone' right after strict/warnings:
  use mro 'c3';


t/05-example-schema.t: Schema Test::DBIx::Class::Example::Schema=HASH(0x5598ff20e158) failed the 'valid_c3_composition' sanity check: Class 'Test::DBIx::Class::Example::Schema::Result::Job' was originally using the 'dfs' MRO affecting the lookup order of the following method(s): delete(), update(). You MUST add the following line to 'Test::DBIx::Class::Example::Schema::Result::Job' right after strict/warnings:
  use mro 'c3';


t/05-example-schema.t: Schema Test::DBIx::Class::Example::Schema=HASH(0x5598ff20e158) failed the 'valid_c3_composition' sanity check: Class 'Test::DBIx::Class::Example::Schema::Result::Person' was originally using the 'dfs' MRO affecting the lookup order of the following method(s): delete(), update(). You MUST add the following line to 'Test::DBIx::Class::Example::Schema::Result::Person' right after strict/warnings:
  use mro 'c3';


t/05-example-schema.t: Schema Test::DBIx::Class::Example::Schema=HASH(0x5598ff20e158) failed the 'valid_c3_composition' sanity check: Class 'Test::DBIx::Class::Example::Schema::Result::Person::Artist' was originally using the 'dfs' MRO affecting the lookup order of the following method(s): delete(), update(). You MUST add the following line to 'Test::DBIx::Class::Example::Schema::Result::Person::Artist' right after strict/warnings:
  use mro 'c3';


t/05-example-schema.t: Schema Test::DBIx::Class::Example::Schema=HASH(0x5598ff20e158) failed the 'valid_c3_composition' sanity check: Class 'Test::DBIx::Class::Example::Schema::Result::Person::Employee' was originally using the 'dfs' MRO affecting the lookup order of the following method(s): delete(), update(). You MUST add the following line to 'Test::DBIx::Class::Example::Schema::Result::Person::Employee' right after strict/warnings:
  use mro 'c3';


t/05-example-schema.t: Schema Test::DBIx::Class::Example::Schema=HASH(0x5598ff20e158) failed the 'valid_c3_composition' sanity check: Class 'Test::DBIx::Class::Example::Schema::Result::Phone' was originally using the 'dfs' MRO affecting the lookup order of the following method(s): delete(), update(). You MUST add the following line to 'Test::DBIx::Class::Example::Schema::Result::Phone' right after strict/warnings:
  use mro 'c3';


t/05-example-schema.t: Schema Test::DBIx::Class::Example::Schema=HASH(0x5598ff20e158) failed the 'valid_c3_composition' sanity check: Class 'Test::DBIx::Class::Example::Schema::Result::RussianPhone' was originally using the 'dfs' MRO affecting the lookup order of the following method(s): delete(), update(). You MUST add the following line to 'Test::DBIx::Class::Example::Schema::Result::RussianPhone' right after strict/warnings:
  use mro 'c3';

t/05-example-schema.t ......................... ok

t/06-basic-test-schema.t: Schema Test::DBIx::Class::Example::Schema=HASH(0x5559eed16f78) failed the 'valid_c3_composition' sanity check: Class 'Test::DBIx::Class::Example::Schema::Result::CD' was originally using the 'dfs' MRO affecting the lookup order of the following method(s): delete(), update(). You MUST add the following line to 'Test::DBIx::Class::Example::Schema::Result::CD' right after strict/warnings:
  use mro 'c3';


t/06-basic-test-schema.t: Schema Test::DBIx::Class::Example::Schema=HASH(0x5559eed16f78) failed the 'valid_c3_composition' sanity check: Class 'Test::DBIx::Class::Example::Schema::Result::CD::Artist' was originally using the 'dfs' MRO affecting the lookup order of the following method(s): delete(), update(). You MUST add the following line to 'Test::DBIx::Class::Example::Schema::Result::CD::Artist' right after strict/warnings:
  use mro 'c3';


t/06-basic-test-schema.t: Schema Test::DBIx::Class::Example::Schema=HASH(0x5559eed16f78) failed the 'valid_c3_composition' sanity check: Class 'Test::DBIx::Class::Example::Schema::Result::CD::Track' was originally using the 'dfs' MRO affecting the lookup order of the following method(s): delete(), update(). You MUST add the following line to 'Test::DBIx::Class::Example::Schema::Result::CD::Track' right after strict/warnings:
  use mro 'c3';


t/06-basic-test-schema.t: Schema Test::DBIx::Class::Example::Schema=HASH(0x5559eed16f78) failed the 'valid_c3_composition' sanity check: Class 'Test::DBIx::Class::Example::Schema::Result::Company' was originally using the 'dfs' MRO affecting the lookup order of the following method(s): delete(), update(). You MUST add the following line to 'Test::DBIx::Class::Example::Schema::Result::Company' right after strict/warnings:
  use mro 'c3';


t/06-basic-test-schema.t: Schema Test::DBIx::Class::Example::Schema=HASH(0x5559eed16f78) failed the 'valid_c3_composition' sanity check: Class 'Test::DBIx::Class::Example::Schema::Result::Company::Employee' was originally using the 'dfs' MRO affecting the lookup order of the following method(s): delete(), update(). You MUST add the following line to 'Test::DBIx::Class::Example::Schema::Result::Company::Employee' right after strict/warnings:
  use mro 'c3';


t/06-basic-test-schema.t: Schema Test::DBIx::Class::Example::Schema=HASH(0x5559eed16f78) failed the 'valid_c3_composition' sanity check: Class 'Test::DBIx::Class::Example::Schema::Result::GermanPhone' was originally using the 'dfs' MRO affecting the lookup order of the following method(s): delete(), update(). You MUST add the following line to 'Test::DBIx::Class::Example::Schema::Result::GermanPhone' right after strict/warnings:
  use mro 'c3';


t/06-basic-test-schema.t: Schema Test::DBIx::Class::Example::Schema=HASH(0x5559eed16f78) failed the 'valid_c3_composition' sanity check: Class 'Test::DBIx::Class::Example::Schema::Result::Job' was originally using the 'dfs' MRO affecting the lookup order of the following method(s): delete(), update(). You MUST add the following line to 'Test::DBIx::Class::Example::Schema::Result::Job' right after strict/warnings:
  use mro 'c3';


t/06-basic-test-schema.t: Schema Test::DBIx::Class::Example::Schema=HASH(0x5559eed16f78) failed the 'valid_c3_composition' sanity check: Class 'Test::DBIx::Class::Example::Schema::Result::Person' was originally using the 'dfs' MRO affecting the lookup order of the following method(s): delete(), update(). You MUST add the following line to 'Test::DBIx::Class::Example::Schema::Result::Person' right after strict/warnings:
  use mro 'c3';


t/06-basic-test-schema.t: Schema Test::DBIx::Class::Example::Schema=HASH(0x5559eed16f78) failed the 'valid_c3_composition' sanity check: Class 'Test::DBIx::Class::Example::Schema::Result::Person::Artist' was originally using the 'dfs' MRO affecting the lookup order of the following method(s): delete(), update(). You MUST add the following line to 'Test::DBIx::Class::Example::Schema::Result::Person::Artist' right after strict/warnings:
  use mro 'c3';


t/06-basic-test-schema.t: Schema Test::DBIx::Class::Example::Schema=HASH(0x5559eed16f78) failed the 'valid_c3_composition' sanity check: Class 'Test::DBIx::Class::Example::Schema::Result::Person::Employee' was originally using the 'dfs' MRO affecting the lookup order of the following method(s): delete(), update(). You MUST add the following line to 'Test::DBIx::Class::Example::Schema::Result::Person::Employee' right after strict/warnings:
  use mro 'c3';


t/06-basic-test-schema.t: Schema Test::DBIx::Class::Example::Schema=HASH(0x5559eed16f78) failed the 'valid_c3_composition' sanity check: Class 'Test::DBIx::Class::Example::Schema::Result::Phone' was originally using the 'dfs' MRO affecting the lookup order of the following method(s): delete(), update(). You MUST add the following line to 'Test::DBIx::Class::Example::Schema::Result::Phone' right after strict/warnings:
  use mro 'c3';


t/06-basic-test-schema.t: Schema Test::DBIx::Class::Example::Schema=HASH(0x5559eed16f78) failed the 'valid_c3_composition' sanity check: Class 'Test::DBIx::Class::Example::Schema::Result::RussianPhone' was originally using the 'dfs' MRO affecting the lookup order of the following method(s): delete(), update(). You MUST add the following line to 'Test::DBIx::Class::Example::Schema::Result::RussianPhone' right after strict/warnings:
  use mro 'c3';

t/06-basic-test-schema.t ...................... ok

t/07-alternative-config.t: Schema Test::DBIx::Class::Example::Schema=HASH(0x55ce693af860) failed the 'valid_c3_composition' sanity check: Class 'Test::DBIx::Class::Example::Schema::Result::CD' was originally using the 'dfs' MRO affecting the lookup order of the following method(s): delete(), update(). You MUST add the following line to 'Test::DBIx::Class::Example::Schema::Result::CD' right after strict/warnings:
  use mro 'c3';


t/07-alternative-config.t: Schema Test::DBIx::Class::Example::Schema=HASH(0x55ce693af860) failed the 'valid_c3_composition' sanity check: Class 'Test::DBIx::Class::Example::Schema::Result::CD::Artist' was originally using the 'dfs' MRO affecting the lookup order of the following method(s): delete(), update(). You MUST add the following line to 'Test::DBIx::Class::Example::Schema::Result::CD::Artist' right after strict/warnings:
  use mro 'c3';


t/07-alternative-config.t: Schema Test::DBIx::Class::Example::Schema=HASH(0x55ce693af860) failed the 'valid_c3_composition' sanity check: Class 'Test::DBIx::Class::Example::Schema::Result::CD::Track' was originally using the 'dfs' MRO affecting the lookup order of the following method(s): delete(), update(). You MUST add the following line to 'Test::DBIx::Class::Example::Schema::Result::CD::Track' right after strict/warnings:
  use mro 'c3';


t/07-alternative-config.t: Schema Test::DBIx::Class::Example::Schema=HASH(0x55ce693af860) failed the 'valid_c3_composition' sanity check: Class 'Test::DBIx::Class::Example::Schema::Result::Company' was originally using the 'dfs' MRO affecting the lookup order of the following method(s): delete(), update(). You MUST add the following line to 'Test::DBIx::Class::Example::Schema::Result::Company' right after strict/warnings:
  use mro 'c3';


t/07-alternative-config.t: Schema Test::DBIx::Class::Example::Schema=HASH(0x55ce693af860) failed the 'valid_c3_composition' sanity check: Class 'Test::DBIx::Class::Example::Schema::Result::Company::Employee' was originally using the 'dfs' MRO affecting the lookup order of the following method(s): delete(), update(). You MUST add the following line to 'Test::DBIx::Class::Example::Schema::Result::Company::Employee' right after strict/warnings:
  use mro 'c3';


t/07-alternative-config.t: Schema Test::DBIx::Class::Example::Schema=HASH(0x55ce693af860) failed the 'valid_c3_composition' sanity check: Class 'Test::DBIx::Class::Example::Schema::Result::GermanPhone' was originally using the 'dfs' MRO affecting the lookup order of the following method(s): delete(), update(). You MUST add the following line to 'Test::DBIx::Class::Example::Schema::Result::GermanPhone' right after strict/warnings:
  use mro 'c3';


t/07-alternative-config.t: Schema Test::DBIx::Class::Example::Schema=HASH(0x55ce693af860) failed the 'valid_c3_composition' sanity check: Class 'Test::DBIx::Class::Example::Schema::Result::Job' was originally using the 'dfs' MRO affecting the lookup order of the following method(s): delete(), update(). You MUST add the following line to 'Test::DBIx::Class::Example::Schema::Result::Job' right after strict/warnings:
  use mro 'c3';


t/07-alternative-config.t: Schema Test::DBIx::Class::Example::Schema=HASH(0x55ce693af860) failed the 'valid_c3_composition' sanity check: Class 'Test::DBIx::Class::Example::Schema::Result::Person' was originally using the 'dfs' MRO affecting the lookup order of the following method(s): delete(), update(). You MUST add the following line to 'Test::DBIx::Class::Example::Schema::Result::Person' right after strict/warnings:
  use mro 'c3';


t/07-alternative-config.t: Schema Test::DBIx::Class::Example::Schema=HASH(0x55ce693af860) failed the 'valid_c3_composition' sanity check: Class 'Test::DBIx::Class::Example::Schema::Result::Person::Artist' was originally using the 'dfs' MRO affecting the lookup order of the following method(s): delete(), update(). You MUST add the following line to 'Test::DBIx::Class::Example::Schema::Result::Person::Artist' right after strict/warnings:
  use mro 'c3';


t/07-alternative-config.t: Schema Test::DBIx::Class::Example::Schema=HASH(0x55ce693af860) failed the 'valid_c3_composition' sanity check: Class 'Test::DBIx::Class::Example::Schema::Result::Person::Employee' was originally using the 'dfs' MRO affecting the lookup order of the following method(s): delete(), update(). You MUST add the following line to 'Test::DBIx::Class::Example::Schema::Result::Person::Employee' right after strict/warnings:
  use mro 'c3';


t/07-alternative-config.t: Schema Test::DBIx::Class::Example::Schema=HASH(0x55ce693af860) failed the 'valid_c3_composition' sanity check: Class 'Test::DBIx::Class::Example::Schema::Result::Phone' was originally using the 'dfs' MRO affecting the lookup order of the following method(s): delete(), update(). You MUST add the following line to 'Test::DBIx::Class::Example::Schema::Result::Phone' right after strict/warnings:
  use mro 'c3';


t/07-alternative-config.t: Schema Test::DBIx::Class::Example::Schema=HASH(0x55ce693af860) failed the 'valid_c3_composition' sanity check: Class 'Test::DBIx::Class::Example::Schema::Result::RussianPhone' was originally using the 'dfs' MRO affecting the lookup order of the following method(s): delete(), update(). You MUST add the following line to 'Test::DBIx::Class::Example::Schema::Result::RussianPhone' right after strict/warnings:
  use mro 'c3';

t/07-alternative-config.t ..................... ok
	(in cleanup) could not find mysqld, please set appropriate PATH at /tmp/loop_over_bdir-28118-AR3Fj6/Test-DBIx-Class-0.52-0/blib/lib/Test/DBIx/Class/SchemaManager/Trait/Testmysqld.pm line 39.
# Can't initialize a schema with the given configuration
# Returned Error: could not find mysqld, please set appropriate PATH at /tmp/loop_over_bdir-28118-AR3Fj6/Test-DBIx-Class-0.52-0/blib/lib/Test/DBIx/Class/SchemaManager/Trait/Testmysqld.pm line 39.
# configuration: {
#   'fixture_sets' => {
#     'basic' => [
#       {
#         'Person' => [
#           [
#             'name',
#             'age',
#             'email'
#           ],
#           [
#             'John',
#             '40',
#             'john@nowehere.com'
#           ],
#           [
#             'Vincent',
#             '15',
#             'vincent@home.com'
#           ],
#           [
#             'Vanessa',
#             '35',
#             'vanessaLi@school.com'
#           ]
#         ]
#       }
#     ],
#     'core' => [
#       {
#         'Person' => [
#           [
#             'name',
#             'age',
#             'email'
#           ],
#           [
#             'John',
#             '40',
#             'john@nowehere.com'
#           ],
#           [
#             'Vincent',
#             '15',
#             'vincent@home.com'
#           ],
#           [
#             'Vanessa',
#             '35',
#             'vanessa@school.com'
#           ]
#         ]
#       },
#       {
#         'Company' => [
#           [
#             'name'
#           ],
#           [
#             'Acme'
#           ]
#         ]
#       }
#     ]
#   },
#   'schema_class' => 'Test::DBIx::Class::Example::Schema',
#   'traits' => [
#     'Testmysqld'
#   ]
# }
t/08-test-mysqld.t ............................ skipped: Skipping remaining tests since we don't have a schema
t/09-test-postgresql.t ........................ skipped: Test::Postgresql58 not installed
	(in cleanup) could not find mysqld, please set appropriate PATH at /tmp/loop_over_bdir-28118-AR3Fj6/Test-DBIx-Class-0.52-0/blib/lib/Test/DBIx/Class/SchemaManager/Trait/Testmysqld.pm line 39.
# Can't initialize a schema with the given configuration
# Returned Error: could not find mysqld, please set appropriate PATH at /tmp/loop_over_bdir-28118-AR3Fj6/Test-DBIx-Class-0.52-0/blib/lib/Test/DBIx/Class/SchemaManager/Trait/Testmysqld.pm line 39.
# configuration: {
#   'fixture_sets' => {
#     'basic' => [
#       {
#         'Person' => [
#           [
#             'name',
#             'age',
#             'email'
#           ],
#           [
#             'John',
#             '40',
#             'john@nowehere.com'
#           ],
#           [
#             'Vincent',
#             '15',
#             'vincent@home.com'
#           ],
#           [
#             'Vanessa',
#             '35',
#             'vanessaLi@school.com'
#           ]
#         ]
#       }
#     ],
#     'core' => [
#       {
#         'Person' => [
#           [
#             'name',
#             'age',
#             'email'
#           ],
#           [
#             'John',
#             '40',
#             'john@nowehere.com'
#           ],
#           [
#             'Vincent',
#             '15',
#             'vincent@home.com'
#           ],
#           [
#             'Vanessa',
#             '35',
#             'vanessa@school.com'
#           ]
#         ]
#       },
#       {
#         'Company' => [
#           [
#             'name'
#           ],
#           [
#             'Acme'
#           ]
#         ]
#       }
#     ]
#   },
#   'replicants' => 2,
#   'schema_class' => 'Test::DBIx::Class::Example::Schema',
#   'traits' => 'Testmysqld'
# }
t/10-replication-mysql.t ...................... skipped: Skipping remaining tests since we don't have a schema

t/11-fixtures_ok_populate.t: Schema Test::DBIx::Class::Example::Schema=HASH(0x56126b5b7808) failed the 'valid_c3_composition' sanity check: Class 'Test::DBIx::Class::Example::Schema::Result::CD' was originally using the 'dfs' MRO affecting the lookup order of the following method(s): delete(), update(). You MUST add the following line to 'Test::DBIx::Class::Example::Schema::Result::CD' right after strict/warnings:
  use mro 'c3';


t/11-fixtures_ok_populate.t: Schema Test::DBIx::Class::Example::Schema=HASH(0x56126b5b7808) failed the 'valid_c3_composition' sanity check: Class 'Test::DBIx::Class::Example::Schema::Result::CD::Artist' was originally using the 'dfs' MRO affecting the lookup order of the following method(s): delete(), update(). You MUST add the following line to 'Test::DBIx::Class::Example::Schema::Result::CD::Artist' right after strict/warnings:
  use mro 'c3';


t/11-fixtures_ok_populate.t: Schema Test::DBIx::Class::Example::Schema=HASH(0x56126b5b7808) failed the 'valid_c3_composition' sanity check: Class 'Test::DBIx::Class::Example::Schema::Result::CD::Track' was originally using the 'dfs' MRO affecting the lookup order of the following method(s): delete(), update(). You MUST add the following line to 'Test::DBIx::Class::Example::Schema::Result::CD::Track' right after strict/warnings:
  use mro 'c3';


t/11-fixtures_ok_populate.t: Schema Test::DBIx::Class::Example::Schema=HASH(0x56126b5b7808) failed the 'valid_c3_composition' sanity check: Class 'Test::DBIx::Class::Example::Schema::Result::Company' was originally using the 'dfs' MRO affecting the lookup order of the following method(s): delete(), update(). You MUST add the following line to 'Test::DBIx::Class::Example::Schema::Result::Company' right after strict/warnings:
  use mro 'c3';


t/11-fixtures_ok_populate.t: Schema Test::DBIx::Class::Example::Schema=HASH(0x56126b5b7808) failed the 'valid_c3_composition' sanity check: Class 'Test::DBIx::Class::Example::Schema::Result::Company::Employee' was originally using the 'dfs' MRO affecting the lookup order of the following method(s): delete(), update(). You MUST add the following line to 'Test::DBIx::Class::Example::Schema::Result::Company::Employee' right after strict/warnings:
  use mro 'c3';


t/11-fixtures_ok_populate.t: Schema Test::DBIx::Class::Example::Schema=HASH(0x56126b5b7808) failed the 'valid_c3_composition' sanity check: Class 'Test::DBIx::Class::Example::Schema::Result::GermanPhone' was originally using the 'dfs' MRO affecting the lookup order of the following method(s): delete(), update(). You MUST add the following line to 'Test::DBIx::Class::Example::Schema::Result::GermanPhone' right after strict/warnings:
  use mro 'c3';


t/11-fixtures_ok_populate.t: Schema Test::DBIx::Class::Example::Schema=HASH(0x56126b5b7808) failed the 'valid_c3_composition' sanity check: Class 'Test::DBIx::Class::Example::Schema::Result::Job' was originally using the 'dfs' MRO affecting the lookup order of the following method(s): delete(), update(). You MUST add the following line to 'Test::DBIx::Class::Example::Schema::Result::Job' right after strict/warnings:
  use mro 'c3';


t/11-fixtures_ok_populate.t: Schema Test::DBIx::Class::Example::Schema=HASH(0x56126b5b7808) failed the 'valid_c3_composition' sanity check: Class 'Test::DBIx::Class::Example::Schema::Result::Person' was originally using the 'dfs' MRO affecting the lookup order of the following method(s): delete(), update(). You MUST add the following line to 'Test::DBIx::Class::Example::Schema::Result::Person' right after strict/warnings:
  use mro 'c3';


t/11-fixtures_ok_populate.t: Schema Test::DBIx::Class::Example::Schema=HASH(0x56126b5b7808) failed the 'valid_c3_composition' sanity check: Class 'Test::DBIx::Class::Example::Schema::Result::Person::Artist' was originally using the 'dfs' MRO affecting the lookup order of the following method(s): delete(), update(). You MUST add the following line to 'Test::DBIx::Class::Example::Schema::Result::Person::Artist' right after strict/warnings:
  use mro 'c3';


t/11-fixtures_ok_populate.t: Schema Test::DBIx::Class::Example::Schema=HASH(0x56126b5b7808) failed the 'valid_c3_composition' sanity check: Class 'Test::DBIx::Class::Example::Schema::Result::Person::Employee' was originally using the 'dfs' MRO affecting the lookup order of the following method(s): delete(), update(). You MUST add the following line to 'Test::DBIx::Class::Example::Schema::Result::Person::Employee' right after strict/warnings:
  use mro 'c3';


t/11-fixtures_ok_populate.t: Schema Test::DBIx::Class::Example::Schema=HASH(0x56126b5b7808) failed the 'valid_c3_composition' sanity check: Class 'Test::DBIx::Class::Example::Schema::Result::Phone' was originally using the 'dfs' MRO affecting the lookup order of the following method(s): delete(), update(). You MUST add the following line to 'Test::DBIx::Class::Example::Schema::Result::Phone' right after strict/warnings:
  use mro 'c3';


t/11-fixtures_ok_populate.t: Schema Test::DBIx::Class::Example::Schema=HASH(0x56126b5b7808) failed the 'valid_c3_composition' sanity check: Class 'Test::DBIx::Class::Example::Schema::Result::RussianPhone' was originally using the 'dfs' MRO affecting the lookup order of the following method(s): delete(), update(). You MUST add the following line to 'Test::DBIx::Class::Example::Schema::Result::RussianPhone' right after strict/warnings:
  use mro 'c3';

t/11-fixtures_ok_populate.t ................... ok

t/11-set-from-env.t: Schema Test::DBIx::Class::Example::Schema=HASH(0x556baba73740) failed the 'valid_c3_composition' sanity check: Class 'Test::DBIx::Class::Example::Schema::Result::CD' was originally using the 'dfs' MRO affecting the lookup order of the following method(s): delete(), update(). You MUST add the following line to 'Test::DBIx::Class::Example::Schema::Result::CD' right after strict/warnings:
  use mro 'c3';


t/11-set-from-env.t: Schema Test::DBIx::Class::Example::Schema=HASH(0x556baba73740) failed the 'valid_c3_composition' sanity check: Class 'Test::DBIx::Class::Example::Schema::Result::CD::Artist' was originally using the 'dfs' MRO affecting the lookup order of the following method(s): delete(), update(). You MUST add the following line to 'Test::DBIx::Class::Example::Schema::Result::CD::Artist' right after strict/warnings:
  use mro 'c3';


t/11-set-from-env.t: Schema Test::DBIx::Class::Example::Schema=HASH(0x556baba73740) failed the 'valid_c3_composition' sanity check: Class 'Test::DBIx::Class::Example::Schema::Result::CD::Track' was originally using the 'dfs' MRO affecting the lookup order of the following method(s): delete(), update(). You MUST add the following line to 'Test::DBIx::Class::Example::Schema::Result::CD::Track' right after strict/warnings:
  use mro 'c3';


t/11-set-from-env.t: Schema Test::DBIx::Class::Example::Schema=HASH(0x556baba73740) failed the 'valid_c3_composition' sanity check: Class 'Test::DBIx::Class::Example::Schema::Result::Company' was originally using the 'dfs' MRO affecting the lookup order of the following method(s): delete(), update(). You MUST add the following line to 'Test::DBIx::Class::Example::Schema::Result::Company' right after strict/warnings:
  use mro 'c3';


t/11-set-from-env.t: Schema Test::DBIx::Class::Example::Schema=HASH(0x556baba73740) failed the 'valid_c3_composition' sanity check: Class 'Test::DBIx::Class::Example::Schema::Result::Company::Employee' was originally using the 'dfs' MRO affecting the lookup order of the following method(s): delete(), update(). You MUST add the following line to 'Test::DBIx::Class::Example::Schema::Result::Company::Employee' right after strict/warnings:
  use mro 'c3';


t/11-set-from-env.t: Schema Test::DBIx::Class::Example::Schema=HASH(0x556baba73740) failed the 'valid_c3_composition' sanity check: Class 'Test::DBIx::Class::Example::Schema::Result::GermanPhone' was originally using the 'dfs' MRO affecting the lookup order of the following method(s): delete(), update(). You MUST add the following line to 'Test::DBIx::Class::Example::Schema::Result::GermanPhone' right after strict/warnings:
  use mro 'c3';


t/11-set-from-env.t: Schema Test::DBIx::Class::Example::Schema=HASH(0x556baba73740) failed the 'valid_c3_composition' sanity check: Class 'Test::DBIx::Class::Example::Schema::Result::Job' was originally using the 'dfs' MRO affecting the lookup order of the following method(s): delete(), update(). You MUST add the following line to 'Test::DBIx::Class::Example::Schema::Result::Job' right after strict/warnings:
  use mro 'c3';


t/11-set-from-env.t: Schema Test::DBIx::Class::Example::Schema=HASH(0x556baba73740) failed the 'valid_c3_composition' sanity check: Class 'Test::DBIx::Class::Example::Schema::Result::Person' was originally using the 'dfs' MRO affecting the lookup order of the following method(s): delete(), update(). You MUST add the following line to 'Test::DBIx::Class::Example::Schema::Result::Person' right after strict/warnings:
  use mro 'c3';


t/11-set-from-env.t: Schema Test::DBIx::Class::Example::Schema=HASH(0x556baba73740) failed the 'valid_c3_composition' sanity check: Class 'Test::DBIx::Class::Example::Schema::Result::Person::Artist' was originally using the 'dfs' MRO affecting the lookup order of the following method(s): delete(), update(). You MUST add the following line to 'Test::DBIx::Class::Example::Schema::Result::Person::Artist' right after strict/warnings:
  use mro 'c3';


t/11-set-from-env.t: Schema Test::DBIx::Class::Example::Schema=HASH(0x556baba73740) failed the 'valid_c3_composition' sanity check: Class 'Test::DBIx::Class::Example::Schema::Result::Person::Employee' was originally using the 'dfs' MRO affecting the lookup order of the following method(s): delete(), update(). You MUST add the following line to 'Test::DBIx::Class::Example::Schema::Result::Person::Employee' right after strict/warnings:
  use mro 'c3';


t/11-set-from-env.t: Schema Test::DBIx::Class::Example::Schema=HASH(0x556baba73740) failed the 'valid_c3_composition' sanity check: Class 'Test::DBIx::Class::Example::Schema::Result::Phone' was originally using the 'dfs' MRO affecting the lookup order of the following method(s): delete(), update(). You MUST add the following line to 'Test::DBIx::Class::Example::Schema::Result::Phone' right after strict/warnings:
  use mro 'c3';


t/11-set-from-env.t: Schema Test::DBIx::Class::Example::Schema=HASH(0x556baba73740) failed the 'valid_c3_composition' sanity check: Class 'Test::DBIx::Class::Example::Schema::Result::RussianPhone' was originally using the 'dfs' MRO affecting the lookup order of the following method(s): delete(), update(). You MUST add the following line to 'Test::DBIx::Class::Example::Schema::Result::RussianPhone' right after strict/warnings:
  use mro 'c3';

t/11-set-from-env.t ........................... ok

t/12-fixtures_ok_populatemore.t: Schema Test::DBIx::Class::Example::Schema=HASH(0x5623a7a17178) failed the 'valid_c3_composition' sanity check: Class 'Test::DBIx::Class::Example::Schema::Result::CD' was originally using the 'dfs' MRO affecting the lookup order of the following method(s): delete(), update(). You MUST add the following line to 'Test::DBIx::Class::Example::Schema::Result::CD' right after strict/warnings:
  use mro 'c3';


t/12-fixtures_ok_populatemore.t: Schema Test::DBIx::Class::Example::Schema=HASH(0x5623a7a17178) failed the 'valid_c3_composition' sanity check: Class 'Test::DBIx::Class::Example::Schema::Result::CD::Artist' was originally using the 'dfs' MRO affecting the lookup order of the following method(s): delete(), update(). You MUST add the following line to 'Test::DBIx::Class::Example::Schema::Result::CD::Artist' right after strict/warnings:
  use mro 'c3';


t/12-fixtures_ok_populatemore.t: Schema Test::DBIx::Class::Example::Schema=HASH(0x5623a7a17178) failed the 'valid_c3_composition' sanity check: Class 'Test::DBIx::Class::Example::Schema::Result::CD::Track' was originally using the 'dfs' MRO affecting the lookup order of the following method(s): delete(), update(). You MUST add the following line to 'Test::DBIx::Class::Example::Schema::Result::CD::Track' right after strict/warnings:
  use mro 'c3';


t/12-fixtures_ok_populatemore.t: Schema Test::DBIx::Class::Example::Schema=HASH(0x5623a7a17178) failed the 'valid_c3_composition' sanity check: Class 'Test::DBIx::Class::Example::Schema::Result::Company' was originally using the 'dfs' MRO affecting the lookup order of the following method(s): delete(), update(). You MUST add the following line to 'Test::DBIx::Class::Example::Schema::Result::Company' right after strict/warnings:
  use mro 'c3';


t/12-fixtures_ok_populatemore.t: Schema Test::DBIx::Class::Example::Schema=HASH(0x5623a7a17178) failed the 'valid_c3_composition' sanity check: Class 'Test::DBIx::Class::Example::Schema::Result::Company::Employee' was originally using the 'dfs' MRO affecting the lookup order of the following method(s): delete(), update(). You MUST add the following line to 'Test::DBIx::Class::Example::Schema::Result::Company::Employee' right after strict/warnings:
  use mro 'c3';


t/12-fixtures_ok_populatemore.t: Schema Test::DBIx::Class::Example::Schema=HASH(0x5623a7a17178) failed the 'valid_c3_composition' sanity check: Class 'Test::DBIx::Class::Example::Schema::Result::GermanPhone' was originally using the 'dfs' MRO affecting the lookup order of the following method(s): delete(), update(). You MUST add the following line to 'Test::DBIx::Class::Example::Schema::Result::GermanPhone' right after strict/warnings:
  use mro 'c3';


t/12-fixtures_ok_populatemore.t: Schema Test::DBIx::Class::Example::Schema=HASH(0x5623a7a17178) failed the 'valid_c3_composition' sanity check: Class 'Test::DBIx::Class::Example::Schema::Result::Job' was originally using the 'dfs' MRO affecting the lookup order of the following method(s): delete(), update(). You MUST add the following line to 'Test::DBIx::Class::Example::Schema::Result::Job' right after strict/warnings:
  use mro 'c3';


t/12-fixtures_ok_populatemore.t: Schema Test::DBIx::Class::Example::Schema=HASH(0x5623a7a17178) failed the 'valid_c3_composition' sanity check: Class 'Test::DBIx::Class::Example::Schema::Result::Person' was originally using the 'dfs' MRO affecting the lookup order of the following method(s): delete(), update(). You MUST add the following line to 'Test::DBIx::Class::Example::Schema::Result::Person' right after strict/warnings:
  use mro 'c3';


t/12-fixtures_ok_populatemore.t: Schema Test::DBIx::Class::Example::Schema=HASH(0x5623a7a17178) failed the 'valid_c3_composition' sanity check: Class 'Test::DBIx::Class::Example::Schema::Result::Person::Artist' was originally using the 'dfs' MRO affecting the lookup order of the following method(s): delete(), update(). You MUST add the following line to 'Test::DBIx::Class::Example::Schema::Result::Person::Artist' right after strict/warnings:
  use mro 'c3';


t/12-fixtures_ok_populatemore.t: Schema Test::DBIx::Class::Example::Schema=HASH(0x5623a7a17178) failed the 'valid_c3_composition' sanity check: Class 'Test::DBIx::Class::Example::Schema::Result::Person::Employee' was originally using the 'dfs' MRO affecting the lookup order of the following method(s): delete(), update(). You MUST add the following line to 'Test::DBIx::Class::Example::Schema::Result::Person::Employee' right after strict/warnings:
  use mro 'c3';


t/12-fixtures_ok_populatemore.t: Schema Test::DBIx::Class::Example::Schema=HASH(0x5623a7a17178) failed the 'valid_c3_composition' sanity check: Class 'Test::DBIx::Class::Example::Schema::Result::Phone' was originally using the 'dfs' MRO affecting the lookup order of the following method(s): delete(), update(). You MUST add the following line to 'Test::DBIx::Class::Example::Schema::Result::Phone' right after strict/warnings:
  use mro 'c3';


t/12-fixtures_ok_populatemore.t: Schema Test::DBIx::Class::Example::Schema=HASH(0x5623a7a17178) failed the 'valid_c3_composition' sanity check: Class 'Test::DBIx::Class::Example::Schema::Result::RussianPhone' was originally using the 'dfs' MRO affecting the lookup order of the following method(s): delete(), update(). You MUST add the following line to 'Test::DBIx::Class::Example::Schema::Result::RussianPhone' right after strict/warnings:
  use mro 'c3';

t/12-fixtures_ok_populatemore.t ............... ok

t/13-test-sqlite.t: Schema Test::DBIx::Class::Example::Schema=HASH(0x5629f5df21a0) failed the 'valid_c3_composition' sanity check: Class 'Test::DBIx::Class::Example::Schema::Result::CD' was originally using the 'dfs' MRO affecting the lookup order of the following method(s): delete(), update(). You MUST add the following line to 'Test::DBIx::Class::Example::Schema::Result::CD' right after strict/warnings:
  use mro 'c3';


t/13-test-sqlite.t: Schema Test::DBIx::Class::Example::Schema=HASH(0x5629f5df21a0) failed the 'valid_c3_composition' sanity check: Class 'Test::DBIx::Class::Example::Schema::Result::CD::Artist' was originally using the 'dfs' MRO affecting the lookup order of the following method(s): delete(), update(). You MUST add the following line to 'Test::DBIx::Class::Example::Schema::Result::CD::Artist' right after strict/warnings:
  use mro 'c3';


t/13-test-sqlite.t: Schema Test::DBIx::Class::Example::Schema=HASH(0x5629f5df21a0) failed the 'valid_c3_composition' sanity check: Class 'Test::DBIx::Class::Example::Schema::Result::CD::Track' was originally using the 'dfs' MRO affecting the lookup order of the following method(s): delete(), update(). You MUST add the following line to 'Test::DBIx::Class::Example::Schema::Result::CD::Track' right after strict/warnings:
  use mro 'c3';


t/13-test-sqlite.t: Schema Test::DBIx::Class::Example::Schema=HASH(0x5629f5df21a0) failed the 'valid_c3_composition' sanity check: Class 'Test::DBIx::Class::Example::Schema::Result::Company' was originally using the 'dfs' MRO affecting the lookup order of the following method(s): delete(), update(). You MUST add the following line to 'Test::DBIx::Class::Example::Schema::Result::Company' right after strict/warnings:
  use mro 'c3';


t/13-test-sqlite.t: Schema Test::DBIx::Class::Example::Schema=HASH(0x5629f5df21a0) failed the 'valid_c3_composition' sanity check: Class 'Test::DBIx::Class::Example::Schema::Result::Company::Employee' was originally using the 'dfs' MRO affecting the lookup order of the following method(s): delete(), update(). You MUST add the following line to 'Test::DBIx::Class::Example::Schema::Result::Company::Employee' right after strict/warnings:
  use mro 'c3';


t/13-test-sqlite.t: Schema Test::DBIx::Class::Example::Schema=HASH(0x5629f5df21a0) failed the 'valid_c3_composition' sanity check: Class 'Test::DBIx::Class::Example::Schema::Result::GermanPhone' was originally using the 'dfs' MRO affecting the lookup order of the following method(s): delete(), update(). You MUST add the following line to 'Test::DBIx::Class::Example::Schema::Result::GermanPhone' right after strict/warnings:
  use mro 'c3';


t/13-test-sqlite.t: Schema Test::DBIx::Class::Example::Schema=HASH(0x5629f5df21a0) failed the 'valid_c3_composition' sanity check: Class 'Test::DBIx::Class::Example::Schema::Result::Job' was originally using the 'dfs' MRO affecting the lookup order of the following method(s): delete(), update(). You MUST add the following line to 'Test::DBIx::Class::Example::Schema::Result::Job' right after strict/warnings:
  use mro 'c3';


t/13-test-sqlite.t: Schema Test::DBIx::Class::Example::Schema=HASH(0x5629f5df21a0) failed the 'valid_c3_composition' sanity check: Class 'Test::DBIx::Class::Example::Schema::Result::Person' was originally using the 'dfs' MRO affecting the lookup order of the following method(s): delete(), update(). You MUST add the following line to 'Test::DBIx::Class::Example::Schema::Result::Person' right after strict/warnings:
  use mro 'c3';


t/13-test-sqlite.t: Schema Test::DBIx::Class::Example::Schema=HASH(0x5629f5df21a0) failed the 'valid_c3_composition' sanity check: Class 'Test::DBIx::Class::Example::Schema::Result::Person::Artist' was originally using the 'dfs' MRO affecting the lookup order of the following method(s): delete(), update(). You MUST add the following line to 'Test::DBIx::Class::Example::Schema::Result::Person::Artist' right after strict/warnings:
  use mro 'c3';


t/13-test-sqlite.t: Schema Test::DBIx::Class::Example::Schema=HASH(0x5629f5df21a0) failed the 'valid_c3_composition' sanity check: Class 'Test::DBIx::Class::Example::Schema::Result::Person::Employee' was originally using the 'dfs' MRO affecting the lookup order of the following method(s): delete(), update(). You MUST add the following line to 'Test::DBIx::Class::Example::Schema::Result::Person::Employee' right after strict/warnings:
  use mro 'c3';


t/13-test-sqlite.t: Schema Test::DBIx::Class::Example::Schema=HASH(0x5629f5df21a0) failed the 'valid_c3_composition' sanity check: Class 'Test::DBIx::Class::Example::Schema::Result::Phone' was originally using the 'dfs' MRO affecting the lookup order of the following method(s): delete(), update(). You MUST add the following line to 'Test::DBIx::Class::Example::Schema::Result::Phone' right after strict/warnings:
  use mro 'c3';


t/13-test-sqlite.t: Schema Test::DBIx::Class::Example::Schema=HASH(0x5629f5df21a0) failed the 'valid_c3_composition' sanity check: Class 'Test::DBIx::Class::Example::Schema::Result::RussianPhone' was originally using the 'dfs' MRO affecting the lookup order of the following method(s): delete(), update(). You MUST add the following line to 'Test::DBIx::Class::Example::Schema::Result::RussianPhone' right after strict/warnings:
  use mro 'c3';


t/13-test-sqlite.t: Schema Test::DBIx::Class::Example::Schema=HASH(0x5629f8ef80a0) failed the 'valid_c3_composition' sanity check: Class 'Test::DBIx::Class::Example::Schema::Result::CD' was originally using the 'dfs' MRO affecting the lookup order of the following method(s): delete(), update(). You MUST add the following line to 'Test::DBIx::Class::Example::Schema::Result::CD' right after strict/warnings:
  use mro 'c3';


t/13-test-sqlite.t: Schema Test::DBIx::Class::Example::Schema=HASH(0x5629f8ef80a0) failed the 'valid_c3_composition' sanity check: Class 'Test::DBIx::Class::Example::Schema::Result::CD::Artist' was originally using the 'dfs' MRO affecting the lookup order of the following method(s): delete(), update(). You MUST add the following line to 'Test::DBIx::Class::Example::Schema::Result::CD::Artist' right after strict/warnings:
  use mro 'c3';


t/13-test-sqlite.t: Schema Test::DBIx::Class::Example::Schema=HASH(0x5629f8ef80a0) failed the 'valid_c3_composition' sanity check: Class 'Test::DBIx::Class::Example::Schema::Result::CD::Track' was originally using the 'dfs' MRO affecting the lookup order of the following method(s): delete(), update(). You MUST add the following line to 'Test::DBIx::Class::Example::Schema::Result::CD::Track' right after strict/warnings:
  use mro 'c3';


t/13-test-sqlite.t: Schema Test::DBIx::Class::Example::Schema=HASH(0x5629f8ef80a0) failed the 'valid_c3_composition' sanity check: Class 'Test::DBIx::Class::Example::Schema::Result::Company' was originally using the 'dfs' MRO affecting the lookup order of the following method(s): delete(), update(). You MUST add the following line to 'Test::DBIx::Class::Example::Schema::Result::Company' right after strict/warnings:
  use mro 'c3';


t/13-test-sqlite.t: Schema Test::DBIx::Class::Example::Schema=HASH(0x5629f8ef80a0) failed the 'valid_c3_composition' sanity check: Class 'Test::DBIx::Class::Example::Schema::Result::Company::Employee' was originally using the 'dfs' MRO affecting the lookup order of the following method(s): delete(), update(). You MUST add the following line to 'Test::DBIx::Class::Example::Schema::Result::Company::Employee' right after strict/warnings:
  use mro 'c3';


t/13-test-sqlite.t: Schema Test::DBIx::Class::Example::Schema=HASH(0x5629f8ef80a0) failed the 'valid_c3_composition' sanity check: Class 'Test::DBIx::Class::Example::Schema::Result::GermanPhone' was originally using the 'dfs' MRO affecting the lookup order of the following method(s): delete(), update(). You MUST add the following line to 'Test::DBIx::Class::Example::Schema::Result::GermanPhone' right after strict/warnings:
  use mro 'c3';


t/13-test-sqlite.t: Schema Test::DBIx::Class::Example::Schema=HASH(0x5629f8ef80a0) failed the 'valid_c3_composition' sanity check: Class 'Test::DBIx::Class::Example::Schema::Result::Job' was originally using the 'dfs' MRO affecting the lookup order of the following method(s): delete(), update(). You MUST add the following line to 'Test::DBIx::Class::Example::Schema::Result::Job' right after strict/warnings:
  use mro 'c3';


t/13-test-sqlite.t: Schema Test::DBIx::Class::Example::Schema=HASH(0x5629f8ef80a0) failed the 'valid_c3_composition' sanity check: Class 'Test::DBIx::Class::Example::Schema::Result::Person' was originally using the 'dfs' MRO affecting the lookup order of the following method(s): delete(), update(). You MUST add the following line to 'Test::DBIx::Class::Example::Schema::Result::Person' right after strict/warnings:
  use mro 'c3';


t/13-test-sqlite.t: Schema Test::DBIx::Class::Example::Schema=HASH(0x5629f8ef80a0) failed the 'valid_c3_composition' sanity check: Class 'Test::DBIx::Class::Example::Schema::Result::Person::Artist' was originally using the 'dfs' MRO affecting the lookup order of the following method(s): delete(), update(). You MUST add the following line to 'Test::DBIx::Class::Example::Schema::Result::Person::Artist' right after strict/warnings:
  use mro 'c3';


t/13-test-sqlite.t: Schema Test::DBIx::Class::Example::Schema=HASH(0x5629f8ef80a0) failed the 'valid_c3_composition' sanity check: Class 'Test::DBIx::Class::Example::Schema::Result::Person::Employee' was originally using the 'dfs' MRO affecting the lookup order of the following method(s): delete(), update(). You MUST add the following line to 'Test::DBIx::Class::Example::Schema::Result::Person::Employee' right after strict/warnings:
  use mro 'c3';


t/13-test-sqlite.t: Schema Test::DBIx::Class::Example::Schema=HASH(0x5629f8ef80a0) failed the 'valid_c3_composition' sanity check: Class 'Test::DBIx::Class::Example::Schema::Result::Phone' was originally using the 'dfs' MRO affecting the lookup order of the following method(s): delete(), update(). You MUST add the following line to 'Test::DBIx::Class::Example::Schema::Result::Phone' right after strict/warnings:
  use mro 'c3';


t/13-test-sqlite.t: Schema Test::DBIx::Class::Example::Schema=HASH(0x5629f8ef80a0) failed the 'valid_c3_composition' sanity check: Class 'Test::DBIx::Class::Example::Schema::Result::RussianPhone' was originally using the 'dfs' MRO affecting the lookup order of the following method(s): delete(), update(). You MUST add the following line to 'Test::DBIx::Class::Example::Schema::Result::RussianPhone' right after strict/warnings:
  use mro 'c3';


t/13-test-sqlite.t: Schema Test::DBIx::Class::Example::Schema=HASH(0x5629f8f09578) failed the 'valid_c3_composition' sanity check: Class 'Test::DBIx::Class::Example::Schema::Result::CD' was originally using the 'dfs' MRO affecting the lookup order of the following method(s): delete(), update(). You MUST add the following line to 'Test::DBIx::Class::Example::Schema::Result::CD' right after strict/warnings:
  use mro 'c3';


t/13-test-sqlite.t: Schema Test::DBIx::Class::Example::Schema=HASH(0x5629f8f09578) failed the 'valid_c3_composition' sanity check: Class 'Test::DBIx::Class::Example::Schema::Result::CD::Artist' was originally using the 'dfs' MRO affecting the lookup order of the following method(s): delete(), update(). You MUST add the following line to 'Test::DBIx::Class::Example::Schema::Result::CD::Artist' right after strict/warnings:
  use mro 'c3';


t/13-test-sqlite.t: Schema Test::DBIx::Class::Example::Schema=HASH(0x5629f8f09578) failed the 'valid_c3_composition' sanity check: Class 'Test::DBIx::Class::Example::Schema::Result::CD::Track' was originally using the 'dfs' MRO affecting the lookup order of the following method(s): delete(), update(). You MUST add the following line to 'Test::DBIx::Class::Example::Schema::Result::CD::Track' right after strict/warnings:
  use mro 'c3';


t/13-test-sqlite.t: Schema Test::DBIx::Class::Example::Schema=HASH(0x5629f8f09578) failed the 'valid_c3_composition' sanity check: Class 'Test::DBIx::Class::Example::Schema::Result::Company' was originally using the 'dfs' MRO affecting the lookup order of the following method(s): delete(), update(). You MUST add the following line to 'Test::DBIx::Class::Example::Schema::Result::Company' right after strict/warnings:
  use mro 'c3';


t/13-test-sqlite.t: Schema Test::DBIx::Class::Example::Schema=HASH(0x5629f8f09578) failed the 'valid_c3_composition' sanity check: Class 'Test::DBIx::Class::Example::Schema::Result::Company::Employee' was originally using the 'dfs' MRO affecting the lookup order of the following method(s): delete(), update(). You MUST add the following line to 'Test::DBIx::Class::Example::Schema::Result::Company::Employee' right after strict/warnings:
  use mro 'c3';


t/13-test-sqlite.t: Schema Test::DBIx::Class::Example::Schema=HASH(0x5629f8f09578) failed the 'valid_c3_composition' sanity check: Class 'Test::DBIx::Class::Example::Schema::Result::GermanPhone' was originally using the 'dfs' MRO affecting the lookup order of the following method(s): delete(), update(). You MUST add the following line to 'Test::DBIx::Class::Example::Schema::Result::GermanPhone' right after strict/warnings:
  use mro 'c3';


t/13-test-sqlite.t: Schema Test::DBIx::Class::Example::Schema=HASH(0x5629f8f09578) failed the 'valid_c3_composition' sanity check: Class 'Test::DBIx::Class::Example::Schema::Result::Job' was originally using the 'dfs' MRO affecting the lookup order of the following method(s): delete(), update(). You MUST add the following line to 'Test::DBIx::Class::Example::Schema::Result::Job' right after strict/warnings:
  use mro 'c3';


t/13-test-sqlite.t: Schema Test::DBIx::Class::Example::Schema=HASH(0x5629f8f09578) failed the 'valid_c3_composition' sanity check: Class 'Test::DBIx::Class::Example::Schema::Result::Person' was originally using the 'dfs' MRO affecting the lookup order of the following method(s): delete(), update(). You MUST add the following line to 'Test::DBIx::Class::Example::Schema::Result::Person' right after strict/warnings:
  use mro 'c3';


t/13-test-sqlite.t: Schema Test::DBIx::Class::Example::Schema=HASH(0x5629f8f09578) failed the 'valid_c3_composition' sanity check: Class 'Test::DBIx::Class::Example::Schema::Result::Person::Artist' was originally using the 'dfs' MRO affecting the lookup order of the following method(s): delete(), update(). You MUST add the following line to 'Test::DBIx::Class::Example::Schema::Result::Person::Artist' right after strict/warnings:
  use mro 'c3';


t/13-test-sqlite.t: Schema Test::DBIx::Class::Example::Schema=HASH(0x5629f8f09578) failed the 'valid_c3_composition' sanity check: Class 'Test::DBIx::Class::Example::Schema::Result::Person::Employee' was originally using the 'dfs' MRO affecting the lookup order of the following method(s): delete(), update(). You MUST add the following line to 'Test::DBIx::Class::Example::Schema::Result::Person::Employee' right after strict/warnings:
  use mro 'c3';


t/13-test-sqlite.t: Schema Test::DBIx::Class::Example::Schema=HASH(0x5629f8f09578) failed the 'valid_c3_composition' sanity check: Class 'Test::DBIx::Class::Example::Schema::Result::Phone' was originally using the 'dfs' MRO affecting the lookup order of the following method(s): delete(), update(). You MUST add the following line to 'Test::DBIx::Class::Example::Schema::Result::Phone' right after strict/warnings:
  use mro 'c3';


t/13-test-sqlite.t: Schema Test::DBIx::Class::Example::Schema=HASH(0x5629f8f09578) failed the 'valid_c3_composition' sanity check: Class 'Test::DBIx::Class::Example::Schema::Result::RussianPhone' was originally using the 'dfs' MRO affecting the lookup order of the following method(s): delete(), update(). You MUST add the following line to 'Test::DBIx::Class::Example::Schema::Result::RussianPhone' right after strict/warnings:
  use mro 'c3';


t/13-test-sqlite.t: Schema Test::DBIx::Class::Example::Schema=HASH(0x5629f8f055a0) failed the 'valid_c3_composition' sanity check: Class 'Test::DBIx::Class::Example::Schema::Result::CD' was originally using the 'dfs' MRO affecting the lookup order of the following method(s): delete(), update(). You MUST add the following line to 'Test::DBIx::Class::Example::Schema::Result::CD' right after strict/warnings:
  use mro 'c3';


t/13-test-sqlite.t: Schema Test::DBIx::Class::Example::Schema=HASH(0x5629f8f055a0) failed the 'valid_c3_composition' sanity check: Class 'Test::DBIx::Class::Example::Schema::Result::CD::Artist' was originally using the 'dfs' MRO affecting the lookup order of the following method(s): delete(), update(). You MUST add the following line to 'Test::DBIx::Class::Example::Schema::Result::CD::Artist' right after strict/warnings:
  use mro 'c3';


t/13-test-sqlite.t: Schema Test::DBIx::Class::Example::Schema=HASH(0x5629f8f055a0) failed the 'valid_c3_composition' sanity check: Class 'Test::DBIx::Class::Example::Schema::Result::CD::Track' was originally using the 'dfs' MRO affecting the lookup order of the following method(s): delete(), update(). You MUST add the following line to 'Test::DBIx::Class::Example::Schema::Result::CD::Track' right after strict/warnings:
  use mro 'c3';


t/13-test-sqlite.t: Schema Test::DBIx::Class::Example::Schema=HASH(0x5629f8f055a0) failed the 'valid_c3_composition' sanity check: Class 'Test::DBIx::Class::Example::Schema::Result::Company' was originally using the 'dfs' MRO affecting the lookup order of the following method(s): delete(), update(). You MUST add the following line to 'Test::DBIx::Class::Example::Schema::Result::Company' right after strict/warnings:
  use mro 'c3';


t/13-test-sqlite.t: Schema Test::DBIx::Class::Example::Schema=HASH(0x5629f8f055a0) failed the 'valid_c3_composition' sanity check: Class 'Test::DBIx::Class::Example::Schema::Result::Company::Employee' was originally using the 'dfs' MRO affecting the lookup order of the following method(s): delete(), update(). You MUST add the following line to 'Test::DBIx::Class::Example::Schema::Result::Company::Employee' right after strict/warnings:
  use mro 'c3';


t/13-test-sqlite.t: Schema Test::DBIx::Class::Example::Schema=HASH(0x5629f8f055a0) failed the 'valid_c3_composition' sanity check: Class 'Test::DBIx::Class::Example::Schema::Result::GermanPhone' was originally using the 'dfs' MRO affecting the lookup order of the following method(s): delete(), update(). You MUST add the following line to 'Test::DBIx::Class::Example::Schema::Result::GermanPhone' right after strict/warnings:
  use mro 'c3';


t/13-test-sqlite.t: Schema Test::DBIx::Class::Example::Schema=HASH(0x5629f8f055a0) failed the 'valid_c3_composition' sanity check: Class 'Test::DBIx::Class::Example::Schema::Result::Job' was originally using the 'dfs' MRO affecting the lookup order of the following method(s): delete(), update(). You MUST add the following line to 'Test::DBIx::Class::Example::Schema::Result::Job' right after strict/warnings:
  use mro 'c3';


t/13-test-sqlite.t: Schema Test::DBIx::Class::Example::Schema=HASH(0x5629f8f055a0) failed the 'valid_c3_composition' sanity check: Class 'Test::DBIx::Class::Example::Schema::Result::Person' was originally using the 'dfs' MRO affecting the lookup order of the following method(s): delete(), update(). You MUST add the following line to 'Test::DBIx::Class::Example::Schema::Result::Person' right after strict/warnings:
  use mro 'c3';


t/13-test-sqlite.t: Schema Test::DBIx::Class::Example::Schema=HASH(0x5629f8f055a0) failed the 'valid_c3_composition' sanity check: Class 'Test::DBIx::Class::Example::Schema::Result::Person::Artist' was originally using the 'dfs' MRO affecting the lookup order of the following method(s): delete(), update(). You MUST add the following line to 'Test::DBIx::Class::Example::Schema::Result::Person::Artist' right after strict/warnings:
  use mro 'c3';


t/13-test-sqlite.t: Schema Test::DBIx::Class::Example::Schema=HASH(0x5629f8f055a0) failed the 'valid_c3_composition' sanity check: Class 'Test::DBIx::Class::Example::Schema::Result::Person::Employee' was originally using the 'dfs' MRO affecting the lookup order of the following method(s): delete(), update(). You MUST add the following line to 'Test::DBIx::Class::Example::Schema::Result::Person::Employee' right after strict/warnings:
  use mro 'c3';


t/13-test-sqlite.t: Schema Test::DBIx::Class::Example::Schema=HASH(0x5629f8f055a0) failed the 'valid_c3_composition' sanity check: Class 'Test::DBIx::Class::Example::Schema::Result::Phone' was originally using the 'dfs' MRO affecting the lookup order of the following method(s): delete(), update(). You MUST add the following line to 'Test::DBIx::Class::Example::Schema::Result::Phone' right after strict/warnings:
  use mro 'c3';


t/13-test-sqlite.t: Schema Test::DBIx::Class::Example::Schema=HASH(0x5629f8f055a0) failed the 'valid_c3_composition' sanity check: Class 'Test::DBIx::Class::Example::Schema::Result::RussianPhone' was originally using the 'dfs' MRO affecting the lookup order of the following method(s): delete(), update(). You MUST add the following line to 'Test::DBIx::Class::Example::Schema::Result::RussianPhone' right after strict/warnings:
  use mro 'c3';


t/13-test-sqlite.t: Schema Test::DBIx::Class::Example::Schema=HASH(0x5629f8ef2248) failed the 'valid_c3_composition' sanity check: Class 'Test::DBIx::Class::Example::Schema::Result::CD' was originally using the 'dfs' MRO affecting the lookup order of the following method(s): delete(), update(). You MUST add the following line to 'Test::DBIx::Class::Example::Schema::Result::CD' right after strict/warnings:
  use mro 'c3';


t/13-test-sqlite.t: Schema Test::DBIx::Class::Example::Schema=HASH(0x5629f8ef2248) failed the 'valid_c3_composition' sanity check: Class 'Test::DBIx::Class::Example::Schema::Result::CD::Artist' was originally using the 'dfs' MRO affecting the lookup order of the following method(s): delete(), update(). You MUST add the following line to 'Test::DBIx::Class::Example::Schema::Result::CD::Artist' right after strict/warnings:
  use mro 'c3';


t/13-test-sqlite.t: Schema Test::DBIx::Class::Example::Schema=HASH(0x5629f8ef2248) failed the 'valid_c3_composition' sanity check: Class 'Test::DBIx::Class::Example::Schema::Result::CD::Track' was originally using the 'dfs' MRO affecting the lookup order of the following method(s): delete(), update(). You MUST add the following line to 'Test::DBIx::Class::Example::Schema::Result::CD::Track' right after strict/warnings:
  use mro 'c3';


t/13-test-sqlite.t: Schema Test::DBIx::Class::Example::Schema=HASH(0x5629f8ef2248) failed the 'valid_c3_composition' sanity check: Class 'Test::DBIx::Class::Example::Schema::Result::Company' was originally using the 'dfs' MRO affecting the lookup order of the following method(s): delete(), update(). You MUST add the following line to 'Test::DBIx::Class::Example::Schema::Result::Company' right after strict/warnings:
  use mro 'c3';


t/13-test-sqlite.t: Schema Test::DBIx::Class::Example::Schema=HASH(0x5629f8ef2248) failed the 'valid_c3_composition' sanity check: Class 'Test::DBIx::Class::Example::Schema::Result::Company::Employee' was originally using the 'dfs' MRO affecting the lookup order of the following method(s): delete(), update(). You MUST add the following line to 'Test::DBIx::Class::Example::Schema::Result::Company::Employee' right after strict/warnings:
  use mro 'c3';


t/13-test-sqlite.t: Schema Test::DBIx::Class::Example::Schema=HASH(0x5629f8ef2248) failed the 'valid_c3_composition' sanity check: Class 'Test::DBIx::Class::Example::Schema::Result::GermanPhone' was originally using the 'dfs' MRO affecting the lookup order of the following method(s): delete(), update(). You MUST add the following line to 'Test::DBIx::Class::Example::Schema::Result::GermanPhone' right after strict/warnings:
  use mro 'c3';


t/13-test-sqlite.t: Schema Test::DBIx::Class::Example::Schema=HASH(0x5629f8ef2248) failed the 'valid_c3_composition' sanity check: Class 'Test::DBIx::Class::Example::Schema::Result::Job' was originally using the 'dfs' MRO affecting the lookup order of the following method(s): delete(), update(). You MUST add the following line to 'Test::DBIx::Class::Example::Schema::Result::Job' right after strict/warnings:
  use mro 'c3';


t/13-test-sqlite.t: Schema Test::DBIx::Class::Example::Schema=HASH(0x5629f8ef2248) failed the 'valid_c3_composition' sanity check: Class 'Test::DBIx::Class::Example::Schema::Result::Person' was originally using the 'dfs' MRO affecting the lookup order of the following method(s): delete(), update(). You MUST add the following line to 'Test::DBIx::Class::Example::Schema::Result::Person' right after strict/warnings:
  use mro 'c3';


t/13-test-sqlite.t: Schema Test::DBIx::Class::Example::Schema=HASH(0x5629f8ef2248) failed the 'valid_c3_composition' sanity check: Class 'Test::DBIx::Class::Example::Schema::Result::Person::Artist' was originally using the 'dfs' MRO affecting the lookup order of the following method(s): delete(), update(). You MUST add the following line to 'Test::DBIx::Class::Example::Schema::Result::Person::Artist' right after strict/warnings:
  use mro 'c3';


t/13-test-sqlite.t: Schema Test::DBIx::Class::Example::Schema=HASH(0x5629f8ef2248) failed the 'valid_c3_composition' sanity check: Class 'Test::DBIx::Class::Example::Schema::Result::Person::Employee' was originally using the 'dfs' MRO affecting the lookup order of the following method(s): delete(), update(). You MUST add the following line to 'Test::DBIx::Class::Example::Schema::Result::Person::Employee' right after strict/warnings:
  use mro 'c3';


t/13-test-sqlite.t: Schema Test::DBIx::Class::Example::Schema=HASH(0x5629f8ef2248) failed the 'valid_c3_composition' sanity check: Class 'Test::DBIx::Class::Example::Schema::Result::Phone' was originally using the 'dfs' MRO affecting the lookup order of the following method(s): delete(), update(). You MUST add the following line to 'Test::DBIx::Class::Example::Schema::Result::Phone' right after strict/warnings:
  use mro 'c3';


t/13-test-sqlite.t: Schema Test::DBIx::Class::Example::Schema=HASH(0x5629f8ef2248) failed the 'valid_c3_composition' sanity check: Class 'Test::DBIx::Class::Example::Schema::Result::RussianPhone' was originally using the 'dfs' MRO affecting the lookup order of the following method(s): delete(), update(). You MUST add the following line to 'Test::DBIx::Class::Example::Schema::Result::RussianPhone' right after strict/warnings:
  use mro 'c3';

t/13-test-sqlite.t ............................ ok

t/14-hide-diag.t: Schema Test::DBIx::Class::Example::Schema=HASH(0x56373a7c45d8) failed the 'valid_c3_composition' sanity check: Class 'Test::DBIx::Class::Example::Schema::Result::CD' was originally using the 'dfs' MRO affecting the lookup order of the following method(s): delete(), update(). You MUST add the following line to 'Test::DBIx::Class::Example::Schema::Result::CD' right after strict/warnings:
  use mro 'c3';


t/14-hide-diag.t: Schema Test::DBIx::Class::Example::Schema=HASH(0x56373a7c45d8) failed the 'valid_c3_composition' sanity check: Class 'Test::DBIx::Class::Example::Schema::Result::CD::Artist' was originally using the 'dfs' MRO affecting the lookup order of the following method(s): delete(), update(). You MUST add the following line to 'Test::DBIx::Class::Example::Schema::Result::CD::Artist' right after strict/warnings:
  use mro 'c3';


t/14-hide-diag.t: Schema Test::DBIx::Class::Example::Schema=HASH(0x56373a7c45d8) failed the 'valid_c3_composition' sanity check: Class 'Test::DBIx::Class::Example::Schema::Result::CD::Track' was originally using the 'dfs' MRO affecting the lookup order of the following method(s): delete(), update(). You MUST add the following line to 'Test::DBIx::Class::Example::Schema::Result::CD::Track' right after strict/warnings:
  use mro 'c3';


t/14-hide-diag.t: Schema Test::DBIx::Class::Example::Schema=HASH(0x56373a7c45d8) failed the 'valid_c3_composition' sanity check: Class 'Test::DBIx::Class::Example::Schema::Result::Company' was originally using the 'dfs' MRO affecting the lookup order of the following method(s): delete(), update(). You MUST add the following line to 'Test::DBIx::Class::Example::Schema::Result::Company' right after strict/warnings:
  use mro 'c3';


t/14-hide-diag.t: Schema Test::DBIx::Class::Example::Schema=HASH(0x56373a7c45d8) failed the 'valid_c3_composition' sanity check: Class 'Test::DBIx::Class::Example::Schema::Result::Company::Employee' was originally using the 'dfs' MRO affecting the lookup order of the following method(s): delete(), update(). You MUST add the following line to 'Test::DBIx::Class::Example::Schema::Result::Company::Employee' right after strict/warnings:
  use mro 'c3';


t/14-hide-diag.t: Schema Test::DBIx::Class::Example::Schema=HASH(0x56373a7c45d8) failed the 'valid_c3_composition' sanity check: Class 'Test::DBIx::Class::Example::Schema::Result::GermanPhone' was originally using the 'dfs' MRO affecting the lookup order of the following method(s): delete(), update(). You MUST add the following line to 'Test::DBIx::Class::Example::Schema::Result::GermanPhone' right after strict/warnings:
  use mro 'c3';


t/14-hide-diag.t: Schema Test::DBIx::Class::Example::Schema=HASH(0x56373a7c45d8) failed the 'valid_c3_composition' sanity check: Class 'Test::DBIx::Class::Example::Schema::Result::Job' was originally using the 'dfs' MRO affecting the lookup order of the following method(s): delete(), update(). You MUST add the following line to 'Test::DBIx::Class::Example::Schema::Result::Job' right after strict/warnings:
  use mro 'c3';


t/14-hide-diag.t: Schema Test::DBIx::Class::Example::Schema=HASH(0x56373a7c45d8) failed the 'valid_c3_composition' sanity check: Class 'Test::DBIx::Class::Example::Schema::Result::Person' was originally using the 'dfs' MRO affecting the lookup order of the following method(s): delete(), update(). You MUST add the following line to 'Test::DBIx::Class::Example::Schema::Result::Person' right after strict/warnings:
  use mro 'c3';


t/14-hide-diag.t: Schema Test::DBIx::Class::Example::Schema=HASH(0x56373a7c45d8) failed the 'valid_c3_composition' sanity check: Class 'Test::DBIx::Class::Example::Schema::Result::Person::Artist' was originally using the 'dfs' MRO affecting the lookup order of the following method(s): delete(), update(). You MUST add the following line to 'Test::DBIx::Class::Example::Schema::Result::Person::Artist' right after strict/warnings:
  use mro 'c3';


t/14-hide-diag.t: Schema Test::DBIx::Class::Example::Schema=HASH(0x56373a7c45d8) failed the 'valid_c3_composition' sanity check: Class 'Test::DBIx::Class::Example::Schema::Result::Person::Employee' was originally using the 'dfs' MRO affecting the lookup order of the following method(s): delete(), update(). You MUST add the following line to 'Test::DBIx::Class::Example::Schema::Result::Person::Employee' right after strict/warnings:
  use mro 'c3';


t/14-hide-diag.t: Schema Test::DBIx::Class::Example::Schema=HASH(0x56373a7c45d8) failed the 'valid_c3_composition' sanity check: Class 'Test::DBIx::Class::Example::Schema::Result::Phone' was originally using the 'dfs' MRO affecting the lookup order of the following method(s): delete(), update(). You MUST add the following line to 'Test::DBIx::Class::Example::Schema::Result::Phone' right after strict/warnings:
  use mro 'c3';


t/14-hide-diag.t: Schema Test::DBIx::Class::Example::Schema=HASH(0x56373a7c45d8) failed the 'valid_c3_composition' sanity check: Class 'Test::DBIx::Class::Example::Schema::Result::RussianPhone' was originally using the 'dfs' MRO affecting the lookup order of the following method(s): delete(), update(). You MUST add the following line to 'Test::DBIx::Class::Example::Schema::Result::RussianPhone' right after strict/warnings:
  use mro 'c3';


t/14-hide-diag.t: Schema Test::DBIx::Class::Example::Schema=HASH(0x56373a9b6f30) failed the 'valid_c3_composition' sanity check: Class 'Test::DBIx::Class::Example::Schema::Result::CD' was originally using the 'dfs' MRO affecting the lookup order of the following method(s): delete(), update(). You MUST add the following line to 'Test::DBIx::Class::Example::Schema::Result::CD' right after strict/warnings:
  use mro 'c3';


t/14-hide-diag.t: Schema Test::DBIx::Class::Example::Schema=HASH(0x56373a9b6f30) failed the 'valid_c3_composition' sanity check: Class 'Test::DBIx::Class::Example::Schema::Result::CD::Artist' was originally using the 'dfs' MRO affecting the lookup order of the following method(s): delete(), update(). You MUST add the following line to 'Test::DBIx::Class::Example::Schema::Result::CD::Artist' right after strict/warnings:
  use mro 'c3';


t/14-hide-diag.t: Schema Test::DBIx::Class::Example::Schema=HASH(0x56373a9b6f30) failed the 'valid_c3_composition' sanity check: Class 'Test::DBIx::Class::Example::Schema::Result::CD::Track' was originally using the 'dfs' MRO affecting the lookup order of the following method(s): delete(), update(). You MUST add the following line to 'Test::DBIx::Class::Example::Schema::Result::CD::Track' right after strict/warnings:
  use mro 'c3';


t/14-hide-diag.t: Schema Test::DBIx::Class::Example::Schema=HASH(0x56373a9b6f30) failed the 'valid_c3_composition' sanity check: Class 'Test::DBIx::Class::Example::Schema::Result::Company' was originally using the 'dfs' MRO affecting the lookup order of the following method(s): delete(), update(). You MUST add the following line to 'Test::DBIx::Class::Example::Schema::Result::Company' right after strict/warnings:
  use mro 'c3';


t/14-hide-diag.t: Schema Test::DBIx::Class::Example::Schema=HASH(0x56373a9b6f30) failed the 'valid_c3_composition' sanity check: Class 'Test::DBIx::Class::Example::Schema::Result::Company::Employee' was originally using the 'dfs' MRO affecting the lookup order of the following method(s): delete(), update(). You MUST add the following line to 'Test::DBIx::Class::Example::Schema::Result::Company::Employee' right after strict/warnings:
  use mro 'c3';


t/14-hide-diag.t: Schema Test::DBIx::Class::Example::Schema=HASH(0x56373a9b6f30) failed the 'valid_c3_composition' sanity check: Class 'Test::DBIx::Class::Example::Schema::Result::GermanPhone' was originally using the 'dfs' MRO affecting the lookup order of the following method(s): delete(), update(). You MUST add the following line to 'Test::DBIx::Class::Example::Schema::Result::GermanPhone' right after strict/warnings:
  use mro 'c3';


t/14-hide-diag.t: Schema Test::DBIx::Class::Example::Schema=HASH(0x56373a9b6f30) failed the 'valid_c3_composition' sanity check: Class 'Test::DBIx::Class::Example::Schema::Result::Job' was originally using the 'dfs' MRO affecting the lookup order of the following method(s): delete(), update(). You MUST add the following line to 'Test::DBIx::Class::Example::Schema::Result::Job' right after strict/warnings:
  use mro 'c3';


t/14-hide-diag.t: Schema Test::DBIx::Class::Example::Schema=HASH(0x56373a9b6f30) failed the 'valid_c3_composition' sanity check: Class 'Test::DBIx::Class::Example::Schema::Result::Person' was originally using the 'dfs' MRO affecting the lookup order of the following method(s): delete(), update(). You MUST add the following line to 'Test::DBIx::Class::Example::Schema::Result::Person' right after strict/warnings:
  use mro 'c3';


t/14-hide-diag.t: Schema Test::DBIx::Class::Example::Schema=HASH(0x56373a9b6f30) failed the 'valid_c3_composition' sanity check: Class 'Test::DBIx::Class::Example::Schema::Result::Person::Artist' was originally using the 'dfs' MRO affecting the lookup order of the following method(s): delete(), update(). You MUST add the following line to 'Test::DBIx::Class::Example::Schema::Result::Person::Artist' right after strict/warnings:
  use mro 'c3';


t/14-hide-diag.t: Schema Test::DBIx::Class::Example::Schema=HASH(0x56373a9b6f30) failed the 'valid_c3_composition' sanity check: Class 'Test::DBIx::Class::Example::Schema::Result::Person::Employee' was originally using the 'dfs' MRO affecting the lookup order of the following method(s): delete(), update(). You MUST add the following line to 'Test::DBIx::Class::Example::Schema::Result::Person::Employee' right after strict/warnings:
  use mro 'c3';


t/14-hide-diag.t: Schema Test::DBIx::Class::Example::Schema=HASH(0x56373a9b6f30) failed the 'valid_c3_composition' sanity check: Class 'Test::DBIx::Class::Example::Schema::Result::Phone' was originally using the 'dfs' MRO affecting the lookup order of the following method(s): delete(), update(). You MUST add the following line to 'Test::DBIx::Class::Example::Schema::Result::Phone' right after strict/warnings:
  use mro 'c3';


t/14-hide-diag.t: Schema Test::DBIx::Class::Example::Schema=HASH(0x56373a9b6f30) failed the 'valid_c3_composition' sanity check: Class 'Test::DBIx::Class::Example::Schema::Result::RussianPhone' was originally using the 'dfs' MRO affecting the lookup order of the following method(s): delete(), update(). You MUST add the following line to 'Test::DBIx::Class::Example::Schema::Result::RussianPhone' right after strict/warnings:
  use mro 'c3';

t/14-hide-diag.t .............................. ok

t/14-test-connection-opts.t: Schema Test::DBIx::Class::Example::Schema=HASH(0x55ea70dfe3c8) failed the 'valid_c3_composition' sanity check: Class 'Test::DBIx::Class::Example::Schema::Result::CD' was originally using the 'dfs' MRO affecting the lookup order of the following method(s): delete(), update(). You MUST add the following line to 'Test::DBIx::Class::Example::Schema::Result::CD' right after strict/warnings:
  use mro 'c3';


t/14-test-connection-opts.t: Schema Test::DBIx::Class::Example::Schema=HASH(0x55ea70dfe3c8) failed the 'valid_c3_composition' sanity check: Class 'Test::DBIx::Class::Example::Schema::Result::CD::Artist' was originally using the 'dfs' MRO affecting the lookup order of the following method(s): delete(), update(). You MUST add the following line to 'Test::DBIx::Class::Example::Schema::Result::CD::Artist' right after strict/warnings:
  use mro 'c3';


t/14-test-connection-opts.t: Schema Test::DBIx::Class::Example::Schema=HASH(0x55ea70dfe3c8) failed the 'valid_c3_composition' sanity check: Class 'Test::DBIx::Class::Example::Schema::Result::CD::Track' was originally using the 'dfs' MRO affecting the lookup order of the following method(s): delete(), update(). You MUST add the following line to 'Test::DBIx::Class::Example::Schema::Result::CD::Track' right after strict/warnings:
  use mro 'c3';


t/14-test-connection-opts.t: Schema Test::DBIx::Class::Example::Schema=HASH(0x55ea70dfe3c8) failed the 'valid_c3_composition' sanity check: Class 'Test::DBIx::Class::Example::Schema::Result::Company' was originally using the 'dfs' MRO affecting the lookup order of the following method(s): delete(), update(). You MUST add the following line to 'Test::DBIx::Class::Example::Schema::Result::Company' right after strict/warnings:
  use mro 'c3';


t/14-test-connection-opts.t: Schema Test::DBIx::Class::Example::Schema=HASH(0x55ea70dfe3c8) failed the 'valid_c3_composition' sanity check: Class 'Test::DBIx::Class::Example::Schema::Result::Company::Employee' was originally using the 'dfs' MRO affecting the lookup order of the following method(s): delete(), update(). You MUST add the following line to 'Test::DBIx::Class::Example::Schema::Result::Company::Employee' right after strict/warnings:
  use mro 'c3';


t/14-test-connection-opts.t: Schema Test::DBIx::Class::Example::Schema=HASH(0x55ea70dfe3c8) failed the 'valid_c3_composition' sanity check: Class 'Test::DBIx::Class::Example::Schema::Result::GermanPhone' was originally using the 'dfs' MRO affecting the lookup order of the following method(s): delete(), update(). You MUST add the following line to 'Test::DBIx::Class::Example::Schema::Result::GermanPhone' right after strict/warnings:
  use mro 'c3';


t/14-test-connection-opts.t: Schema Test::DBIx::Class::Example::Schema=HASH(0x55ea70dfe3c8) failed the 'valid_c3_composition' sanity check: Class 'Test::DBIx::Class::Example::Schema::Result::Job' was originally using the 'dfs' MRO affecting the lookup order of the following method(s): delete(), update(). You MUST add the following line to 'Test::DBIx::Class::Example::Schema::Result::Job' right after strict/warnings:
  use mro 'c3';


t/14-test-connection-opts.t: Schema Test::DBIx::Class::Example::Schema=HASH(0x55ea70dfe3c8) failed the 'valid_c3_composition' sanity check: Class 'Test::DBIx::Class::Example::Schema::Result::Person' was originally using the 'dfs' MRO affecting the lookup order of the following method(s): delete(), update(). You MUST add the following line to 'Test::DBIx::Class::Example::Schema::Result::Person' right after strict/warnings:
  use mro 'c3';


t/14-test-connection-opts.t: Schema Test::DBIx::Class::Example::Schema=HASH(0x55ea70dfe3c8) failed the 'valid_c3_composition' sanity check: Class 'Test::DBIx::Class::Example::Schema::Result::Person::Artist' was originally using the 'dfs' MRO affecting the lookup order of the following method(s): delete(), update(). You MUST add the following line to 'Test::DBIx::Class::Example::Schema::Result::Person::Artist' right after strict/warnings:
  use mro 'c3';


t/14-test-connection-opts.t: Schema Test::DBIx::Class::Example::Schema=HASH(0x55ea70dfe3c8) failed the 'valid_c3_composition' sanity check: Class 'Test::DBIx::Class::Example::Schema::Result::Person::Employee' was originally using the 'dfs' MRO affecting the lookup order of the following method(s): delete(), update(). You MUST add the following line to 'Test::DBIx::Class::Example::Schema::Result::Person::Employee' right after strict/warnings:
  use mro 'c3';


t/14-test-connection-opts.t: Schema Test::DBIx::Class::Example::Schema=HASH(0x55ea70dfe3c8) failed the 'valid_c3_composition' sanity check: Class 'Test::DBIx::Class::Example::Schema::Result::Phone' was originally using the 'dfs' MRO affecting the lookup order of the following method(s): delete(), update(). You MUST add the following line to 'Test::DBIx::Class::Example::Schema::Result::Phone' right after strict/warnings:
  use mro 'c3';


t/14-test-connection-opts.t: Schema Test::DBIx::Class::Example::Schema=HASH(0x55ea70dfe3c8) failed the 'valid_c3_composition' sanity check: Class 'Test::DBIx::Class::Example::Schema::Result::RussianPhone' was originally using the 'dfs' MRO affecting the lookup order of the following method(s): delete(), update(). You MUST add the following line to 'Test::DBIx::Class::Example::Schema::Result::RussianPhone' right after strict/warnings:
  use mro 'c3';


t/14-test-connection-opts.t: Schema Test::DBIx::Class::Example::Schema=HASH(0x55ea72f0afd8) failed the 'valid_c3_composition' sanity check: Class 'Test::DBIx::Class::Example::Schema::Result::CD' was originally using the 'dfs' MRO affecting the lookup order of the following method(s): delete(), update(). You MUST add the following line to 'Test::DBIx::Class::Example::Schema::Result::CD' right after strict/warnings:
  use mro 'c3';


t/14-test-connection-opts.t: Schema Test::DBIx::Class::Example::Schema=HASH(0x55ea72f0afd8) failed the 'valid_c3_composition' sanity check: Class 'Test::DBIx::Class::Example::Schema::Result::CD::Artist' was originally using the 'dfs' MRO affecting the lookup order of the following method(s): delete(), update(). You MUST add the following line to 'Test::DBIx::Class::Example::Schema::Result::CD::Artist' right after strict/warnings:
  use mro 'c3';


t/14-test-connection-opts.t: Schema Test::DBIx::Class::Example::Schema=HASH(0x55ea72f0afd8) failed the 'valid_c3_composition' sanity check: Class 'Test::DBIx::Class::Example::Schema::Result::CD::Track' was originally using the 'dfs' MRO affecting the lookup order of the following method(s): delete(), update(). You MUST add the following line to 'Test::DBIx::Class::Example::Schema::Result::CD::Track' right after strict/warnings:
  use mro 'c3';


t/14-test-connection-opts.t: Schema Test::DBIx::Class::Example::Schema=HASH(0x55ea72f0afd8) failed the 'valid_c3_composition' sanity check: Class 'Test::DBIx::Class::Example::Schema::Result::Company' was originally using the 'dfs' MRO affecting the lookup order of the following method(s): delete(), update(). You MUST add the following line to 'Test::DBIx::Class::Example::Schema::Result::Company' right after strict/warnings:
  use mro 'c3';


t/14-test-connection-opts.t: Schema Test::DBIx::Class::Example::Schema=HASH(0x55ea72f0afd8) failed the 'valid_c3_composition' sanity check: Class 'Test::DBIx::Class::Example::Schema::Result::Company::Employee' was originally using the 'dfs' MRO affecting the lookup order of the following method(s): delete(), update(). You MUST add the following line to 'Test::DBIx::Class::Example::Schema::Result::Company::Employee' right after strict/warnings:
  use mro 'c3';


t/14-test-connection-opts.t: Schema Test::DBIx::Class::Example::Schema=HASH(0x55ea72f0afd8) failed the 'valid_c3_composition' sanity check: Class 'Test::DBIx::Class::Example::Schema::Result::GermanPhone' was originally using the 'dfs' MRO affecting the lookup order of the following method(s): delete(), update(). You MUST add the following line to 'Test::DBIx::Class::Example::Schema::Result::GermanPhone' right after strict/warnings:
  use mro 'c3';


t/14-test-connection-opts.t: Schema Test::DBIx::Class::Example::Schema=HASH(0x55ea72f0afd8) failed the 'valid_c3_composition' sanity check: Class 'Test::DBIx::Class::Example::Schema::Result::Job' was originally using the 'dfs' MRO affecting the lookup order of the following method(s): delete(), update(). You MUST add the following line to 'Test::DBIx::Class::Example::Schema::Result::Job' right after strict/warnings:
  use mro 'c3';


t/14-test-connection-opts.t: Schema Test::DBIx::Class::Example::Schema=HASH(0x55ea72f0afd8) failed the 'valid_c3_composition' sanity check: Class 'Test::DBIx::Class::Example::Schema::Result::Person' was originally using the 'dfs' MRO affecting the lookup order of the following method(s): delete(), update(). You MUST add the following line to 'Test::DBIx::Class::Example::Schema::Result::Person' right after strict/warnings:
  use mro 'c3';


t/14-test-connection-opts.t: Schema Test::DBIx::Class::Example::Schema=HASH(0x55ea72f0afd8) failed the 'valid_c3_composition' sanity check: Class 'Test::DBIx::Class::Example::Schema::Result::Person::Artist' was originally using the 'dfs' MRO affecting the lookup order of the following method(s): delete(), update(). You MUST add the following line to 'Test::DBIx::Class::Example::Schema::Result::Person::Artist' right after strict/warnings:
  use mro 'c3';


t/14-test-connection-opts.t: Schema Test::DBIx::Class::Example::Schema=HASH(0x55ea72f0afd8) failed the 'valid_c3_composition' sanity check: Class 'Test::DBIx::Class::Example::Schema::Result::Person::Employee' was originally using the 'dfs' MRO affecting the lookup order of the following method(s): delete(), update(). You MUST add the following line to 'Test::DBIx::Class::Example::Schema::Result::Person::Employee' right after strict/warnings:
  use mro 'c3';


t/14-test-connection-opts.t: Schema Test::DBIx::Class::Example::Schema=HASH(0x55ea72f0afd8) failed the 'valid_c3_composition' sanity check: Class 'Test::DBIx::Class::Example::Schema::Result::Phone' was originally using the 'dfs' MRO affecting the lookup order of the following method(s): delete(), update(). You MUST add the following line to 'Test::DBIx::Class::Example::Schema::Result::Phone' right after strict/warnings:
  use mro 'c3';


t/14-test-connection-opts.t: Schema Test::DBIx::Class::Example::Schema=HASH(0x55ea72f0afd8) failed the 'valid_c3_composition' sanity check: Class 'Test::DBIx::Class::Example::Schema::Result::RussianPhone' was originally using the 'dfs' MRO affecting the lookup order of the following method(s): delete(), update(). You MUST add the following line to 'Test::DBIx::Class::Example::Schema::Result::RussianPhone' right after strict/warnings:
  use mro 'c3';


t/14-test-connection-opts.t: Schema Test::DBIx::Class::Example::Schema=HASH(0x55ea7272c478) failed the 'valid_c3_composition' sanity check: Class 'Test::DBIx::Class::Example::Schema::Result::CD' was originally using the 'dfs' MRO affecting the lookup order of the following method(s): delete(), update(). You MUST add the following line to 'Test::DBIx::Class::Example::Schema::Result::CD' right after strict/warnings:
  use mro 'c3';


t/14-test-connection-opts.t: Schema Test::DBIx::Class::Example::Schema=HASH(0x55ea7272c478) failed the 'valid_c3_composition' sanity check: Class 'Test::DBIx::Class::Example::Schema::Result::CD::Artist' was originally using the 'dfs' MRO affecting the lookup order of the following method(s): delete(), update(). You MUST add the following line to 'Test::DBIx::Class::Example::Schema::Result::CD::Artist' right after strict/warnings:
  use mro 'c3';


t/14-test-connection-opts.t: Schema Test::DBIx::Class::Example::Schema=HASH(0x55ea7272c478) failed the 'valid_c3_composition' sanity check: Class 'Test::DBIx::Class::Example::Schema::Result::CD::Track' was originally using the 'dfs' MRO affecting the lookup order of the following method(s): delete(), update(). You MUST add the following line to 'Test::DBIx::Class::Example::Schema::Result::CD::Track' right after strict/warnings:
  use mro 'c3';


t/14-test-connection-opts.t: Schema Test::DBIx::Class::Example::Schema=HASH(0x55ea7272c478) failed the 'valid_c3_composition' sanity check: Class 'Test::DBIx::Class::Example::Schema::Result::Company' was originally using the 'dfs' MRO affecting the lookup order of the following method(s): delete(), update(). You MUST add the following line to 'Test::DBIx::Class::Example::Schema::Result::Company' right after strict/warnings:
  use mro 'c3';


t/14-test-connection-opts.t: Schema Test::DBIx::Class::Example::Schema=HASH(0x55ea7272c478) failed the 'valid_c3_composition' sanity check: Class 'Test::DBIx::Class::Example::Schema::Result::Company::Employee' was originally using the 'dfs' MRO affecting the lookup order of the following method(s): delete(), update(). You MUST add the following line to 'Test::DBIx::Class::Example::Schema::Result::Company::Employee' right after strict/warnings:
  use mro 'c3';


t/14-test-connection-opts.t: Schema Test::DBIx::Class::Example::Schema=HASH(0x55ea7272c478) failed the 'valid_c3_composition' sanity check: Class 'Test::DBIx::Class::Example::Schema::Result::GermanPhone' was originally using the 'dfs' MRO affecting the lookup order of the following method(s): delete(), update(). You MUST add the following line to 'Test::DBIx::Class::Example::Schema::Result::GermanPhone' right after strict/warnings:
  use mro 'c3';


t/14-test-connection-opts.t: Schema Test::DBIx::Class::Example::Schema=HASH(0x55ea7272c478) failed the 'valid_c3_composition' sanity check: Class 'Test::DBIx::Class::Example::Schema::Result::Job' was originally using the 'dfs' MRO affecting the lookup order of the following method(s): delete(), update(). You MUST add the following line to 'Test::DBIx::Class::Example::Schema::Result::Job' right after strict/warnings:
  use mro 'c3';


t/14-test-connection-opts.t: Schema Test::DBIx::Class::Example::Schema=HASH(0x55ea7272c478) failed the 'valid_c3_composition' sanity check: Class 'Test::DBIx::Class::Example::Schema::Result::Person' was originally using the 'dfs' MRO affecting the lookup order of the following method(s): delete(), update(). You MUST add the following line to 'Test::DBIx::Class::Example::Schema::Result::Person' right after strict/warnings:
  use mro 'c3';


t/14-test-connection-opts.t: Schema Test::DBIx::Class::Example::Schema=HASH(0x55ea7272c478) failed the 'valid_c3_composition' sanity check: Class 'Test::DBIx::Class::Example::Schema::Result::Person::Artist' was originally using the 'dfs' MRO affecting the lookup order of the following method(s): delete(), update(). You MUST add the following line to 'Test::DBIx::Class::Example::Schema::Result::Person::Artist' right after strict/warnings:
  use mro 'c3';


t/14-test-connection-opts.t: Schema Test::DBIx::Class::Example::Schema=HASH(0x55ea7272c478) failed the 'valid_c3_composition' sanity check: Class 'Test::DBIx::Class::Example::Schema::Result::Person::Employee' was originally using the 'dfs' MRO affecting the lookup order of the following method(s): delete(), update(). You MUST add the following line to 'Test::DBIx::Class::Example::Schema::Result::Person::Employee' right after strict/warnings:
  use mro 'c3';


t/14-test-connection-opts.t: Schema Test::DBIx::Class::Example::Schema=HASH(0x55ea7272c478) failed the 'valid_c3_composition' sanity check: Class 'Test::DBIx::Class::Example::Schema::Result::Phone' was originally using the 'dfs' MRO affecting the lookup order of the following method(s): delete(), update(). You MUST add the following line to 'Test::DBIx::Class::Example::Schema::Result::Phone' right after strict/warnings:
  use mro 'c3';


t/14-test-connection-opts.t: Schema Test::DBIx::Class::Example::Schema=HASH(0x55ea7272c478) failed the 'valid_c3_composition' sanity check: Class 'Test::DBIx::Class::Example::Schema::Result::RussianPhone' was originally using the 'dfs' MRO affecting the lookup order of the following method(s): delete(), update(). You MUST add the following line to 'Test::DBIx::Class::Example::Schema::Result::RussianPhone' right after strict/warnings:
  use mro 'c3';

t/14-test-connection-opts.t ................... ok
	(in cleanup) could not find mysqld, please set appropriate PATH at /tmp/loop_over_bdir-28118-AR3Fj6/Test-DBIx-Class-0.52-0/blib/lib/Test/DBIx/Class/SchemaManager/Trait/Testmysqld.pm line 39.
t/15-hide-diag-mysqld.t ....................... ok
t/16-hide-diag-postgres.t ..................... skipped: Test::Postgresql58 not installed

t/17-importing-sources-gives-new-resultset.t: Schema Test::DBIx::Class::Example::Schema=HASH(0x55832dfd0820) failed the 'valid_c3_composition' sanity check: Class 'Test::DBIx::Class::Example::Schema::Result::CD' was originally using the 'dfs' MRO affecting the lookup order of the following method(s): delete(), update(). You MUST add the following line to 'Test::DBIx::Class::Example::Schema::Result::CD' right after strict/warnings:
  use mro 'c3';


t/17-importing-sources-gives-new-resultset.t: Schema Test::DBIx::Class::Example::Schema=HASH(0x55832dfd0820) failed the 'valid_c3_composition' sanity check: Class 'Test::DBIx::Class::Example::Schema::Result::CD::Artist' was originally using the 'dfs' MRO affecting the lookup order of the following method(s): delete(), update(). You MUST add the following line to 'Test::DBIx::Class::Example::Schema::Result::CD::Artist' right after strict/warnings:
  use mro 'c3';


t/17-importing-sources-gives-new-resultset.t: Schema Test::DBIx::Class::Example::Schema=HASH(0x55832dfd0820) failed the 'valid_c3_composition' sanity check: Class 'Test::DBIx::Class::Example::Schema::Result::CD::Track' was originally using the 'dfs' MRO affecting the lookup order of the following method(s): delete(), update(). You MUST add the following line to 'Test::DBIx::Class::Example::Schema::Result::CD::Track' right after strict/warnings:
  use mro 'c3';


t/17-importing-sources-gives-new-resultset.t: Schema Test::DBIx::Class::Example::Schema=HASH(0x55832dfd0820) failed the 'valid_c3_composition' sanity check: Class 'Test::DBIx::Class::Example::Schema::Result::Company' was originally using the 'dfs' MRO affecting the lookup order of the following method(s): delete(), update(). You MUST add the following line to 'Test::DBIx::Class::Example::Schema::Result::Company' right after strict/warnings:
  use mro 'c3';


t/17-importing-sources-gives-new-resultset.t: Schema Test::DBIx::Class::Example::Schema=HASH(0x55832dfd0820) failed the 'valid_c3_composition' sanity check: Class 'Test::DBIx::Class::Example::Schema::Result::Company::Employee' was originally using the 'dfs' MRO affecting the lookup order of the following method(s): delete(), update(). You MUST add the following line to 'Test::DBIx::Class::Example::Schema::Result::Company::Employee' right after strict/warnings:
  use mro 'c3';


t/17-importing-sources-gives-new-resultset.t: Schema Test::DBIx::Class::Example::Schema=HASH(0x55832dfd0820) failed the 'valid_c3_composition' sanity check: Class 'Test::DBIx::Class::Example::Schema::Result::GermanPhone' was originally using the 'dfs' MRO affecting the lookup order of the following method(s): delete(), update(). You MUST add the following line to 'Test::DBIx::Class::Example::Schema::Result::GermanPhone' right after strict/warnings:
  use mro 'c3';


t/17-importing-sources-gives-new-resultset.t: Schema Test::DBIx::Class::Example::Schema=HASH(0x55832dfd0820) failed the 'valid_c3_composition' sanity check: Class 'Test::DBIx::Class::Example::Schema::Result::Job' was originally using the 'dfs' MRO affecting the lookup order of the following method(s): delete(), update(). You MUST add the following line to 'Test::DBIx::Class::Example::Schema::Result::Job' right after strict/warnings:
  use mro 'c3';


t/17-importing-sources-gives-new-resultset.t: Schema Test::DBIx::Class::Example::Schema=HASH(0x55832dfd0820) failed the 'valid_c3_composition' sanity check: Class 'Test::DBIx::Class::Example::Schema::Result::Person' was originally using the 'dfs' MRO affecting the lookup order of the following method(s): delete(), update(). You MUST add the following line to 'Test::DBIx::Class::Example::Schema::Result::Person' right after strict/warnings:
  use mro 'c3';


t/17-importing-sources-gives-new-resultset.t: Schema Test::DBIx::Class::Example::Schema=HASH(0x55832dfd0820) failed the 'valid_c3_composition' sanity check: Class 'Test::DBIx::Class::Example::Schema::Result::Person::Artist' was originally using the 'dfs' MRO affecting the lookup order of the following method(s): delete(), update(). You MUST add the following line to 'Test::DBIx::Class::Example::Schema::Result::Person::Artist' right after strict/warnings:
  use mro 'c3';


t/17-importing-sources-gives-new-resultset.t: Schema Test::DBIx::Class::Example::Schema=HASH(0x55832dfd0820) failed the 'valid_c3_composition' sanity check: Class 'Test::DBIx::Class::Example::Schema::Result::Person::Employee' was originally using the 'dfs' MRO affecting the lookup order of the following method(s): delete(), update(). You MUST add the following line to 'Test::DBIx::Class::Example::Schema::Result::Person::Employee' right after strict/warnings:
  use mro 'c3';


t/17-importing-sources-gives-new-resultset.t: Schema Test::DBIx::Class::Example::Schema=HASH(0x55832dfd0820) failed the 'valid_c3_composition' sanity check: Class 'Test::DBIx::Class::Example::Schema::Result::Phone' was originally using the 'dfs' MRO affecting the lookup order of the following method(s): delete(), update(). You MUST add the following line to 'Test::DBIx::Class::Example::Schema::Result::Phone' right after strict/warnings:
  use mro 'c3';


t/17-importing-sources-gives-new-resultset.t: Schema Test::DBIx::Class::Example::Schema=HASH(0x55832dfd0820) failed the 'valid_c3_composition' sanity check: Class 'Test::DBIx::Class::Example::Schema::Result::RussianPhone' was originally using the 'dfs' MRO affecting the lookup order of the following method(s): delete(), update(). You MUST add the following line to 'Test::DBIx::Class::Example::Schema::Result::RussianPhone' right after strict/warnings:
  use mro 'c3';

t/17-importing-sources-gives-new-resultset.t .. ok

t/18-deploy-opts-sources.t: Schema Test::DBIx::Class::Example::Schema=HASH(0x5570d78b56e0) failed the 'valid_c3_composition' sanity check: Class 'Test::DBIx::Class::Example::Schema::Result::CD' was originally using the 'dfs' MRO affecting the lookup order of the following method(s): delete(), update(). You MUST add the following line to 'Test::DBIx::Class::Example::Schema::Result::CD' right after strict/warnings:
  use mro 'c3';


t/18-deploy-opts-sources.t: Schema Test::DBIx::Class::Example::Schema=HASH(0x5570d78b56e0) failed the 'valid_c3_composition' sanity check: Class 'Test::DBIx::Class::Example::Schema::Result::CD::Artist' was originally using the 'dfs' MRO affecting the lookup order of the following method(s): delete(), update(). You MUST add the following line to 'Test::DBIx::Class::Example::Schema::Result::CD::Artist' right after strict/warnings:
  use mro 'c3';


t/18-deploy-opts-sources.t: Schema Test::DBIx::Class::Example::Schema=HASH(0x5570d78b56e0) failed the 'valid_c3_composition' sanity check: Class 'Test::DBIx::Class::Example::Schema::Result::CD::Track' was originally using the 'dfs' MRO affecting the lookup order of the following method(s): delete(), update(). You MUST add the following line to 'Test::DBIx::Class::Example::Schema::Result::CD::Track' right after strict/warnings:
  use mro 'c3';


t/18-deploy-opts-sources.t: Schema Test::DBIx::Class::Example::Schema=HASH(0x5570d78b56e0) failed the 'valid_c3_composition' sanity check: Class 'Test::DBIx::Class::Example::Schema::Result::Company' was originally using the 'dfs' MRO affecting the lookup order of the following method(s): delete(), update(). You MUST add the following line to 'Test::DBIx::Class::Example::Schema::Result::Company' right after strict/warnings:
  use mro 'c3';


t/18-deploy-opts-sources.t: Schema Test::DBIx::Class::Example::Schema=HASH(0x5570d78b56e0) failed the 'valid_c3_composition' sanity check: Class 'Test::DBIx::Class::Example::Schema::Result::Company::Employee' was originally using the 'dfs' MRO affecting the lookup order of the following method(s): delete(), update(). You MUST add the following line to 'Test::DBIx::Class::Example::Schema::Result::Company::Employee' right after strict/warnings:
  use mro 'c3';


t/18-deploy-opts-sources.t: Schema Test::DBIx::Class::Example::Schema=HASH(0x5570d78b56e0) failed the 'valid_c3_composition' sanity check: Class 'Test::DBIx::Class::Example::Schema::Result::GermanPhone' was originally using the 'dfs' MRO affecting the lookup order of the following method(s): delete(), update(). You MUST add the following line to 'Test::DBIx::Class::Example::Schema::Result::GermanPhone' right after strict/warnings:
  use mro 'c3';


t/18-deploy-opts-sources.t: Schema Test::DBIx::Class::Example::Schema=HASH(0x5570d78b56e0) failed the 'valid_c3_composition' sanity check: Class 'Test::DBIx::Class::Example::Schema::Result::Job' was originally using the 'dfs' MRO affecting the lookup order of the following method(s): delete(), update(). You MUST add the following line to 'Test::DBIx::Class::Example::Schema::Result::Job' right after strict/warnings:
  use mro 'c3';


t/18-deploy-opts-sources.t: Schema Test::DBIx::Class::Example::Schema=HASH(0x5570d78b56e0) failed the 'valid_c3_composition' sanity check: Class 'Test::DBIx::Class::Example::Schema::Result::Person' was originally using the 'dfs' MRO affecting the lookup order of the following method(s): delete(), update(). You MUST add the following line to 'Test::DBIx::Class::Example::Schema::Result::Person' right after strict/warnings:
  use mro 'c3';


t/18-deploy-opts-sources.t: Schema Test::DBIx::Class::Example::Schema=HASH(0x5570d78b56e0) failed the 'valid_c3_composition' sanity check: Class 'Test::DBIx::Class::Example::Schema::Result::Person::Artist' was originally using the 'dfs' MRO affecting the lookup order of the following method(s): delete(), update(). You MUST add the following line to 'Test::DBIx::Class::Example::Schema::Result::Person::Artist' right after strict/warnings:
  use mro 'c3';


t/18-deploy-opts-sources.t: Schema Test::DBIx::Class::Example::Schema=HASH(0x5570d78b56e0) failed the 'valid_c3_composition' sanity check: Class 'Test::DBIx::Class::Example::Schema::Result::Person::Employee' was originally using the 'dfs' MRO affecting the lookup order of the following method(s): delete(), update(). You MUST add the following line to 'Test::DBIx::Class::Example::Schema::Result::Person::Employee' right after strict/warnings:
  use mro 'c3';


t/18-deploy-opts-sources.t: Schema Test::DBIx::Class::Example::Schema=HASH(0x5570d78b56e0) failed the 'valid_c3_composition' sanity check: Class 'Test::DBIx::Class::Example::Schema::Result::Phone' was originally using the 'dfs' MRO affecting the lookup order of the following method(s): delete(), update(). You MUST add the following line to 'Test::DBIx::Class::Example::Schema::Result::Phone' right after strict/warnings:
  use mro 'c3';


t/18-deploy-opts-sources.t: Schema Test::DBIx::Class::Example::Schema=HASH(0x5570d78b56e0) failed the 'valid_c3_composition' sanity check: Class 'Test::DBIx::Class::Example::Schema::Result::RussianPhone' was originally using the 'dfs' MRO affecting the lookup order of the following method(s): delete(), update(). You MUST add the following line to 'Test::DBIx::Class::Example::Schema::Result::RussianPhone' right after strict/warnings:
  use mro 'c3';

t/18-deploy-opts-sources.t .................... ok

t/19-deploy-opts-parser-args.t: Schema Test::DBIx::Class::Example::Schema=HASH(0x563f33cecc18) failed the 'valid_c3_composition' sanity check: Class 'Test::DBIx::Class::Example::Schema::Result::CD' was originally using the 'dfs' MRO affecting the lookup order of the following method(s): delete(), update(). You MUST add the following line to 'Test::DBIx::Class::Example::Schema::Result::CD' right after strict/warnings:
  use mro 'c3';


t/19-deploy-opts-parser-args.t: Schema Test::DBIx::Class::Example::Schema=HASH(0x563f33cecc18) failed the 'valid_c3_composition' sanity check: Class 'Test::DBIx::Class::Example::Schema::Result::CD::Artist' was originally using the 'dfs' MRO affecting the lookup order of the following method(s): delete(), update(). You MUST add the following line to 'Test::DBIx::Class::Example::Schema::Result::CD::Artist' right after strict/warnings:
  use mro 'c3';


t/19-deploy-opts-parser-args.t: Schema Test::DBIx::Class::Example::Schema=HASH(0x563f33cecc18) failed the 'valid_c3_composition' sanity check: Class 'Test::DBIx::Class::Example::Schema::Result::CD::Track' was originally using the 'dfs' MRO affecting the lookup order of the following method(s): delete(), update(). You MUST add the following line to 'Test::DBIx::Class::Example::Schema::Result::CD::Track' right after strict/warnings:
  use mro 'c3';


t/19-deploy-opts-parser-args.t: Schema Test::DBIx::Class::Example::Schema=HASH(0x563f33cecc18) failed the 'valid_c3_composition' sanity check: Class 'Test::DBIx::Class::Example::Schema::Result::Company' was originally using the 'dfs' MRO affecting the lookup order of the following method(s): delete(), update(). You MUST add the following line to 'Test::DBIx::Class::Example::Schema::Result::Company' right after strict/warnings:
  use mro 'c3';


t/19-deploy-opts-parser-args.t: Schema Test::DBIx::Class::Example::Schema=HASH(0x563f33cecc18) failed the 'valid_c3_composition' sanity check: Class 'Test::DBIx::Class::Example::Schema::Result::Company::Employee' was originally using the 'dfs' MRO affecting the lookup order of the following method(s): delete(), update(). You MUST add the following line to 'Test::DBIx::Class::Example::Schema::Result::Company::Employee' right after strict/warnings:
  use mro 'c3';


t/19-deploy-opts-parser-args.t: Schema Test::DBIx::Class::Example::Schema=HASH(0x563f33cecc18) failed the 'valid_c3_composition' sanity check: Class 'Test::DBIx::Class::Example::Schema::Result::GermanPhone' was originally using the 'dfs' MRO affecting the lookup order of the following method(s): delete(), update(). You MUST add the following line to 'Test::DBIx::Class::Example::Schema::Result::GermanPhone' right after strict/warnings:
  use mro 'c3';


t/19-deploy-opts-parser-args.t: Schema Test::DBIx::Class::Example::Schema=HASH(0x563f33cecc18) failed the 'valid_c3_composition' sanity check: Class 'Test::DBIx::Class::Example::Schema::Result::Job' was originally using the 'dfs' MRO affecting the lookup order of the following method(s): delete(), update(). You MUST add the following line to 'Test::DBIx::Class::Example::Schema::Result::Job' right after strict/warnings:
  use mro 'c3';


t/19-deploy-opts-parser-args.t: Schema Test::DBIx::Class::Example::Schema=HASH(0x563f33cecc18) failed the 'valid_c3_composition' sanity check: Class 'Test::DBIx::Class::Example::Schema::Result::Person' was originally using the 'dfs' MRO affecting the lookup order of the following method(s): delete(), update(). You MUST add the following line to 'Test::DBIx::Class::Example::Schema::Result::Person' right after strict/warnings:
  use mro 'c3';


t/19-deploy-opts-parser-args.t: Schema Test::DBIx::Class::Example::Schema=HASH(0x563f33cecc18) failed the 'valid_c3_composition' sanity check: Class 'Test::DBIx::Class::Example::Schema::Result::Person::Artist' was originally using the 'dfs' MRO affecting the lookup order of the following method(s): delete(), update(). You MUST add the following line to 'Test::DBIx::Class::Example::Schema::Result::Person::Artist' right after strict/warnings:
  use mro 'c3';


t/19-deploy-opts-parser-args.t: Schema Test::DBIx::Class::Example::Schema=HASH(0x563f33cecc18) failed the 'valid_c3_composition' sanity check: Class 'Test::DBIx::Class::Example::Schema::Result::Person::Employee' was originally using the 'dfs' MRO affecting the lookup order of the following method(s): delete(), update(). You MUST add the following line to 'Test::DBIx::Class::Example::Schema::Result::Person::Employee' right after strict/warnings:
  use mro 'c3';


t/19-deploy-opts-parser-args.t: Schema Test::DBIx::Class::Example::Schema=HASH(0x563f33cecc18) failed the 'valid_c3_composition' sanity check: Class 'Test::DBIx::Class::Example::Schema::Result::Phone' was originally using the 'dfs' MRO affecting the lookup order of the following method(s): delete(), update(). You MUST add the following line to 'Test::DBIx::Class::Example::Schema::Result::Phone' right after strict/warnings:
  use mro 'c3';


t/19-deploy-opts-parser-args.t: Schema Test::DBIx::Class::Example::Schema=HASH(0x563f33cecc18) failed the 'valid_c3_composition' sanity check: Class 'Test::DBIx::Class::Example::Schema::Result::RussianPhone' was originally using the 'dfs' MRO affecting the lookup order of the following method(s): delete(), update(). You MUST add the following line to 'Test::DBIx::Class::Example::Schema::Result::RussianPhone' right after strict/warnings:
  use mro 'c3';

t/19-deploy-opts-parser-args.t ................ ok

t/20-fixtures_ok_populate_hash.t: Schema Test::DBIx::Class::Example::Schema=HASH(0x557daa29d1a0) failed the 'valid_c3_composition' sanity check: Class 'Test::DBIx::Class::Example::Schema::Result::CD' was originally using the 'dfs' MRO affecting the lookup order of the following method(s): delete(), update(). You MUST add the following line to 'Test::DBIx::Class::Example::Schema::Result::CD' right after strict/warnings:
  use mro 'c3';


t/20-fixtures_ok_populate_hash.t: Schema Test::DBIx::Class::Example::Schema=HASH(0x557daa29d1a0) failed the 'valid_c3_composition' sanity check: Class 'Test::DBIx::Class::Example::Schema::Result::CD::Artist' was originally using the 'dfs' MRO affecting the lookup order of the following method(s): delete(), update(). You MUST add the following line to 'Test::DBIx::Class::Example::Schema::Result::CD::Artist' right after strict/warnings:
  use mro 'c3';


t/20-fixtures_ok_populate_hash.t: Schema Test::DBIx::Class::Example::Schema=HASH(0x557daa29d1a0) failed the 'valid_c3_composition' sanity check: Class 'Test::DBIx::Class::Example::Schema::Result::CD::Track' was originally using the 'dfs' MRO affecting the lookup order of the following method(s): delete(), update(). You MUST add the following line to 'Test::DBIx::Class::Example::Schema::Result::CD::Track' right after strict/warnings:
  use mro 'c3';


t/20-fixtures_ok_populate_hash.t: Schema Test::DBIx::Class::Example::Schema=HASH(0x557daa29d1a0) failed the 'valid_c3_composition' sanity check: Class 'Test::DBIx::Class::Example::Schema::Result::Company' was originally using the 'dfs' MRO affecting the lookup order of the following method(s): delete(), update(). You MUST add the following line to 'Test::DBIx::Class::Example::Schema::Result::Company' right after strict/warnings:
  use mro 'c3';


t/20-fixtures_ok_populate_hash.t: Schema Test::DBIx::Class::Example::Schema=HASH(0x557daa29d1a0) failed the 'valid_c3_composition' sanity check: Class 'Test::DBIx::Class::Example::Schema::Result::Company::Employee' was originally using the 'dfs' MRO affecting the lookup order of the following method(s): delete(), update(). You MUST add the following line to 'Test::DBIx::Class::Example::Schema::Result::Company::Employee' right after strict/warnings:
  use mro 'c3';


t/20-fixtures_ok_populate_hash.t: Schema Test::DBIx::Class::Example::Schema=HASH(0x557daa29d1a0) failed the 'valid_c3_composition' sanity check: Class 'Test::DBIx::Class::Example::Schema::Result::GermanPhone' was originally using the 'dfs' MRO affecting the lookup order of the following method(s): delete(), update(). You MUST add the following line to 'Test::DBIx::Class::Example::Schema::Result::GermanPhone' right after strict/warnings:
  use mro 'c3';


t/20-fixtures_ok_populate_hash.t: Schema Test::DBIx::Class::Example::Schema=HASH(0x557daa29d1a0) failed the 'valid_c3_composition' sanity check: Class 'Test::DBIx::Class::Example::Schema::Result::Job' was originally using the 'dfs' MRO affecting the lookup order of the following method(s): delete(), update(). You MUST add the following line to 'Test::DBIx::Class::Example::Schema::Result::Job' right after strict/warnings:
  use mro 'c3';


t/20-fixtures_ok_populate_hash.t: Schema Test::DBIx::Class::Example::Schema=HASH(0x557daa29d1a0) failed the 'valid_c3_composition' sanity check: Class 'Test::DBIx::Class::Example::Schema::Result::Person' was originally using the 'dfs' MRO affecting the lookup order of the following method(s): delete(), update(). You MUST add the following line to 'Test::DBIx::Class::Example::Schema::Result::Person' right after strict/warnings:
  use mro 'c3';


t/20-fixtures_ok_populate_hash.t: Schema Test::DBIx::Class::Example::Schema=HASH(0x557daa29d1a0) failed the 'valid_c3_composition' sanity check: Class 'Test::DBIx::Class::Example::Schema::Result::Person::Artist' was originally using the 'dfs' MRO affecting the lookup order of the following method(s): delete(), update(). You MUST add the following line to 'Test::DBIx::Class::Example::Schema::Result::Person::Artist' right after strict/warnings:
  use mro 'c3';


t/20-fixtures_ok_populate_hash.t: Schema Test::DBIx::Class::Example::Schema=HASH(0x557daa29d1a0) failed the 'valid_c3_composition' sanity check: Class 'Test::DBIx::Class::Example::Schema::Result::Person::Employee' was originally using the 'dfs' MRO affecting the lookup order of the following method(s): delete(), update(). You MUST add the following line to 'Test::DBIx::Class::Example::Schema::Result::Person::Employee' right after strict/warnings:
  use mro 'c3';


t/20-fixtures_ok_populate_hash.t: Schema Test::DBIx::Class::Example::Schema=HASH(0x557daa29d1a0) failed the 'valid_c3_composition' sanity check: Class 'Test::DBIx::Class::Example::Schema::Result::Phone' was originally using the 'dfs' MRO affecting the lookup order of the following method(s): delete(), update(). You MUST add the following line to 'Test::DBIx::Class::Example::Schema::Result::Phone' right after strict/warnings:
  use mro 'c3';


t/20-fixtures_ok_populate_hash.t: Schema Test::DBIx::Class::Example::Schema=HASH(0x557daa29d1a0) failed the 'valid_c3_composition' sanity check: Class 'Test::DBIx::Class::Example::Schema::Result::RussianPhone' was originally using the 'dfs' MRO affecting the lookup order of the following method(s): delete(), update(). You MUST add the following line to 'Test::DBIx::Class::Example::Schema::Result::RussianPhone' right after strict/warnings:
  use mro 'c3';

t/20-fixtures_ok_populate_hash.t .............. ok
t/stress_replication/10-replication-mysql.t ... skipped: STRESS_MYSQL_REPLICATION not set
t/stress_replication/11-replication-mysql.t ... skipped: STRESS_MYSQL_REPLICATION not set
t/stress_replication/12-replication-mysql.t ... skipped: STRESS_MYSQL_REPLICATION not set
t/stress_replication/13-replication-mysql.t ... skipped: STRESS_MYSQL_REPLICATION not set
t/stress_replication/14-replication-mysql.t ... skipped: STRESS_MYSQL_REPLICATION not set
t/stress_replication/15-replication-mysql.t ... skipped: STRESS_MYSQL_REPLICATION not set
All tests successful.
Files=30, Tests=182, 79 wallclock secs ( 0.12 usr  0.16 sys + 25.13 cusr  6.99 csys = 32.40 CPU)
Result: PASS

------------------------------
PREREQUISITES
------------------------------

Prerequisite modules loaded:

requires:

    Module                            Need    Have       
    --------------------------------- ------- -----------
    Config::Any                       0.19    0.32       
    Data::UUID                        1.215   1.221      
    Data::Visitor                     0.27    0.30       
    DBIx::Class                       0.08123 0.082899_15
    DBIx::Class::Schema::PopulateMore 0.16    0.19       
    DBIx::Class::TimeStamp            0.13    0.14       
    DBIx::Class::UUIDColumns          0.02005 0.02006    
    Digest::MD5                       2.39    2.55       
    File::Path                        0       2.14       
    File::Temp                        0       0.2304     
    Hash::Merge                       0.11    0.200_002  
    List::MoreUtils                   0.22    0.426      
    Module::Runtime                   0.013   0.015      
    Moose                             1.10    2.2006     
    MooseX::Attribute::ENV            0.01    0.02       
    MooseX::Types                     0.23    0.50       
    Path::Class                       0.21    0.37       
    Scalar::Util                      1.23    1.48       
    SQL::Translator                   0.11006 0.11021    
    Sub::Exporter                     0.982   0.987      
    Test::Builder                     0.96    1.302103   
    Test::Deep                        0.106   1.127      

build_requires:

    Module                            Need    Have       
    --------------------------------- ------- -----------
    ExtUtils::MakeMaker               0       7.30       
    File::Spec                        0       3.68       
    Test::More                        0.94    1.302103   

configure_requires:

    Module                            Need    Have       
    --------------------------------- ------- -----------
    ExtUtils::MakeMaker               0       7.30       


------------------------------
ENVIRONMENT AND OTHER CONTEXT
------------------------------

Environment variables:

    AUTOMATED_TESTING = 1
    LANG = en_US.UTF-8
    PATH = /home/sand/bin:/usr/local/bin:/usr/bin:/bin:/usr/games:/usr/local/perl/bin:/usr/X11/bin:/sbin:/usr/sbin
    PERL5LIB = /tmp/loop_over_bdir-28118-AR3Fj6/MooseX-Attribute-ENV-0.02-0/blib/arch:/tmp/loop_over_bdir-28118-AR3Fj6/MooseX-Attribute-ENV-0.02-0/blib/lib:/tmp/loop_over_bdir-28118-AR3Fj6/DBIx-Class-UUIDColumns-0.02006-0/blib/arch:/tmp/loop_over_bdir-28118-AR3Fj6/DBIx-Class-UUIDColumns-0.02006-0/blib/lib:/tmp/loop_over_bdir-28118-AR3Fj6/DBIx-Class-TimeStamp-0.14-0/blib/arch:/tmp/loop_over_bdir-28118-AR3Fj6/DBIx-Class-TimeStamp-0.14-0/blib/lib:/tmp/loop_over_bdir-28118-AR3Fj6/Time-Warp-0.52-0/blib/arch:/tmp/loop_over_bdir-28118-AR3Fj6/Time-Warp-0.52-0/blib/lib:/tmp/loop_over_bdir-28118-AR3Fj6/DBIx-Class-DynamicDefault-0.04-0/blib/arch:/tmp/loop_over_bdir-28118-AR3Fj6/DBIx-Class-DynamicDefault-0.04-0/blib/lib:/tmp/loop_over_bdir-28118-AR3Fj6/DBICx-TestDatabase-0.05-0/blib/arch:/tmp/loop_over_bdir-28118-AR3Fj6/DBICx-TestDatabase-0.05-0/blib/lib:/tmp/loop_over_bdir-28118-AR3Fj6/DBIx-Class-Schema-PopulateMore-0.19-0/blib/arch:/tmp/loop_over_bdir-28118-AR3Fj6/DBIx-Class-Schema-PopulateMore-0.19-0/blib/lib:/tmp/loop_over_bdir-28118-AR3Fj6/MooX-HandlesVia-0.001008-0/blib/arch:/tmp/loop_over_bdir-28118-AR3Fj6/MooX-HandlesVia-0.001008-0/blib/lib:/tmp/loop_over_bdir-28118-AR3Fj6/Data-Perl-0.002009-0/blib/arch:/tmp/loop_over_bdir-28118-AR3Fj6/Data-Perl-0.002009-0/blib/lib:/tmp/loop_over_bdir-28118-AR3Fj6/DateTimeX-Easy-0.089-0/blib/arch:/tmp/loop_over_bdir-28118-AR3Fj6/DateTimeX-Easy-0.089-0/blib/lib:/tmp/loop_over_bdir-28118-AR3Fj6/DateTime-Format-Natural-1.05-0/blib/arch:/tmp/loop_over_bdir-28118-AR3Fj6/DateTime-Format-Natural-1.05-0/blib/lib:/tmp/loop_over_bdir-28118-AR3Fj6/Module-Util-1.09-0/blib/arch:/tmp/loop_over_bdir-28118-AR3Fj6/Module-Util-1.09-0/blib/lib:/tmp/loop_over_bdir-28118-AR3Fj6/DateTime-Format-ICal-0.09-0/blib/arch:/tmp/loop_over_bdir-28118-AR3Fj6/DateTime-Format-ICal-0.09-0/blib/lib:/tmp/loop_over_bdir-28118-AR3Fj6/DateTime-Event-ICal-0.13-0/blib/arch:/tmp/loop_over_bdir-28118-AR3Fj6/DateTime-Event-ICal-0.13-0/blib/lib:/tmp/loop_over_bdir-28118-AR3Fj6/DateTime-Event-Recurrence-0.19-0/blib/arch:/tmp/loop_over_bdir-28118-AR3Fj6/DateTime-Event-Recurrence-0.19-0/blib/lib:/tmp/loop_over_bdir-28118-AR3Fj6/DateTime-Set-0.3900-0/blib/arch:/tmp/loop_over_bdir-28118-AR3Fj6/DateTime-Set-0.3900-0/blib/lib:/tmp/loop_over_bdir-28118-AR3Fj6/Set-Infinite-0.65-0/blib/arch:/tmp/loop_over_bdir-28118-AR3Fj6/Set-Infinite-0.65-0/blib/lib:/tmp/loop_over_bdir-28118-AR3Fj6/DateTime-Format-Flexible-0.28-0/blib/arch:/tmp/loop_over_bdir-28118-AR3Fj6/DateTime-Format-Flexible-0.28-0/blib/lib:/tmp/loop_over_bdir-28118-AR3Fj6/Catalyst-Model-DBIC-Schema-0.65-0/blib/arch:/tmp/loop_over_bdir-28118-AR3Fj6/Catalyst-Model-DBIC-Schema-0.65-0/blib/lib:/tmp/loop_over_bdir-28118-AR3Fj6/MooseX-Types-LoadableClass-0.015-0/blib/arch:/tmp/loop_over_bdir-28118-AR3Fj6/MooseX-Types-LoadableClass-0.015-0/blib/lib:/tmp/loop_over_bdir-28118-AR3Fj6/MooseX-MarkAsMethods-0.15-0/blib/arch:/tmp/loop_over_bdir-28118-AR3Fj6/MooseX-MarkAsMethods-0.15-0/blib/lib
    PERL5OPT = 
    PERL5_CPANPLUS_IS_RUNNING = 28137
    PERL5_CPAN_IS_RUNNING = 28137
    PERL5_CPAN_IS_RUNNING_IN_RECURSION = 1256,28137
    PERL_CANARY_STABILITY_NOPROMPT = 1
    PERL_MM_USE_DEFAULT = 1
    PERL_USE_UNSAFE_INC = 1
    SHELL = /usr/bin/zsh
    TERM = screen

Perl special variables (and OS-specific diagnostics, for MSWin32):

    $^X = /home/sand/src/perl/repoperls/installed-perls/host/k93msid/v5.27.3/d2d1/bin/perl
    $UID/$EUID = 1005 / 1005
    $GID = 1005 1005
    $EGID = 1005 1005

Perl module toolchain versions installed:

    Module              Have    
    ------------------- --------
    CPAN                2.18    
    CPAN::Meta          2.150010
    Cwd                 3.68    
    ExtUtils::CBuilder  0.280228
    ExtUtils::Command   7.30    
    ExtUtils::Install   2.14    
    ExtUtils::MakeMaker 7.30    
    ExtUtils::Manifest  1.70    
    ExtUtils::ParseXS   3.35    
    File::Spec          3.68    
    JSON                2.94    
    JSON::PP            2.94    
    Module::Build       0.4224  
    Module::Signature   0.81    
    Parse::CPAN::Meta   2.150010
    Test::Harness       3.39    
    Test::More          1.302103
    YAML                1.23    
    YAML::Syck          1.30    
    version             0.9918  


--

Summary of my perl5 (revision 5 version 27 subversion 3) configuration:
  Commit id: 7c9c5138c6a704d1caf5908650193f777b81ad23
  Platform:
    osname=linux
    osvers=4.12.0-2-amd64
    archname=x86_64-linux
    uname='linux k93msid 4.12.0-2-amd64 #1 smp debian 4.12.13-1 (2017-09-19) x86_64 gnulinux '
    config_args='-Dprefix=/home/sand/src/perl/repoperls/installed-perls/host/k93msid/v5.27.3/d2d1 -Dmyhostname=k93msid -Dinstallusrbinperl=n -Uversiononly -Dusedevel -des -Ui_db -Dlibswanted=cl pthread socket inet nsl gdbm dbm malloc dl ld sun m crypt sec util c cposix posix ucb BSD gdbm_compat -Uuseithreads -Uuselongdouble -DDEBUGGING=both'
    hint=recommended
    useposix=true
    d_sigaction=define
    useithreads=undef
    usemultiplicity=undef
    use64bitint=define
    use64bitall=define
    uselongdouble=undef
    usemymalloc=n
    default_inc_excludes_dot=define
    bincompat5005=undef
  Compiler:
    cc='cc'
    ccflags ='-fwrapv -DDEBUGGING -fno-strict-aliasing -pipe -fstack-protector-strong -I/usr/local/include -D_LARGEFILE_SOURCE -D_FILE_OFFSET_BITS=64 -D_FORTIFY_SOURCE=2'
    optimize='-O2 -g'
    cppflags='-fwrapv -DDEBUGGING -fno-strict-aliasing -pipe -fstack-protector-strong -I/usr/local/include'
    ccversion=''
    gccversion='7.2.0'
    gccosandvers=''
    intsize=4
    longsize=8
    ptrsize=8
    doublesize=8
    byteorder=12345678
    doublekind=3
    d_longlong=define
    longlongsize=8
    d_longdbl=define
    longdblsize=16
    longdblkind=3
    ivtype='long'
    ivsize=8
    nvtype='double'
    nvsize=8
    Off_t='off_t'
    lseeksize=8
    alignbytes=8
    prototype=define
  Linker and Libraries:
    ld='cc'
    ldflags =' -fstack-protector-strong -L/usr/local/lib'
    libpth=/usr/local/lib /usr/lib/gcc/x86_64-linux-gnu/7/include-fixed /usr/include/x86_64-linux-gnu /usr/lib /lib/x86_64-linux-gnu /lib/../lib /usr/lib/x86_64-linux-gnu /usr/lib/../lib /lib
    libs=-lpthread -lnsl -ldl -lm -lcrypt -lutil -lc
    perllibs=-lpthread -lnsl -ldl -lm -lcrypt -lutil -lc
    libc=libc-2.24.so
    so=so
    useshrplib=false
    libperl=libperl.a
    gnulibc_version='2.24'
  Dynamic Linking:
    dlsrc=dl_dlopen.xs
    dlext=so
    d_dlsymun=undef
    ccdlflags='-Wl,-E'
    cccdlflags='-fPIC'
    lddlflags='-shared -O2 -g -L/usr/local/lib -fstack-protector-strong'


Characteristics of this binary (from libperl): 
  Compile-time options:
    DEBUGGING
    HAS_TIMES
    PERLIO_LAYERS
    PERL_COPY_ON_WRITE
    PERL_DONT_CREATE_GVSV
    PERL_MALLOC_WRAP
    PERL_OP_PARENT
    PERL_PRESERVE_IVUV
    PERL_USE_DEVEL
    USE_64_BIT_ALL
    USE_64_BIT_INT
    USE_LARGE_FILES
    USE_LOCALE
    USE_LOCALE_COLLATE
    USE_LOCALE_CTYPE
    USE_LOCALE_NUMERIC
    USE_LOCALE_TIME
    USE_PERLIO
    USE_PERL_ATOF
  Built under linux
  Compiled at Oct  1 2017 22:45:52
  %ENV:
    PERL5LIB="/tmp/loop_over_bdir-28118-AR3Fj6/MooseX-Attribute-ENV-0.02-0/blib/arch:/tmp/loop_over_bdir-28118-AR3Fj6/MooseX-Attribute-ENV-0.02-0/blib/lib:/tmp/loop_over_bdir-28118-AR3Fj6/DBIx-Class-UUIDColumns-0.02006-0/blib/arch:/tmp/loop_over_bdir-28118-AR3Fj6/DBIx-Class-UUIDColumns-0.02006-0/blib/lib:/tmp/loop_over_bdir-28118-AR3Fj6/DBIx-Class-TimeStamp-0.14-0/blib/arch:/tmp/loop_over_bdir-28118-AR3Fj6/DBIx-Class-TimeStamp-0.14-0/blib/lib:/tmp/loop_over_bdir-28118-AR3Fj6/Time-Warp-0.52-0/blib/arch:/tmp/loop_over_bdir-28118-AR3Fj6/Time-Warp-0.52-0/blib/lib:/tmp/loop_over_bdir-28118-AR3Fj6/DBIx-Class-DynamicDefault-0.04-0/blib/arch:/tmp/loop_over_bdir-28118-AR3Fj6/DBIx-Class-DynamicDefault-0.04-0/blib/lib:/tmp/loop_over_bdir-28118-AR3Fj6/DBICx-TestDatabase-0.05-0/blib/arch:/tmp/loop_over_bdir-28118-AR3Fj6/DBICx-TestDatabase-0.05-0/blib/lib:/tmp/loop_over_bdir-28118-AR3Fj6/DBIx-Class-Schema-PopulateMore-0.19-0/blib/arch:/tmp/loop_over_bdir-28118-AR3Fj6/DBIx-Class-Schema-PopulateMore-0.19-0/blib/lib:/tmp/loop_over_bdir-28118-AR3Fj6/MooX-HandlesVia-0.001008-0/blib/arch:/tmp/loop_over_bdir-28118-AR3Fj6/MooX-HandlesVia-0.001008-0/blib/lib:/tmp/loop_over_bdir-28118-AR3Fj6/Data-Perl-0.002009-0/blib/arch:/tmp/loop_over_bdir-28118-AR3Fj6/Data-Perl-0.002009-0/blib/lib:/tmp/loop_over_bdir-28118-AR3Fj6/DateTimeX-Easy-0.089-0/blib/arch:/tmp/loop_over_bdir-28118-AR3Fj6/DateTimeX-Easy-0.089-0/blib/lib:/tmp/loop_over_bdir-28118-AR3Fj6/DateTime-Format-Natural-1.05-0/blib/arch:/tmp/loop_over_bdir-28118-AR3Fj6/DateTime-Format-Natural-1.05-0/blib/lib:/tmp/loop_over_bdir-28118-AR3Fj6/Module-Util-1.09-0/blib/arch:/tmp/loop_over_bdir-28118-AR3Fj6/Module-Util-1.09-0/blib/lib:/tmp/loop_over_bdir-28118-AR3Fj6/DateTime-Format-ICal-0.09-0/blib/arch:/tmp/loop_over_bdir-28118-AR3Fj6/DateTime-Format-ICal-0.09-0/blib/lib:/tmp/loop_over_bdir-28118-AR3Fj6/DateTime-Event-ICal-0.13-0/blib/arch:/tmp/loop_over_bdir-28118-AR3Fj6/DateTime-Event-ICal-0.13-0/blib/lib:/tmp/loop_over_bdir-28118-AR3Fj6/DateTime-Event-Recurrence-0.19-0/blib/arch:/tmp/loop_over_bdir-28118-AR3Fj6/DateTime-Event-Recurrence-0.19-0/blib/lib:/tmp/loop_over_bdir-28118-AR3Fj6/DateTime-Set-0.3900-0/blib/arch:/tmp/loop_over_bdir-28118-AR3Fj6/DateTime-Set-0.3900-0/blib/lib:/tmp/loop_over_bdir-28118-AR3Fj6/Set-Infinite-0.65-0/blib/arch:/tmp/loop_over_bdir-28118-AR3Fj6/Set-Infinite-0.65-0/blib/lib:/tmp/loop_over_bdir-28118-AR3Fj6/DateTime-Format-Flexible-0.28-0/blib/arch:/tmp/loop_over_bdir-28118-AR3Fj6/DateTime-Format-Flexible-0.28-0/blib/lib:/tmp/loop_over_bdir-28118-AR3Fj6/Catalyst-Model-DBIC-Schema-0.65-0/blib/arch:/tmp/loop_over_bdir-28118-AR3Fj6/Catalyst-Model-DBIC-Schema-0.65-0/blib/lib:/tmp/loop_over_bdir-28118-AR3Fj6/MooseX-Types-LoadableClass-0.015-0/blib/arch:/tmp/loop_over_bdir-28118-AR3Fj6/MooseX-Types-LoadableClass-0.015-0/blib/lib:/tmp/loop_over_bdir-28118-AR3Fj6/MooseX-MarkAsMethods-0.15-0/blib/arch:/tmp/loop_over_bdir-28118-AR3Fj6/MooseX-MarkAsMethods-0.15-0/blib/lib"
    PERL5OPT=""
    PERL5_CPANPLUS_IS_RUNNING="28137"
    PERL5_CPAN_IS_RUNNING="28137"
    PERL5_CPAN_IS_RUNNING_IN_RECURSION="1256,28137"
    PERL_CANARY_STABILITY_NOPROMPT="1"
    PERL_MM_USE_DEFAULT="1"
    PERL_USE_UNSAFE_INC="1"
  @INC:
    /tmp/loop_over_bdir-28118-AR3Fj6/MooseX-Attribute-ENV-0.02-0/blib/arch
    /tmp/loop_over_bdir-28118-AR3Fj6/MooseX-Attribute-ENV-0.02-0/blib/lib
    /tmp/loop_over_bdir-28118-AR3Fj6/DBIx-Class-UUIDColumns-0.02006-0/blib/arch
    /tmp/loop_over_bdir-28118-AR3Fj6/DBIx-Class-UUIDColumns-0.02006-0/blib/lib
    /tmp/loop_over_bdir-28118-AR3Fj6/DBIx-Class-TimeStamp-0.14-0/blib/arch
    /tmp/loop_over_bdir-28118-AR3Fj6/DBIx-Class-TimeStamp-0.14-0/blib/lib
    /tmp/loop_over_bdir-28118-AR3Fj6/Time-Warp-0.52-0/blib/arch
    /tmp/loop_over_bdir-28118-AR3Fj6/Time-Warp-0.52-0/blib/lib
    /tmp/loop_over_bdir-28118-AR3Fj6/DBIx-Class-DynamicDefault-0.04-0/blib/arch
    /tmp/loop_over_bdir-28118-AR3Fj6/DBIx-Class-DynamicDefault-0.04-0/blib/lib
    /tmp/loop_over_bdir-28118-AR3Fj6/DBICx-TestDatabase-0.05-0/blib/arch
    /tmp/loop_over_bdir-28118-AR3Fj6/DBICx-TestDatabase-0.05-0/blib/lib
    /tmp/loop_over_bdir-28118-AR3Fj6/DBIx-Class-Schema-PopulateMore-0.19-0/blib/arch
    /tmp/loop_over_bdir-28118-AR3Fj6/DBIx-Class-Schema-PopulateMore-0.19-0/blib/lib
    /tmp/loop_over_bdir-28118-AR3Fj6/MooX-HandlesVia-0.001008-0/blib/arch
    /tmp/loop_over_bdir-28118-AR3Fj6/MooX-HandlesVia-0.001008-0/blib/lib
    /tmp/loop_over_bdir-28118-AR3Fj6/Data-Perl-0.002009-0/blib/arch
    /tmp/loop_over_bdir-28118-AR3Fj6/Data-Perl-0.002009-0/blib/lib
    /tmp/loop_over_bdir-28118-AR3Fj6/DateTimeX-Easy-0.089-0/blib/arch
    /tmp/loop_over_bdir-28118-AR3Fj6/DateTimeX-Easy-0.089-0/blib/lib
    /tmp/loop_over_bdir-28118-AR3Fj6/DateTime-Format-Natural-1.05-0/blib/arch
    /tmp/loop_over_bdir-28118-AR3Fj6/DateTime-Format-Natural-1.05-0/blib/lib
    /tmp/loop_over_bdir-28118-AR3Fj6/Module-Util-1.09-0/blib/arch
    /tmp/loop_over_bdir-28118-AR3Fj6/Module-Util-1.09-0/blib/lib
    /tmp/loop_over_bdir-28118-AR3Fj6/DateTime-Format-ICal-0.09-0/blib/arch
    /tmp/loop_over_bdir-28118-AR3Fj6/DateTime-Format-ICal-0.09-0/blib/lib
    /tmp/loop_over_bdir-28118-AR3Fj6/DateTime-Event-ICal-0.13-0/blib/arch
    /tmp/loop_over_bdir-28118-AR3Fj6/DateTime-Event-ICal-0.13-0/blib/lib
    /tmp/loop_over_bdir-28118-AR3Fj6/DateTime-Event-Recurrence-0.19-0/blib/arch
    /tmp/loop_over_bdir-28118-AR3Fj6/DateTime-Event-Recurrence-0.19-0/blib/lib
    /tmp/loop_over_bdir-28118-AR3Fj6/DateTime-Set-0.3900-0/blib/arch
    /tmp/loop_over_bdir-28118-AR3Fj6/DateTime-Set-0.3900-0/blib/lib
    /tmp/loop_over_bdir-28118-AR3Fj6/Set-Infinite-0.65-0/blib/arch
    /tmp/loop_over_bdir-28118-AR3Fj6/Set-Infinite-0.65-0/blib/lib
    /tmp/loop_over_bdir-28118-AR3Fj6/DateTime-Format-Flexible-0.28-0/blib/arch
    /tmp/loop_over_bdir-28118-AR3Fj6/DateTime-Format-Flexible-0.28-0/blib/lib
    /tmp/loop_over_bdir-28118-AR3Fj6/Catalyst-Model-DBIC-Schema-0.65-0/blib/arch
    /tmp/loop_over_bdir-28118-AR3Fj6/Catalyst-Model-DBIC-Schema-0.65-0/blib/lib
    /tmp/loop_over_bdir-28118-AR3Fj6/MooseX-Types-LoadableClass-0.015-0/blib/arch
    /tmp/loop_over_bdir-28118-AR3Fj6/MooseX-Types-LoadableClass-0.015-0/blib/lib
    /tmp/loop_over_bdir-28118-AR3Fj6/MooseX-MarkAsMethods-0.15-0/blib/arch
    /tmp/loop_over_bdir-28118-AR3Fj6/MooseX-MarkAsMethods-0.15-0/blib/lib
    /home/sand/src/perl/repoperls/installed-perls/host/k93msid/v5.27.3/d2d1/lib/site_perl/5.27.3/x86_64-linux
    /home/sand/src/perl/repoperls/installed-perls/host/k93msid/v5.27.3/d2d1/lib/site_perl/5.27.3
    /home/sand/src/perl/repoperls/installed-perls/host/k93msid/v5.27.3/d2d1/lib/5.27.3/x86_64-linux
    /home/sand/src/perl/repoperls/installed-perls/host/k93msid/v5.27.3/d2d1/lib/5.27.3
    .