Filter-SQL v0.10 Perl 5 v5.12.1 OpenBSD.i386-openbsd-thread-multi
- Status
- Pass
- From
- Jeff Lavallee (JLAVALLEE)
- Dist
-
Filter-SQL v0.10
- Platform
- Perl 5 v5.12.1 OpenBSD.i386-openbsd-thread-multi
- Date
- 2010-08-22 03:25:34
- ID
- ece0c032-ad9c-11df-aa78-c81696cb063e
This distribution has been tested as part of the CPAN Testers
project, supporting the Perl programming language. See
http://wiki.cpantesters.org/ for more information or email
questions to cpan-testers-discuss@perl.org
--
Dear Kazuho Oku,
This is a computer-generated report for Filter-SQL-0.10
on perl 5.12.1, created by CPAN-Reporter-1.1711.
Thank you for uploading your work to CPAN. Congratulations!
All tests were successful.
Sections of this report:
* Tester comments
* Program output
* Prerequisites
* Environment and other context
------------------------------
TESTER COMMENTS
------------------------------
Additional comments from tester:
this report is from an automated smoke testing program
and was not reviewed by a human for accuracy
------------------------------
PROGRAM OUTPUT
------------------------------
Output from '/usr/bin/make test':
/usr/local/perl-5.12.1-threads/bin/perl "-Iinc" Makefile.PL --config= --installdeps=DBI,0,List::MoreUtils,0.21
Cannot determine perl version info from lib/Filter/SQL.pm
PERL_DL_NONLAZY=1 /usr/local/perl-5.12.1-threads/bin/perl "-MExtUtils::Command::MM" "-e" "test_harness(0, 'inc', 'blib/lib', 'blib/arch')" t/00-base.t t/01-simple.t t/02-mysql.t
t/00-base.t .... ok
t/01-simple.t .. skipped: Set FILTER_SQL_DBI to run these tests
t/02-mysql.t ... skipped: Skipping MySQL specific tests
All tests successful.
Files=3, Tests=8, 1 wallclock secs ( 0.10 usr 0.02 sys + 1.36 cusr 0.14 csys = 1.62 CPU)
Result: PASS
------------------------------
PREREQUISITES
------------------------------
Prerequisite modules loaded:
requires:
Module Need Have
------------------- ----- -----
Carp 0 1.16
DBI 0 1.613
ExtUtils::MakeMaker 6.56 6.56
Filter::Simple 0.82 0.84
List::MoreUtils 0.21 0.22
Text::Balanced 2.0.0 2.02
------------------------------
ENVIRONMENT AND OTHER CONTEXT
------------------------------
Environment variables:
AUTOMATED_TESTING = 1
PATH = /usr/bin:/bin:/usr/sbin:/sbin:/usr/X11R6/bin:/usr/local/bin
PERL5LIB = /home/smoke/.cpan/build/DBI-1.613-oAXZmL/blib/arch:/home/smoke/.cpan/build/DBI-1.613-oAXZmL/blib/lib:/home/smoke/.cpan/build/List-MoreUtils-0.22-9O43Ra/blib/arch:/home/smoke/.cpan/build/List-MoreUtils-0.22-9O43Ra/blib/lib
PERL5OPT =
PERL5_CPANPLUS_IS_RUNNING = 23305
PERL5_CPAN_IS_RUNNING = 23305
PERL5_CPAN_IS_RUNNING_IN_RECURSION = 30233,23305
PERL_CR_SMOKER_CURRENT = Filter-SQL-0.10
PERL_EXTUTILS_AUTOINSTALL = --defaultdeps
PERL_MM_USE_DEFAULT = 1
SHELL = /usr/local/bin/bash
TERM = screen
Perl special variables (and OS-specific diagnostics, for MSWin32):
$^X = /usr/local/perl-5.12.1-threads/bin/perl
$UID/$EUID = 1002 / 1002
$GID = 1002 1002
$EGID = 1002 1002
Perl module toolchain versions installed:
Module Have
------------------- -------
CPAN 1.94_56
Cwd 3.31
ExtUtils::CBuilder 0.27
ExtUtils::Command 1.16
ExtUtils::Install 1.55
ExtUtils::MakeMaker 6.56
ExtUtils::Manifest 1.57
ExtUtils::ParseXS 2.21
File::Spec 3.31
Module::Build 0.3603
Module::Signature n/a
Test::Harness 3.17
Test::More 0.94
YAML n/a
YAML::Syck n/a
version 0.82
--
Summary of my perl5 (revision 5 version 12 subversion 1) configuration:
Platform:
osname=openbsd, osvers=4.5, archname=OpenBSD.i386-openbsd-thread-multi
uname='openbsd minimunch.int.zeroclue.org 4.5 generic#1749 i386 '
config_args=''
hint=recommended, useposix=true, d_sigaction=define
useithreads=define, usemultiplicity=define
useperlio=define, d_sfio=undef, uselargefiles=define, usesocks=undef
use64bitint=undef, use64bitall=undef, uselongdouble=undef
usemymalloc=n, bincompat5005=undef
Compiler:
cc='cc', ccflags ='-pthread -fno-strict-aliasing -pipe -fstack-protector -I/usr/local/include',
optimize='-O2',
cppflags='-pthread -fno-strict-aliasing -pipe -fstack-protector -I/usr/local/include'
ccversion='', gccversion='3.3.5 (propolice)', gccosandvers='openbsd4.5'
intsize=4, longsize=4, ptrsize=4, doublesize=8, byteorder=1234
d_longlong=define, longlongsize=8, d_longdbl=define, longdblsize=12
ivtype='long', ivsize=4, nvtype='double', nvsize=8, Off_t='off_t', lseeksize=8
alignbytes=4, prototype=define
Linker and Libraries:
ld='cc', ldflags ='-pthread -Wl,-E -fstack-protector -L/usr/local/lib'
libpth=/usr/local/lib /usr/lib
libs=-lgdbm -lm -lutil -lc
perllibs=-lm -lutil -lc
libc=/usr/lib/libc.so.50.1, so=so, useshrplib=false, libperl=libperl.a
gnulibc_version=''
Dynamic Linking:
dlsrc=dl_dlopen.xs, dlext=so, d_dlsymun=undef, ccdlflags=' '
cccdlflags='-DPIC -fPIC ', lddlflags='-shared -fPIC -L/usr/local/lib -fstack-protector'
Characteristics of this binary (from libperl):
Compile-time options: MULTIPLICITY PERL_DONT_CREATE_GVSV
PERL_IMPLICIT_CONTEXT PERL_MALLOC_WRAP USE_ITHREADS
USE_LARGE_FILES USE_PERLIO USE_PERL_ATOF
USE_REENTRANT_API
Built under openbsd
Compiled at Jul 10 2010 15:48:57
%ENV:
PERL5LIB="/home/smoke/.cpan/build/DBI-1.613-oAXZmL/blib/arch:/home/smoke/.cpan/build/DBI-1.613-oAXZmL/blib/lib:/home/smoke/.cpan/build/List-MoreUtils-0.22-9O43Ra/blib/arch:/home/smoke/.cpan/build/List-MoreUtils-0.22-9O43Ra/blib/lib"
PERL5OPT=""
PERL5_CPANPLUS_IS_RUNNING="23305"
PERL5_CPAN_IS_RUNNING="23305"
PERL5_CPAN_IS_RUNNING_IN_RECURSION="30233,23305"
PERL_CR_SMOKER_CURRENT="Filter-SQL-0.10"
PERL_EXTUTILS_AUTOINSTALL="--defaultdeps"
PERL_MM_USE_DEFAULT="1"
@INC:
/home/smoke/.cpan/build/DBI-1.613-oAXZmL/blib/arch
/home/smoke/.cpan/build/DBI-1.613-oAXZmL/blib/lib
/home/smoke/.cpan/build/List-MoreUtils-0.22-9O43Ra/blib/arch
/home/smoke/.cpan/build/List-MoreUtils-0.22-9O43Ra/blib/lib
/usr/local/perl-5.12.1-threads/lib/site_perl/5.12.1/OpenBSD.i386-openbsd-thread-multi
/usr/local/perl-5.12.1-threads/lib/site_perl/5.12.1
/usr/local/perl-5.12.1-threads/lib/5.12.1/OpenBSD.i386-openbsd-thread-multi
/usr/local/perl-5.12.1-threads/lib/5.12.1
.