CPAN-Testers-Common-Client v0.14 Perl 5 v5.30.3 darwin-thread-multi-2level

Status
Pass
From
Dist
CPAN-Testers-Common-Client v0.14
Platform
Perl 5 v5.30.3 darwin-thread-multi-2level
Date
2022-03-12 08:25:07
ID
ecd94324-a1dd-11ec-8dff-33ddea3c7c4a
This distribution has been tested as part of the CPAN Testers
project, supporting the Perl programming language.  See
http://wiki.cpantesters.org/ for more information or email
questions to cpan-testers-discuss@perl.org


--
Dear GARU,

This is a computer-generated report for CPAN-Testers-Common-Client-0.14
on perl 5.30.3, created by App::cpanminus::reporter 0.17 (1.7044).

Thank you for uploading your work to CPAN.  Congratulations!
All tests were successful.

Sections of this report:

    * Tester comments
    * Program output
    * Prerequisites
    * Environment and other context

------------------------------
TESTER COMMENTS
------------------------------

Additional comments from tester:

none provided

------------------------------
PROGRAM OUTPUT
------------------------------

Output from '':

Building and testing CPAN-Testers-Common-Client-0.14
cp lib/CPAN/Testers/Common/Client/Config.pm blib/lib/CPAN/Testers/Common/Client/Config.pm
cp lib/CPAN/Testers/Common/Client/PrereqCheck.pm blib/lib/CPAN/Testers/Common/Client/PrereqCheck.pm
cp lib/CPAN/Testers/Common/Client.pm blib/lib/CPAN/Testers/Common/Client.pm
cp lib/CPAN/Testers/Common/Client/History.pm blib/lib/CPAN/Testers/Common/Client/History.pm
Manifying 4 pod documents
PERL_DL_NONLAZY=1 "/usr/bin/perl" "-MExtUtils::Command::MM" "-MTest::Harness" "-e" "undef *Test::Harness::Switches; test_harness(0, 'blib/lib', 'blib/arch')" t/*.t
# Testing CPAN::Testers::Common::Client 0.14
t/00.load.t ................. ok
t/01-basic.t ................ ok
t/02-config.t ............... ok
t/03-history.t .............. ok
t/03-undef-prereq-report.t .. ok
All tests successful.
Files=5, Tests=95,  2 wallclock secs ( 0.01 usr  0.01 sys +  0.89 cusr  0.21 csys =  1.12 CPU)
Result: PASS

------------------------------
PREREQUISITES
------------------------------

Prerequisite modules loaded:

    No requirements found

------------------------------
ENVIRONMENT AND OTHER CONTEXT
------------------------------

Environment variables:

    LANG = en_US.UTF-8
    LC_ALL = en_US.UTF-8
    LC_CTYPE = UTF-8
    PATH = /Users/dgkontopoulos/perl5/bin:/opt/homebrew/bin:/opt/homebrew/sbin:/usr/local/bin:/usr/bin:/bin:/usr/sbin:/sbin:/opt/X11/bin:/Users/dgkontopoulos/perl5/bin/:/Applications/Julia-1.6.app/Contents/Resources/julia/bin/
    PERL5LIB = /Users/dgkontopoulos/perl5/lib/perl5
    PERL_LOCAL_LIB_ROOT = /Users/dgkontopoulos/perl5
    PERL_MB_OPT = --install_base "/Users/dgkontopoulos/perl5"
    PERL_MM_OPT = INSTALL_BASE=/Users/dgkontopoulos/perl5
    SHELL = /bin/zsh
    TERM = xterm-256color
    TMPDIR = /var/folders/j4/0jzw2h3d2bl6mzxf4t552m7r0000gn/T/

Perl special variables (and OS-specific diagnostics, for MSWin32):

    EGID = 20 20 12 61 79 80 81 98 701 33 100 204 250 395 398 101 400
    EUID = 501
    EXECUTABLE_NAME = /usr/bin/perl
    GID = 20 20 12 61 79 80 81 98 701 33 100 204 250 395 398 101 400
    UID = 501

Perl module toolchain versions installed:

    Module              Have    
    ------------------- --------
    CPAN                2.22    
    CPAN::Meta          2.150010
    Cwd                 3.78    
    ExtUtils::CBuilder  0.280231
    ExtUtils::Command   7.34    
    ExtUtils::Install   2.14    
    ExtUtils::MakeMaker 7.34    
    ExtUtils::Manifest  1.72    
    ExtUtils::ParseXS   3.40    
    File::Spec          3.78    
    JSON                4.02    
    JSON::PP            4.02    
    Module::Build       0.4231  
    Module::Signature   n/a     
    Parse::CPAN::Meta   2.150010
    Test::Harness       3.42    
    Test::More          1.302162
    YAML                1.30    
    YAML::Syck          1.32    
    version             0.9924  


--

Summary of my perl5 (revision 5 version 30 subversion 3) configuration:
   
  Platform:
    osname=darwin
    osvers=21.0
    archname=darwin-thread-multi-2level
    uname='darwin bb-g9-pdb138.ta10.sd.apple.com 21.0 darwin kernel version 20.1.0: wed nov 3 12:44:24 pdt 2021; root:xnu-7195.41.8.100.10~1development_x86_64 x86_64 '
    config_args='-ds -e -Dprefix=/usr -Dccflags=-g  -pipe  -Dldflags= -Dman3ext=3pm -Duseithreads -Duseshrplib -Dinc_version_list=none -Dcc=cc'
    hint=recommended
    useposix=true
    d_sigaction=define
    useithreads=define
    usemultiplicity=define
    use64bitint=define
    use64bitall=define
    uselongdouble=undef
    usemymalloc=n
    default_inc_excludes_dot=define
    bincompat5005=undef
  Compiler:
    cc='cc'
    ccflags =' -g -pipe -fno-strict-aliasing -fstack-protector-strong -DPERL_USE_SAFE_PUTENV'
    optimize='-Os'
    cppflags='-g -pipe -fno-strict-aliasing -fstack-protector-strong'
    ccversion=''
    gccversion='Apple LLVM 13.0.0 (clang-1300.0.29.10) [+internal-os, ptrauth-isa=deployment-target-based]'
    gccosandvers=''
    intsize=4
    longsize=8
    ptrsize=8
    doublesize=8
    byteorder=12345678
    doublekind=3
    d_longlong=define
    longlongsize=8
    d_longdbl=define
    longdblsize=16
    longdblkind=3
    ivtype='long'
    ivsize=8
    nvtype='double'
    nvsize=8
    Off_t='off_t'
    lseeksize=8
    alignbytes=8
    prototype=define
  Linker and Libraries:
    ld='cc'
    ldflags =' -fstack-protector-strong'
    libpth=/System/Volumes/Data/SWE/macOS/BuildRoots/533514bb11/Applications/Xcode.app/Contents/Developer/Platforms/MacOSX.platform/Developer/SDKs/MacOSX12.2.Internal.sdk/usr/local/lib /System/Volumes/Data/SWE/macOS/BuildRoots/533514bb11/Applications/Xcode.app/Contents/Developer/Toolchains/OSX12.2.xctoolchain/usr/lib/clang/13.0.0/lib /System/Volumes/Data/SWE/macOS/BuildRoots/533514bb11/Applications/Xcode.app/Contents/Developer/Platforms/MacOSX.platform/Developer/SDKs/MacOSX12.2.Internal.sdk/usr/lib /System/Volumes/Data/SWE/macOS/BuildRoots/533514bb11/Applications/Xcode.app/Contents/Developer/Toolchains/OSX12.2.xctoolchain/usr/lib /System/Volumes/Data/SWE/macOS/BuildRoots/533514bb11/Applications/Xcode.app/Contents/Developer/Toolchains/XcodeDefault.xctoolchain/usr/lib /usr/lib /usr/local/lib
    libs= 
    perllibs=
    libc=
    so=dylib
    useshrplib=true
    libperl=libperl.dylib
    gnulibc_version=''
  Dynamic Linking:
    dlsrc=dl_dlopen.xs
    dlext=bundle
    d_dlsymun=undef
    ccdlflags=' '
    cccdlflags=' '
    lddlflags=' -bundle -undefined dynamic_lookup -fstack-protector-strong'


Characteristics of this binary (from libperl): 
  Compile-time options:
    HAS_TIMES
    MULTIPLICITY
    PERLIO_LAYERS
    PERL_COPY_ON_WRITE
    PERL_DONT_CREATE_GVSV
    PERL_IMPLICIT_CONTEXT
    PERL_MALLOC_WRAP
    PERL_OP_PARENT
    PERL_PRESERVE_IVUV
    PERL_USE_SAFE_PUTENV
    USE_64_BIT_ALL
    USE_64_BIT_INT
    USE_ITHREADS
    USE_LARGE_FILES
    USE_LOCALE
    USE_LOCALE_COLLATE
    USE_LOCALE_CTYPE
    USE_LOCALE_NUMERIC
    USE_LOCALE_TIME
    USE_PERLIO
    USE_PERL_ATOF
    USE_REENTRANT_API
    USE_THREAD_SAFE_LOCALE
  Locally applied patches:
    /Library/Perl/Updates/<version> comes before system perl directories
    installprivlib and installarchlib points to the Updates directory
  Built under darwin
  Compiled at Dec 17 2021 16:44:13
  %ENV:
    PERL5LIB="/Users/dgkontopoulos/perl5/lib/perl5"
    PERL_LOCAL_LIB_ROOT="/Users/dgkontopoulos/perl5"
    PERL_MB_OPT="--install_base "/Users/dgkontopoulos/perl5""
    PERL_MM_OPT="INSTALL_BASE=/Users/dgkontopoulos/perl5"
  @INC:
    /Users/dgkontopoulos/perl5/lib/perl5/5.30.3/darwin-thread-multi-2level
    /Users/dgkontopoulos/perl5/lib/perl5/5.30.3
    /Users/dgkontopoulos/perl5/lib/perl5/darwin-thread-multi-2level
    /Users/dgkontopoulos/perl5/lib/perl5
    /Library/Perl/5.30/darwin-thread-multi-2level
    /Library/Perl/5.30
    /Network/Library/Perl/5.30/darwin-thread-multi-2level
    /Network/Library/Perl/5.30
    /Library/Perl/Updates/5.30.3
    /System/Library/Perl/5.30/darwin-thread-multi-2level
    /System/Library/Perl/5.30
    /System/Library/Perl/Extras/5.30/darwin-thread-multi-2level
    /System/Library/Perl/Extras/5.30