Report for WebService-DataDog-1.0.3

Back
From: metabase:user:314402c4-2aae-11df-837a-5e0a49663a4f
Subject: PASS WebService-DataDog-1.0.3 v5.23.7 GNU/Linux
Date: 2016-01-25T13:24:13Z

This distribution has been tested as part of the CPAN Testers
project, supporting the Perl programming language.  See
http://wiki.cpantesters.org/ for more information or email
questions to cpan-testers-discuss@perl.org


--
Dear Jennifer Pinkham,

This is a computer-generated report for WebService-DataDog-1.0.3
on perl 5.23.7, created by CPAN-Reporter-1.2015.

Thank you for uploading your work to CPAN.  Congratulations!
All tests were successful.

Sections of this report:

    * Tester comments
    * Program output
    * Prerequisites
    * Environment and other context

------------------------------
TESTER COMMENTS
------------------------------

Additional comments from tester:

none provided

------------------------------
PROGRAM OUTPUT
------------------------------

Output from './Build test':

# Testing WebService::DataDog 1.0.3, Perl 5.023007, /bbbike/perl-5.23.7/bin/perl5.23.7
t/00-load.t .................... ok
t/10-new.t ..................... ok
t/15-build.t ................... skipped: Local connection information for DataDog required to run tests.
# Testing WebService::DataDog::Alert 1.0.3, Perl 5.023007, /bbbike/perl-5.23.7/bin/perl5.23.7
t/Alert/00-load.t .............. ok
t/Alert/10-retrieve_all.t ...... skipped: Local connection information for DataDog required to run tests.
t/Alert/20-create.t ............ skipped: Local connection information for DataDog required to run tests.
t/Alert/30-retrieve.t .......... skipped: Local connection information for DataDog required to run tests.
t/Alert/40-update.t ............ skipped: Local connection information for DataDog required to run tests.
t/Alert/50-mute_all.t .......... skipped: Local connection information for DataDog required to run tests.
t/Alert/60-unmute_all.t ........ skipped: Local connection information for DataDog required to run tests.
t/Alert/70-delete.t ............ skipped: Local connection information for DataDog required to run tests.
t/Alert/99-cleanup.t ........... ok
# Testing WebService::DataDog::Comment 1.0.3, Perl 5.023007, /bbbike/perl-5.23.7/bin/perl5.23.7
t/Comment/00-load.t ............ ok
t/Comment/10-create.t .......... skipped: Local connection information for DataDog required to run tests.
t/Comment/20-update.t .......... skipped: Local connection information for DataDog required to run tests.
t/Comment/30-delete.t .......... skipped: Local connection information for DataDog required to run tests.
t/Comment/99-cleanup.t ......... ok
# Testing WebService::DataDog::Dashboard 1.0.3, Perl 5.023007, /bbbike/perl-5.23.7/bin/perl5.23.7
t/Dashboard/00-load.t .......... ok
t/Dashboard/10-retrieve_all.t .. skipped: Local connection information for DataDog required to run tests.
t/Dashboard/20-create.t ........ skipped: Local connection information for DataDog required to run tests.
t/Dashboard/30-retrieve.t ...... skipped: Local connection information for DataDog required to run tests.
t/Dashboard/50-update.t ........ skipped: Local connection information for DataDog required to run tests.
t/Dashboard/60-delete.t ........ skipped: Local connection information for DataDog required to run tests.
t/Dashboard/99-cleanup.t ....... ok
# Testing WebService::DataDog::Event 1.0.3, Perl 5.023007, /bbbike/perl-5.23.7/bin/perl5.23.7
t/Event/00-load.t .............. ok
t/Event/20-search.t ............ skipped: Local connection information for DataDog required to run tests.
t/Event/30-retrieve.t .......... skipped: Local connection information for DataDog required to run tests.
t/Event/40-create.t ............ skipped: Local connection information for DataDog required to run tests.
t/Event/99-cleanup.t ........... ok
# Testing WebService::DataDog::Graph 1.0.3, Perl 5.023007, /bbbike/perl-5.23.7/bin/perl5.23.7
t/Graph/00-load.t .............. ok
t/Graph/10-snapshot.t .......... skipped: Local connection information for DataDog required to run tests.
# Testing WebService::DataDog::Metric 1.0.3, Perl 5.023007, /bbbike/perl-5.23.7/bin/perl5.23.7
t/Metric/00-load.t ............. ok
t/Metric/20-emit.t ............. skipped: Local connection information for DataDog required to run tests.
# Testing WebService::DataDog::Search 1.0.3, Perl 5.023007, /bbbike/perl-5.23.7/bin/perl5.23.7
t/Search/00-load.t ............. ok
t/Search/10-retrieve.t ......... skipped: Local connection information for DataDog required to run tests.
# Testing WebService::DataDog::Tag 1.0.3, Perl 5.023007, /bbbike/perl-5.23.7/bin/perl5.23.7
t/Tag/00-load.t ................ ok
t/Tag/10-retrieve_all.t ........ skipped: Local connection information for DataDog required to run tests.
t/Tag/20-retrieve.t ............ skipped: No tags found for the configured account.
t/Tag/30-update.t .............. skipped: No tags found for the configured account.
t/Tag/40-add.t ................. skipped: No tags found for the configured account.
t/Tag/50-delete.t .............. skipped: No tags found for the configured account.
t/Tag/99-cleanup.t ............. ok
# Testing WebService::DataDog::User 1.0.3, Perl 5.023007, /bbbike/perl-5.23.7/bin/perl5.23.7
t/User/00-load.t ............... ok
t/User/10-invite.t ............. skipped: Local connection information for DataDog required to run tests.
All tests successful.
Files=44, Tests=17,  4 wallclock secs ( 0.10 usr  0.24 sys +  2.90 cusr  0.77 csys =  4.01 CPU)
Result: PASS

------------------------------
PREREQUISITES
------------------------------

Prerequisite modules loaded:

requires:

    Module               Need   Have    
    -------------------- ------ --------
    Carp                 0      1.38    
    Class::Load          0      0.23    
    Data::Dumper         0      2.154   
    Data::Validate::Type v1.1.0 1.5.1   
    HTTP::Request        0      6.11    
    JSON                 0      2.90    
    LWP::UserAgent       0      6.15    
    perl                 5.006  5.023007
    Try::Tiny            0      0.24    

build_requires:

    Module               Need   Have    
    -------------------- ------ --------
    Scalar::Util         0      1.42_01 
    Storable             0      2.54    
    Test::FailWarnings   0      0.008   
    Test::Most           0      0.34    

configure_requires:

    Module               Need   Have    
    -------------------- ------ --------
    Module::Build        0      0.4216  


------------------------------
ENVIRONMENT AND OTHER CONTEXT
------------------------------

Environment variables:

    LANG = C
    LC_ALL = de_DE.UTF-8
    PATH = /usr/local/bin:/usr/bin:/bin:/usr/local/sbin:/usr/sbin:/sbin:/home/eserte/bin/linux-gnu:/home/eserte/bin/sh:/home/eserte/bin:/usr/games:/home/eserte/devel:/home/eserte/src/srezic-misc/scripts
    PERL5LIB = 
    PERL5OPT = 
    PERL5_CPANPLUS_IS_RUNNING = 11334
    PERL5_CPAN_IS_RUNNING = 11334
    PERL5_CPAN_IS_RUNNING_IN_RECURSION = 25124,11334
    PERLDOC = -MPod::Perldoc::ToTextOverstrike
    PERL_BATCH = yes
    PERL_CANARY_STABILITY_NOPROMPT = 1
    PERL_CPAN_REPORTER_CONFIG = /var/tmp/cpansmoker-1001/2016012506/cpanreporter_002_config.ini
    PERL_EXTUTILS_AUTOINSTALL = --defaultdeps
    PERL_PARALLEL_SMOKER = yes
    SHELL = /bin/zsh
    TERM = screen
    TMPDIR = /var/tmp/cpansmoker-1001/2016012506

Perl special variables (and OS-specific diagnostics, for MSWin32):

    $^X = /bbbike/perl-5.23.7/bin/perl5.23.7
    $UID/$EUID = 1001 / 1001
    $GID = 1001 109 1001
    $EGID = 1001 109 1001

Perl module toolchain versions installed:

    Module              Have    
    ------------------- --------
    CPAN                2.11    
    CPAN::Meta          2.150005
    Cwd                 3.62    
    ExtUtils::CBuilder  0.280224
    ExtUtils::Command   7.10    
    ExtUtils::Install   2.04    
    ExtUtils::MakeMaker 7.10    
    ExtUtils::Manifest  1.70    
    ExtUtils::ParseXS   3.30    
    File::Spec          3.62    
    JSON                2.90    
    JSON::PP            2.27300 
    Module::Build       0.4216  
    Module::Signature   0.79    
    Parse::CPAN::Meta   1.4417  
    Test::Harness       3.36    
    Test::More          1.001014
    YAML                1.15    
    YAML::Syck          1.29    
    version             0.9912  


--

Summary of my perl5 (revision 5 version 23 subversion 7) configuration:
   
  Platform:
    osname=linux, osvers=3.2.0-4-amd64, archname=x86_64-linux
    uname='linux eserte 3.2.0-4-amd64 #1 smp debian 3.2.73-2+deb7u2 x86_64 gnulinux '
    config_args='-ds -e -Dprefix=/opt/perl-5.23.7 -Dusedevel -Dusemallocwrap=no -Dcf_email=srezic@cpan.org'
    hint=recommended, useposix=true, d_sigaction=define
    useithreads=undef, usemultiplicity=undef
    use64bitint=define, use64bitall=define, uselongdouble=undef
    usemymalloc=n, bincompat5005=undef
  Compiler:
    cc='cc', ccflags ='-fwrapv -fno-strict-aliasing -pipe -fstack-protector -I/usr/local/include -D_LARGEFILE_SOURCE -D_FILE_OFFSET_BITS=64 -D_FORTIFY_SOURCE=2',
    optimize='-O2',
    cppflags='-fwrapv -fno-strict-aliasing -pipe -fstack-protector -I/usr/local/include'
    ccversion='', gccversion='4.7.2', gccosandvers=''
    intsize=4, longsize=8, ptrsize=8, doublesize=8, byteorder=12345678, doublekind=3
    d_longlong=define, longlongsize=8, d_longdbl=define, longdblsize=16, longdblkind=3
    ivtype='long', ivsize=8, nvtype='double', nvsize=8, Off_t='off_t', lseeksize=8
    alignbytes=8, prototype=define
  Linker and Libraries:
    ld='cc', ldflags =' -fstack-protector -L/usr/local/lib'
    libpth=/usr/local/lib /usr/lib/gcc/x86_64-linux-gnu/4.7/include-fixed /usr/include/x86_64-linux-gnu /usr/lib /lib/x86_64-linux-gnu /lib/../lib /usr/lib/x86_64-linux-gnu /usr/lib/../lib /lib
    libs=-lpthread -lnsl -ldb -ldl -lm -lcrypt -lutil -lc
    perllibs=-lpthread -lnsl -ldl -lm -lcrypt -lutil -lc
    libc=libc-2.13.so, so=so, useshrplib=false, libperl=libperl.a
    gnulibc_version='2.13'
  Dynamic Linking:
    dlsrc=dl_dlopen.xs, dlext=so, d_dlsymun=undef, ccdlflags='-Wl,-E'
    cccdlflags='-fPIC', lddlflags='-shared -O2 -L/usr/local/lib -fstack-protector'


Characteristics of this binary (from libperl): 
  Compile-time options: HAS_TIMES PERLIO_LAYERS PERL_COPY_ON_WRITE
                        PERL_DONT_CREATE_GVSV
                        PERL_HASH_FUNC_ONE_AT_A_TIME_HARD PERL_PRESERVE_IVUV
                        PERL_USE_DEVEL USE_64_BIT_ALL USE_64_BIT_INT
                        USE_LARGE_FILES USE_LOCALE USE_LOCALE_COLLATE
                        USE_LOCALE_CTYPE USE_LOCALE_NUMERIC USE_LOCALE_TIME
                        USE_PERLIO USE_PERL_ATOF
  Built under linux
  Compiled at Jan 20 2016 22:05:18
  %ENV:
    PERL5LIB=""
    PERL5OPT=""
    PERL5_CPANPLUS_IS_RUNNING="11334"
    PERL5_CPAN_IS_RUNNING="11334"
    PERL5_CPAN_IS_RUNNING_IN_RECURSION="25124,11334"
    PERLDOC="-MPod::Perldoc::ToTextOverstrike"
    PERL_BATCH="yes"
    PERL_CANARY_STABILITY_NOPROMPT="1"
    PERL_CPAN_REPORTER_CONFIG="/var/tmp/cpansmoker-1001/2016012506/cpanreporter_002_config.ini"
    PERL_EXTUTILS_AUTOINSTALL="--defaultdeps"
    PERL_PARALLEL_SMOKER="yes"
  @INC:
    /opt/perl-5.23.7/lib/site_perl/5.23.7/x86_64-linux
    /opt/perl-5.23.7/lib/site_perl/5.23.7
    /opt/perl-5.23.7/lib/5.23.7/x86_64-linux
    /opt/perl-5.23.7/lib/5.23.7
    .