Report for Path-FindDev-0.3.1

Back
From: metabase:user:f1a67388-c326-11df-83bd-eeb6a60ca1d3
Subject: PASS Path-FindDev-0.3.1 v5.16.2 GNU/Linux
Date: 2013-09-26T00:09:34Z

This distribution has been tested as part of the CPAN Testers
project, supporting the Perl programming language.  See
http://wiki.cpantesters.org/ for more information or email
questions to cpan-testers-discuss@perl.org


--
Dear Kent Fredric,

This is a computer-generated report for Path-FindDev-0.3.1
on perl 5.16.2, created by CPAN-Reporter-1.2010.

Thank you for uploading your work to CPAN.  Congratulations!
All tests were successful.

Sections of this report:

    * Tester comments
    * Program output
    * Prerequisites
    * Environment and other context

------------------------------
TESTER COMMENTS
------------------------------

Additional comments from tester:

none provided

------------------------------
PROGRAM OUTPUT
------------------------------

Output from './Build test':

t/00-compile.t ................ ok
# 
# 
# Generated by Dist::Zilla::Plugin::ReportVersions::Tiny v1.09
# perl: 5.016002 (wanted v5.10.0) on linux from /usr/bin/perl
# 
# Carp                                          => 1.32       (want any version)
# Class::Tiny                                   => 0.011      (want 0.010)  
# Dist::Zilla::PluginBundle::Author::KENTNL     => module not found. (want v1.8.3) 
# Dist::Zilla::PluginBundle::Author::KENTNL::Lite => module not found. (want v1.3.0) 
# File::Spec                                    => 3.40       (want any version)
# FindBin                                       => 1.51       (want any version)
# IO::Handle                                    => 1.33       (want any version)
# IPC::Open3                                    => 1.12       (want any version)
# Module::Build                                 => 0.4007     (want 0.4007) 
# Path::IsDev                                   => 0.3.2      (want v0.2.2) 
# Path::IsDev::Object                           => 0.3.2      (want any version)
# Path::Tiny                                    => 0.033      (want any version)
# Pod::Coverage::TrustPod                       => module not found. (want any version)
# Scalar::Util                                  => 1.32       (want any version)
# Sub::Exporter                                 => 0.986      (want any version)
# Test::CPAN::Changes                           => 0.23       (want 0.19)   
# Test::CPAN::Meta                              => module not found. (want any version)
# Test::Kwalitee                                => module not found. (want 1.08)   
# Test::More                                    => 0.98       (want 0.98)   
# Test::Pod                                     => 1.48       (want 1.41)   
# Test::Pod::Coverage                           => 1.08       (want 1.08)   
# strict                                        => 1.07       (want any version)
# version                                       => 0.9904     (want 0.9901) 
# warnings                                      => 1.13       (want any version)
# 
# Thanks for using my code.  I hope it works for you.
# If not, please try and include this output in the bug report.
# That will help me reproduce the issue and solve your problem.
# 
t/000-report-versions-tiny.t .. ok
t/basic.t ..................... ok
All tests successful.
Files=3, Tests=5,  1 wallclock secs ( 0.05 usr  0.02 sys +  0.48 cusr  0.15 csys =  0.70 CPU)
Result: PASS

------------------------------
PREREQUISITES
------------------------------

Prerequisite modules loaded:

requires:

    Module              Need    Have    
    ------------------- ------- --------
    Carp                0       1.32    
    Class::Tiny         0.010   0.011   
    File::Spec          0       3.40    
    Path::IsDev         v0.2.2  0.3.2   
    Path::IsDev::Object 0       0.3.2   
    Path::Tiny          0       0.033   
    perl                v5.10.0 5.016002
    Scalar::Util        0       1.32    
    strict              0       1.07    
    Sub::Exporter       0       0.986   
    warnings            0       1.13    

build_requires:

    Module              Need    Have    
    ------------------- ------- --------
    FindBin             0       1.51    
    IO::Handle          0       1.33    
    IPC::Open3          0       1.12    
    Module::Build       0.4007  0.4007  
    Test::More          0.98    0.98    

configure_requires:

    Module              Need    Have    
    ------------------- ------- --------
    Module::Build       0.4007  0.4007  


------------------------------
ENVIRONMENT AND OTHER CONTEXT
------------------------------

Environment variables:

    LANG = en_GB.UTF-8
    LANGUAGE = 
    LD_LIBRARY_PATH = /usr/lib64/mpi/gcc/openmpi/lib64
    PATH = /usr/local/cuda/bin:/data/mike/bin:/usr/local/cuda/bin:/usr/lib64/mpi/gcc/openmpi/bin:/home/mike/bin:/usr/local/bin:/usr/bin:/bin:/usr/bin/X11:/usr/X11R6/bin:/usr/games:/usr/lib/mit/bin:/usr/lib/mit/sbin
    PERL5LIB = 
    PERL5OPT = 
    PERL5_CPANPLUS_IS_RUNNING = 4168
    PERL5_CPAN_IS_RUNNING = 4168
    SHELL = /bin/bash
    TERM = xterm
    TMPDIR = /tmp

Perl special variables (and OS-specific diagnostics, for MSWin32):

    $^X = /usr/bin/perl
    $UID/$EUID = 1000 / 1000
    $GID = 100 100
    $EGID = 100 100

Perl module toolchain versions installed:

    Module              Have    
    ------------------- --------
    CPAN                2.00    
    CPAN::Meta          2.132661
    Cwd                 3.40    
    ExtUtils::CBuilder  0.280212
    ExtUtils::Command   1.18    
    ExtUtils::Install   1.58    
    ExtUtils::MakeMaker 6.78    
    ExtUtils::Manifest  1.63    
    ExtUtils::ParseXS   3.22    
    File::Spec          3.40    
    JSON                2.59    
    JSON::PP            2.27202 
    Module::Build       0.4007  
    Module::Signature   0.73    
    Parse::CPAN::Meta   1.4407  
    Test::Harness       3.28    
    Test::More          0.98    
    YAML                0.84    
    YAML::Syck          n/a     
    version             0.9904  


--

Summary of my perl5 (revision 5 version 16 subversion 2) configuration:
   
  Platform:
    osname=linux, osvers=3.4.6-2.10-xen, archname=x86_64-linux-thread-multi
    uname='linux build05 3.4.6-2.10-xen #1 smp thu jul 26 09:36:26 utc 2012 (641c197) x86_64 x86_64 x86_64 gnulinux '
    config_args='-ds -e -Dprefix=/usr -Dvendorprefix=/usr -Dinstallusrbinperl -Dusethreads -Di_db -Di_dbm -Di_ndbm -Di_gdbm -Dd_dbm_open -Duseshrplib=true -Doptimize=-fmessage-length=0 -O2 -Wall -D_FORTIFY_SOURCE=2 -fstack-protector -funwind-tables -fasynchronous-unwind-tables -g -Wall -pipe -Accflags=-DPERL_USE_SAFE_PUTENV -Dotherlibdirs=/usr/lib/perl5/site_perl'
    hint=recommended, useposix=true, d_sigaction=define
    useithreads=define, usemultiplicity=define
    useperlio=define, d_sfio=undef, uselargefiles=define, usesocks=undef
    use64bitint=define, use64bitall=define, uselongdouble=undef
    usemymalloc=n, bincompat5005=undef
  Compiler:
    cc='cc', ccflags ='-D_REENTRANT -D_GNU_SOURCE -DPERL_USE_SAFE_PUTENV -fno-strict-aliasing -pipe -fstack-protector -D_LARGEFILE_SOURCE -D_FILE_OFFSET_BITS=64',
    optimize='-fmessage-length=0 -O2 -Wall -D_FORTIFY_SOURCE=2 -fstack-protector -funwind-tables -fasynchronous-unwind-tables -g -Wall -pipe',
    cppflags='-D_REENTRANT -D_GNU_SOURCE -DPERL_USE_SAFE_PUTENV -fno-strict-aliasing -pipe -fstack-protector'
    ccversion='', gccversion='4.7.2 20130108 [gcc-4_7-branch revision 195012]', gccosandvers=''
    intsize=4, longsize=8, ptrsize=8, doublesize=8, byteorder=12345678
    d_longlong=define, longlongsize=8, d_longdbl=define, longdblsize=16
    ivtype='long', ivsize=8, nvtype='double', nvsize=8, Off_t='off_t', lseeksize=8
    alignbytes=8, prototype=define
  Linker and Libraries:
    ld='cc', ldflags =' -L/usr/local/lib64 -fstack-protector'
    libpth=/lib64 /usr/lib64 /usr/local/lib64
    libs=-lm -ldl -lcrypt -lpthread
    perllibs=-lm -ldl -lcrypt -lpthread
    libc=/lib64/libc-2.17.so, so=so, useshrplib=true, libperl=libperl.so
    gnulibc_version='2.17'
  Dynamic Linking:
    dlsrc=dl_dlopen.xs, dlext=so, d_dlsymun=undef, ccdlflags='-Wl,-E -Wl,-rpath,/usr/lib/perl5/5.16.2/x86_64-linux-thread-multi/CORE'
    cccdlflags='-fPIC', lddlflags='-shared -L/usr/local/lib64 -fstack-protector'


Characteristics of this binary (from libperl): 
  Compile-time options: HAS_TIMES MULTIPLICITY PERLIO_LAYERS
                        PERL_DONT_CREATE_GVSV PERL_IMPLICIT_CONTEXT
                        PERL_MALLOC_WRAP PERL_PRESERVE_IVUV
                        PERL_USE_SAFE_PUTENV USE_64_BIT_ALL USE_64_BIT_INT
                        USE_ITHREADS USE_LARGE_FILES USE_LOCALE
                        USE_LOCALE_COLLATE USE_LOCALE_CTYPE
                        USE_LOCALE_NUMERIC USE_PERLIO USE_PERL_ATOF
                        USE_REENTRANT_API
  Built under linux
  Compiled at Mar 11 2013 11:06:30
  %ENV:
    PERL5LIB=""
    PERL5OPT=""
    PERL5_CPANPLUS_IS_RUNNING="4168"
    PERL5_CPAN_IS_RUNNING="4168"
  @INC:
    /usr/lib/perl5/site_perl/5.16.2/x86_64-linux-thread-multi
    /usr/lib/perl5/site_perl/5.16.2
    /usr/lib/perl5/vendor_perl/5.16.2/x86_64-linux-thread-multi
    /usr/lib/perl5/vendor_perl/5.16.2
    /usr/lib/perl5/5.16.2/x86_64-linux-thread-multi
    /usr/lib/perl5/5.16.2
    /usr/lib/perl5/site_perl/5.16.2/x86_64-linux-thread-multi
    /usr/lib/perl5/site_perl/5.16.2
    /usr/lib/perl5/site_perl
    .