Report for DateTime-Format-Epoch-0.13

Back
From: metabase:user:3260881c-2aae-11df-837a-5e0a49663a4f
Subject: PASS DateTime-Format-Epoch-0.13 v5.14.2 GNU/Linux
Date: 2013-06-15T12:27:20Z

This distribution has been tested as part of the CPAN Testers
project, supporting the Perl programming language.  See
http://wiki.cpantesters.org/ for more information or email
questions to cpan-testers-discuss@perl.org


--
Dear Alexandr Ciornii,

This is a computer-generated report for DateTime-Format-Epoch-0.13
on perl 5.14.2, created by CPAN-Reporter-1.2009.

Thank you for uploading your work to CPAN.  Congratulations!
All tests were successful.

Sections of this report:

    * Tester comments
    * Program output
    * Prerequisites
    * Environment and other context

------------------------------
TESTER COMMENTS
------------------------------

Additional comments from tester:

none provided

------------------------------
PROGRAM OUTPUT
------------------------------

Output from './Build test':

# ==> DateTime version = 0.78
# ==> Math::BigInt version = 1.997
# ==> Math::BigInt lib = Math::BigInt::FastCalc
t/001_load.t .... ok
t/002_format.t .. ok
t/003_bigint.t .. ok
t/004_nano.t .... ok
t/005_leap.t .... ok
t/006_local.t ... ok
t/007_parse.t ... ok
t/008_dhms.t .... ok
t/101_load.t .... ok
t/102_format.t .. ok
t/201_load.t .... ok
t/202_format.t .. ok
t/301_load.t .... ok
t/302_format.t .. ok
t/303_parse.t ... ok
t/401_load.t .... ok
t/402_format.t .. ok
t/502_format.t .. ok
t/601_load.t .... ok
t/pod.t ......... ok
All tests successful.
Files=20, Tests=129,  4 wallclock secs ( 0.07 usr  0.04 sys +  3.07 cusr  0.25 csys =  3.43 CPU)
Result: PASS

------------------------------
PREREQUISITES
------------------------------

Prerequisite modules loaded:

requires:

    Module           Need    Have    
    ---------------- ------- --------
    DateTime         0.31    0.78    
    Math::BigInt     1.66    1.997   
    Params::Validate 0       1.07    
    perl             5.00503 5.014002

build_requires:

    Module           Need    Have    
    ---------------- ------- --------
    Test::More       0       0.98    


------------------------------
ENVIRONMENT AND OTHER CONTEXT
------------------------------

Environment variables:

    LANG = en_US.UTF-8
    LANGUAGE = en_US:en
    LC_COLLATE = en_US.UTF-8
    LC_CTYPE = en_US.UTF-8
    LC_MESSAGES = en_US.UTF-8
    LD_LIBRARY_PATH = /home/gabor/work/rakudo/parrot/blib/lib/
    PATH = /home/gabor/work/p6shell/bin:/home/gabor/work/rakudo/install/bin:/home/gabor/.perl6/bin:/home/gabor/bin:/home/gabor/perl-5.14.2-desktop/bin:/usr/lib/lightdm/lightdm:/usr/local/sbin:/usr/local/bin:/usr/sbin:/usr/bin:/sbin:/bin:/usr/games:/usr/local/games:/home/gabor/work/gabor/training/common/bin/
    PERL5LIB = 
    PERL5OPT = 
    PERL5_CPANPLUS_IS_RUNNING = 18210
    PERL5_CPAN_IS_RUNNING = 18210
    SHELL = /bin/bash
    TERM = xterm

Perl special variables (and OS-specific diagnostics, for MSWin32):

    $^X = /home/gabor/perl-5.14.2-desktop/bin/perl
    $UID/$EUID = 1000 / 1000
    $GID = 1000 4 20 24 46 104 115 120 1000
    $EGID = 1000 4 20 24 46 104 115 120 1000

Perl module toolchain versions installed:

    Module              Have    
    ------------------- --------
    CPAN                2.00    
    CPAN::Meta          2.120921
    Cwd                 3.40    
    ExtUtils::CBuilder  0.280205
    ExtUtils::Command   1.17    
    ExtUtils::Install   1.56    
    ExtUtils::MakeMaker 6.64    
    ExtUtils::Manifest  1.61    
    ExtUtils::ParseXS   3.18    
    File::Spec          3.40    
    JSON                2.53    
    JSON::PP            2.27200 
    Module::Build       0.4005  
    Module::Signature   0.70    
    Parse::CPAN::Meta   1.4404  
    Test::Harness       3.25    
    Test::More          0.98    
    YAML                0.84    
    YAML::Syck          1.22    
    version             0.9901  


--

Summary of my perl5 (revision 5 version 14 subversion 2) configuration:
   
  Platform:
    osname=linux, osvers=3.0.0-16-generic, archname=x86_64-linux-thread-multi
    uname='linux pm 3.0.0-16-generic #29-ubuntu smp tue feb 14 12:48:51 utc 2012 x86_64 x86_64 x86_64 gnulinux '
    config_args='-des -Dprefix=/home/gabor/perl-5.14.2-desktop -Duseithreads'
    hint=recommended, useposix=true, d_sigaction=define
    useithreads=define, usemultiplicity=define
    useperlio=define, d_sfio=undef, uselargefiles=define, usesocks=undef
    use64bitint=define, use64bitall=define, uselongdouble=undef
    usemymalloc=n, bincompat5005=undef
  Compiler:
    cc='cc', ccflags ='-D_REENTRANT -D_GNU_SOURCE -fno-strict-aliasing -pipe -fstack-protector -I/usr/local/include -D_LARGEFILE_SOURCE -D_FILE_OFFSET_BITS=64',
    optimize='-O2',
    cppflags='-D_REENTRANT -D_GNU_SOURCE -fno-strict-aliasing -pipe -fstack-protector -I/usr/local/include'
    ccversion='', gccversion='4.6.1', gccosandvers=''
    intsize=4, longsize=8, ptrsize=8, doublesize=8, byteorder=12345678
    d_longlong=define, longlongsize=8, d_longdbl=define, longdblsize=16
    ivtype='long', ivsize=8, nvtype='double', nvsize=8, Off_t='off_t', lseeksize=8
    alignbytes=8, prototype=define
  Linker and Libraries:
    ld='cc', ldflags =' -fstack-protector -L/usr/local/lib'
    libpth=/usr/local/lib /lib/x86_64-linux-gnu /lib/../lib /usr/lib/x86_64-linux-gnu /usr/lib/../lib /lib /usr/lib
    libs=-lnsl -ldl -lm -lcrypt -lutil -lpthread -lc
    perllibs=-lnsl -ldl -lm -lcrypt -lutil -lpthread -lc
    libc=, so=so, useshrplib=false, libperl=libperl.a
    gnulibc_version='2.13'
  Dynamic Linking:
    dlsrc=dl_dlopen.xs, dlext=so, d_dlsymun=undef, ccdlflags='-Wl,-E'
    cccdlflags='-fPIC', lddlflags='-shared -O2 -L/usr/local/lib -fstack-protector'


Characteristics of this binary (from libperl): 
  Compile-time options: MULTIPLICITY PERL_DONT_CREATE_GVSV
                        PERL_IMPLICIT_CONTEXT PERL_MALLOC_WRAP
                        PERL_PRESERVE_IVUV USE_64_BIT_ALL USE_64_BIT_INT
                        USE_ITHREADS USE_LARGE_FILES USE_PERLIO USE_PERL_ATOF
                        USE_REENTRANT_API
  Built under linux
  Compiled at Mar 17 2012 21:02:22
  %ENV:
    PERL5LIB=""
    PERL5OPT=""
    PERL5_CPANPLUS_IS_RUNNING="18210"
    PERL5_CPAN_IS_RUNNING="18210"
  @INC:
    /home/gabor/perl-5.14.2-desktop/lib/site_perl/5.14.2/x86_64-linux-thread-multi
    /home/gabor/perl-5.14.2-desktop/lib/site_perl/5.14.2
    /home/gabor/perl-5.14.2-desktop/lib/5.14.2/x86_64-linux-thread-multi
    /home/gabor/perl-5.14.2-desktop/lib/5.14.2
    .