Mail-Mbox-MessageParser v1.5111 Perl 5 v5.37.1 x86_64-linux-thread-multi
- Status
- Pass
- From
- Andreas J. König (ANDK)
- Dist
-
Mail-Mbox-MessageParser v1.5111
- Platform
- Perl 5 v5.37.1 x86_64-linux-thread-multi
- Date
- 2022-07-12 10:03:48
- ID
- ec5b06ca-01c9-11ed-8935-31452685f16d
This distribution has been tested as part of the CPAN Testers
project, supporting the Perl programming language. See
http://wiki.cpantesters.org/ for more information or email
questions to cpan-testers-discuss@perl.org
--
Dear David Coppit,
This is a computer-generated report for Mail-Mbox-MessageParser-1.5111
on perl 5.37.1, created by CPAN-Reporter-1.2018.
Thank you for uploading your work to CPAN. Congratulations!
All tests were successful.
Sections of this report:
* Tester comments
* Program output
* Prerequisites
* Environment and other context
------------------------------
TESTER COMMENTS
------------------------------
Additional comments from tester:
this report is from an automated smoke testing program
and was not reviewed by a human for accuracy
------------------------------
PROGRAM OUTPUT
------------------------------
Output from '/usr/bin/make test':
PERL_DL_NONLAZY=1 "/tmp/basesmoker-reloperl-MM5u/bin/perl" "-MExtUtils::Command::MM" "-MTest::Harness" "-e" "undef *Test::Harness::Switches; test_harness(1, 'blib/lib', 'blib/arch')" t/*.t
t/000_standard__compile.t .......
1..6
ok 1 - blib/lib/Mail/Mbox/MessageParser.pm compiles
ok 2 - blib/lib/Mail/Mbox/MessageParser/Grep.pm compiles
ok 3 - blib/lib/Mail/Mbox/MessageParser/Cache.pm compiles
ok 4 - blib/lib/Mail/Mbox/MessageParser/Config.pm compiles
ok 5 - blib/lib/Mail/Mbox/MessageParser/MetaInfo.pm compiles
ok 6 - blib/lib/Mail/Mbox/MessageParser/Perl.pm compiles
ok
t/000_standard__perl_critic.t ... skipped: Author test. Set $ENV{TEST_AUTHOR} to a true value to run.
t/000_standard__pod.t ...........
1..6
ok 1 - POD test for blib/lib/Mail/Mbox/MessageParser.pm
ok 2 - POD test for blib/lib/Mail/Mbox/MessageParser/Grep.pm
ok 3 - POD test for blib/lib/Mail/Mbox/MessageParser/Cache.pm
ok 4 - POD test for blib/lib/Mail/Mbox/MessageParser/Config.pm
ok 5 - POD test for blib/lib/Mail/Mbox/MessageParser/MetaInfo.pm
ok 6 - POD test for blib/lib/Mail/Mbox/MessageParser/Perl.pm
ok
t/000_standard__pod_coverage.t ..
1..6
ok 1 - Pod coverage on Mail::Mbox::MessageParser
ok 2 - Pod coverage on Mail::Mbox::MessageParser::Grep
ok 3 - Pod coverage on Mail::Mbox::MessageParser::Cache
ok 4 - Pod coverage on Mail::Mbox::MessageParser::Config
ok 5 - Pod coverage on Mail::Mbox::MessageParser::MetaInfo
ok 6 - Pod coverage on Mail::Mbox::MessageParser::Perl
ok
t/appended_mailbox.t ............
1..6
Testing modified mailbox with Perl implementation
Comparing /tmp/ELrt60EJ_M to t/mailboxes/mailarc-1.txt
Output /tmp/ELrt60EJ_M looks good.
ok 1 - Computing differences
Testing modified mailbox with Cache implementation
Comparing /tmp/CayyRI8y1y to t/mailboxes/mailarc-1.txt
Output /tmp/CayyRI8y1y looks good.
ok 2 - Computing differences
Testing modified mailbox with Grep implementation
ok 3 # skip GNU grep not available
Testing modified mailbox with Perl implementation
Comparing /tmp/kLgyo1W9__ to t/mailboxes/mailarc-1.txt
Output /tmp/kLgyo1W9__ looks good.
ok 4 - Computing differences
Testing modified mailbox with Cache implementation
Comparing /tmp/yiIdvwrQTf to t/mailboxes/mailarc-1.txt
Output /tmp/yiIdvwrQTf looks good.
ok 5 - Computing differences
Testing modified mailbox with Grep implementation
ok 6 # skip GNU grep not available
ok
t/bzip2.t .......................
1..1
Running test:
"/usr/bin/cat" "t/mailboxes/mailarc-2.txt.bz2" | "/usr/bin/bzip2" -cd
Comparing /tmp/5LGejH6LB1 to t/results/mailarc-2.txt
Output /tmp/5LGejH6LB1 looks good.
Comparing /tmp/yj0N_8gD5D to t/results/none
Output /tmp/yj0N_8gD5D looks good.
ok 1 - Computing differences
ok
t/endline.t .....................
1..8
Testing filename: t/mailboxes/mailarc-1-dos.txt
ok 1 - Dos endline expected
ok 2 - Dos endline expected
ok 3 - Dos endline expected
ok 4 # skip GNU grep not available
Testing filename: t/mailboxes/mailarc-1.txt
ok 5 - Unix endline expected
ok 6 - Unix endline expected
ok 7 - Unix endline expected
ok 8 # skip GNU grep not available
ok
t/filehandle_compressed.t .......
1..16
Testing filename: t/mailboxes/mailarc-2.txt.bz2
Comparing /tmp/Pl4q0sxFH1 to t/mailboxes/mailarc-2.txt
Output /tmp/Pl4q0sxFH1 looks good.
ok 1 - Computing differences
Comparing /tmp/zCZYPjP2Dy to t/mailboxes/mailarc-2.txt
Output /tmp/zCZYPjP2Dy looks good.
ok 2 - Computing differences
Comparing /tmp/pIj0InW2eH to t/mailboxes/mailarc-2.txt
Output /tmp/pIj0InW2eH looks good.
ok 3 - Computing differences
ok 4 # skip GNU grep not available
Testing filename: t/mailboxes/mailarc-2.txt.gz
Comparing /tmp/tihnhIxhKq to t/mailboxes/mailarc-2.txt
Output /tmp/tihnhIxhKq looks good.
ok 5 - Computing differences
Comparing /tmp/9Unyp3kPym to t/mailboxes/mailarc-2.txt
Output /tmp/9Unyp3kPym looks good.
ok 6 - Computing differences
Comparing /tmp/5cqDKOT1G6 to t/mailboxes/mailarc-2.txt
Output /tmp/5cqDKOT1G6 looks good.
ok 7 - Computing differences
ok 8 # skip GNU grep not available
Testing filename: t/mailboxes/mailarc-2.txt.lz
ok 9 # skip lzip not available
ok 10 # skip lzip not available
ok 11 # skip lzip not available
ok 12 # skip lzip not available
Testing filename: t/mailboxes/mailarc-2.txt.xz
Comparing /tmp/OGL29MBGph to t/mailboxes/mailarc-2.txt
Output /tmp/OGL29MBGph looks good.
ok 13 - Computing differences
Comparing /tmp/7oPpXjuihC to t/mailboxes/mailarc-2.txt
Output /tmp/7oPpXjuihC looks good.
ok 14 - Computing differences
Comparing /tmp/BY6DEY6o06 to t/mailboxes/mailarc-2.txt
Output /tmp/BY6DEY6o06 looks good.
ok 15 - Computing differences
ok 16 # skip GNU grep not available
ok
t/filehandle_noncompressed.t ....
1..44
Testing filename: t/mailboxes/binary_body.txt
Comparing /tmp/aVD7rwP_bx to t/mailboxes/binary_body.txt
Output /tmp/aVD7rwP_bx looks good.
ok 1 - Computing differences
Comparing /tmp/NexnMwbkEu to t/mailboxes/binary_body.txt
Output /tmp/NexnMwbkEu looks good.
ok 2 - Computing differences
Comparing /tmp/ZazlbBp1Hx to t/mailboxes/binary_body.txt
Output /tmp/ZazlbBp1Hx looks good.
ok 3 - Computing differences
ok 4 # skip GNU grep not available
Testing filename: t/mailboxes/hessbug.txt
Comparing /tmp/jk3mcw0iYj to t/mailboxes/hessbug.txt
Output /tmp/jk3mcw0iYj looks good.
ok 5 - Computing differences
Comparing /tmp/SvfVGukzS7 to t/mailboxes/hessbug.txt
Output /tmp/SvfVGukzS7 looks good.
ok 6 - Computing differences
Comparing /tmp/Fphh0Zby8i to t/mailboxes/hessbug.txt
Output /tmp/Fphh0Zby8i looks good.
ok 7 - Computing differences
ok 8 # skip GNU grep not available
Testing filename: t/mailboxes/invalid-boundaries.txt
Comparing /tmp/l71gPXdHzm to t/mailboxes/invalid-boundaries.txt
Output /tmp/l71gPXdHzm looks good.
ok 9 - Computing differences
Comparing /tmp/43r4EgoSre to t/mailboxes/invalid-boundaries.txt
Output /tmp/43r4EgoSre looks good.
ok 10 - Computing differences
Comparing /tmp/hhrRG9W1og to t/mailboxes/invalid-boundaries.txt
Output /tmp/hhrRG9W1og looks good.
ok 11 - Computing differences
ok 12 # skip GNU grep not available
Testing filename: t/mailboxes/mailarc-1-dos.txt
Comparing /tmp/oPzbBfEvaU to t/mailboxes/mailarc-1-dos.txt
Output /tmp/oPzbBfEvaU looks good.
ok 13 - Computing differences
Comparing /tmp/RcPdc5ezrq to t/mailboxes/mailarc-1-dos.txt
Output /tmp/RcPdc5ezrq looks good.
ok 14 - Computing differences
Comparing /tmp/5jq71nwsCq to t/mailboxes/mailarc-1-dos.txt
Output /tmp/5jq71nwsCq looks good.
ok 15 - Computing differences
ok 16 # skip GNU grep not available
Testing filename: t/mailboxes/mailarc-1.txt
Comparing /tmp/8FTvpLnTD9 to t/mailboxes/mailarc-1.txt
Output /tmp/8FTvpLnTD9 looks good.
ok 17 - Computing differences
Comparing /tmp/pOfZOyn2Qn to t/mailboxes/mailarc-1.txt
Output /tmp/pOfZOyn2Qn looks good.
ok 18 - Computing differences
Comparing /tmp/zn3RXeU69r to t/mailboxes/mailarc-1.txt
Output /tmp/zn3RXeU69r looks good.
ok 19 - Computing differences
ok 20 # skip GNU grep not available
Testing filename: t/mailboxes/mailarc-2.txt
Comparing /tmp/cId5W_8nHh to t/mailboxes/mailarc-2.txt
Output /tmp/cId5W_8nHh looks good.
ok 21 - Computing differences
Comparing /tmp/3W3NdxWWpV to t/mailboxes/mailarc-2.txt
Output /tmp/3W3NdxWWpV looks good.
ok 22 - Computing differences
Comparing /tmp/K4RQ3sk6Vd to t/mailboxes/mailarc-2.txt
Output /tmp/K4RQ3sk6Vd looks good.
ok 23 - Computing differences
ok 24 # skip GNU grep not available
Testing filename: t/mailboxes/mailarc-3.txt
Comparing /tmp/6MFAbo8GFl to t/mailboxes/mailarc-3.txt
Output /tmp/6MFAbo8GFl looks good.
ok 25 - Computing differences
Comparing /tmp/X7uhPhx5jp to t/mailboxes/mailarc-3.txt
Output /tmp/X7uhPhx5jp looks good.
ok 26 - Computing differences
Comparing /tmp/c6Dyml352u to t/mailboxes/mailarc-3.txt
Output /tmp/c6Dyml352u looks good.
ok 27 - Computing differences
ok 28 # skip GNU grep not available
Testing filename: t/mailboxes/mailseparators.txt
Comparing /tmp/a4BaSNvP_k to t/mailboxes/mailseparators.txt
Output /tmp/a4BaSNvP_k looks good.
ok 29 - Computing differences
Comparing /tmp/oehLWT9Xhv to t/mailboxes/mailseparators.txt
Output /tmp/oehLWT9Xhv looks good.
ok 30 - Computing differences
Comparing /tmp/9g6pwiFeWC to t/mailboxes/mailseparators.txt
Output /tmp/9g6pwiFeWC looks good.
ok 31 - Computing differences
ok 32 # skip GNU grep not available
Testing filename: t/mailboxes/malformed.txt
Comparing /tmp/MrdHXuKx12 to t/mailboxes/malformed.txt
Output /tmp/MrdHXuKx12 looks good.
ok 33 - Computing differences
Comparing /tmp/hC1ZghHVtl to t/mailboxes/malformed.txt
Output /tmp/hC1ZghHVtl looks good.
ok 34 - Computing differences
Comparing /tmp/5Q4XkrFI0r to t/mailboxes/malformed.txt
Output /tmp/5Q4XkrFI0r looks good.
ok 35 - Computing differences
ok 36 # skip GNU grep not available
Testing filename: t/mailboxes/newlines_at_beginning.txt
Comparing /tmp/bV8WsvkY8T to t/mailboxes/newlines_at_beginning.txt
Output /tmp/bV8WsvkY8T looks good.
ok 37 - Computing differences
Comparing /tmp/7o9UUBx_TE to t/mailboxes/newlines_at_beginning.txt
Output /tmp/7o9UUBx_TE looks good.
ok 38 - Computing differences
Comparing /tmp/RY4vSDSdLM to t/mailboxes/newlines_at_beginning.txt
Output /tmp/RY4vSDSdLM looks good.
ok 39 - Computing differences
ok 40 # skip GNU grep not available
Testing filename: t/mailboxes/vm-emacs.txt
Comparing /tmp/JNND964Sr9 to t/mailboxes/vm-emacs.txt
Output /tmp/JNND964Sr9 looks good.
ok 41 - Computing differences
Comparing /tmp/Y3ivP5Y4eD to t/mailboxes/vm-emacs.txt
Output /tmp/Y3ivP5Y4eD looks good.
ok 42 - Computing differences
Comparing /tmp/e68eYaJU6u to t/mailboxes/vm-emacs.txt
Output /tmp/e68eYaJU6u looks good.
ok 43 - Computing differences
ok 44 # skip GNU grep not available
ok
t/filename_compressed.t .........
1..4
Testing filename: t/mailboxes/mailarc-2.txt.bz2
Comparing /tmp/xhh8QQvJ_E to t/mailboxes/mailarc-2.txt
Output /tmp/xhh8QQvJ_E looks good.
ok 1 - Computing differences
Testing filename: t/mailboxes/mailarc-2.txt.gz
Comparing /tmp/6Ce3Lqg3X2 to t/mailboxes/mailarc-2.txt
Output /tmp/6Ce3Lqg3X2 looks good.
ok 2 - Computing differences
Testing filename: t/mailboxes/mailarc-2.txt.lz
ok 3 # skip lzip not available
Testing filename: t/mailboxes/mailarc-2.txt.xz
Comparing /tmp/gxKjKSiiJw to t/mailboxes/mailarc-2.txt
Output /tmp/gxKjKSiiJw looks good.
ok 4 - Computing differences
ok
t/filename_noncompressed.t ......
1..11
Testing filename: t/mailboxes/binary_body.txt
Comparing /tmp/vXba_BdULp to t/mailboxes/binary_body.txt
Output /tmp/vXba_BdULp looks good.
ok 1 - Computing differences
Testing filename: t/mailboxes/hessbug.txt
Comparing /tmp/ZCp2jUWpZS to t/mailboxes/hessbug.txt
Output /tmp/ZCp2jUWpZS looks good.
ok 2 - Computing differences
Testing filename: t/mailboxes/invalid-boundaries.txt
Comparing /tmp/LQMYoc6qB4 to t/mailboxes/invalid-boundaries.txt
Output /tmp/LQMYoc6qB4 looks good.
ok 3 - Computing differences
Testing filename: t/mailboxes/mailarc-1-dos.txt
Comparing /tmp/hMTxEzqcGZ to t/mailboxes/mailarc-1-dos.txt
Output /tmp/hMTxEzqcGZ looks good.
ok 4 - Computing differences
Testing filename: t/mailboxes/mailarc-1.txt
Comparing /tmp/FC_3r2_4xE to t/mailboxes/mailarc-1.txt
Output /tmp/FC_3r2_4xE looks good.
ok 5 - Computing differences
Testing filename: t/mailboxes/mailarc-2.txt
Comparing /tmp/YBpXIo6Xx3 to t/mailboxes/mailarc-2.txt
Output /tmp/YBpXIo6Xx3 looks good.
ok 6 - Computing differences
Testing filename: t/mailboxes/mailarc-3.txt
Comparing /tmp/vRgbWOnUmU to t/mailboxes/mailarc-3.txt
Output /tmp/vRgbWOnUmU looks good.
ok 7 - Computing differences
Testing filename: t/mailboxes/mailseparators.txt
Comparing /tmp/DGiIeEIrid to t/mailboxes/mailseparators.txt
Output /tmp/DGiIeEIrid looks good.
ok 8 - Computing differences
Testing filename: t/mailboxes/malformed.txt
Comparing /tmp/28vleCoaTl to t/mailboxes/malformed.txt
Output /tmp/28vleCoaTl looks good.
ok 9 - Computing differences
Testing filename: t/mailboxes/newlines_at_beginning.txt
Comparing /tmp/UQ1wrcFoXn to t/mailboxes/newlines_at_beginning.txt
Output /tmp/UQ1wrcFoXn looks good.
ok 10 - Computing differences
Testing filename: t/mailboxes/vm-emacs.txt
Comparing /tmp/1CjRGihgEV to t/mailboxes/vm-emacs.txt
Output /tmp/1CjRGihgEV looks good.
ok 11 - Computing differences
ok
t/grep.t ........................
1..4
Running test:
unset LC_ALL LC_COLLATE LANG LC_CTYPE LC_MESSAGES; grep --extended-regexp --line-number --byte-offset --binary-files=text "^From [^:]+(:[0-9][0-9]){1,2}( *([A-Z]{2,6}|[+-]?[0-9]{4})){1,3}( remote from .*)?
?$" t/mailboxes/mailarc-1.txt
ok 1 # skip 1
Running test:
unset LC_ALL LC_COLLATE LANG LC_CTYPE LC_MESSAGES; grep --extended-regexp --line-number --byte-offset --binary-files=text "^From [^:]+(:[0-9][0-9]){1,2}( *([A-Z]{2,6}|[+-]?[0-9]{4})){1,3}( remote from .*)?
?$" t/mailboxes/mailarc-2.txt
ok 2 # skip 1
Running test:
unset LC_ALL LC_COLLATE LANG LC_CTYPE LC_MESSAGES; grep --extended-regexp --line-number --byte-offset --binary-files=text "^From [^:]+(:[0-9][0-9]){1,2}( *([A-Z]{2,6}|[+-]?[0-9]{4})){1,3}( remote from .*)?
?$" t/mailboxes/mailarc-3.txt
ok 3 # skip 1
Running test:
unset LC_ALL LC_COLLATE LANG LC_CTYPE LC_MESSAGES; grep --extended-regexp --line-number --byte-offset --binary-files=text "^From [^:]+(:[0-9][0-9]){1,2}( *([A-Z]{2,6}|[+-]?[0-9]{4})){1,3}( remote from .*)?
?$" t/mailboxes/mailseparators.txt
ok 4 # skip 1
ok
t/gzip.t ........................
1..1
Running test:
"/usr/bin/cat" "t/mailboxes/mailarc-2.txt.gz" | "/usr/bin/gzip" -cd
Comparing /tmp/y8DJA6gm8b to t/results/mailarc-2.txt
Output /tmp/y8DJA6gm8b looks good.
Comparing /tmp/AhfQuXTZ5K to t/results/none
Output /tmp/AhfQuXTZ5K looks good.
ok 1 - Computing differences
ok
t/length.t ......................
1..30
Testing filename: t/mailboxes/binary_body.txt
Comparing /tmp/DTPprZvQn9 to t/results/length_binary_body.stdout
Output /tmp/DTPprZvQn9 looks good.
ok 1 - Computing differences
Comparing /tmp/7qH6KxGc01 to t/results/length_binary_body.stdout
Output /tmp/7qH6KxGc01 looks good.
ok 2 - Computing differences
ok 3 # skip GNU grep not available
Testing filename: t/mailboxes/hessbug.txt
Comparing /tmp/4tHurfk2C_ to t/results/length_hessbug.stdout
Output /tmp/4tHurfk2C_ looks good.
ok 4 - Computing differences
Comparing /tmp/RbgtCtn6nB to t/results/length_hessbug.stdout
Output /tmp/RbgtCtn6nB looks good.
ok 5 - Computing differences
ok 6 # skip GNU grep not available
Testing filename: t/mailboxes/invalid-boundaries.txt
Comparing /tmp/6ci6M_3k6T to t/results/length_invalid-boundaries.stdout
Output /tmp/6ci6M_3k6T looks good.
ok 7 - Computing differences
Comparing /tmp/WaCzHuHhbK to t/results/length_invalid-boundaries.stdout
Output /tmp/WaCzHuHhbK looks good.
ok 8 - Computing differences
ok 9 # skip GNU grep not available
Testing filename: t/mailboxes/mailarc-1-dos.txt
Comparing /tmp/oPIMjpeGfh to t/results/length_mailarc-1-dos.stdout
Output /tmp/oPIMjpeGfh looks good.
ok 10 - Computing differences
Comparing /tmp/96Q40YuIG3 to t/results/length_mailarc-1-dos.stdout
Output /tmp/96Q40YuIG3 looks good.
ok 11 - Computing differences
ok 12 # skip GNU grep not available
Testing filename: t/mailboxes/mailarc-1.txt
Comparing /tmp/H2UyXIZICf to t/results/length_mailarc-1.stdout
Output /tmp/H2UyXIZICf looks good.
ok 13 - Computing differences
Comparing /tmp/QU7plEqr9l to t/results/length_mailarc-1.stdout
Output /tmp/QU7plEqr9l looks good.
ok 14 - Computing differences
ok 15 # skip GNU grep not available
Testing filename: t/mailboxes/mailarc-2.txt
Comparing /tmp/5ASBk4p_2X to t/results/length_mailarc-2.stdout
Output /tmp/5ASBk4p_2X looks good.
ok 16 - Computing differences
Comparing /tmp/RJ7RyWKx4D to t/results/length_mailarc-2.stdout
Output /tmp/RJ7RyWKx4D looks good.
ok 17 - Computing differences
ok 18 # skip GNU grep not available
Testing filename: t/mailboxes/mailarc-3.txt
Comparing /tmp/9f89TnZkEx to t/results/length_mailarc-3.stdout
Output /tmp/9f89TnZkEx looks good.
ok 19 - Computing differences
Comparing /tmp/T2B3udlBKg to t/results/length_mailarc-3.stdout
Output /tmp/T2B3udlBKg looks good.
ok 20 - Computing differences
ok 21 # skip GNU grep not available
Testing filename: t/mailboxes/mailseparators.txt
Comparing /tmp/bRGF5dJ9kf to t/results/length_mailseparators.stdout
Output /tmp/bRGF5dJ9kf looks good.
ok 22 - Computing differences
Comparing /tmp/YGjKltt74T to t/results/length_mailseparators.stdout
Output /tmp/YGjKltt74T looks good.
ok 23 - Computing differences
ok 24 # skip GNU grep not available
Testing filename: t/mailboxes/malformed.txt
Comparing /tmp/U16OqlAbc1 to t/results/length_malformed.stdout
Output /tmp/U16OqlAbc1 looks good.
ok 25 - Computing differences
Comparing /tmp/xuwN7qW3ur to t/results/length_malformed.stdout
Output /tmp/xuwN7qW3ur looks good.
ok 26 - Computing differences
ok 27 # skip GNU grep not available
Testing filename: t/mailboxes/newlines_at_beginning.txt
Comparing /tmp/BVf3fsG2yw to t/results/length_newlines_at_beginning.stdout
Output /tmp/BVf3fsG2yw looks good.
ok 28 - Computing differences
Comparing /tmp/rZcvDvOLyH to t/results/length_newlines_at_beginning.stdout
Output /tmp/rZcvDvOLyH looks good.
ok 29 - Computing differences
ok 30 # skip GNU grep not available
ok
t/line_number.t .................
1..30
Testing filename: t/mailboxes/binary_body.txt
Comparing /tmp/gZJ_ECk0As to t/results/line_number_binary_body.stdout
Output /tmp/gZJ_ECk0As looks good.
ok 1 - Computing differences
Comparing /tmp/BQJcdv0pmt to t/results/line_number_binary_body.stdout
Output /tmp/BQJcdv0pmt looks good.
ok 2 - Computing differences
ok 3 # skip GNU grep not available
Testing filename: t/mailboxes/hessbug.txt
Comparing /tmp/FF_cg2qYpQ to t/results/line_number_hessbug.stdout
Output /tmp/FF_cg2qYpQ looks good.
ok 4 - Computing differences
Comparing /tmp/eziSUkZGOG to t/results/line_number_hessbug.stdout
Output /tmp/eziSUkZGOG looks good.
ok 5 - Computing differences
ok 6 # skip GNU grep not available
Testing filename: t/mailboxes/invalid-boundaries.txt
Comparing /tmp/SqJB3WW6ez to t/results/line_number_invalid-boundaries.stdout
Output /tmp/SqJB3WW6ez looks good.
ok 7 - Computing differences
Comparing /tmp/qOizkBFK4a to t/results/line_number_invalid-boundaries.stdout
Output /tmp/qOizkBFK4a looks good.
ok 8 - Computing differences
ok 9 # skip GNU grep not available
Testing filename: t/mailboxes/mailarc-1-dos.txt
Comparing /tmp/p3Aede_D4x to t/results/line_number_mailarc-1-dos.stdout
Output /tmp/p3Aede_D4x looks good.
ok 10 - Computing differences
Comparing /tmp/CrtGGMpUpc to t/results/line_number_mailarc-1-dos.stdout
Output /tmp/CrtGGMpUpc looks good.
ok 11 - Computing differences
ok 12 # skip GNU grep not available
Testing filename: t/mailboxes/mailarc-1.txt
Comparing /tmp/ftwoEBYRd0 to t/results/line_number_mailarc-1.stdout
Output /tmp/ftwoEBYRd0 looks good.
ok 13 - Computing differences
Comparing /tmp/2CfgbJf3vv to t/results/line_number_mailarc-1.stdout
Output /tmp/2CfgbJf3vv looks good.
ok 14 - Computing differences
ok 15 # skip GNU grep not available
Testing filename: t/mailboxes/mailarc-2.txt
Comparing /tmp/0OooP2JyO5 to t/results/line_number_mailarc-2.stdout
Output /tmp/0OooP2JyO5 looks good.
ok 16 - Computing differences
Comparing /tmp/syJ9kg3BVK to t/results/line_number_mailarc-2.stdout
Output /tmp/syJ9kg3BVK looks good.
ok 17 - Computing differences
ok 18 # skip GNU grep not available
Testing filename: t/mailboxes/mailarc-3.txt
Comparing /tmp/nggxnsfUAe to t/results/line_number_mailarc-3.stdout
Output /tmp/nggxnsfUAe looks good.
ok 19 - Computing differences
Comparing /tmp/e_zdBuLz1T to t/results/line_number_mailarc-3.stdout
Output /tmp/e_zdBuLz1T looks good.
ok 20 - Computing differences
ok 21 # skip GNU grep not available
Testing filename: t/mailboxes/mailseparators.txt
Comparing /tmp/M75VmXhQLt to t/results/line_number_mailseparators.stdout
Output /tmp/M75VmXhQLt looks good.
ok 22 - Computing differences
Comparing /tmp/PgsJ8RANro to t/results/line_number_mailseparators.stdout
Output /tmp/PgsJ8RANro looks good.
ok 23 - Computing differences
ok 24 # skip GNU grep not available
Testing filename: t/mailboxes/malformed.txt
Comparing /tmp/t8z9CMu9Od to t/results/line_number_malformed.stdout
Output /tmp/t8z9CMu9Od looks good.
ok 25 - Computing differences
Comparing /tmp/J4IneJmEpN to t/results/line_number_malformed.stdout
Output /tmp/J4IneJmEpN looks good.
ok 26 - Computing differences
ok 27 # skip GNU grep not available
Testing filename: t/mailboxes/newlines_at_beginning.txt
Comparing /tmp/u1SyH_4lyR to t/results/line_number_newlines_at_beginning.stdout
Output /tmp/u1SyH_4lyR looks good.
ok 28 - Computing differences
Comparing /tmp/yhLKpt4534 to t/results/line_number_newlines_at_beginning.stdout
Output /tmp/yhLKpt4534 looks good.
ok 29 - Computing differences
ok 30 # skip GNU grep not available
ok
t/lzip.t ........................
1..1
Running test:
"/usr/bin/cat" "t/mailboxes/mailarc-2.txt.lz" | "lzip" -cd
ok 1 # skip lzip not available
ok
t/number.t ......................
1..30
Testing filename: t/mailboxes/binary_body.txt
Comparing /tmp/aLLNH4cPLq to t/results/number_binary_body.stdout
Output /tmp/aLLNH4cPLq looks good.
ok 1 - Computing differences
Comparing /tmp/KvHapJ4wzl to t/results/number_binary_body.stdout
Output /tmp/KvHapJ4wzl looks good.
ok 2 - Computing differences
ok 3 # skip GNU grep not available
Testing filename: t/mailboxes/hessbug.txt
Comparing /tmp/SnYlfIvCBG to t/results/number_hessbug.stdout
Output /tmp/SnYlfIvCBG looks good.
ok 4 - Computing differences
Comparing /tmp/S2YzNaGfEw to t/results/number_hessbug.stdout
Output /tmp/S2YzNaGfEw looks good.
ok 5 - Computing differences
ok 6 # skip GNU grep not available
Testing filename: t/mailboxes/invalid-boundaries.txt
Comparing /tmp/wVa5AltNo5 to t/results/number_invalid-boundaries.stdout
Output /tmp/wVa5AltNo5 looks good.
ok 7 - Computing differences
Comparing /tmp/zb9SLtByZU to t/results/number_invalid-boundaries.stdout
Output /tmp/zb9SLtByZU looks good.
ok 8 - Computing differences
ok 9 # skip GNU grep not available
Testing filename: t/mailboxes/mailarc-1-dos.txt
Comparing /tmp/vYWY2EJ3I3 to t/results/number_mailarc-1-dos.stdout
Output /tmp/vYWY2EJ3I3 looks good.
ok 10 - Computing differences
Comparing /tmp/KDulZyo6tE to t/results/number_mailarc-1-dos.stdout
Output /tmp/KDulZyo6tE looks good.
ok 11 - Computing differences
ok 12 # skip GNU grep not available
Testing filename: t/mailboxes/mailarc-1.txt
Comparing /tmp/9qp_jCd5PE to t/results/number_mailarc-1.stdout
Output /tmp/9qp_jCd5PE looks good.
ok 13 - Computing differences
Comparing /tmp/tWkTfLNTVz to t/results/number_mailarc-1.stdout
Output /tmp/tWkTfLNTVz looks good.
ok 14 - Computing differences
ok 15 # skip GNU grep not available
Testing filename: t/mailboxes/mailarc-2.txt
Comparing /tmp/kyqVYQ7joU to t/results/number_mailarc-2.stdout
Output /tmp/kyqVYQ7joU looks good.
ok 16 - Computing differences
Comparing /tmp/J_xXLyaxyv to t/results/number_mailarc-2.stdout
Output /tmp/J_xXLyaxyv looks good.
ok 17 - Computing differences
ok 18 # skip GNU grep not available
Testing filename: t/mailboxes/mailarc-3.txt
Comparing /tmp/foyRdFt2eP to t/results/number_mailarc-3.stdout
Output /tmp/foyRdFt2eP looks good.
ok 19 - Computing differences
Comparing /tmp/hX169YEOla to t/results/number_mailarc-3.stdout
Output /tmp/hX169YEOla looks good.
ok 20 - Computing differences
ok 21 # skip GNU grep not available
Testing filename: t/mailboxes/mailseparators.txt
Comparing /tmp/7ISlKkgPrK to t/results/number_mailseparators.stdout
Output /tmp/7ISlKkgPrK looks good.
ok 22 - Computing differences
Comparing /tmp/jgcBcQlNZR to t/results/number_mailseparators.stdout
Output /tmp/jgcBcQlNZR looks good.
ok 23 - Computing differences
ok 24 # skip GNU grep not available
Testing filename: t/mailboxes/malformed.txt
Comparing /tmp/ZHD3_9tAHh to t/results/number_malformed.stdout
Output /tmp/ZHD3_9tAHh looks good.
ok 25 - Computing differences
Comparing /tmp/BRw3kUUIbO to t/results/number_malformed.stdout
Output /tmp/BRw3kUUIbO looks good.
ok 26 - Computing differences
ok 27 # skip GNU grep not available
Testing filename: t/mailboxes/newlines_at_beginning.txt
Comparing /tmp/_Mo5v5SxtO to t/results/number_newlines_at_beginning.stdout
Output /tmp/_Mo5v5SxtO looks good.
ok 28 - Computing differences
Comparing /tmp/DcdJTAkGa9 to t/results/number_newlines_at_beginning.stdout
Output /tmp/DcdJTAkGa9 looks good.
ok 29 - Computing differences
ok 30 # skip GNU grep not available
ok
t/offset.t ......................
1..30
Testing filename: t/mailboxes/binary_body.txt
Comparing /tmp/bY2Xkp3DT8 to t/results/offset_binary_body.stdout
Output /tmp/bY2Xkp3DT8 looks good.
ok 1 - Computing differences
Comparing /tmp/7qOkFJDpGv to t/results/offset_binary_body.stdout
Output /tmp/7qOkFJDpGv looks good.
ok 2 - Computing differences
ok 3 # skip GNU grep not available
Testing filename: t/mailboxes/hessbug.txt
Comparing /tmp/oNvyYJbnsK to t/results/offset_hessbug.stdout
Output /tmp/oNvyYJbnsK looks good.
ok 4 - Computing differences
Comparing /tmp/i2ozInjRUT to t/results/offset_hessbug.stdout
Output /tmp/i2ozInjRUT looks good.
ok 5 - Computing differences
ok 6 # skip GNU grep not available
Testing filename: t/mailboxes/invalid-boundaries.txt
Comparing /tmp/eiQo2ASGCr to t/results/offset_invalid-boundaries.stdout
Output /tmp/eiQo2ASGCr looks good.
ok 7 - Computing differences
Comparing /tmp/FAqlkBUeie to t/results/offset_invalid-boundaries.stdout
Output /tmp/FAqlkBUeie looks good.
ok 8 - Computing differences
ok 9 # skip GNU grep not available
Testing filename: t/mailboxes/mailarc-1-dos.txt
Comparing /tmp/aV4k3Cs793 to t/results/offset_mailarc-1-dos.stdout
Output /tmp/aV4k3Cs793 looks good.
ok 10 - Computing differences
Comparing /tmp/8tLY8ZKShg to t/results/offset_mailarc-1-dos.stdout
Output /tmp/8tLY8ZKShg looks good.
ok 11 - Computing differences
ok 12 # skip GNU grep not available
Testing filename: t/mailboxes/mailarc-1.txt
Comparing /tmp/MiLjCq_Xg6 to t/results/offset_mailarc-1.stdout
Output /tmp/MiLjCq_Xg6 looks good.
ok 13 - Computing differences
Comparing /tmp/ZXFT8MjUiu to t/results/offset_mailarc-1.stdout
Output /tmp/ZXFT8MjUiu looks good.
ok 14 - Computing differences
ok 15 # skip GNU grep not available
Testing filename: t/mailboxes/mailarc-2.txt
Comparing /tmp/Rn57Ql2TZX to t/results/offset_mailarc-2.stdout
Output /tmp/Rn57Ql2TZX looks good.
ok 16 - Computing differences
Comparing /tmp/k1vMCFOrxm to t/results/offset_mailarc-2.stdout
Output /tmp/k1vMCFOrxm looks good.
ok 17 - Computing differences
ok 18 # skip GNU grep not available
Testing filename: t/mailboxes/mailarc-3.txt
Comparing /tmp/OOy0JV__eu to t/results/offset_mailarc-3.stdout
Output /tmp/OOy0JV__eu looks good.
ok 19 - Computing differences
Comparing /tmp/UxUbw5h94Y to t/results/offset_mailarc-3.stdout
Output /tmp/UxUbw5h94Y looks good.
ok 20 - Computing differences
ok 21 # skip GNU grep not available
Testing filename: t/mailboxes/mailseparators.txt
Comparing /tmp/Fq8IhWy9Bx to t/results/offset_mailseparators.stdout
Output /tmp/Fq8IhWy9Bx looks good.
ok 22 - Computing differences
Comparing /tmp/NR6LWrXk3N to t/results/offset_mailseparators.stdout
Output /tmp/NR6LWrXk3N looks good.
ok 23 - Computing differences
ok 24 # skip GNU grep not available
Testing filename: t/mailboxes/malformed.txt
Comparing /tmp/c0FCmvHryV to t/results/offset_malformed.stdout
Output /tmp/c0FCmvHryV looks good.
ok 25 - Computing differences
Comparing /tmp/kZWmkOTKNc to t/results/offset_malformed.stdout
Output /tmp/kZWmkOTKNc looks good.
ok 26 - Computing differences
ok 27 # skip GNU grep not available
Testing filename: t/mailboxes/newlines_at_beginning.txt
Comparing /tmp/jxUyOnNWR5 to t/results/offset_newlines_at_beginning.stdout
Output /tmp/jxUyOnNWR5 looks good.
ok 28 - Computing differences
Comparing /tmp/mWXyuM5TTc to t/results/offset_newlines_at_beginning.stdout
Output /tmp/mWXyuM5TTc looks good.
ok 29 - Computing differences
ok 30 # skip GNU grep not available
ok
t/prologue.t ....................
1..33
Testing filename: t/mailboxes/binary_body.txt
Comparing /tmp/SmLCbDsOG1 to t/mailboxes/binary_body.txt
Output /tmp/SmLCbDsOG1 looks good.
ok 1 - Computing differences
Comparing /tmp/j5AtuJzSeJ to t/mailboxes/binary_body.txt
Output /tmp/j5AtuJzSeJ looks good.
ok 2 - Computing differences
ok 3 # skip GNU grep not available
Testing filename: t/mailboxes/hessbug.txt
Comparing /tmp/unuCD8W4ic to t/mailboxes/hessbug.txt
Output /tmp/unuCD8W4ic looks good.
ok 4 - Computing differences
Comparing /tmp/elNbQJBsVB to t/mailboxes/hessbug.txt
Output /tmp/elNbQJBsVB looks good.
ok 5 - Computing differences
ok 6 # skip GNU grep not available
Testing filename: t/mailboxes/invalid-boundaries.txt
Comparing /tmp/B5o47OUS2S to t/mailboxes/invalid-boundaries.txt
Output /tmp/B5o47OUS2S looks good.
ok 7 - Computing differences
Comparing /tmp/6XNDCO7q85 to t/mailboxes/invalid-boundaries.txt
Output /tmp/6XNDCO7q85 looks good.
ok 8 - Computing differences
ok 9 # skip GNU grep not available
Testing filename: t/mailboxes/mailarc-1-dos.txt
Comparing /tmp/XJLkCq5B02 to t/mailboxes/mailarc-1-dos.txt
Output /tmp/XJLkCq5B02 looks good.
ok 10 - Computing differences
Comparing /tmp/1cIcuHVqbY to t/mailboxes/mailarc-1-dos.txt
Output /tmp/1cIcuHVqbY looks good.
ok 11 - Computing differences
ok 12 # skip GNU grep not available
Testing filename: t/mailboxes/mailarc-1.txt
Comparing /tmp/ltaqe9_ScR to t/mailboxes/mailarc-1.txt
Output /tmp/ltaqe9_ScR looks good.
ok 13 - Computing differences
Comparing /tmp/b7pgb7DYuJ to t/mailboxes/mailarc-1.txt
Output /tmp/b7pgb7DYuJ looks good.
ok 14 - Computing differences
ok 15 # skip GNU grep not available
Testing filename: t/mailboxes/mailarc-2.txt
Comparing /tmp/logmeVdi6m to t/mailboxes/mailarc-2.txt
Output /tmp/logmeVdi6m looks good.
ok 16 - Computing differences
Comparing /tmp/BKJXCQNfDx to t/mailboxes/mailarc-2.txt
Output /tmp/BKJXCQNfDx looks good.
ok 17 - Computing differences
ok 18 # skip GNU grep not available
Testing filename: t/mailboxes/mailarc-3.txt
Comparing /tmp/Q9XTNlD7ih to t/mailboxes/mailarc-3.txt
Output /tmp/Q9XTNlD7ih looks good.
ok 19 - Computing differences
Comparing /tmp/2xsrzipjjk to t/mailboxes/mailarc-3.txt
Output /tmp/2xsrzipjjk looks good.
ok 20 - Computing differences
ok 21 # skip GNU grep not available
Testing filename: t/mailboxes/mailseparators.txt
Comparing /tmp/QRtnBqvm9r to t/mailboxes/mailseparators.txt
Output /tmp/QRtnBqvm9r looks good.
ok 22 - Computing differences
Comparing /tmp/YiecP1By37 to t/mailboxes/mailseparators.txt
Output /tmp/YiecP1By37 looks good.
ok 23 - Computing differences
ok 24 # skip GNU grep not available
Testing filename: t/mailboxes/malformed.txt
Comparing /tmp/Qz60saQeXE to t/mailboxes/malformed.txt
Output /tmp/Qz60saQeXE looks good.
ok 25 - Computing differences
Comparing /tmp/uUtOsaQ65V to t/mailboxes/malformed.txt
Output /tmp/uUtOsaQ65V looks good.
ok 26 - Computing differences
ok 27 # skip GNU grep not available
Testing filename: t/mailboxes/newlines_at_beginning.txt
Comparing /tmp/8hxT8vDBDW to t/mailboxes/newlines_at_beginning.txt
Output /tmp/8hxT8vDBDW looks good.
ok 28 - Computing differences
Comparing /tmp/qlgIIBsuV9 to t/mailboxes/newlines_at_beginning.txt
Output /tmp/qlgIIBsuV9 looks good.
ok 29 - Computing differences
ok 30 # skip GNU grep not available
Testing filename: t/mailboxes/vm-emacs.txt
Comparing /tmp/_pHSYAzNBY to t/mailboxes/vm-emacs.txt
Output /tmp/_pHSYAzNBY looks good.
ok 31 - Computing differences
Comparing /tmp/9EJZ3pWwYx to t/mailboxes/vm-emacs.txt
Output /tmp/9EJZ3pWwYx looks good.
ok 32 - Computing differences
ok 33 # skip GNU grep not available
ok
t/reset.t .......................
1..60
Testing filename: t/mailboxes/binary_body.txt
Testing partial mailbox reset with Perl implementation
Comparing /tmp/IipwzZ3u1a to t/results/reset_binary_body.stdout
Output /tmp/IipwzZ3u1a looks good.
ok 1 - Computing differences
Testing partial mailbox reset with Cache implementation
Comparing /tmp/4xazgiWZ9Q to t/results/reset_binary_body.stdout
Output /tmp/4xazgiWZ9Q looks good.
ok 2 - Computing differences
Testing partial mailbox reset with Grep implementation
ok 3 # skip GNU grep not available
Testing full mailbox reset with Perl implementation
Comparing /tmp/6BhHAnDnAY to t/results/reset_binary_body.stdout
Output /tmp/6BhHAnDnAY looks good.
ok 4 - Computing differences
Testing full mailbox reset with Cache implementation
Comparing /tmp/mzSuX3irZP to t/results/reset_binary_body.stdout
Output /tmp/mzSuX3irZP looks good.
ok 5 - Computing differences
Testing full mailbox reset with Grep implementation
ok 6 # skip GNU grep not available
Testing filename: t/mailboxes/hessbug.txt
Testing partial mailbox reset with Perl implementation
Comparing /tmp/YJykAHoNUa to t/results/reset_hessbug.stdout
Output /tmp/YJykAHoNUa looks good.
ok 7 - Computing differences
Testing partial mailbox reset with Cache implementation
Comparing /tmp/Jq6iDZqsAP to t/results/reset_hessbug.stdout
Output /tmp/Jq6iDZqsAP looks good.
ok 8 - Computing differences
Testing partial mailbox reset with Grep implementation
ok 9 # skip GNU grep not available
Testing full mailbox reset with Perl implementation
Comparing /tmp/9XKs8brff2 to t/results/reset_hessbug.stdout
Output /tmp/9XKs8brff2 looks good.
ok 10 - Computing differences
Testing full mailbox reset with Cache implementation
Comparing /tmp/YCIhTiOBOr to t/results/reset_hessbug.stdout
Output /tmp/YCIhTiOBOr looks good.
ok 11 - Computing differences
Testing full mailbox reset with Grep implementation
ok 12 # skip GNU grep not available
Testing filename: t/mailboxes/invalid-boundaries.txt
Testing partial mailbox reset with Perl implementation
Comparing /tmp/m6idV5W7hG to t/results/reset_invalid-boundaries.stdout
Output /tmp/m6idV5W7hG looks good.
ok 13 - Computing differences
Testing partial mailbox reset with Cache implementation
Comparing /tmp/uzk5i5vHQM to t/results/reset_invalid-boundaries.stdout
Output /tmp/uzk5i5vHQM looks good.
ok 14 - Computing differences
Testing partial mailbox reset with Grep implementation
ok 15 # skip GNU grep not available
Testing full mailbox reset with Perl implementation
Comparing /tmp/v8fWw39gG4 to t/results/reset_invalid-boundaries.stdout
Output /tmp/v8fWw39gG4 looks good.
ok 16 - Computing differences
Testing full mailbox reset with Cache implementation
Comparing /tmp/_EYRqeP_V3 to t/results/reset_invalid-boundaries.stdout
Output /tmp/_EYRqeP_V3 looks good.
ok 17 - Computing differences
Testing full mailbox reset with Grep implementation
ok 18 # skip GNU grep not available
Testing filename: t/mailboxes/mailarc-1-dos.txt
Testing partial mailbox reset with Perl implementation
Comparing /tmp/pARv4Wng5M to t/results/reset_mailarc-1-dos.stdout
Output /tmp/pARv4Wng5M looks good.
ok 19 - Computing differences
Testing partial mailbox reset with Cache implementation
Comparing /tmp/HrFTGKy_lz to t/results/reset_mailarc-1-dos.stdout
Output /tmp/HrFTGKy_lz looks good.
ok 20 - Computing differences
Testing partial mailbox reset with Grep implementation
ok 21 # skip GNU grep not available
Testing full mailbox reset with Perl implementation
Comparing /tmp/xkAbgLQHfl to t/results/reset_mailarc-1-dos.stdout
Output /tmp/xkAbgLQHfl looks good.
ok 22 - Computing differences
Testing full mailbox reset with Cache implementation
Comparing /tmp/cyh5Hb6RTA to t/results/reset_mailarc-1-dos.stdout
Output /tmp/cyh5Hb6RTA looks good.
ok 23 - Computing differences
Testing full mailbox reset with Grep implementation
ok 24 # skip GNU grep not available
Testing filename: t/mailboxes/mailarc-1.txt
Testing partial mailbox reset with Perl implementation
Comparing /tmp/TTwq3S7ozv to t/results/reset_mailarc-1.stdout
Output /tmp/TTwq3S7ozv looks good.
ok 25 - Computing differences
Testing partial mailbox reset with Cache implementation
Comparing /tmp/LSrx5STq28 to t/results/reset_mailarc-1.stdout
Output /tmp/LSrx5STq28 looks good.
ok 26 - Computing differences
Testing partial mailbox reset with Grep implementation
ok 27 # skip GNU grep not available
Testing full mailbox reset with Perl implementation
Comparing /tmp/wPl6GqggR1 to t/results/reset_mailarc-1.stdout
Output /tmp/wPl6GqggR1 looks good.
ok 28 - Computing differences
Testing full mailbox reset with Cache implementation
Comparing /tmp/TBLv1aB7H3 to t/results/reset_mailarc-1.stdout
Output /tmp/TBLv1aB7H3 looks good.
ok 29 - Computing differences
Testing full mailbox reset with Grep implementation
ok 30 # skip GNU grep not available
Testing filename: t/mailboxes/mailarc-2.txt
Testing partial mailbox reset with Perl implementation
Comparing /tmp/YZNVCC0t5L to t/results/reset_mailarc-2.stdout
Output /tmp/YZNVCC0t5L looks good.
ok 31 - Computing differences
Testing partial mailbox reset with Cache implementation
Comparing /tmp/45RovKFZMY to t/results/reset_mailarc-2.stdout
Output /tmp/45RovKFZMY looks good.
ok 32 - Computing differences
Testing partial mailbox reset with Grep implementation
ok 33 # skip GNU grep not available
Testing full mailbox reset with Perl implementation
Comparing /tmp/QZEYLCaFeM to t/results/reset_mailarc-2.stdout
Output /tmp/QZEYLCaFeM looks good.
ok 34 - Computing differences
Testing full mailbox reset with Cache implementation
Comparing /tmp/vgj0zxzbK2 to t/results/reset_mailarc-2.stdout
Output /tmp/vgj0zxzbK2 looks good.
ok 35 - Computing differences
Testing full mailbox reset with Grep implementation
ok 36 # skip GNU grep not available
Testing filename: t/mailboxes/mailarc-3.txt
Testing partial mailbox reset with Perl implementation
Comparing /tmp/B8vWHN_rcq to t/results/reset_mailarc-3.stdout
Output /tmp/B8vWHN_rcq looks good.
ok 37 - Computing differences
Testing partial mailbox reset with Cache implementation
Comparing /tmp/pqLuzvspW6 to t/results/reset_mailarc-3.stdout
Output /tmp/pqLuzvspW6 looks good.
ok 38 - Computing differences
Testing partial mailbox reset with Grep implementation
ok 39 # skip GNU grep not available
Testing full mailbox reset with Perl implementation
Comparing /tmp/FovQcIpDZY to t/results/reset_mailarc-3.stdout
Output /tmp/FovQcIpDZY looks good.
ok 40 - Computing differences
Testing full mailbox reset with Cache implementation
Comparing /tmp/4o7mbIeOL8 to t/results/reset_mailarc-3.stdout
Output /tmp/4o7mbIeOL8 looks good.
ok 41 - Computing differences
Testing full mailbox reset with Grep implementation
ok 42 # skip GNU grep not available
Testing filename: t/mailboxes/mailseparators.txt
Testing partial mailbox reset with Perl implementation
Comparing /tmp/TLjlz10Gw_ to t/results/reset_mailseparators.stdout
Output /tmp/TLjlz10Gw_ looks good.
ok 43 - Computing differences
Testing partial mailbox reset with Cache implementation
Comparing /tmp/7bvFN1ymhO to t/results/reset_mailseparators.stdout
Output /tmp/7bvFN1ymhO looks good.
ok 44 - Computing differences
Testing partial mailbox reset with Grep implementation
ok 45 # skip GNU grep not available
Testing full mailbox reset with Perl implementation
Comparing /tmp/ixXg9SWic8 to t/results/reset_mailseparators.stdout
Output /tmp/ixXg9SWic8 looks good.
ok 46 - Computing differences
Testing full mailbox reset with Cache implementation
Comparing /tmp/B_xtPlY1P1 to t/results/reset_mailseparators.stdout
Output /tmp/B_xtPlY1P1 looks good.
ok 47 - Computing differences
Testing full mailbox reset with Grep implementation
ok 48 # skip GNU grep not available
Testing filename: t/mailboxes/malformed.txt
Testing partial mailbox reset with Perl implementation
Comparing /tmp/xw4Vihreed to t/results/reset_malformed.stdout
Output /tmp/xw4Vihreed looks good.
ok 49 - Computing differences
Testing partial mailbox reset with Cache implementation
Comparing /tmp/rjo7RJHCiJ to t/results/reset_malformed.stdout
Output /tmp/rjo7RJHCiJ looks good.
ok 50 - Computing differences
Testing partial mailbox reset with Grep implementation
ok 51 # skip GNU grep not available
Testing full mailbox reset with Perl implementation
Comparing /tmp/T4wbEAp7Lv to t/results/reset_malformed.stdout
Output /tmp/T4wbEAp7Lv looks good.
ok 52 - Computing differences
Testing full mailbox reset with Cache implementation
Comparing /tmp/i8F5tCE7Qj to t/results/reset_malformed.stdout
Output /tmp/i8F5tCE7Qj looks good.
ok 53 - Computing differences
Testing full mailbox reset with Grep implementation
ok 54 # skip GNU grep not available
Testing filename: t/mailboxes/newlines_at_beginning.txt
Testing partial mailbox reset with Perl implementation
Comparing /tmp/VXemzFhnWf to t/results/reset_newlines_at_beginning.stdout
Output /tmp/VXemzFhnWf looks good.
ok 55 - Computing differences
Testing partial mailbox reset with Cache implementation
Comparing /tmp/wnVNaAOSvw to t/results/reset_newlines_at_beginning.stdout
Output /tmp/wnVNaAOSvw looks good.
ok 56 - Computing differences
Testing partial mailbox reset with Grep implementation
ok 57 # skip GNU grep not available
Testing full mailbox reset with Perl implementation
Comparing /tmp/cQN7uezrMr to t/results/reset_newlines_at_beginning.stdout
Output /tmp/cQN7uezrMr looks good.
ok 58 - Computing differences
Testing full mailbox reset with Cache implementation
Comparing /tmp/5OOSIKM47U to t/results/reset_newlines_at_beginning.stdout
Output /tmp/5OOSIKM47U looks good.
ok 59 - Computing differences
Testing full mailbox reset with Grep implementation
ok 60 # skip GNU grep not available
ok
t/separators.t ..................
1..6
Testing filename: t/mailboxes/separators1.sep
ok 1 - Number of emails in t/mailboxes/separators1.sep
ok 2 - Number of emails in t/mailboxes/separators1.sep
ok 3 # skip GNU grep not available
Testing filename: t/mailboxes/separators2.sep
ok 4 - Number of emails in t/mailboxes/separators2.sep
ok 5 - Number of emails in t/mailboxes/separators2.sep
ok 6 # skip GNU grep not available
ok
t/stdin_compressed.t ............
1..4
Testing filename: t/mailboxes/mailarc-2.txt.bz2
Comparing /tmp/r6joink_aj to t/mailboxes/mailarc-2.txt
Output /tmp/r6joink_aj looks good.
ok 1 - Computing differences
Testing filename: t/mailboxes/mailarc-2.txt.gz
Comparing /tmp/ns5f3UGQgl to t/mailboxes/mailarc-2.txt
Output /tmp/ns5f3UGQgl looks good.
ok 2 - Computing differences
Testing filename: t/mailboxes/mailarc-2.txt.lz
ok 3 # skip lzip not available
Testing filename: t/mailboxes/mailarc-2.txt.xz
Comparing /tmp/CpFjo4OKOa to t/mailboxes/mailarc-2.txt
Output /tmp/CpFjo4OKOa looks good.
ok 4 - Computing differences
ok
t/stdin_uncompressed.t ..........
1..11
Testing filename: t/mailboxes/binary_body.txt
Comparing /tmp/ytQJblmItl to t/mailboxes/binary_body.txt
Output /tmp/ytQJblmItl looks good.
ok 1 - Computing differences
Testing filename: t/mailboxes/hessbug.txt
Comparing /tmp/cgwSMrmNhv to t/mailboxes/hessbug.txt
Output /tmp/cgwSMrmNhv looks good.
ok 2 - Computing differences
Testing filename: t/mailboxes/invalid-boundaries.txt
Comparing /tmp/HLwlWNuAmT to t/mailboxes/invalid-boundaries.txt
Output /tmp/HLwlWNuAmT looks good.
ok 3 - Computing differences
Testing filename: t/mailboxes/mailarc-1-dos.txt
Comparing /tmp/f3AG6CR49f to t/mailboxes/mailarc-1-dos.txt
Output /tmp/f3AG6CR49f looks good.
ok 4 - Computing differences
Testing filename: t/mailboxes/mailarc-1.txt
Comparing /tmp/1vAdve9wRc to t/mailboxes/mailarc-1.txt
Output /tmp/1vAdve9wRc looks good.
ok 5 - Computing differences
Testing filename: t/mailboxes/mailarc-2.txt
Comparing /tmp/9q9Vg4V2LZ to t/mailboxes/mailarc-2.txt
Output /tmp/9q9Vg4V2LZ looks good.
ok 6 - Computing differences
Testing filename: t/mailboxes/mailarc-3.txt
Comparing /tmp/mWbh65Piog to t/mailboxes/mailarc-3.txt
Output /tmp/mWbh65Piog looks good.
ok 7 - Computing differences
Testing filename: t/mailboxes/mailseparators.txt
Comparing /tmp/x4s3eEDorF to t/mailboxes/mailseparators.txt
Output /tmp/x4s3eEDorF looks good.
ok 8 - Computing differences
Testing filename: t/mailboxes/malformed.txt
Comparing /tmp/nEdHcrcJNI to t/mailboxes/malformed.txt
Output /tmp/nEdHcrcJNI looks good.
ok 9 - Computing differences
Testing filename: t/mailboxes/newlines_at_beginning.txt
Comparing /tmp/BuEmnbrs23 to t/mailboxes/newlines_at_beginning.txt
Output /tmp/BuEmnbrs23 looks good.
ok 10 - Computing differences
Testing filename: t/mailboxes/vm-emacs.txt
Comparing /tmp/yh_0YIAiIh to t/mailboxes/vm-emacs.txt
Output /tmp/yh_0YIAiIh looks good.
ok 11 - Computing differences
ok
t/undef_return_value.t ..........
1..33
Testing Perl
Comparing /tmp/c1oOvSSAcq to t/mailboxes/binary_body.txt
Output /tmp/c1oOvSSAcq looks good.
ok 1 - Computing differences
Testing Cache implementation
Comparing /tmp/wJ2_wQf_Zz to t/mailboxes/binary_body.txt
Output /tmp/wJ2_wQf_Zz looks good.
ok 2 - Computing differences
ok 3 # skip GNU grep not available
Testing Perl
Comparing /tmp/5zM23tvZI8 to t/mailboxes/hessbug.txt
Output /tmp/5zM23tvZI8 looks good.
ok 4 - Computing differences
Testing Cache implementation
Comparing /tmp/vjoG7L3P60 to t/mailboxes/hessbug.txt
Output /tmp/vjoG7L3P60 looks good.
ok 5 - Computing differences
ok 6 # skip GNU grep not available
Testing Perl
Comparing /tmp/Otw1tye2qz to t/mailboxes/invalid-boundaries.txt
Output /tmp/Otw1tye2qz looks good.
ok 7 - Computing differences
Testing Cache implementation
Comparing /tmp/y5z068X2zR to t/mailboxes/invalid-boundaries.txt
Output /tmp/y5z068X2zR looks good.
ok 8 - Computing differences
ok 9 # skip GNU grep not available
Testing Perl
Comparing /tmp/OqiuRALNi2 to t/mailboxes/mailarc-1-dos.txt
Output /tmp/OqiuRALNi2 looks good.
ok 10 - Computing differences
Testing Cache implementation
Comparing /tmp/1evd1GAHaP to t/mailboxes/mailarc-1-dos.txt
Output /tmp/1evd1GAHaP looks good.
ok 11 - Computing differences
ok 12 # skip GNU grep not available
Testing Perl
Comparing /tmp/sGAGhRTOtd to t/mailboxes/mailarc-1.txt
Output /tmp/sGAGhRTOtd looks good.
ok 13 - Computing differences
Testing Cache implementation
Comparing /tmp/S6a6eEEGLI to t/mailboxes/mailarc-1.txt
Output /tmp/S6a6eEEGLI looks good.
ok 14 - Computing differences
ok 15 # skip GNU grep not available
Testing Perl
Comparing /tmp/x8LrRLve01 to t/mailboxes/mailarc-2.txt
Output /tmp/x8LrRLve01 looks good.
ok 16 - Computing differences
Testing Cache implementation
Comparing /tmp/CKl_6D17kZ to t/mailboxes/mailarc-2.txt
Output /tmp/CKl_6D17kZ looks good.
ok 17 - Computing differences
ok 18 # skip GNU grep not available
Testing Perl
Comparing /tmp/HB2Vr9Ra67 to t/mailboxes/mailarc-3.txt
Output /tmp/HB2Vr9Ra67 looks good.
ok 19 - Computing differences
Testing Cache implementation
Comparing /tmp/yZrV_r8mG7 to t/mailboxes/mailarc-3.txt
Output /tmp/yZrV_r8mG7 looks good.
ok 20 - Computing differences
ok 21 # skip GNU grep not available
Testing Perl
Comparing /tmp/lbghkpOtDk to t/mailboxes/mailseparators.txt
Output /tmp/lbghkpOtDk looks good.
ok 22 - Computing differences
Testing Cache implementation
Comparing /tmp/dhLcbe3BFd to t/mailboxes/mailseparators.txt
Output /tmp/dhLcbe3BFd looks good.
ok 23 - Computing differences
ok 24 # skip GNU grep not available
Testing Perl
Comparing /tmp/txqDNxo4RF to t/mailboxes/malformed.txt
Output /tmp/txqDNxo4RF looks good.
ok 25 - Computing differences
Testing Cache implementation
Comparing /tmp/KAdeVvbyyC to t/mailboxes/malformed.txt
Output /tmp/KAdeVvbyyC looks good.
ok 26 - Computing differences
ok 27 # skip GNU grep not available
Testing Perl
Comparing /tmp/nVks4IiBlb to t/mailboxes/newlines_at_beginning.txt
Output /tmp/nVks4IiBlb looks good.
ok 28 - Computing differences
Testing Cache implementation
Comparing /tmp/YDuWOpXRcq to t/mailboxes/newlines_at_beginning.txt
Output /tmp/YDuWOpXRcq looks good.
ok 29 - Computing differences
ok 30 # skip GNU grep not available
Testing Perl
Comparing /tmp/PdNYgCCeW9 to t/mailboxes/vm-emacs.txt
Output /tmp/PdNYgCCeW9 looks good.
ok 31 - Computing differences
Testing Cache implementation
Comparing /tmp/vIGCwPb897 to t/mailboxes/vm-emacs.txt
Output /tmp/vIGCwPb897 looks good.
ok 32 - Computing differences
ok 33 # skip GNU grep not available
ok
t/xz.t ..........................
1..1
Running test:
"/usr/bin/cat" "t/mailboxes/mailarc-2.txt.xz" | "/usr/bin/xz" -cd
Comparing /tmp/YIMVNSNsgP to t/results/mailarc-2.txt
Output /tmp/YIMVNSNsgP looks good.
Comparing /tmp/tBmvs8uRe6 to t/results/none
Output /tmp/tBmvs8uRe6 looks good.
ok 1 - Computing differences
ok
All tests successful.
Files=25, Tests=382, 6 wallclock secs ( 0.15 usr 0.28 sys + 4.69 cusr 1.43 csys = 6.55 CPU)
Result: PASS
------------------------------
PREREQUISITES
------------------------------
Prerequisite modules loaded:
requires:
Module Need Have
------------------- ----- --------
FileHandle::Unget 0 0.1634
perl 5.005 5.037001
Storable 0 3.26
build_requires:
Module Need Have
------------------- ----- --------
ExtUtils::MakeMaker 6.36 7.64
File::Path 2.08 2.18
File::Slurper 0 0.013
Test::Compile 0 v3.1.0
Test::More 0 1.302190
Text::Diff 0 1.45
UNIVERSAL::require 0 0.19
URI::Escape 0 5.11
configure_requires:
Module Need Have
------------------- ----- --------
ExtUtils::MakeMaker 6.36 7.64
URI::Escape 0 5.11
------------------------------
ENVIRONMENT AND OTHER CONTEXT
------------------------------
Environment variables:
AUTOMATED_TESTING = 1
LANG = en_US.UTF-8
LC_ADDRESS = de_DE.UTF-8
LC_IDENTIFICATION = de_DE.UTF-8
LC_MEASUREMENT = de_DE.UTF-8
LC_MONETARY = de_DE.UTF-8
LC_NAME = de_DE.UTF-8
LC_NUMERIC = de_DE.UTF-8
LC_PAPER = de_DE.UTF-8
LC_TELEPHONE = de_DE.UTF-8
LC_TIME = de_DE.UTF-8
PATH = /home/sand/bin:/usr/local/bin:/usr/local/sbin:/usr/sbin:/usr/bin:/sbin:/bin:/usr/games:/usr/local/games:/snap/bin:/usr/local/perl/bin:/usr/X11/bin
PERL = /tmp/basesmoker-reloperl-MM5u/bin/perl
PERL5LIB = /tmp/loop_over_bdir-4071148-3mH3Z1/Sysync-0.35-0/blib/arch:/tmp/loop_over_bdir-4071148-3mH3Z1/Sysync-0.35-0/blib/lib:/tmp/loop_over_bdir-4071148-3mH3Z1/Linux-InitFS-0.2-0/blib/arch:/tmp/loop_over_bdir-4071148-3mH3Z1/Linux-InitFS-0.2-0/blib/lib:/tmp/loop_over_bdir-4071148-3mH3Z1/makepp-1.19-0/blib/arch:/tmp/loop_over_bdir-4071148-3mH3Z1/makepp-1.19-0/blib/lib:/tmp/loop_over_bdir-4071148-3mH3Z1/Debian-Packages-0.03-0/blib/arch:/tmp/loop_over_bdir-4071148-3mH3Z1/Debian-Packages-0.03-0/blib/lib:/tmp/loop_over_bdir-4071148-3mH3Z1/Net-ISP-Balance-1.31-0/blib/arch:/tmp/loop_over_bdir-4071148-3mH3Z1/Net-ISP-Balance-1.31-0/blib/lib:/tmp/loop_over_bdir-4071148-3mH3Z1/mmds-1.902-0/blib/arch:/tmp/loop_over_bdir-4071148-3mH3Z1/mmds-1.902-0/blib/lib:/tmp/loop_over_bdir-4071148-3mH3Z1/Dpkg-1.21.9-0/blib/arch:/tmp/loop_over_bdir-4071148-3mH3Z1/Dpkg-1.21.9-0/blib/lib:/tmp/loop_over_bdir-4071148-3mH3Z1/EJBCA-CrlPublish-0.60-0/blib/arch:/tmp/loop_over_bdir-4071148-3mH3Z1/EJBCA-CrlPublish-0.60-0/blib/lib:/tmp/loop_over_bdir-4071148-3mH3Z1/downsexta-0/blib/arch:/tmp/loop_over_bdir-4071148-3mH3Z1/downsexta-0/blib/lib:/tmp/loop_over_bdir-4071148-3mH3Z1/Net-OpenVPN-DDNS-0.1-0/blib/arch:/tmp/loop_over_bdir-4071148-3mH3Z1/Net-OpenVPN-DDNS-0.1-0/blib/lib:/tmp/loop_over_bdir-4071148-3mH3Z1/App-oo_modulino_zsh_completion_helper-0.04-0/blib/arch:/tmp/loop_over_bdir-4071148-3mH3Z1/App-oo_modulino_zsh_completion_helper-0.04-0/blib/lib:/tmp/loop_over_bdir-4071148-3mH3Z1/DBIx-Migration-Directories-0.12-0/blib/arch:/tmp/loop_over_bdir-4071148-3mH3Z1/DBIx-Migration-Directories-0.12-0/blib/lib:/tmp/loop_over_bdir-4071148-3mH3Z1/shishi-0.0.1-0/blib/arch:/tmp/loop_over_bdir-4071148-3mH3Z1/shishi-0.0.1-0/blib/lib:/tmp/loop_over_bdir-4071148-3mH3Z1/Devel-Required-0.16-0/blib/arch:/tmp/loop_over_bdir-4071148-3mH3Z1/Devel-Required-0.16-0/blib/lib
PERL5OPT =
PERL5_CPANPLUS_IS_RUNNING = 4071156
PERL5_CPAN_IS_RUNNING = 4071156
PERL_CANARY_STABILITY_NOPROMPT = 1
PERL_MM_USE_DEFAULT = 1
PERL_USE_UNSAFE_INC = 1
SHELL = /usr/bin/zsh
TERM = screen
Perl special variables (and OS-specific diagnostics, for MSWin32):
$^X = /tmp/basesmoker-reloperl-MM5u/bin/perl
$UID/$EUID = 1005 / 1005
$GID = 1005 1005
$EGID = 1005 1005
Perl module toolchain versions installed:
Module Have
------------------- --------
CPAN 2.34
CPAN::Meta 2.150010
Cwd 3.85
ExtUtils::CBuilder 0.280237
ExtUtils::Command 7.64
ExtUtils::Install 2.20
ExtUtils::MakeMaker 7.64
ExtUtils::Manifest 1.73
ExtUtils::ParseXS 3.45
File::Spec 3.85
JSON 4.07
JSON::PP 4.10
Module::Build 0.4231
Module::Signature 0.88
Parse::CPAN::Meta 2.150010
Test::Harness 3.44
Test::More 1.302190
YAML 1.30
YAML::Syck 1.34
version 0.9929
--
Summary of my perl5 (revision 5 version 37 subversion 1) configuration:
Commit id: a33f7527640f5a662130b55a9fc8c2302b3b38f6
Platform:
osname=linux
osvers=5.15.0-39-generic
archname=x86_64-linux-thread-multi
uname='linux k93jammy 5.15.0-39-generic #42-ubuntu smp thu jun 9 23:42:32 utc 2022 x86_64 x86_64 x86_64 gnulinux '
config_args='-Dprefix=/home/sand/src/perl/repoperls/installed-perls/host/k93jammy/v5.37.1/b4f3 -Dmyhostname=k93jammy -Dinstallusrbinperl=n -Uversiononly -Dusedevel -des -Ui_db -Dlibswanted=cl pthread socket inet nsl gdbm dbm malloc dl ld sun m crypt sec util c cposix posix ucb BSD gdbm_compat -Duseithreads -Uuselongdouble -DEBUGGING=-g'
hint=recommended
useposix=true
d_sigaction=define
useithreads=define
usemultiplicity=define
use64bitint=define
use64bitall=define
uselongdouble=undef
usemymalloc=n
default_inc_excludes_dot=define
Compiler:
cc='cc'
ccflags ='-D_REENTRANT -D_GNU_SOURCE -fwrapv -fno-strict-aliasing -pipe -fstack-protector-strong -I/usr/local/include -D_LARGEFILE_SOURCE -D_FILE_OFFSET_BITS=64'
optimize='-O2 -g'
cppflags='-D_REENTRANT -D_GNU_SOURCE -fwrapv -fno-strict-aliasing -pipe -fstack-protector-strong -I/usr/local/include'
ccversion=''
gccversion='11.2.0'
gccosandvers=''
intsize=4
longsize=8
ptrsize=8
doublesize=8
byteorder=12345678
doublekind=3
d_longlong=define
longlongsize=8
d_longdbl=define
longdblsize=16
longdblkind=3
ivtype='long'
ivsize=8
nvtype='double'
nvsize=8
Off_t='off_t'
lseeksize=8
alignbytes=8
prototype=define
Linker and Libraries:
ld='cc'
ldflags =' -fstack-protector-strong -L/usr/local/lib'
libpth=/usr/local/lib /usr/lib/x86_64-linux-gnu /usr/lib /usr/lib64
libs=-lpthread -lnsl -ldl -lm -lcrypt -lutil -lc
perllibs=-lpthread -lnsl -ldl -lm -lcrypt -lutil -lc
libc=/lib/x86_64-linux-gnu/libc.so.6
so=so
useshrplib=false
libperl=libperl.a
gnulibc_version='2.35'
Dynamic Linking:
dlsrc=dl_dlopen.xs
dlext=so
d_dlsymun=undef
ccdlflags='-Wl,-E'
cccdlflags='-fPIC'
lddlflags='-shared -O2 -g -L/usr/local/lib -fstack-protector-strong'
Characteristics of this binary (from libperl):
Compile-time options:
HAS_TIMES
MULTIPLICITY
PERLIO_LAYERS
PERL_COPY_ON_WRITE
PERL_DONT_CREATE_GVSV
PERL_MALLOC_WRAP
PERL_OP_PARENT
PERL_PRESERVE_IVUV
PERL_USE_DEVEL
PERL_USE_SAFE_PUTENV
USE_64_BIT_ALL
USE_64_BIT_INT
USE_ITHREADS
USE_LARGE_FILES
USE_LOCALE
USE_LOCALE_COLLATE
USE_LOCALE_CTYPE
USE_LOCALE_NUMERIC
USE_LOCALE_TIME
USE_PERLIO
USE_PERL_ATOF
USE_REENTRANT_API
USE_THREAD_SAFE_LOCALE
Built under linux
Compiled at Jul 8 2022 08:19:59
%ENV:
PERL="/tmp/basesmoker-reloperl-MM5u/bin/perl"
PERL5LIB="/tmp/loop_over_bdir-4071148-3mH3Z1/Sysync-0.35-0/blib/arch:/tmp/loop_over_bdir-4071148-3mH3Z1/Sysync-0.35-0/blib/lib:/tmp/loop_over_bdir-4071148-3mH3Z1/Linux-InitFS-0.2-0/blib/arch:/tmp/loop_over_bdir-4071148-3mH3Z1/Linux-InitFS-0.2-0/blib/lib:/tmp/loop_over_bdir-4071148-3mH3Z1/makepp-1.19-0/blib/arch:/tmp/loop_over_bdir-4071148-3mH3Z1/makepp-1.19-0/blib/lib:/tmp/loop_over_bdir-4071148-3mH3Z1/Debian-Packages-0.03-0/blib/arch:/tmp/loop_over_bdir-4071148-3mH3Z1/Debian-Packages-0.03-0/blib/lib:/tmp/loop_over_bdir-4071148-3mH3Z1/Net-ISP-Balance-1.31-0/blib/arch:/tmp/loop_over_bdir-4071148-3mH3Z1/Net-ISP-Balance-1.31-0/blib/lib:/tmp/loop_over_bdir-4071148-3mH3Z1/mmds-1.902-0/blib/arch:/tmp/loop_over_bdir-4071148-3mH3Z1/mmds-1.902-0/blib/lib:/tmp/loop_over_bdir-4071148-3mH3Z1/Dpkg-1.21.9-0/blib/arch:/tmp/loop_over_bdir-4071148-3mH3Z1/Dpkg-1.21.9-0/blib/lib:/tmp/loop_over_bdir-4071148-3mH3Z1/EJBCA-CrlPublish-0.60-0/blib/arch:/tmp/loop_over_bdir-4071148-3mH3Z1/EJBCA-CrlPublish-0.60-0/blib/lib:/tmp/loop_over_bdir-4071148-3mH3Z1/downsexta-0/blib/arch:/tmp/loop_over_bdir-4071148-3mH3Z1/downsexta-0/blib/lib:/tmp/loop_over_bdir-4071148-3mH3Z1/Net-OpenVPN-DDNS-0.1-0/blib/arch:/tmp/loop_over_bdir-4071148-3mH3Z1/Net-OpenVPN-DDNS-0.1-0/blib/lib:/tmp/loop_over_bdir-4071148-3mH3Z1/App-oo_modulino_zsh_completion_helper-0.04-0/blib/arch:/tmp/loop_over_bdir-4071148-3mH3Z1/App-oo_modulino_zsh_completion_helper-0.04-0/blib/lib:/tmp/loop_over_bdir-4071148-3mH3Z1/DBIx-Migration-Directories-0.12-0/blib/arch:/tmp/loop_over_bdir-4071148-3mH3Z1/DBIx-Migration-Directories-0.12-0/blib/lib:/tmp/loop_over_bdir-4071148-3mH3Z1/shishi-0.0.1-0/blib/arch:/tmp/loop_over_bdir-4071148-3mH3Z1/shishi-0.0.1-0/blib/lib:/tmp/loop_over_bdir-4071148-3mH3Z1/Devel-Required-0.16-0/blib/arch:/tmp/loop_over_bdir-4071148-3mH3Z1/Devel-Required-0.16-0/blib/lib"
PERL5OPT=""
PERL5_CPANPLUS_IS_RUNNING="4071156"
PERL5_CPAN_IS_RUNNING="4071156"
PERL_CANARY_STABILITY_NOPROMPT="1"
PERL_MM_USE_DEFAULT="1"
PERL_USE_UNSAFE_INC="1"
@INC:
/tmp/loop_over_bdir-4071148-3mH3Z1/Sysync-0.35-0/blib/arch
/tmp/loop_over_bdir-4071148-3mH3Z1/Sysync-0.35-0/blib/lib
/tmp/loop_over_bdir-4071148-3mH3Z1/Linux-InitFS-0.2-0/blib/arch
/tmp/loop_over_bdir-4071148-3mH3Z1/Linux-InitFS-0.2-0/blib/lib
/tmp/loop_over_bdir-4071148-3mH3Z1/makepp-1.19-0/blib/arch
/tmp/loop_over_bdir-4071148-3mH3Z1/makepp-1.19-0/blib/lib
/tmp/loop_over_bdir-4071148-3mH3Z1/Debian-Packages-0.03-0/blib/arch
/tmp/loop_over_bdir-4071148-3mH3Z1/Debian-Packages-0.03-0/blib/lib
/tmp/loop_over_bdir-4071148-3mH3Z1/Net-ISP-Balance-1.31-0/blib/arch
/tmp/loop_over_bdir-4071148-3mH3Z1/Net-ISP-Balance-1.31-0/blib/lib
/tmp/loop_over_bdir-4071148-3mH3Z1/mmds-1.902-0/blib/arch
/tmp/loop_over_bdir-4071148-3mH3Z1/mmds-1.902-0/blib/lib
/tmp/loop_over_bdir-4071148-3mH3Z1/Dpkg-1.21.9-0/blib/arch
/tmp/loop_over_bdir-4071148-3mH3Z1/Dpkg-1.21.9-0/blib/lib
/tmp/loop_over_bdir-4071148-3mH3Z1/EJBCA-CrlPublish-0.60-0/blib/arch
/tmp/loop_over_bdir-4071148-3mH3Z1/EJBCA-CrlPublish-0.60-0/blib/lib
/tmp/loop_over_bdir-4071148-3mH3Z1/downsexta-0/blib/arch
/tmp/loop_over_bdir-4071148-3mH3Z1/downsexta-0/blib/lib
/tmp/loop_over_bdir-4071148-3mH3Z1/Net-OpenVPN-DDNS-0.1-0/blib/arch
/tmp/loop_over_bdir-4071148-3mH3Z1/Net-OpenVPN-DDNS-0.1-0/blib/lib
/tmp/loop_over_bdir-4071148-3mH3Z1/App-oo_modulino_zsh_completion_helper-0.04-0/blib/arch
/tmp/loop_over_bdir-4071148-3mH3Z1/App-oo_modulino_zsh_completion_helper-0.04-0/blib/lib
/tmp/loop_over_bdir-4071148-3mH3Z1/DBIx-Migration-Directories-0.12-0/blib/arch
/tmp/loop_over_bdir-4071148-3mH3Z1/DBIx-Migration-Directories-0.12-0/blib/lib
/tmp/loop_over_bdir-4071148-3mH3Z1/shishi-0.0.1-0/blib/arch
/tmp/loop_over_bdir-4071148-3mH3Z1/shishi-0.0.1-0/blib/lib
/tmp/loop_over_bdir-4071148-3mH3Z1/Devel-Required-0.16-0/blib/arch
/tmp/loop_over_bdir-4071148-3mH3Z1/Devel-Required-0.16-0/blib/lib
/home/sand/src/perl/repoperls/installed-perls/host/k93jammy/v5.37.1/b4f3/lib/site_perl/5.37.1/x86_64-linux-thread-multi
/home/sand/src/perl/repoperls/installed-perls/host/k93jammy/v5.37.1/b4f3/lib/site_perl/5.37.1
/home/sand/src/perl/repoperls/installed-perls/host/k93jammy/v5.37.1/b4f3/lib/5.37.1/x86_64-linux-thread-multi
/home/sand/src/perl/repoperls/installed-perls/host/k93jammy/v5.37.1/b4f3/lib/5.37.1
.