XS-Parse-Keyword v0.46 Perl 5 v5.40.0 x86_64-linux
- Status
- Pass
- From
- Roland van Ipenburg (IPENBURG)
- Dist
-
XS-Parse-Keyword v0.46
- Platform
- Perl 5 v5.40.0 x86_64-linux
- Date
- 2024-09-04 15:11:12
- ID
- ec4c18ba-6acf-11ef-838b-c1e38940123c
This distribution has been tested as part of the CPAN Testers
project, supporting the Perl programming language. See
http://wiki.cpantesters.org/ for more information or email
questions to cpan-testers-discuss@perl.org
--
Dear Paul Evans,
This is a computer-generated report for XS-Parse-Keyword-0.46
on perl 5.40.0, created by CPAN-Reporter-1.2020.
Thank you for uploading your work to CPAN. Congratulations!
All tests were successful.
Sections of this report:
* Tester comments
* Program output
* Prerequisites
* Environment and other context
------------------------------
TESTER COMMENTS
------------------------------
Additional comments from tester:
none provided
------------------------------
PROGRAM OUTPUT
------------------------------
Output from './Build test':
cc -I/usr/local/lib/perl5/5.40.0/x86_64-linux/CORE '-DVERSION="0.46"' '-DXS_VERSION="0.46"' -fPIC -Ishare-keyword/include -Ishare-infix/include -Ihax -c -fwrapv -fno-strict-aliasing -pipe -fstack-protector-strong -I/usr/local/include -D_LARGEFILE_SOURCE '-D_FILE_OFFSET_BITS=64' '-D_FORTIFY_SOURCE=2' -O2 -o t/build.o t/build.c
ExtUtils::Mkbootstrap::Mkbootstrap('t/blib/arch/auto/t/build/build.bs')
cc -shared -O2 -L/usr/local/lib -fstack-protector-strong -o t/blib/arch/auto/t/build/build.so t/build.o
cc -I/usr/local/lib/perl5/5.40.0/x86_64-linux/CORE '-DVERSION="0.46"' '-DXS_VERSION="0.46"' -fPIC -Ishare-keyword/include -Ishare-infix/include -Ihax -c -fwrapv -fno-strict-aliasing -pipe -fstack-protector-strong -I/usr/local/include -D_LARGEFILE_SOURCE '-D_FILE_OFFSET_BITS=64' '-D_FORTIFY_SOURCE=2' -O2 -o t/flags.o t/flags.c
ExtUtils::Mkbootstrap::Mkbootstrap('t/blib/arch/auto/t/flags/flags.bs')
cc -shared -O2 -L/usr/local/lib -fstack-protector-strong -o t/blib/arch/auto/t/flags/flags.so t/flags.o
cc -I/usr/local/lib/perl5/5.40.0/x86_64-linux/CORE '-DVERSION="0.46"' '-DXS_VERSION="0.46"' -fPIC -Ishare-keyword/include -Ishare-infix/include -Ihax -c -fwrapv -fno-strict-aliasing -pipe -fstack-protector-strong -I/usr/local/include -D_LARGEFILE_SOURCE '-D_FILE_OFFSET_BITS=64' '-D_FORTIFY_SOURCE=2' -O2 -o t/infix.o t/infix.c
ExtUtils::Mkbootstrap::Mkbootstrap('t/blib/arch/auto/t/infix/infix.bs')
cc -shared -O2 -L/usr/local/lib -fstack-protector-strong -o t/blib/arch/auto/t/infix/infix.so t/infix.o
cc -I/usr/local/lib/perl5/5.40.0/x86_64-linux/CORE '-DVERSION="0.46"' '-DXS_VERSION="0.46"' -fPIC -Ishare-keyword/include -Ishare-infix/include -Ihax -c -fwrapv -fno-strict-aliasing -pipe -fstack-protector-strong -I/usr/local/include -D_LARGEFILE_SOURCE '-D_FILE_OFFSET_BITS=64' '-D_FORTIFY_SOURCE=2' -O2 -o t/line.o t/line.c
ExtUtils::Mkbootstrap::Mkbootstrap('t/blib/arch/auto/t/line/line.bs')
cc -shared -O2 -L/usr/local/lib -fstack-protector-strong -o t/blib/arch/auto/t/line/line.so t/line.o
cc -I/usr/local/lib/perl5/5.40.0/x86_64-linux/CORE '-DVERSION="0.46"' '-DXS_VERSION="0.46"' -fPIC -Ishare-keyword/include -Ishare-infix/include -Ihax -c -fwrapv -fno-strict-aliasing -pipe -fstack-protector-strong -I/usr/local/include -D_LARGEFILE_SOURCE '-D_FILE_OFFSET_BITS=64' '-D_FORTIFY_SOURCE=2' -O2 -o t/pieces.o t/pieces.c
ExtUtils::Mkbootstrap::Mkbootstrap('t/blib/arch/auto/t/pieces/pieces.bs')
cc -shared -O2 -L/usr/local/lib -fstack-protector-strong -o t/blib/arch/auto/t/pieces/pieces.so t/pieces.o
cc -I/usr/local/lib/perl5/5.40.0/x86_64-linux/CORE '-DVERSION="0.46"' '-DXS_VERSION="0.46"' -fPIC -Ishare-keyword/include -Ishare-infix/include -Ihax -c -fwrapv -fno-strict-aliasing -pipe -fstack-protector-strong -I/usr/local/include -D_LARGEFILE_SOURCE '-D_FILE_OFFSET_BITS=64' '-D_FORTIFY_SOURCE=2' -O2 -o t/probing.o t/probing.c
ExtUtils::Mkbootstrap::Mkbootstrap('t/blib/arch/auto/t/probing/probing.bs')
cc -shared -O2 -L/usr/local/lib -fstack-protector-strong -o t/blib/arch/auto/t/probing/probing.so t/probing.o
cc -I/usr/local/lib/perl5/5.40.0/x86_64-linux/CORE '-DVERSION="0.46"' '-DXS_VERSION="0.46"' -fPIC -Ishare-keyword/include -Ishare-infix/include -Ihax -c -fwrapv -fno-strict-aliasing -pipe -fstack-protector-strong -I/usr/local/include -D_LARGEFILE_SOURCE '-D_FILE_OFFSET_BITS=64' '-D_FORTIFY_SOURCE=2' -O2 -o t/stages.o t/stages.c
ExtUtils::Mkbootstrap::Mkbootstrap('t/blib/arch/auto/t/stages/stages.bs')
cc -shared -O2 -L/usr/local/lib -fstack-protector-strong -o t/blib/arch/auto/t/stages/stages.so t/stages.o
cc -I/usr/local/lib/perl5/5.40.0/x86_64-linux/CORE '-DVERSION="0.46"' '-DXS_VERSION="0.46"' -fPIC -Ishare-keyword/include -Ishare-infix/include -Ihax -c -fwrapv -fno-strict-aliasing -pipe -fstack-protector-strong -I/usr/local/include -D_LARGEFILE_SOURCE '-D_FILE_OFFSET_BITS=64' '-D_FORTIFY_SOURCE=2' -O2 -o t/structures.o t/structures.c
ExtUtils::Mkbootstrap::Mkbootstrap('t/blib/arch/auto/t/structures/structures.bs')
cc -shared -O2 -L/usr/local/lib -fstack-protector-strong -o t/blib/arch/auto/t/structures/structures.so t/structures.o
t/00use.t ............... ok
t/10stages-permit.t ..... ok
t/11stages-check.t ...... ok
t/30pieces-literal.t .... ok
t/31pieces-block.t ...... ok
t/32pieces-anonsub.t .... ok
t/33pieces-arithexpr.t .. ok
t/33pieces-listexpr.t ... ok
t/33pieces-termexpr.t ... ok
t/34pieces-ident.t ...... ok
t/35pieces-lexvar.t ..... ok
t/36pieces-attrs.t ...... ok
t/37pieces-vstring.t .... ok
t/38pieces-infix.t ...... ok
t/39pieces-warning.t .... ok
t/40build.t ............. ok
t/41structures.t ........ ok
t/42containers.t ........ ok
t/43probing.t ........... ok
t/50flags-autosemi.t .... ok
t/60line.t .............. ok
t/70infix.t ............. ok
t/71infix-wrapper.t ..... ok
t/99pod.t ............... ok
All tests successful.
Files=24, Tests=199, 3 wallclock secs ( 0.06 usr 0.02 sys + 2.43 cusr 0.35 csys = 2.86 CPU)
Result: PASS
------------------------------
PREREQUISITES
------------------------------
Prerequisite modules loaded:
requires:
Module Need Have
------------------ ------ --------
File::ShareDir 1.00 1.118
perl 5.014 5.040000
build_requires:
Module Need Have
------------------ ------ --------
ExtUtils::CBuilder 0 0.280240
ExtUtils::ParseXS 3.16 3.51
Test2::V0 0 1.302202
configure_requires:
Module Need Have
------------------ ------ --------
ExtUtils::CChecker 0.11 0.12
Module::Build 0.4004 0.4234
------------------------------
ENVIRONMENT AND OTHER CONTEXT
------------------------------
Environment variables:
LANG = en_US.utf8
LANGUAGE = en_US.utf8
LC_ALL = en_US.utf8
LC_COLLATE = en_US.utf8
LC_CTYPE = en_US.utf8
LC_NUMERIC = en_US.utf8
NONINTERACTIVE_TESTING = 1
PATH = /usr/local/bin:/usr/bin:/bin
PERL5LIB =
PERL5OPT =
PERL5_CPANPLUS_IS_RUNNING = 127664
PERL5_CPAN_IS_RUNNING = 127664
PERL_MM_USE_DEFAULT = 1
PERL_USE_UNSAFE_INC = 1
SHELL = /bin/bash
TERM = screen.xterm-256color
Perl special variables (and OS-specific diagnostics, for MSWin32):
$^X = /usr/local/bin/perl
$UID/$EUID = 1000 / 1000
$GID = 1000 4 24 25 27 29 30 44 46 108 113 117 120 126 1000
$EGID = 1000 4 24 25 27 29 30 44 46 108 113 117 120 126 1000
Perl module toolchain versions installed:
Module Have
------------------- --------
CPAN 2.37
CPAN::Meta 2.150010
Cwd 3.90
ExtUtils::CBuilder 0.280240
ExtUtils::Command 7.70
ExtUtils::Install 2.22
ExtUtils::MakeMaker 7.70
ExtUtils::Manifest 1.75
ExtUtils::ParseXS 3.51
File::Spec 3.90
JSON 4.10
JSON::PP 4.16
Module::Build 0.4234
Module::Signature 0.88
Parse::CPAN::Meta 2.150010
Test2 1.302202
Test::Harness 3.50
Test::More 1.302202
YAML 1.31
YAML::Syck 1.34
version 0.9933
--
Summary of my perl5 (revision 5 version 40 subversion 0) configuration:
Platform:
osname=linux
osvers=6.9.3.beitou.20240530
archname=x86_64-linux
uname='linux beitou 6.9.3.beitou.20240530 #5 smp preempt_dynamic thu may 30 17:59:44 cest 2024 x86_64 gnulinux '
config_args='-des -Dinc_version_list=none'
hint=recommended
useposix=true
d_sigaction=define
useithreads=undef
usemultiplicity=undef
use64bitint=define
use64bitall=define
uselongdouble=undef
usemymalloc=n
default_inc_excludes_dot=define
Compiler:
cc='cc'
ccflags ='-fwrapv -fno-strict-aliasing -pipe -fstack-protector-strong -I/usr/local/include -D_LARGEFILE_SOURCE -D_FILE_OFFSET_BITS=64 -D_FORTIFY_SOURCE=2'
optimize='-O2'
cppflags='-fwrapv -fno-strict-aliasing -pipe -fstack-protector-strong -I/usr/local/include'
ccversion=''
gccversion='12.2.0'
gccosandvers=''
intsize=4
longsize=8
ptrsize=8
doublesize=8
byteorder=12345678
doublekind=3
d_longlong=define
longlongsize=8
d_longdbl=define
longdblsize=16
longdblkind=3
ivtype='long'
ivsize=8
nvtype='double'
nvsize=8
Off_t='off_t'
lseeksize=8
alignbytes=8
prototype=define
Linker and Libraries:
ld='cc'
ldflags =' -fstack-protector-strong -L/usr/local/lib'
libpth=/usr/local/lib /usr/lib/x86_64-linux-gnu /usr/lib /usr/lib64 /usr/local/lib64
libs=-lpthread -lgdbm -ldb -ldl -lm -lcrypt -lutil -lc
perllibs=-lpthread -ldl -lm -lcrypt -lutil -lc
libc=/lib/x86_64-linux-gnu/libc.so.6
so=so
useshrplib=false
libperl=libperl.a
gnulibc_version='2.36'
Dynamic Linking:
dlsrc=dl_dlopen.xs
dlext=so
d_dlsymun=undef
ccdlflags='-Wl,-E'
cccdlflags='-fPIC'
lddlflags='-shared -O2 -L/usr/local/lib -fstack-protector-strong'
Characteristics of this binary (from libperl):
Compile-time options:
HAS_LONG_DOUBLE
HAS_STRTOLD
HAS_TIMES
PERLIO_LAYERS
PERL_COPY_ON_WRITE
PERL_DONT_CREATE_GVSV
PERL_HASH_FUNC_SIPHASH13
PERL_HASH_USE_SBOX32
PERL_MALLOC_WRAP
PERL_OP_PARENT
PERL_PRESERVE_IVUV
PERL_USE_SAFE_PUTENV
USE_64_BIT_ALL
USE_64_BIT_INT
USE_LARGE_FILES
USE_LOCALE
USE_LOCALE_COLLATE
USE_LOCALE_CTYPE
USE_LOCALE_NUMERIC
USE_LOCALE_TIME
USE_PERLIO
USE_PERL_ATOF
Built under linux
Compiled at Jun 11 2024 19:23:51
%ENV:
PERL5LIB=""
PERL5OPT=""
PERL5_CPANPLUS_IS_RUNNING="127664"
PERL5_CPAN_IS_RUNNING="127664"
PERL_MM_USE_DEFAULT="1"
PERL_USE_UNSAFE_INC="1"
@INC:
/usr/local/lib/perl5/site_perl/5.40.0/x86_64-linux
/usr/local/lib/perl5/site_perl/5.40.0
/usr/local/lib/perl5/5.40.0/x86_64-linux
/usr/local/lib/perl5/5.40.0
.