Back
From: metabase:user:320bfe00-2aae-11df-837a-5e0a49663a4f
Subject: PASS Apache2-ASP-2.46 v5.14.2 GNU/Linux
Date: 2016-02-25T08:58:22Z
This distribution has been tested as part of the CPAN Testers
project, supporting the Perl programming language. See
http://wiki.cpantesters.org/ for more information or email
questions to cpan-testers-discuss@perl.org
--
Dear John Drago,
This is a computer-generated report for Apache2-ASP-2.46
on perl 5.14.2, created by CPAN-Reporter-1.2015.
Thank you for uploading your work to CPAN. Congratulations!
All tests were successful.
Sections of this report:
* Tester comments
* Program output
* Prerequisites
* Environment and other context
------------------------------
TESTER COMMENTS
------------------------------
Additional comments from tester:
this report is from an automated smoke testing program
and was not reviewed by a human for accuracy
------------------------------
PROGRAM OUTPUT
------------------------------
Output from '/usr/bin/make test':
PERL_DL_NONLAZY=1 "/tmp/basesmoker-reloperl-6rCr/bin/perl" "-MExtUtils::Command::MM" "-MTest::Harness" "-e" "undef *Test::Harness::Switches; test_harness(0, 'inc', 'blib/lib', 'blib/arch')" t/000-setup/*.t t/010-coverage/*.t t/900-old-tests/*.t t/999-cleanup/*.t
t/000-setup/00.00-setup.t ................. ok
t/010-coverage/010-api.t .................. ok
t/010-coverage/020-config.t ............... ok
t/010-coverage/030-configparser.t ......... ok
connect to localhost failed (Connection refused) no (more) retries!t/010-coverage/040-httpcontext.t .......... ok
t/010-coverage/050-mediamanager.t ......... ok
t/010-coverage/060-request.t .............. ok
t/010-coverage/070-response.t ............. ok
t/010-coverage/080-server.t ............... ok
t/900-old-tests/00.01-subcontext.t ........ ok
t/900-old-tests/01.00-a-memory-leak.t ..... ok
t/900-old-tests/01.01-load.t .............. ok
t/900-old-tests/01.01-master-recursive.t .. ok
t/900-old-tests/01.02-findconfig.t ........ ok
t/900-old-tests/01.03-configloader.t ...... ok
t/900-old-tests/01.04-test-useragent.t .... ok
t/900-old-tests/01.05-memcycle.t .......... ok
t/900-old-tests/01.06-cookies.t ........... ok
t/900-old-tests/01.07-post.t .............. ok
t/900-old-tests/01.08-upload.t ............ ok
t/900-old-tests/01.09-submit-form.t ....... ok
20 at t/900-old-tests/02.01-benchmark.t line 21.
40 at t/900-old-tests/02.01-benchmark.t line 21.
60 at t/900-old-tests/02.01-benchmark.t line 21.
80 at t/900-old-tests/02.01-benchmark.t line 21.
100 at t/900-old-tests/02.01-benchmark.t line 21.
38.2148316008831232 requests/second at t/900-old-tests/02.01-benchmark.t line 27.
20 at t/900-old-tests/02.01-benchmark.t line 34.
40 at t/900-old-tests/02.01-benchmark.t line 34.
60 at t/900-old-tests/02.01-benchmark.t line 34.
80 at t/900-old-tests/02.01-benchmark.t line 34.
100 at t/900-old-tests/02.01-benchmark.t line 34.
41.7682856695870149 requests/second at t/900-old-tests/02.01-benchmark.t line 40.
t/900-old-tests/02.01-benchmark.t ......... ok
t/900-old-tests/03.08-aspdom-node.t ....... ok
t/900-old-tests/04.00-nested-master.t ..... ok
t/900-old-tests/04.01-syntax-errors.t ..... skipped: Test irrelevant for now
t/900-old-tests/04.02-include-at-end.t .... ok
t/900-old-tests/04.03-unhandled-tag.t ..... ok
t/900-old-tests/05.00-folder-uri.t ........ ok
t/999-cleanup/99.99-cleanup.t ............. ok
All tests successful.
Files=29, Tests=289, 21 wallclock secs ( 0.12 usr 0.15 sys + 9.31 cusr 4.22 csys = 13.80 CPU)
Result: PASS
------------------------------
PREREQUISITES
------------------------------
Prerequisite modules loaded:
requires:
Module Need Have
---------------------- ------ --------
CGI 3.43 4.26
CGI::Simple 1.106 1.115
Cwd 3.2701 3.62
Data::Properties::YAML 0.02 0.04
DBD::SQLite 1.14 1.50
DBI 1.607 1.634
Digest::MD5 2.36 2.54
Encode 2.23 2.82
ExtUtils::MakeMaker 7.1 7.10
HTML::Form 5.817 6.03
HTTP::Body 1.04 1.22
HTTP::Date 5.81 6.02
HTTP::Request::AsCGI 0.5 1.2
Ima::DBI 0.35 0.35
IO::File 1.14 1.15
Mail::Sendmail 0.79 0.79
MIME::Types 1.24 2.12
Storable 2.18 2.51
Test::Memory::Cycle 0 1.06
Test::More 0.77 1.001014
Time::HiRes 1.9715 1.9728
XML::Parser 2.36 2.44
XML::Simple 2.18 2.22
build_requires:
Module Need Have
---------------------- ------ --------
ExtUtils::MakeMaker 0 7.10
configure_requires:
Module Need Have
---------------------- ------ --------
ExtUtils::MakeMaker 0 7.10
------------------------------
ENVIRONMENT AND OTHER CONTEXT
------------------------------
Environment variables:
AUTOMATED_TESTING = 1
LANG = en_US.UTF-8
LANGUAGE = en_US:en
PATH = /usr/lib/ccache:/home/sand/bin:/usr/local/bin:/usr/bin:/bin:/usr/games:/usr/local/perl/bin:/usr/X11/bin:/sbin:/usr/sbin
PERL = /tmp/basesmoker-reloperl-6rCr/bin/perl
PERL5LIB =
PERL5OPT =
PERL5_CPANPLUS_IS_RUNNING = 14597
PERL5_CPAN_IS_RUNNING = 14597
PERL_MM_USE_DEFAULT = 1
SHELL = /usr/bin/zsh
TERM = screen
Perl special variables (and OS-specific diagnostics, for MSWin32):
$^X = /tmp/basesmoker-reloperl-6rCr/bin/perl
$UID/$EUID = 1005 / 1005
$GID = 1005 1005
$EGID = 1005 1005
Perl module toolchain versions installed:
Module Have
------------------- --------
CPAN 2.10
CPAN::Meta 2.150005
Cwd 3.62
ExtUtils::CBuilder 0.280224
ExtUtils::Command 7.10
ExtUtils::Install 1.56
ExtUtils::MakeMaker 7.10
ExtUtils::Manifest 1.70
ExtUtils::ParseXS 3.30
File::Spec 3.62
JSON 2.90
JSON::PP 2.27300
Module::Build 0.4216
Module::Signature 0.79
Parse::CPAN::Meta 1.4417
Test::Harness 3.36
Test::More 1.001014
YAML 1.15
YAML::Syck 1.29
version 0.9914
--
Summary of my perl5 (revision 5 version 14 subversion 2) configuration:
Derived from: dc281e6088d189558b79a5121119b7196c8b3db0
Platform:
osname=linux, osvers=4.3.0-1-amd64, archname=x86_64-linux-thread-multi-ld
uname='linux k83 4.3.0-1-amd64 #1 smp debian 4.3.3-7 (2016-01-19) x86_64 gnulinux '
config_args='-Dprefix=/home/sand/src/perl/repoperls/installed-perls/perl/v5.14.2/109d -Dmyhostname=k83 -Dinstallusrbinperl=n -Uversiononly -Dusedevel -des -Ui_db -Dlibswanted=cl pthread socket inet nsl gdbm dbm malloc dl ld sun m crypt sec util c cposix posix ucb BSD gdbm_compat -Duseithreads -Duselongdouble -DDEBUGGING=-g'
hint=recommended, useposix=true, d_sigaction=define
useithreads=define, usemultiplicity=define
useperlio=define, d_sfio=undef, uselargefiles=define, usesocks=undef
use64bitint=define, use64bitall=define, uselongdouble=define
usemymalloc=n, bincompat5005=undef
Compiler:
cc='cc', ccflags ='-D_REENTRANT -D_GNU_SOURCE -fno-strict-aliasing -pipe -fstack-protector -I/usr/local/include -D_LARGEFILE_SOURCE -D_FILE_OFFSET_BITS=64',
optimize='-O2 -g',
cppflags='-D_REENTRANT -D_GNU_SOURCE -fno-strict-aliasing -pipe -fstack-protector -I/usr/local/include'
ccversion='', gccversion='5.3.1 20160121', gccosandvers=''
intsize=4, longsize=8, ptrsize=8, doublesize=8, byteorder=12345678
d_longlong=define, longlongsize=8, d_longdbl=define, longdblsize=16
ivtype='long', ivsize=8, nvtype='long double', nvsize=16, Off_t='off_t', lseeksize=8
alignbytes=16, prototype=define
Linker and Libraries:
ld='cc', ldflags =' -fstack-protector -L/usr/local/lib'
libpth=/usr/local/lib /lib/x86_64-linux-gnu /lib/../lib /usr/lib/x86_64-linux-gnu /usr/lib/../lib /lib /usr/lib
libs=-lpthread -lnsl -lgdbm -ldl -lm -lcrypt -lutil -lc -lgdbm_compat
perllibs=-lpthread -lnsl -ldl -lm -lcrypt -lutil -lc
libc=libc-2.21.so, so=so, useshrplib=false, libperl=libperl.a
gnulibc_version='2.21'
Dynamic Linking:
dlsrc=dl_dlopen.xs, dlext=so, d_dlsymun=undef, ccdlflags='-Wl,-E'
cccdlflags='-fPIC', lddlflags='-shared -O2 -g -L/usr/local/lib -fstack-protector'
Characteristics of this binary (from libperl):
Compile-time options: MULTIPLICITY PERL_DONT_CREATE_GVSV
PERL_IMPLICIT_CONTEXT PERL_MALLOC_WRAP
PERL_PRESERVE_IVUV PERL_USE_DEVEL USE_64_BIT_ALL
USE_64_BIT_INT USE_ITHREADS USE_LARGE_FILES
USE_LONG_DOUBLE USE_PERLIO USE_PERL_ATOF
USE_REENTRANT_API
Locally applied patches:
uncommitted-changes
Devel::PatchPerl 1.40
Built under linux
Compiled at Feb 23 2016 13:41:17
%ENV:
PERL="/tmp/basesmoker-reloperl-6rCr/bin/perl"
PERL5LIB=""
PERL5OPT=""
PERL5_CPANPLUS_IS_RUNNING="14597"
PERL5_CPAN_IS_RUNNING="14597"
PERL_MM_USE_DEFAULT="1"
@INC:
/home/sand/src/perl/repoperls/installed-perls/perl/v5.14.2/109d/lib/site_perl/5.14.2/x86_64-linux-thread-multi-ld
/home/sand/src/perl/repoperls/installed-perls/perl/v5.14.2/109d/lib/site_perl/5.14.2
/home/sand/src/perl/repoperls/installed-perls/perl/v5.14.2/109d/lib/5.14.2/x86_64-linux-thread-multi-ld
/home/sand/src/perl/repoperls/installed-perls/perl/v5.14.2/109d/lib/5.14.2
.