Report for Chart-Clicker-2.90

Back
From: metabase:user:314402c4-2aae-11df-837a-5e0a49663a4f
Subject: PASS Chart-Clicker-2.90 v5.14.4 FreeBSD
Date: 2016-12-15T04:57:04Z

This distribution has been tested as part of the CPAN Testers
project, supporting the Perl programming language.  See
http://wiki.cpantesters.org/ for more information or email
questions to cpan-testers-discuss@perl.org


--
Dear Cory G Watson,

This is a computer-generated report for Chart-Clicker-2.90
on perl 5.14.4, created by CPAN-Reporter-1.2018.

Thank you for uploading your work to CPAN.  Congratulations!
All tests were successful.

Sections of this report:

    * Tester comments
    * Program output
    * Prerequisites
    * Environment and other context

------------------------------
TESTER COMMENTS
------------------------------

Additional comments from tester:

none provided

------------------------------
PROGRAM OUTPUT
------------------------------

Output from '/usr/bin/make test':

PERL_DL_NONLAZY=1 "/usr/perl5.14.4/bin/perl" "-MExtUtils::Command::MM" "-MTest::Harness" "-e" "undef *Test::Harness::Switches; test_harness(0, 'blib/lib', 'blib/arch')" t/*.t t/series/*.t t/xt/*.t
t/add-data.t .................... ok
t/author-pod-syntax.t ........... skipped: these tests are for testing by the author
t/author-synopsis.t ............. skipped: these tests are for testing by the author
t/axis-datetime.t ............... ok
t/axis-division-rounded.t ....... ok
t/axis.t ........................ ok
t/basic.t ....................... ok
t/context.t ..................... ok
t/data-dataset.t ................ ok
t/data-marker.t ................. ok
t/data-range.t .................. ok
t/datetime.t .................... ok
t/decoration-color_allocator.t .. ok
t/decoration-glass.t ............ ok
t/decoration-grid.t ............. ok
t/decoration-legend.t ........... ok
t/decoration-markeroverlay.t .... ok
t/decoration-plot.t ............. ok
t/decoration.t .................. ok
t/drawing-colorallocator.t ...... ok
t/example.t ..................... ok
t/invisible.t ................... ok
t/renderer-area.t ............... ok
t/renderer-bar.t ................ ok
t/renderer-base.t ............... ok
t/renderer-bubble.t ............. ok
t/renderer-candlestick.t ........ ok
t/renderer-line.t ............... ok
t/renderer-pie.t ................ ok
t/renderer-point.t .............. ok
t/same-axes-ctx.t ............... ok
t/series/highlow.t .............. ok
t/series/series.t ............... ok
t/series/size.t ................. ok
t/simple-ctx.t .................. ok
t/xt/pod.t ...................... ok
All tests successful.
Files=36, Tests=341, 179 wallclock secs ( 0.45 usr  0.27 sys + 137.26 cusr 10.42 csys = 148.39 CPU)
Result: PASS

------------------------------
PREREQUISITES
------------------------------

Prerequisite modules loaded:

requires:

    Module                                       Need Have    
    -------------------------------------------- ---- --------
    Carp                                         0    1.38    
    Class::Load                                  0    0.23    
    Color::Scheme                                0    1.07    
    constant                                     0    1.33    
    DateTime                                     0    1.41    
    DateTime::Set                                0    0.3700  
    English                                      0    1.04    
    Geometry::Primitive::Arc                     0    0       
    Geometry::Primitive::Circle                  0    0       
    Geometry::Primitive::Point                   0    0       
    Graphics::Color::RGB                         0    0.31    
    Graphics::Primitive::Border                  0    0       
    Graphics::Primitive::Brush                   0    0       
    Graphics::Primitive::Canvas                  0    0       
    Graphics::Primitive::Component               0    0       
    Graphics::Primitive::Container               0    0       
    Graphics::Primitive::Driver::Cairo           0    0.46    
    Graphics::Primitive::Font                    0    0       
    Graphics::Primitive::Insets                  0    0       
    Graphics::Primitive::Operation::Fill         0    0       
    Graphics::Primitive::Operation::Stroke       0    0       
    Graphics::Primitive::Oriented                0    0       
    Graphics::Primitive::Paint::Gradient::Linear 0    0       
    Graphics::Primitive::Paint::Gradient::Radial 0    0       
    Graphics::Primitive::Paint::Solid            0    0       
    Graphics::Primitive::Path                    0    0       
    Graphics::Primitive::TextBox                 0    0       
    Layout::Manager::Absolute                    0    0       
    Layout::Manager::Axis                        0    0       
    Layout::Manager::Compass                     0    0       
    Layout::Manager::Flow                        0    0       
    Layout::Manager::Grid                        0    0       
    Layout::Manager::Single                      0    0       
    List::Util                                   0    1.46    
    Math::Trig                                   0    1.23    
    Moose                                        0    2.1806  
    Moose::Role                                  0    2.1806  
    Moose::Util                                  0    2.1806  
    Moose::Util::TypeConstraints                 0    2.1806  
    POSIX                                        0    1.24    
    Scalar::Util                                 0    1.46    
    strict                                       0    1.04    
    warnings                                     0    1.12    

build_requires:

    Module                                       Need Have    
    -------------------------------------------- ---- --------
    ExtUtils::MakeMaker                          0    7.24    
    Test::Exception                              0    0.43    
    Test::Fatal                                  0    0.014   
    Test::More                                   0    1.302067

configure_requires:

    Module                                       Need Have    
    -------------------------------------------- ---- --------
    ExtUtils::MakeMaker                          0    7.24    


------------------------------
ENVIRONMENT AND OTHER CONTEXT
------------------------------

Environment variables:

    LC_ALL = de_DE.ISO8859-1
    PATH = /usr/local/bin:/usr/bin:/bin:/usr/local/sbin:/usr/sbin:/sbin:/home/cpansand/bin/freebsd9.3:/home/cpansand/bin/sh:/home/cpansand/bin:/usr/games:/home/cpansand/devel:/usr/home/eserte/src/srezic-misc/scripts
    PERL5LIB = /home/eserte/.cpan/build/2016121503/Math-ProvablePrime-0.02-tXtSFG/blib/arch:/home/eserte/.cpan/build/2016121503/Math-ProvablePrime-0.02-tXtSFG/blib/lib
    PERL5OPT = 
    PERL5_CPANPLUS_IS_RUNNING = 10277
    PERL5_CPAN_IS_RUNNING = 10277
    PERL5_CPAN_IS_RUNNING_IN_RECURSION = 10225,10277
    PERLDOC = -MPod::Perldoc::ToTextOverstrike
    PERL_BATCH = yes
    PERL_CANARY_STABILITY_NOPROMPT = 1
    PERL_CPAN_REPORTER_CONFIG = /var/tmp/cpansmoker-1023/2016121503/cpanreporter_000_config.ini
    PERL_EXTUTILS_AUTOINSTALL = --defaultdeps
    SHELL = /usr/local/bin/zsh
    TERM = screen
    TMPDIR = /var/tmp/cpansmoker-1023/2016121503

Perl special variables (and OS-specific diagnostics, for MSWin32):

    $^X = /usr/perl5.14.4/bin/perl
    $UID/$EUID = 1023 / 1023
    $GID = 1023 1023
    $EGID = 1023 1023

Perl module toolchain versions installed:

    Module              Have    
    ------------------- --------
    CPAN                2.10    
    CPAN::Meta          2.150010
    Cwd                 3.62    
    ExtUtils::CBuilder  0.280224
    ExtUtils::Command   7.24    
    ExtUtils::Install   2.04    
    ExtUtils::MakeMaker 7.24    
    ExtUtils::Manifest  1.70    
    ExtUtils::ParseXS   3.30    
    File::Spec          3.62    
    JSON                2.90    
    JSON::PP            2.27300 
    Module::Build       0.4220  
    Module::Signature   0.81    
    Parse::CPAN::Meta   2.150010
    Test::Harness       3.36    
    Test::More          1.302067
    YAML                1.20    
    YAML::Syck          1.29    
    version             0.9916  


--

Summary of my perl5 (revision 5 version 14 subversion 4) configuration:
   
  Platform:
    osname=freebsd, osvers=9.2-release-p4, archname=amd64-freebsd
    uname='freebsd cvrsnica-freebsd-92 9.2-release-p4 freebsd 9.2-release-p4 #0: tue apr 8 18:08:22 utc 2014 root@amd64-builder.daemonology.net:usrobjusrsrcsysgeneric amd64 '
    config_args='-ds -e -Dprefix=/usr/perl5.14.4'
    hint=recommended, useposix=true, d_sigaction=define
    useithreads=undef, usemultiplicity=undef
    useperlio=define, d_sfio=undef, uselargefiles=define, usesocks=undef
    use64bitint=define, use64bitall=define, uselongdouble=undef
    usemymalloc=n, bincompat5005=undef
  Compiler:
    cc='cc', ccflags ='-DHAS_FPSETMASK -DHAS_FLOATINGPOINT_H -fno-strict-aliasing -pipe -fstack-protector -I/usr/local/include',
    optimize='-O',
    cppflags='-DHAS_FPSETMASK -DHAS_FLOATINGPOINT_H -fno-strict-aliasing -pipe -fstack-protector -I/usr/local/include'
    ccversion='', gccversion='4.2.1 20070831 patched [FreeBSD]', gccosandvers=''
    intsize=4, longsize=8, ptrsize=8, doublesize=8, byteorder=12345678
    d_longlong=define, longlongsize=8, d_longdbl=define, longdblsize=16
    ivtype='long', ivsize=8, nvtype='double', nvsize=8, Off_t='off_t', lseeksize=8
    alignbytes=8, prototype=define
  Linker and Libraries:
    ld='cc', ldflags ='-Wl,-E  -fstack-protector -L/usr/local/lib'
    libpth=/usr/lib /usr/local/lib
    libs=-lgdbm -lm -lcrypt -lutil -lc
    perllibs=-lm -lcrypt -lutil -lc
    libc=, so=so, useshrplib=false, libperl=libperl.a
    gnulibc_version=''
  Dynamic Linking:
    dlsrc=dl_dlopen.xs, dlext=so, d_dlsymun=undef, ccdlflags=' '
    cccdlflags='-DPIC -fPIC', lddlflags='-shared  -L/usr/local/lib -fstack-protector'


Characteristics of this binary (from libperl): 
  Compile-time options: PERL_DONT_CREATE_GVSV PERL_MALLOC_WRAP
                        PERL_PRESERVE_IVUV USE_64_BIT_ALL USE_64_BIT_INT
                        USE_LARGE_FILES USE_PERLIO USE_PERL_ATOF
  Built under freebsd
  Compiled at May 16 2014 00:20:44
  %ENV:
    PERL5LIB="/home/eserte/.cpan/build/2016121503/Math-ProvablePrime-0.02-tXtSFG/blib/arch:/home/eserte/.cpan/build/2016121503/Math-ProvablePrime-0.02-tXtSFG/blib/lib"
    PERL5OPT=""
    PERL5_CPANPLUS_IS_RUNNING="10277"
    PERL5_CPAN_IS_RUNNING="10277"
    PERL5_CPAN_IS_RUNNING_IN_RECURSION="10225,10277"
    PERLDOC="-MPod::Perldoc::ToTextOverstrike"
    PERL_BATCH="yes"
    PERL_CANARY_STABILITY_NOPROMPT="1"
    PERL_CPAN_REPORTER_CONFIG="/var/tmp/cpansmoker-1023/2016121503/cpanreporter_000_config.ini"
    PERL_EXTUTILS_AUTOINSTALL="--defaultdeps"
  @INC:
    /home/eserte/.cpan/build/2016121503/Math-ProvablePrime-0.02-tXtSFG/blib/arch
    /home/eserte/.cpan/build/2016121503/Math-ProvablePrime-0.02-tXtSFG/blib/lib
    /usr/perl5.14.4/lib/site_perl/5.14.4/amd64-freebsd
    /usr/perl5.14.4/lib/site_perl/5.14.4
    /usr/perl5.14.4/lib/5.14.4/amd64-freebsd
    /usr/perl5.14.4/lib/5.14.4
    .