Back
From: metabase:user:323dcade-2aae-11df-837a-5e0a49663a4f
Subject: PASS XML-RSS-1.56 v5.20.1 GNU/Linux
Date: 2015-01-05T10:02:13Z
This distribution has been tested as part of the CPAN Testers
project, supporting the Perl programming language. See
http://wiki.cpantesters.org/ for more information or email
questions to cpan-testers-discuss@perl.org
--
Dear Shlomi Fish,
This is a computer-generated report for XML-RSS-1.56
on perl 5.20.1, created by CPAN-Reporter-1.2011.
Thank you for uploading your work to CPAN. Congratulations!
All tests were successful.
Sections of this report:
* Tester comments
* Program output
* Prerequisites
* Environment and other context
------------------------------
TESTER COMMENTS
------------------------------
Additional comments from tester:
this report is from an automated smoke testing program
and was not reviewed by a human for accuracy
------------------------------
PROGRAM OUTPUT
------------------------------
Output from '/usr/bin/make test':
"/usr/local/bin/perl5.20.1-nt-ldbl" "-MTest::Manifest" "-e" "run_t_manifest(0, 'blib/lib', 'blib/arch')"
t/load.t .............................. ok
t/pod.t ............................... ok
t/cpan-changes.t ...................... ok
t/style-trailing-space.t .............. ok
t/version.t ........................... ok
t/render-upon-init.t .................. ok
t/encoding.t .......................... ok
t/0.9-generate.t ...................... ok
t/0.9-parse.t ......................... ok
t/0.9-strict.t ........................ ok
t/0.91-parse.t ........................ ok
t/1.0-generate.t ...................... ok
t/1.0-gen-errors-on-missing-fields.t .. ok
t/1.0-parse.t ......................... ok
t/1.0-parse-2.t ....................... ok
t/1.0-parse-exotic.t .................. ok
t/2.0-generate.t ...................... ok
t/2.0-modules.t ....................... ok
t/2.0-permalink.t ..................... ok
t/2.0-parse.t ......................... ok
t/2.0-parse-cloud.t ................... ok
t/2.0-parse-2.t ....................... ok
t/2.0-parse-self.t .................... ok
t/2.0-wo-title.t ...................... ok
t/1.0-to-2.0.t ........................ ok
t/auto_add_modules.t .................. ok
t/enclosures.t ........................ ok
t/enclosures2.t ....................... ok
t/enclosures-multi.t .................. ok
t/encode-output.t ..................... ok
t/test-generated-items.t .............. ok
t/pod-coverage.t ...................... ok
t/rss2-gt-encoding.t .................. ok
t/charset1.t .......................... ok
t/xml-header.t ........................ ok
t/add-item-insert-vs-append.t ......... ok
t/guid.t .............................. ok
t/xml-base.t .......................... ok
t/save-while-in-taint-mode.t .......... ok
All tests successful.
Files=39, Tests=459, 6 wallclock secs ( 0.14 usr 0.02 sys + 5.18 cusr 0.33 csys = 5.67 CPU)
Result: PASS
------------------------------
PREREQUISITES
------------------------------
Prerequisite modules loaded:
requires:
Module Need Have
------------------------ ---- --------
DateTime 0 1.14
DateTime::Format::Mail 0 0.401
DateTime::Format::W3CDTF 0 0.06
HTML::Entities 0 3.69
Test::Manifest 0.9 2.02
Test::More 0 1.001014
XML::Parser 2.23 2.43
build_requires:
Module Need Have
------------------------ ---- --------
ExtUtils::MakeMaker 0 7.04
configure_requires:
Module Need Have
------------------------ ---- --------
Module::Build 0.36 0.4210
------------------------------
ENVIRONMENT AND OTHER CONTEXT
------------------------------
Environment variables:
AUTOMATED_TESTING = 1
LANG = en_US.utf8
PATH = /home/rurban/bin:/usr/local/bin:/usr/bin:/bin:/usr/local/games:/usr/games
PERL5LIB = /home/rurban/.cpan/build/Mouse-2.4.1-98aKmG/blib/arch:/home/rurban/.cpan/build/Mouse-2.4.1-98aKmG/blib/lib
PERL5OPT =
PERL5_CPANPLUS_IS_RUNNING = 31218
PERL5_CPAN_IS_RUNNING = 31218
PERL_MM_USE_DEFAULT = 1
SHELL = /bin/bash
TERM = xterm
Perl special variables (and OS-specific diagnostics, for MSWin32):
$^X = /usr/local/bin/perl5.20.1-nt-ldbl
$UID/$EUID = 1000 / 1000
$GID = 1000 27 124 125 1000
$EGID = 1000 27 124 125 1000
Perl module toolchain versions installed:
Module Have
------------------- --------
CPAN 2.05
CPAN::Meta 2.143240
Cwd 3.48
ExtUtils::CBuilder 0.280220
ExtUtils::Command 1.19
ExtUtils::Install 2.04
ExtUtils::MakeMaker 7.04
ExtUtils::Manifest 1.70
ExtUtils::ParseXS 3.24
File::Spec 3.48
JSON 2.90
JSON::PP 2.27300
Module::Build 0.4210
Module::Signature 0.73
Parse::CPAN::Meta 1.4414
Test::Harness 3.34
Test::More 1.001014
YAML 1.13
YAML::Syck n/a
version 0.9909
--
Summary of my perl5 (revision 5 version 20 subversion 1) configuration:
Commit id: 4f732e9acf9b96a6e70ba729c7eae63906b663e5
Platform:
osname=linux, osvers=3.16.0-4-amd64, archname=x86_64-linux-ld-ldbl
uname='linux reini 3.16.0-4-amd64 #1 smp debian 3.16.7-ckt2-1 (2014-12-08) x86_64 gnulinux '
config_args='-de -Dusedevel -Uversiononly -Dinstallman1dir=none -Dinstallman3dir=none -Dinstallsiteman1dir=none -Dinstallsiteman3dir=none -Uuseithreads -D'uselongdouble' -D'cc=clang-3.5' -Accflags=''-msse4.2'' -Accflags=''-march=corei7'' -Dcf_email=''rurban@cpanel.net'' -Dperladmin=''rurban@cpanel.net'''
hint=recommended, useposix=true, d_sigaction=define
useithreads=undef, usemultiplicity=undef
use64bitint=define, use64bitall=define, uselongdouble=define
usemymalloc=n, bincompat5005=undef
Compiler:
cc='clang-3.5', ccflags ='-msse4.2 -march=corei7 -fno-strict-aliasing -pipe -I/usr/local/include -D_LARGEFILE_SOURCE -D_FILE_OFFSET_BITS=64',
optimize='-O2',
cppflags='-msse4.2 -march=corei7 -fno-strict-aliasing -pipe -I/usr/local/include'
ccversion='', gccversion='4.2.1 Compatible Clang 3.5.0 ', gccosandvers=''
intsize=4, longsize=8, ptrsize=8, doublesize=8, byteorder=12345678
d_longlong=define, longlongsize=8, d_longdbl=define, longdblsize=16
ivtype='long', ivsize=8, nvtype='long double', nvsize=16, Off_t='off_t', lseeksize=8
alignbytes=16, prototype=define
Linker and Libraries:
ld='clang-3.5', ldflags =' -L/usr/local/lib'
libpth=/usr/local/lib /opt/src/llvm/r206337/bin/../lib/clang/3.5.0/lib /usr/include/x86_64-linux-gnu /usr/lib /lib/x86_64-linux-gnu /lib/../lib /usr/lib/x86_64-linux-gnu /usr/lib/../lib /lib /lib64 /usr/lib64 /usr/local/lib64
libs=-lnsl -lgdbm -ldb -ldl -lm -lcrypt -lutil -lc -lgdbm_compat
perllibs=-lnsl -ldl -lm -lcrypt -lutil -lc
libc=libc-2.19.so, so=so, useshrplib=false, libperl=libperl.a
gnulibc_version='2.19'
Dynamic Linking:
dlsrc=dl_dlopen.xs, dlext=so, d_dlsymun=undef, ccdlflags='-Wl,-E'
cccdlflags='-fPIC', lddlflags='-shared -O2 -L/usr/local/lib '
Characteristics of this binary (from libperl):
Compile-time options: HAS_TIMES PERLIO_LAYERS PERL_DONT_CREATE_GVSV
PERL_HASH_FUNC_ONE_AT_A_TIME_HARD PERL_MALLOC_WRAP
PERL_NEW_COPY_ON_WRITE PERL_PRESERVE_IVUV
PERL_USE_DEVEL USE_64_BIT_ALL USE_64_BIT_INT
USE_LARGE_FILES USE_LOCALE USE_LOCALE_COLLATE
USE_LOCALE_CTYPE USE_LOCALE_NUMERIC USE_LONG_DOUBLE
USE_PERLIO USE_PERL_ATOF
Built under linux
Compiled at Jan 4 2015 02:21:53
%ENV:
PERL5LIB="/home/rurban/.cpan/build/Mouse-2.4.1-98aKmG/blib/arch:/home/rurban/.cpan/build/Mouse-2.4.1-98aKmG/blib/lib"
PERL5OPT=""
PERL5_CPANPLUS_IS_RUNNING="31218"
PERL5_CPAN_IS_RUNNING="31218"
PERL_MM_USE_DEFAULT="1"
@INC:
/home/rurban/.cpan/build/Mouse-2.4.1-98aKmG/blib/arch
/home/rurban/.cpan/build/Mouse-2.4.1-98aKmG/blib/lib
/usr/local/lib/perl5/site_perl/5.20.1/x86_64-linux-ld-ldbl
/usr/local/lib/perl5/site_perl/5.20.1
/usr/local/lib/perl5/5.20.1/x86_64-linux-ld-ldbl
/usr/local/lib/perl5/5.20.1
/usr/local/lib/perl5/site_perl/5.20.0
/usr/local/lib/perl5/site_perl/5.19.11
/usr/local/lib/perl5/site_perl/5.19.10
/usr/local/lib/perl5/site_perl/5.19.9
/usr/local/lib/perl5/site_perl/5.19.8
/usr/local/lib/perl5/site_perl/5.19.7
/usr/local/lib/perl5/site_perl/5.19.6
/usr/local/lib/perl5/site_perl/5.19.5
/usr/local/lib/perl5/site_perl/5.19.4
/usr/local/lib/perl5/site_perl/5.19.3
/usr/local/lib/perl5/site_perl/5.19.2
/usr/local/lib/perl5/site_perl/5.19.1
/usr/local/lib/perl5/site_perl/5.19.0
/usr/local/lib/perl5/site_perl/5.18.4
/usr/local/lib/perl5/site_perl/5.18.2
/usr/local/lib/perl5/site_perl/5.18.1
/usr/local/lib/perl5/site_perl/5.18.0
/usr/local/lib/perl5/site_perl/5.17.11
/usr/local/lib/perl5/site_perl/5.17.10
/usr/local/lib/perl5/site_perl/5.17.8
/usr/local/lib/perl5/site_perl/5.17.7
/usr/local/lib/perl5/site_perl/5.17.6
/usr/local/lib/perl5/site_perl/5.17.5
/usr/local/lib/perl5/site_perl/5.17.4
/usr/local/lib/perl5/site_perl/5.17.3
/usr/local/lib/perl5/site_perl/5.17.2
/usr/local/lib/perl5/site_perl/5.17.1
/usr/local/lib/perl5/site_perl/5.17.0
/usr/local/lib/perl5/site_perl/5.17
/usr/local/lib/perl5/site_perl/5.16.3
/usr/local/lib/perl5/site_perl/5.16.2
/usr/local/lib/perl5/site_perl/5.16.1
/usr/local/lib/perl5/site_perl/5.16.0
/usr/local/lib/perl5/site_perl/5.15.9
/usr/local/lib/perl5/site_perl/5.15.8
/usr/local/lib/perl5/site_perl/5.15.7
/usr/local/lib/perl5/site_perl/5.15.6
/usr/local/lib/perl5/site_perl/5.15.5
/usr/local/lib/perl5/site_perl/5.15.4
/usr/local/lib/perl5/site_perl/5.15.3
/usr/local/lib/perl5/site_perl/5.15.2
/usr/local/lib/perl5/site_perl/5.14.4
/usr/local/lib/perl5/site_perl/5.14.3
/usr/local/lib/perl5/site_perl/5.14.2
/usr/local/lib/perl5/site_perl/5.14.1
/usr/local/lib/perl5/site_perl/5.12.5
/usr/local/lib/perl5/site_perl/5.12.4
/usr/local/lib/perl5/site_perl/5.10.1
/usr/local/lib/perl5/site_perl/5.8.9
/usr/local/lib/perl5/site_perl/5.8.8
/usr/local/lib/perl5/site_perl/5.8.7
/usr/local/lib/perl5/site_perl/5.8.6
/usr/local/lib/perl5/site_perl/5.8.5
/usr/local/lib/perl5/site_perl/5.8.4
/usr/local/lib/perl5/site_perl/5.8.3
/usr/local/lib/perl5/site_perl/5.8.2
/usr/local/lib/perl5/site_perl/5.8.1
/usr/local/lib/perl5/site_perl/5.6.2
/usr/local/lib/perl5/site_perl
.