Fluent-Logger v0.27 Perl 5 v5.24.0 x86_64-linux

Status
Pass
From
Slaven Rezić (SREZIC)
Dist
Fluent-Logger v0.27
Platform
Perl 5 v5.24.0 x86_64-linux
Date
2018-06-19 08:01:07
ID
ebe2b51e-7396-11e8-b864-ffbbcb7119aa
This distribution has been tested as part of the CPAN Testers
project, supporting the Perl programming language.  See
http://wiki.cpantesters.org/ for more information or email
questions to cpan-testers-discuss@perl.org


--
Dear FUJIWARA Shunichiro,

This is a computer-generated report for Fluent-Logger-0.27
on perl 5.24.0, created by CPAN-Reporter-1.2018.

Thank you for uploading your work to CPAN.  Congratulations!
All tests were successful.

Sections of this report:

    * Tester comments
    * Program output
    * Prerequisites
    * Environment and other context

------------------------------
TESTER COMMENTS
------------------------------

Additional comments from tester:

none provided

------------------------------
PROGRAM OUTPUT
------------------------------

Output from './Build test':

t/00_compile.t ...................... ok
t/01_new.t .......................... ok
t/02_unix_socket.t .................. ok
t/03_tcp.t .......................... ok
Can't exec "fluentd": No such file or directory at /home/cpansand/.cpan/build/2018061907/Fluent-Logger-0.27-5/t/../t/Util.pm line 34.
Use of uninitialized value in pattern match (m//) at /home/cpansand/.cpan/build/2018061907/Fluent-Logger-0.27-5/t/../t/Util.pm line 34.
t/04_live.t ......................... skipped: fluentd is not installed.
Can't exec "fluentd": No such file or directory at /home/cpansand/.cpan/build/2018061907/Fluent-Logger-0.27-5/t/../t/Util.pm line 34.
Use of uninitialized value in pattern match (m//) at /home/cpansand/.cpan/build/2018061907/Fluent-Logger-0.27-5/t/../t/Util.pm line 34.
t/05_prefer_integer.t ............... skipped: fluentd is not installed.
Can't exec "fluentd": No such file or directory at /home/cpansand/.cpan/build/2018061907/Fluent-Logger-0.27-5/t/../t/Util.pm line 34.
Use of uninitialized value in pattern match (m//) at /home/cpansand/.cpan/build/2018061907/Fluent-Logger-0.27-5/t/../t/Util.pm line 34.
t/06_fork.t ......................... skipped: fluentd is not installed.
Can't exec "fluentd": No such file or directory at /home/cpansand/.cpan/build/2018061907/Fluent-Logger-0.27-5/t/../t/Util.pm line 34.
Use of uninitialized value in pattern match (m//) at /home/cpansand/.cpan/build/2018061907/Fluent-Logger-0.27-5/t/../t/Util.pm line 34.
t/07_str_bin.t ...................... skipped: fluentd is not installed.
Can't exec "fluentd": No such file or directory at /home/cpansand/.cpan/build/2018061907/Fluent-Logger-0.27-5/t/../t/Util.pm line 34.
Use of uninitialized value in pattern match (m//) at /home/cpansand/.cpan/build/2018061907/Fluent-Logger-0.27-5/t/../t/Util.pm line 34.
t/08_udp.t .......................... skipped: fluentd is not installed.
2018-06-19T07:59:35+0000 Fluent::Logger[34106056](127.0.0.1:40223): Can't connect: Connection refused at t/09_buffer_overflow_handler.t line 16.
2018-06-19T07:59:35+0000 Fluent::Logger[34106056](127.0.0.1:40223): Can't connect: Connection refused at t/09_buffer_overflow_handler.t line 19.
2018-06-19T07:59:35+0000 Fluent::Logger[34106056](127.0.0.1:40223): Cannot send data: Connection is not available at /home/cpansand/.cpan/build/2018061907/Fluent-Logger-0.27-5/blib/lib/Fluent/Logger.pm line 329. at t/09_buffer_overflow_handler.t line 19.
2018-06-19T07:59:35+0000 Fluent::Logger[34106056](127.0.0.1:40223): flushing pending data on close at t/09_buffer_overflow_handler.t line 23.
2018-06-19T07:59:35+0000 Fluent::Logger[34106056](127.0.0.1:40223): Can't connect: Connection refused at t/09_buffer_overflow_handler.t line 23.
2018-06-19T07:59:35+0000 Fluent::Logger[34106056](127.0.0.1:40223): Can't send pending data. LOST 2097194 bytes.: Connection is not available at /home/cpansand/.cpan/build/2018061907/Fluent-Logger-0.27-5/blib/lib/Fluent/Logger.pm line 329. at t/09_buffer_overflow_handler.t line 23.
t/09_buffer_overflow_handler.t ...... ok
2018-06-19T07:59:35+0000 Fluent::Logger[46131424](127.0.0.1:43411): Can't connect: Connection refused at t/10_truncate_buffet_at_overflow.t line 12.
2018-06-19T07:59:35+0000 Fluent::Logger[46131424](127.0.0.1:43411): Can't connect: Connection refused at t/10_truncate_buffet_at_overflow.t line 19.
2018-06-19T07:59:35+0000 Fluent::Logger[46131424](127.0.0.1:43411): Cannot send data: Connection is not available at /home/cpansand/.cpan/build/2018061907/Fluent-Logger-0.27-5/blib/lib/Fluent/Logger.pm line 329. at t/10_truncate_buffet_at_overflow.t line 19.
2018-06-19T07:59:35+0000 Fluent::Logger[46131424](127.0.0.1:43411): Can't connect: Connection refused at t/10_truncate_buffet_at_overflow.t line 23.
2018-06-19T07:59:35+0000 Fluent::Logger[46131424](127.0.0.1:43411): Cannot send data: Connection is not available at /home/cpansand/.cpan/build/2018061907/Fluent-Logger-0.27-5/blib/lib/Fluent/Logger.pm line 329. at t/10_truncate_buffet_at_overflow.t line 23.
2018-06-19T07:59:35+0000 Fluent::Logger[46131424](127.0.0.1:43411): Can't connect: Connection refused at t/10_truncate_buffet_at_overflow.t line 23.
2018-06-19T07:59:35+0000 Fluent::Logger[46131424](127.0.0.1:43411): Cannot send data: Connection is not available at /home/cpansand/.cpan/build/2018061907/Fluent-Logger-0.27-5/blib/lib/Fluent/Logger.pm line 329. at t/10_truncate_buffet_at_overflow.t line 23.
2018-06-19T07:59:35+0000 Fluent::Logger[46131424](127.0.0.1:43411): Can't connect: Connection refused at t/10_truncate_buffet_at_overflow.t line 23.
2018-06-19T07:59:35+0000 Fluent::Logger[46131424](127.0.0.1:43411): Cannot send data: Connection is not available at /home/cpansand/.cpan/build/2018061907/Fluent-Logger-0.27-5/blib/lib/Fluent/Logger.pm line 329. at t/10_truncate_buffet_at_overflow.t line 23.
2018-06-19T07:59:35+0000 Fluent::Logger[46131424](127.0.0.1:43411): Can't connect: Connection refused at t/10_truncate_buffet_at_overflow.t line 23.
2018-06-19T07:59:35+0000 Fluent::Logger[46131424](127.0.0.1:43411): Cannot send data: Connection is not available at /home/cpansand/.cpan/build/2018061907/Fluent-Logger-0.27-5/blib/lib/Fluent/Logger.pm line 329. at t/10_truncate_buffet_at_overflow.t line 23.
2018-06-19T07:59:35+0000 Fluent::Logger[46131424](127.0.0.1:43411): Can't connect: Connection refused at t/10_truncate_buffet_at_overflow.t line 23.
2018-06-19T07:59:35+0000 Fluent::Logger[46131424](127.0.0.1:43411): Cannot send data: Connection is not available at /home/cpansand/.cpan/build/2018061907/Fluent-Logger-0.27-5/blib/lib/Fluent/Logger.pm line 329. at t/10_truncate_buffet_at_overflow.t line 23.
2018-06-19T07:59:35+0000 Fluent::Logger[46131424](127.0.0.1:43411): Can't connect: Connection refused at t/10_truncate_buffet_at_overflow.t line 23.
2018-06-19T07:59:35+0000 Fluent::Logger[46131424](127.0.0.1:43411): Cannot send data: Connection is not available at /home/cpansand/.cpan/build/2018061907/Fluent-Logger-0.27-5/blib/lib/Fluent/Logger.pm line 329. at t/10_truncate_buffet_at_overflow.t line 23.
2018-06-19T07:59:35+0000 Fluent::Logger[46131424](127.0.0.1:43411): Can't connect: Connection refused at t/10_truncate_buffet_at_overflow.t line 23.
2018-06-19T07:59:35+0000 Fluent::Logger[46131424](127.0.0.1:43411): Cannot send data: Connection is not available at /home/cpansand/.cpan/build/2018061907/Fluent-Logger-0.27-5/blib/lib/Fluent/Logger.pm line 329. at t/10_truncate_buffet_at_overflow.t line 23.
2018-06-19T07:59:35+0000 Fluent::Logger[46131424](127.0.0.1:43411): Can't connect: Connection refused at t/10_truncate_buffet_at_overflow.t line 23.
2018-06-19T07:59:35+0000 Fluent::Logger[46131424](127.0.0.1:43411): Cannot send data: Connection is not available at /home/cpansand/.cpan/build/2018061907/Fluent-Logger-0.27-5/blib/lib/Fluent/Logger.pm line 329. at t/10_truncate_buffet_at_overflow.t line 23.
2018-06-19T07:59:35+0000 Fluent::Logger[46131424](127.0.0.1:43411): flushing pending data on close at t/10_truncate_buffet_at_overflow.t line 27.
2018-06-19T07:59:35+0000 Fluent::Logger[46131424](127.0.0.1:43411): Can't connect: Connection refused at t/10_truncate_buffet_at_overflow.t line 27.
2018-06-19T07:59:35+0000 Fluent::Logger[46131424](127.0.0.1:43411): Can't send pending data. LOST 7340179 bytes.: Connection is not available at /home/cpansand/.cpan/build/2018061907/Fluent-Logger-0.27-5/blib/lib/Fluent/Logger.pm line 329. at t/10_truncate_buffet_at_overflow.t line 27.
t/10_truncate_buffet_at_overflow.t .. ok
Can't exec "fluentd": No such file or directory at /home/cpansand/.cpan/build/2018061907/Fluent-Logger-0.27-5/t/../t/Util.pm line 34.
Use of uninitialized value in pattern match (m//) at /home/cpansand/.cpan/build/2018061907/Fluent-Logger-0.27-5/t/../t/Util.pm line 34.
t/11_retry_immediately.t ............ skipped: fluentd is not installed.
All tests successful.
Files=12, Tests=35,  4 wallclock secs ( 0.03 usr  0.05 sys +  0.87 cusr  0.32 csys =  1.27 CPU)
Result: PASS

------------------------------
PREREQUISITES
------------------------------

Prerequisite modules loaded:

requires:

    Module                    Need    Have    
    ------------------------- ------- --------
    Class::Tiny               0       1.006   
    Data::MessagePack         0.35_01 1.00    
    Data::MessagePack::Stream 0       1.01    
    Time::Piece               0       1.3204  
    UUID::Tiny                0       1.04    

build_requires:

    Module                    Need    Have    
    ------------------------- ------- --------
    Capture::Tiny             0       0.48    
    ExtUtils::MakeMaker       6.36    7.34    
    Path::Class               0       0.37    
    Test::More                0.88    1.302136
    Test::SharedFork          0       0.35    
    Test::TCP                 1.3     2.19    
    version                   0.77    0.9923  

configure_requires:

    Module                    Need    Have    
    ------------------------- ------- --------
    Module::Build::Tiny       0.035   0.039   


------------------------------
ENVIRONMENT AND OTHER CONTEXT
------------------------------

Environment variables:

    LANG = en_US.UTF-8
    PATH = /usr/local/bin:/usr/bin:/bin:/usr/local/sbin:/usr/sbin:/sbin:/home/cpansand/bin/linux-gnu:/home/cpansand/bin/sh:/home/cpansand/bin:/usr/games:/home/cpansand/devel:/home/eserte/src/srezic-misc/scripts
    PERL5LIB = 
    PERL5OPT = 
    PERL5_CPANPLUS_IS_RUNNING = 28013
    PERL5_CPAN_IS_RUNNING = 28013
    PERL5_CPAN_IS_RUNNING_IN_RECURSION = 27489,28013
    PERLDOC = -MPod::Perldoc::ToTextOverstrike
    PERL_BATCH = yes
    PERL_CANARY_STABILITY_NOPROMPT = 1
    PERL_CPAN_REPORTER_CONFIG = /var/tmp/cpansmoker-1023/2018061907/cpanreporter_000_config.ini
    PERL_EXTUTILS_AUTOINSTALL = --defaultdeps
    SHELL = /bin/zsh
    TERM = screen
    TMPDIR = /var/tmp/cpansmoker-1023/2018061907

Perl special variables (and OS-specific diagnostics, for MSWin32):

    $^X = /opt/perl-5.24.0/bin/perl
    $UID/$EUID = 1023 / 1023
    $GID = 1023 1023
    $EGID = 1023 1023

Perl module toolchain versions installed:

    Module              Have    
    ------------------- --------
    CPAN                2.16    
    CPAN::Meta          2.150010
    Cwd                 3.74    
    ExtUtils::CBuilder  0.280230
    ExtUtils::Command   7.34    
    ExtUtils::Install   2.06    
    ExtUtils::MakeMaker 7.34    
    ExtUtils::Manifest  1.71    
    ExtUtils::ParseXS   3.31    
    File::Spec          3.74    
    JSON                2.97001 
    JSON::PP            2.97001 
    Module::Build       0.4224  
    Module::Signature   0.81    
    Parse::CPAN::Meta   2.150010
    Test::Harness       3.42    
    Test::More          1.302136
    YAML                1.24    
    YAML::Syck          1.30    
    version             0.9923  


--

Summary of my perl5 (revision 5 version 24 subversion 0) configuration:
   
  Platform:
    osname=linux, osvers=2.6.32-696.3.1.el6.x86_64, archname=x86_64-linux
    uname='linux centos6 2.6.32-696.3.1.el6.x86_64 #1 smp tue may 30 19:52:55 utc 2017 x86_64 x86_64 x86_64 gnulinux '
    config_args='-ds -e -Dprefix=/opt/perl-5.24.0 -Dcf_email=srezic@cpan.org'
    hint=recommended, useposix=true, d_sigaction=define
    useithreads=undef, usemultiplicity=undef
    use64bitint=define, use64bitall=define, uselongdouble=undef
    usemymalloc=n, bincompat5005=undef
  Compiler:
    cc='cc', ccflags ='-fwrapv -fno-strict-aliasing -pipe -fstack-protector -I/usr/local/include -D_LARGEFILE_SOURCE -D_FILE_OFFSET_BITS=64 -D_FORTIFY_SOURCE=2',
    optimize='-O2',
    cppflags='-fwrapv -fno-strict-aliasing -pipe -fstack-protector -I/usr/local/include'
    ccversion='', gccversion='4.4.7 20120313 (Red Hat 4.4.7-18)', gccosandvers=''
    intsize=4, longsize=8, ptrsize=8, doublesize=8, byteorder=12345678, doublekind=3
    d_longlong=define, longlongsize=8, d_longdbl=define, longdblsize=16, longdblkind=3
    ivtype='long', ivsize=8, nvtype='double', nvsize=8, Off_t='off_t', lseeksize=8
    alignbytes=8, prototype=define
  Linker and Libraries:
    ld='cc', ldflags =' -fstack-protector -L/usr/local/lib'
    libpth=/usr/local/lib /usr/lib /lib/../lib64 /usr/lib/../lib64 /lib /lib64 /usr/lib64 /usr/local/lib64
    libs=-lpthread -lnsl -lgdbm -ldb -ldl -lm -lcrypt -lutil -lc
    perllibs=-lpthread -lnsl -ldl -lm -lcrypt -lutil -lc
    libc=libc-2.12.so, so=so, useshrplib=false, libperl=libperl.a
    gnulibc_version='2.12'
  Dynamic Linking:
    dlsrc=dl_dlopen.xs, dlext=so, d_dlsymun=undef, ccdlflags='-Wl,-E'
    cccdlflags='-fPIC', lddlflags='-shared -O2 -L/usr/local/lib -fstack-protector'


Characteristics of this binary (from libperl): 
  Compile-time options: HAS_TIMES PERLIO_LAYERS PERL_COPY_ON_WRITE
                        PERL_DONT_CREATE_GVSV
                        PERL_HASH_FUNC_ONE_AT_A_TIME_HARD PERL_MALLOC_WRAP
                        PERL_PRESERVE_IVUV USE_64_BIT_ALL USE_64_BIT_INT
                        USE_LARGE_FILES USE_LOCALE USE_LOCALE_COLLATE
                        USE_LOCALE_CTYPE USE_LOCALE_NUMERIC USE_LOCALE_TIME
                        USE_PERLIO USE_PERL_ATOF
  Built under linux
  Compiled at Jun 20 2017 21:17:18
  %ENV:
    PERL5LIB=""
    PERL5OPT=""
    PERL5_CPANPLUS_IS_RUNNING="28013"
    PERL5_CPAN_IS_RUNNING="28013"
    PERL5_CPAN_IS_RUNNING_IN_RECURSION="27489,28013"
    PERLDOC="-MPod::Perldoc::ToTextOverstrike"
    PERL_BATCH="yes"
    PERL_CANARY_STABILITY_NOPROMPT="1"
    PERL_CPAN_REPORTER_CONFIG="/var/tmp/cpansmoker-1023/2018061907/cpanreporter_000_config.ini"
    PERL_EXTUTILS_AUTOINSTALL="--defaultdeps"
  @INC:
    /opt/perl-5.24.0/lib/site_perl/5.24.0/x86_64-linux
    /opt/perl-5.24.0/lib/site_perl/5.24.0
    /opt/perl-5.24.0/lib/5.24.0/x86_64-linux
    /opt/perl-5.24.0/lib/5.24.0
    .