Back
From: metabase:user:1cff1e59-6bfd-1014-9e8a-970838f66ec4
Subject: PASS Mojolicious-Plugin-LinkEmbedder-0.20 v5.20.1
Date: 2015-02-17T14:54:54Z
This distribution has been tested as part of the CPAN Testers
project, supporting the Perl programming language. See
http://wiki.cpantesters.org/ for more information or email
questions to cpan-testers-discuss@perl.org
--
Dear JHTHORSEN,
This is a computer-generated report for Mojolicious-Plugin-LinkEmbedder-0.20
on perl 5.20.1, created by App::cpanminus::reporter 0.12 (1.7009).
Thank you for uploading your work to CPAN. Congratulations!
All tests were successful.
Sections of this report:
* Tester comments
* Program output
* Prerequisites
* Environment and other context
------------------------------
TESTER COMMENTS
------------------------------
Additional comments from tester:
none provided
------------------------------
PROGRAM OUTPUT
------------------------------
Output from '':
Building and testing Mojolicious-Plugin-LinkEmbedder-0.20
cp lib/Mojolicious/Plugin/LinkEmbedder/Link/Text.pm blib\lib\Mojolicious\Plugin\LinkEmbedder\Link\Text.pm
cp lib/Mojolicious/Plugin/LinkEmbedder/Link/Image/Imgur.pm blib\lib\Mojolicious\Plugin\LinkEmbedder\Link\Image\Imgur.pm
cp lib/Mojolicious/Plugin/LinkEmbedder/Link/Image.pm blib\lib\Mojolicious\Plugin\LinkEmbedder\Link\Image.pm
cp lib/Mojolicious/Plugin/LinkEmbedder/Link/Text/GistGithub.pm blib\lib\Mojolicious\Plugin\LinkEmbedder\Link\Text\GistGithub.pm
cp lib/Mojolicious/Plugin/LinkEmbedder/Link/Image/Xkcd.pm blib\lib\Mojolicious\Plugin\LinkEmbedder\Link\Image\Xkcd.pm
cp lib/Mojolicious/Plugin/LinkEmbedder/Link.pm blib\lib\Mojolicious\Plugin\LinkEmbedder\Link.pm
cp lib/Mojolicious/Plugin/LinkEmbedder/Link/Text/HTML.pm blib\lib\Mojolicious\Plugin\LinkEmbedder\Link\Text\HTML.pm
cp lib/Mojolicious/Plugin/LinkEmbedder/Link/Text/Github.pm blib\lib\Mojolicious\Plugin\LinkEmbedder\Link\Text\Github.pm
cp lib/Mojolicious/Plugin/LinkEmbedder.pm blib\lib\Mojolicious\Plugin\LinkEmbedder.pm
cp lib/Mojolicious/Plugin/LinkEmbedder/Link/Game.pm blib\lib\Mojolicious\Plugin\LinkEmbedder\Link\Game.pm
cp lib/Mojolicious/Plugin/LinkEmbedder/Link/Game/_2play.pm blib\lib\Mojolicious\Plugin\LinkEmbedder\Link\Game\_2play.pm
cp lib/Mojolicious/Plugin/LinkEmbedder/Link/Video.pm blib\lib\Mojolicious\Plugin\LinkEmbedder\Link\Video.pm
cp lib/Mojolicious/Plugin/LinkEmbedder/Link/Video/Dbtv.pm blib\lib\Mojolicious\Plugin\LinkEmbedder\Link\Video\Dbtv.pm
cp lib/Mojolicious/Plugin/LinkEmbedder/Link/Video/Ted.pm blib\lib\Mojolicious\Plugin\LinkEmbedder\Link\Video\Ted.pm
cp lib/Mojolicious/Plugin/LinkEmbedder/Link/Video/AppearIn.pm blib\lib\Mojolicious\Plugin\LinkEmbedder\Link\Video\AppearIn.pm
cp lib/Mojolicious/Plugin/LinkEmbedder/Link/Text/Twitter.pm blib\lib\Mojolicious\Plugin\LinkEmbedder\Link\Text\Twitter.pm
cp lib/Mojolicious/Plugin/LinkEmbedder/Link/Text/Travis.pm blib\lib\Mojolicious\Plugin\LinkEmbedder\Link\Text\Travis.pm
cp lib/Mojolicious/Plugin/LinkEmbedder/Link/Video/Vimeo.pm blib\lib\Mojolicious\Plugin\LinkEmbedder\Link\Video\Vimeo.pm
cp lib/Mojolicious/Plugin/LinkEmbedder/Link/Text/Metacpan.pm blib\lib\Mojolicious\Plugin\LinkEmbedder\Link\Text\Metacpan.pm
cp lib/Mojolicious/Plugin/LinkEmbedder/Link/Video/Collegehumor.pm blib\lib\Mojolicious\Plugin\LinkEmbedder\Link\Video\Collegehumor.pm
cp lib/Mojolicious/Plugin/LinkEmbedder/Link/Video/Blip.pm blib\lib\Mojolicious\Plugin\LinkEmbedder\Link\Video\Blip.pm
cp lib/Mojolicious/Plugin/LinkEmbedder/Link/Video/Youtube.pm blib\lib\Mojolicious\Plugin\LinkEmbedder\Link\Video\Youtube.pm
C:\Strawberry\perl\bin\perl.exe "-MExtUtils::Command::MM" "-MTest::Harness" "-e" "undef *Test::Harness::Switches; test_harness(0, 'blib\lib', 'blib\arch')" t/*.t
t/00-basic.t ............ ok
t/fallback.t ............ skipped: TEST_ONLINE=1 need to be set
t/image-base.t .......... skipped: TEST_ONLINE=1 need to be set
t/image-imgur.t ......... skipped: TEST_ONLINE=1 need to be set
t/image-xkcd.t .......... skipped: TEST_ONLINE=1 need to be set
t/is.t .................. ok
t/text-gist-github.t .... skipped: TEST_ONLINE=1 need to be set
t/text-github.t ......... skipped: TEST_ONLINE=1 need to be set
t/text-html.t ........... ok
t/text-metacpan.t ....... skipped: TEST_ONLINE=1 need to be set
t/text-travis.t ......... skipped: TEST_ONLINE=1 need to be set
t/text-twitter.t ........ skipped: TEST_ONLINE=1 need to be set
t/video-appearin.t ...... skipped: TEST_ONLINE=1 need to be set
t/video-base.t .......... skipped: TEST_ONLINE=1 need to be set
t/video-blip.t .......... skipped: TEST_ONLINE=1 need to be set
t/video-collegehumor.t .. skipped: TEST_ONLINE=1 need to be set
t/video-dbtv.t .......... skipped: TEST_ONLINE=1 need to be set
t/video-ted.t ........... skipped: TEST_ONLINE=1 need to be set
t/video-vimeo.t ......... skipped: TEST_ONLINE=1 need to be set
t/video-youtube.t ....... skipped: TEST_ONLINE=1 need to be set
All tests successful.
Files=20, Tests=88, 30 wallclock secs ( 0.05 usr + 0.03 sys = 0.08 CPU)
Result: PASS
------------------------------
PREREQUISITES
------------------------------
Prerequisite modules loaded:
No requirements found
------------------------------
ENVIRONMENT AND OTHER CONTEXT
------------------------------
Environment variables:
COMSPEC = C:\Windows\system32\cmd.exe
NUMBER_OF_PROCESSORS = 2
PATH = C:\Program Files (x86)\Intel\iCLS Client\;C:\Program Files\Intel\iCLS Client\;C:\Windows\system32;C:\Windows;C:\Windows\System32\Wbem;C:\Windows\System32\WindowsPowerShell\v1.0\;C:\Program Files (x86)\Windows Live\Shared;C:\Program Files (x86)\QuickTime\QTSystem\;C:\Program Files\Intel\Intel(R) Management Engine Components\DAL;C:\Program Files\Intel\Intel(R) Management Engine Components\IPT;C:\Program Files (x86)\Intel\Intel(R) Management Engine Components\DAL;C:\Program Files (x86)\Intel\Intel(R) Management Engine Components\IPT;C:\Strawberry\c\bin;C:\Strawberry\perl\site\bin;C:\Strawberry\perl\bin;C:\Program Files (x86)\Mozilla Firefox;C:\Program Files (x86)\Intel\iCLS Client\;C:\Program Files\Intel\iCLS Client\;C:\Windows\system32;C:\Windows;C:\Windows\System32\Wbem;C:\Windows\System32\WindowsPowerShell\v1.0\;C:\Program Files (x86)\Windows Live\Shared;C:\Program Files (x86)\QuickTime\QTSystem\;C:\Program Files\Intel\Intel(R) Management Engine Components\DAL;C:\Program Files\Intel\Intel(R) Management Engine Components\IPT;C:\Program Files (x86)\Intel\Intel(R) Management Engine Components\DAL;C:\Program Files (x86)\Intel\Intel(R) Management Engine Components\IPT;C:\Strawberry\c\bin;C:\Strawberry\perl\site\bin;C:\Strawberry\perl\bin
PROCESSOR_IDENTIFIER = Intel64 Family 6 Model 60 Stepping 3, GenuineIntel
TEMP = C:\Users\SCHULU~1\AppData\Local\Temp
Perl special variables (and OS-specific diagnostics, for MSWin32):
EGID = 0
EUID = 0
EXECUTABLE_NAME = C:\Strawberry\perl\bin\perl.exe
GID = 0
UID = 0
Win32::FsType = NTFS
Win32::GetOSName = Win8
Win32::GetOSVersion = , 6, 2, 9200, 2, 0, 0, 768, 1
Win32::IsAdminUser = 0
Perl module toolchain versions installed:
Module Have
------------------- --------
CPAN 2.05
CPAN::Meta 2.142060
Cwd 3.48
ExtUtils::CBuilder 0.280219
ExtUtils::Command 1.18
ExtUtils::Install 1.68
ExtUtils::MakeMaker 6.98
ExtUtils::Manifest 1.66
ExtUtils::ParseXS 3.24
File::Spec 3.48
JSON 2.90
JSON::PP 2.27203
Module::Build 0.4210
Module::Signature n/a
Parse::CPAN::Meta 1.4414
Test::Harness 3.33
Test::More 1.001006
YAML 1.11
YAML::Syck n/a
version 0.9909
--
Summary of my perl5 (revision 5 version 20 subversion 1) configuration:
Platform:
osname=MSWin32, osvers=6.3, archname=MSWin32-x64-multi-thread
uname='Win32 strawberry-perl 5.20.1.1 #1 Mon Sep 15 13:26:45 2014 x64'
config_args='undef'
hint=recommended, useposix=true, d_sigaction=undef
useithreads=define, usemultiplicity=define
use64bitint=define, use64bitall=undef, uselongdouble=undef
usemymalloc=n, bincompat5005=undef
Compiler:
cc='gcc', ccflags =' -s -O2 -DWIN32 -DWIN64 -DCONSERVATIVE -DPERL_TEXTMODE_SCRIPTS -DPERL_IMPLICIT_CONTEXT -DPERL_IMPLICIT_SYS -DUSE_PERLIO -fwrapv -fno-strict-aliasing -mms-bitfields',
optimize='-s -O2',
cppflags='-DWIN32'
ccversion='', gccversion='4.8.3', gccosandvers=''
intsize=4, longsize=4, ptrsize=8, doublesize=8, byteorder=12345678
d_longlong=define, longlongsize=8, d_longdbl=define, longdblsize=12
ivtype='long long', ivsize=8, nvtype='double', nvsize=8, Off_t='long long', lseeksize=8
alignbytes=8, prototype=define
Linker and Libraries:
ld='g++', ldflags ='-s -L"C:\STRAWB~1\perl\lib\CORE" -L"C:\STRAWB~1\c\lib"'
libpth=C:\STRAWB~1\c\lib C:\STRAWB~1\c\x86_64-w64-mingw32\lib C:\STRAWB~1\c\lib\gcc\x86_64-w64-mingw32\4.8.3
libs=-lmoldname -lkernel32 -luser32 -lgdi32 -lwinspool -lcomdlg32 -ladvapi32 -lshell32 -lole32 -loleaut32 -lnetapi32 -luuid -lws2_32 -lmpr -lwinmm -lversion -lodbc32 -lodbccp32 -lcomctl32
perllibs=-lmoldname -lkernel32 -luser32 -lgdi32 -lwinspool -lcomdlg32 -ladvapi32 -lshell32 -lole32 -loleaut32 -lnetapi32 -luuid -lws2_32 -lmpr -lwinmm -lversion -lodbc32 -lodbccp32 -lcomctl32
libc=, so=dll, useshrplib=true, libperl=libperl520.a
gnulibc_version=''
Dynamic Linking:
dlsrc=dl_win32.xs, dlext=xs.dll, d_dlsymun=undef, ccdlflags=' '
cccdlflags=' ', lddlflags='-mdll -s -L"C:\STRAWB~1\perl\lib\CORE" -L"C:\STRAWB~1\c\lib"'
Characteristics of this binary (from libperl):
Compile-time options: HAS_TIMES HAVE_INTERP_INTERN MULTIPLICITY
PERLIO_LAYERS PERL_DONT_CREATE_GVSV
PERL_HASH_FUNC_ONE_AT_A_TIME_HARD
PERL_IMPLICIT_CONTEXT PERL_IMPLICIT_SYS
PERL_MALLOC_WRAP PERL_NEW_COPY_ON_WRITE
PERL_PRESERVE_IVUV USE_64_BIT_INT USE_ITHREADS
USE_LARGE_FILES USE_LOCALE USE_LOCALE_COLLATE
USE_LOCALE_CTYPE USE_LOCALE_NUMERIC USE_PERLIO
USE_PERL_ATOF
Built under MSWin32
Compiled at Sep 15 2014 13:30:55
@INC:
C:/Strawberry/perl/site/lib/MSWin32-x64-multi-thread
C:/Strawberry/perl/site/lib
C:/Strawberry/perl/vendor/lib
C:/Strawberry/perl/lib
.