HTML-FormatExternal v26 Perl 5 v5.26.1 amd64-freebsd

Status
Pass
From
Slaven Rezić (SREZIC)
Dist
HTML-FormatExternal v26
Platform
Perl 5 v5.26.1 amd64-freebsd
Date
2017-10-19 18:32:53
ID
eb618c5a-b4fb-11e7-8a06-bbfcbcb030a6
This distribution has been tested as part of the CPAN Testers
project, supporting the Perl programming language.  See
http://wiki.cpantesters.org/ for more information or email
questions to cpan-testers-discuss@perl.org


--
Dear Kevin Ryde,

This is a computer-generated report for HTML-FormatExternal-26
on perl 5.26.1, created by CPAN-Reporter-1.2018.

Thank you for uploading your work to CPAN.  Congratulations!
All tests were successful.

Sections of this report:

    * Tester comments
    * Program output
    * Prerequisites
    * Environment and other context

------------------------------
TESTER COMMENTS
------------------------------

Additional comments from tester:

none provided

------------------------------
PROGRAM OUTPUT
------------------------------

Output from '/usr/bin/make test':

PERL_DL_NONLAZY=1 "/usr/perl5.26.1p/bin/perl" "-MExtUtils::Command::MM" "-MTest::Harness" "-e" "undef *Test::Harness::Switches; test_harness(0, 'blib/lib', 'blib/arch')" t/*.t
t/Elinks.t .......... ok
# HTML::FormatText::Elinks
# HTML::FormatText::Elinks program_full_version $VAR1 = undef;
# HTML::FormatText::Elinks program_version $VAR1 = undef;
# HTML::FormatText::Html2text
# HTML::FormatText::Html2text program_full_version $VAR1 = 'This is html2text, version 1.3.2a
# 
# The latest version can be found at http://userpage.fu-berlin.de/~mbayer/tools/
# 
# This program is distributed in the hope that it will be useful, but WITHOUT
# ANY WARRANTY; without even the implied warranty of MERCHANTABILITY or FITNESS
# FOR A PARTICULAR PURPOSE. See the GNU General Public License for more details.
# ';
# HTML::FormatText::Html2text program_version $VAR1 = '1.3.2a';
# HTML::FormatText::Html2text _have_ascii() yes
# $output = "123 567 9012\nabc def ghij\n";
# Colon character is ordinary in filenames: 0
# Temporary directory /var/tmp/cpansmoker-1023/2017101918/jkbOW4a5lM
# HTML::FormatText::Links
# HTML::FormatText::Links program_full_version $VAR1 = 'Links 1.03
# ';
# HTML::FormatText::Links program_version $VAR1 = '1.03';
# HTML::FormatText::Links _have_html_margin() yes
# $output = "123 567 9012\nabc def ghij\n";
# Colon character is ordinary in filenames: 0
# Temporary directory /var/tmp/cpansmoker-1023/2017101918/keVIuipDkk
# HTML::FormatText::Lynx
# HTML::FormatText::Lynx program_full_version $VAR1 = 'Lynx Version 2.8.8rel.2 (09 Mar 2014)
# libwww-FM 2.14, SSL-MM 1.4.1, OpenSSL 1.0.2k-freebsd, ncurses 5.9.20140222(wide)
# Built on freebsd11.0 Aug 12 2017 01:29:11
# 
# Copyrights held by the Lynx Developers Group,
# the University of Kansas, CERN, and other contributors.
# Distributed under the GNU General Public License (Version 2).
# See http://lynx.isc.org/ and the online help for more information.
# 
# See http://www.openssl.org/ for information about OpenSSL.
# ';
# HTML::FormatText::Lynx program_version $VAR1 = '2.8.8rel.2';
# HTML::FormatText::Lynx _have_nomargins() yes
# $output = "123 567 9012\nabc def ghij\n\n";
# Colon character is ordinary in filenames: 0
# Temporary directory /var/tmp/cpansmoker-1023/2017101918/X1v7LjMinV
# HTML::FormatText::Netrik
# HTML::FormatText::Netrik program_full_version $VAR1 = undef;
# HTML::FormatText::Netrik program_version $VAR1 = undef;
# HTML::FormatText::W3m
# HTML::FormatText::W3m program_full_version $VAR1 = undef;
# HTML::FormatText::W3m program_version $VAR1 = undef;
# HTML::FormatText::Zen
# HTML::FormatText::Zen program_full_version $VAR1 = undef;
# HTML::FormatText::Zen program_version $VAR1 = undef;
t/FormatExternal.t .. ok
t/Links.t ........... ok
# HTML::FormatText::W3m
t/taint.t ........... skipped: due to Taint::Util not available
# HTML::FormatText::W3m
t/wide.t ............ skipped: due to HTML::FormatText::W3m program not available
All tests successful.
Files=5, Tests=303,  2 wallclock secs ( 0.12 usr  0.11 sys +  1.04 cusr  0.96 csys =  2.23 CPU)
Result: PASS

------------------------------
PREREQUISITES
------------------------------

Prerequisite modules loaded:

requires:

    Module              Need  Have    
    ------------------- ----- --------
    constant::defer     0     6       
    File::Spec          0.8   3.67    
    File::Temp          0.18  0.2304  
    IPC::Run            0     0.96    
    perl                5.006 5.026001
    URI::file           0.08  4.21    

build_requires:

    Module              Need  Have    
    ------------------- ----- --------
    ExtUtils::MakeMaker 0     7.24    
    Test::More          0     1.302103

configure_requires:

    Module              Need  Have    
    ------------------- ----- --------
    ExtUtils::MakeMaker 0     7.24    


------------------------------
ENVIRONMENT AND OTHER CONTEXT
------------------------------

Environment variables:

    PATH = /usr/local/bin:/usr/bin:/bin:/usr/local/sbin:/usr/sbin:/sbin:/home/cpansand/bin/freebsd11.0:/home/cpansand/bin/sh:/home/cpansand/bin:/usr/games:/home/cpansand/devel:/usr/home/eserte/src/srezic-misc/scripts
    PERL5LIB = 
    PERL5OPT = 
    PERL5_CPANPLUS_IS_RUNNING = 10240
    PERL5_CPAN_IS_RUNNING = 10240
    PERL5_CPAN_IS_RUNNING_IN_RECURSION = 10168,10240
    PERLDOC = -MPod::Perldoc::ToTextOverstrike
    PERL_BATCH = yes
    PERL_CANARY_STABILITY_NOPROMPT = 1
    PERL_CPAN_REPORTER_CONFIG = /var/tmp/cpansmoker-1023/2017101918/cpanreporter_001_config.ini
    PERL_EXTUTILS_AUTOINSTALL = --defaultdeps
    PERL_USE_UNSAFE_INC = 1
    SHELL = /usr/local/bin/zsh
    TERM = screen
    TMPDIR = /var/tmp/cpansmoker-1023/2017101918

Perl special variables (and OS-specific diagnostics, for MSWin32):

    $^X = /usr/perl5.26.1p/bin/perl
    $UID/$EUID = 1023 / 1023
    $GID = 1023 1023
    $EGID = 1023 1023

Perl module toolchain versions installed:

    Module              Have    
    ------------------- --------
    CPAN                2.18    
    CPAN::Meta          2.150010
    Cwd                 3.67    
    ExtUtils::CBuilder  0.280225
    ExtUtils::Command   7.24    
    ExtUtils::Install   2.04    
    ExtUtils::MakeMaker 7.24    
    ExtUtils::Manifest  1.70    
    ExtUtils::ParseXS   3.34    
    File::Spec          3.67    
    JSON                2.94    
    JSON::PP            2.94    
    Module::Build       0.4224  
    Module::Signature   0.81    
    Parse::CPAN::Meta   2.150010
    Test::Harness       3.38    
    Test::More          1.302103
    YAML                1.23    
    YAML::Syck          1.30    
    version             0.9917  


--

Summary of my perl5 (revision 5 version 26 subversion 1) configuration:
   
  Platform:
    osname=freebsd
    osvers=11.0-release-p1
    archname=amd64-freebsd
    uname='freebsd freebsd 11.0-release-p1 freebsd 11.0-release-p1 #0 r306420: thu sep 29 01:43:23 utc 2016 root@releng2.nyi.freebsd.org:usrobjusrsrcsysgeneric amd64 '
    config_args='-ds -e -Dprefix=/usr/perl5.26.1p -Dcf_email=srezic@cpan.org -Doptimize=-O2 -pipe'
    hint=recommended
    useposix=true
    d_sigaction=define
    useithreads=undef
    usemultiplicity=undef
    use64bitint=define
    use64bitall=define
    uselongdouble=undef
    usemymalloc=n
    default_inc_excludes_dot=define
    bincompat5005=undef
  Compiler:
    cc='cc'
    ccflags ='-DHAS_FPSETMASK -DHAS_FLOATINGPOINT_H -fno-strict-aliasing -pipe -fstack-protector-strong -I/usr/local/include -D_FORTIFY_SOURCE=2'
    optimize='-O2 -pipe'
    cppflags='-DHAS_FPSETMASK -DHAS_FLOATINGPOINT_H -fno-strict-aliasing -pipe -fstack-protector-strong -I/usr/local/include'
    ccversion=''
    gccversion='4.2.1 Compatible FreeBSD Clang 3.8.0 (tags/RELEASE_380/final 262564)'
    gccosandvers=''
    intsize=4
    longsize=8
    ptrsize=8
    doublesize=8
    byteorder=12345678
    doublekind=3
    d_longlong=define
    longlongsize=8
    d_longdbl=define
    longdblsize=16
    longdblkind=3
    ivtype='long'
    ivsize=8
    nvtype='double'
    nvsize=8
    Off_t='off_t'
    lseeksize=8
    alignbytes=8
    prototype=define
  Linker and Libraries:
    ld='cc'
    ldflags ='-pthread -Wl,-E  -fstack-protector-strong -L/usr/local/lib'
    libpth=/usr/lib /usr/local/lib /usr/bin/../lib/clang/3.8.0/lib /usr/lib
    libs=-lpthread -lgdbm -lm -lcrypt -lutil -lc
    perllibs=-lpthread -lm -lcrypt -lutil -lc
    libc=
    so=so
    useshrplib=false
    libperl=libperl.a
    gnulibc_version=''
  Dynamic Linking:
    dlsrc=dl_dlopen.xs
    dlext=so
    d_dlsymun=undef
    ccdlflags=' '
    cccdlflags='-DPIC -fPIC'
    lddlflags='-shared  -L/usr/local/lib -fstack-protector-strong'


Characteristics of this binary (from libperl): 
  Compile-time options:
    HAS_TIMES
    PERLIO_LAYERS
    PERL_COPY_ON_WRITE
    PERL_DONT_CREATE_GVSV
    PERL_MALLOC_WRAP
    PERL_OP_PARENT
    PERL_PRESERVE_IVUV
    USE_64_BIT_ALL
    USE_64_BIT_INT
    USE_LARGE_FILES
    USE_LOCALE
    USE_LOCALE_COLLATE
    USE_LOCALE_CTYPE
    USE_LOCALE_NUMERIC
    USE_LOCALE_TIME
    USE_PERLIO
    USE_PERL_ATOF
  Built under freebsd
  Compiled at Oct 18 2017 21:42:04
  %ENV:
    PERL5LIB=""
    PERL5OPT=""
    PERL5_CPANPLUS_IS_RUNNING="10240"
    PERL5_CPAN_IS_RUNNING="10240"
    PERL5_CPAN_IS_RUNNING_IN_RECURSION="10168,10240"
    PERLDOC="-MPod::Perldoc::ToTextOverstrike"
    PERL_BATCH="yes"
    PERL_CANARY_STABILITY_NOPROMPT="1"
    PERL_CPAN_REPORTER_CONFIG="/var/tmp/cpansmoker-1023/2017101918/cpanreporter_001_config.ini"
    PERL_EXTUTILS_AUTOINSTALL="--defaultdeps"
    PERL_USE_UNSAFE_INC="1"
  @INC:
    /usr/perl5.26.1p/lib/site_perl/5.26.1/amd64-freebsd
    /usr/perl5.26.1p/lib/site_perl/5.26.1
    /usr/perl5.26.1p/lib/5.26.1/amd64-freebsd
    /usr/perl5.26.1p/lib/5.26.1
    .